{"text_format":"3","workbook":"xlsx","n_sheets":6,"sheets":["ISTRUZIONI","INPUT","TABLES","3D BUMP","3D ROLL","3D STEER"],"not_rendered":{"charts":32,"images":6,"defined_names":72},"read":"whole","date_system":"1900"}

{"sheet":"ISTRUZIONI","index":0,"n_rows":55,"n_cols":17,"rows_kept":55,"merged":[[2,3,5,12],[6,1,7,1],[6,3,7,12],[6,15,7,20],[8,1,9,1],[8,3,9,12],[8,15,11,20],[11,4,11,5],[11,6,12,11],[12,1,13,1],[16,1,23,1],[16,15,16,20],[26,1,28,1],[26,15,26,20],[31,1,33,1],[33,5,34,11],[35,5,36,11],[36,1,39,1],[36,16,36,19],[40,4,40,5],[40,6,41,11],[42,6,43,11],[44,6,48,11],[47,1,49,1],[49,6,51,11],[52,1,54,1],[54,3,57,12],[57,1,60,1]]}
[]
[]
[]
[]
[]
[]
[null,"Release Date: 27/01/2022",null,"by Lorenzo Carboni",{"$nulls":11},"ATTENZIONE!"]
[]
[null,"RELEASE NOTE",null,"Version 2.1",{"$nulls":11},"Scaricare il documento ed aprirlo in locale. Nella visualizzazione online di google presenta problemi nelle funzioni delle macro."]
[]
[]
[null,"[Versione 2.1] -- 27/01/2022",null,null,"ISTRUZIONI:",null,"1) Copiare i valori numerici dall'SDF di LOTUS come in figura "]
[null,"§ Corretta simulazione di 3D steer e relativi grafici.\n§ Correzione errori di grafica e di visualizzazione."]
[]
[]
[null,"[Versione 2.0] -- 23/01/2022"]
[null,"§ Unificata la scheda di INPUT che ora contiene sia la parte di FRONT che di REAR.\n§ Le caselle di controllo ora sono indipendenti per ogni sezione.\n§ Aggiunta scheda della simulazione di 3D Steer con relativi grafici.\n§ Riaggiunti e unificati i grafici di Damper e Spring ratio.\n§ Correzione errori di grafica e di visualizzazione.",{"$nulls":13},"[FIG. 1]"]
{"$rows_empty":8}
[null,"[Versione 1.2] -- 03/01/2022"]
[null,"§ Aggiunta della sezione \"RELEASE NOTE\" con lo storico e le note di ogni release.\n§ Correzione errori di grafica e di visualizzazione. ",{"$nulls":13},"[FIG. 2]"]
[]
[]
[]
[null,"[Versione 1.1] -- 23/12/2021"]
[null,"§ I grafici di \"Damper Ratio\" e \"Spring Ratio\" sono stati sostituiti in \"Installation Ratio\" pari ad 1/(Damper-Spring Ratio).\n§ Correzione errori di grafica e di visualizzazione."]
[]
[{"$nulls":5},"2) Incollare selezionando la tabella indicata dalle frecce rosse nella pagina \"INPUT\" nella sezione corretta"]
[]
[null,"[Versione 1.0] -- 15/12/2021",{"$nulls":3},"3) Verificare che i dati immessi coincidano con l'apposita sezione"]
[null,"§ Prima versione di Lotus Plotter.\n§ Corretti errori di funzionamento e nelle visualizzazione dei grafici.\n§ Correzione errori di grafica e di visualizzazione.",{"$nulls":14},"[FIG. 3]"]
[]
[]
[]
[{"$nulls":4},"ERRORI:",null,"1) Verificare di incollare i valori nella cella indicata e non in quella sottostante [FIG. 1]"]
[]
[{"$nulls":6},"2) Verificare al momento dell'inserimento dei dati che non ci siano righe vuote tra due righe di dati [FIG. 2]"]
[]
[{"$nulls":6},"3) NON impostare nelle schede di PLOT intervalli coincidenti o unitari per la visualizzazione dei grafici. [In caso di errori nella visualizzazione annullare l'ultima operazione e cliccare 2 volte la casella \"AUTO SCALA\" per ripristinare la visualizzazione dei dati"]
[]
[]
[]
[]
[{"$nulls":6},"4) Nella scheda di INPUT verificare che le caselle di controllo siano VERDI [FIG. 3]. (nelle schede di PLOT le caselle di controllo possono essere sia ROSSE che VERDI "]
[]
[]
[]
[]
[{"$nulls":3},"NOTA: Il documento è protetto in quanto la modifica di una qualsiasi cella porterebbe a problemi nel funzionamento delle schede. Le uniche celle modificabili sono quelle nelle schede di INPUT per incollare i dati e le tabelle in TABLES che mostrano le tabelle di INPUT corrette. Ignorare tutto ciò che si trova a destra della sezione di calcolo."]

{"sheet":"INPUT","index":1,"n_rows":504,"n_cols":392,"rows_kept":281,"cut":true,"merged":[[0,0,1,8],[0,9,1,14],[0,25,1,30],[0,31,1,36],[0,110,503,112],[1,16,3,23],[2,0,3,8],[2,9,3,14],[2,25,3,30],[2,31,3,36],[2,113,3,241],[2,242,3,346],[4,0,5,2],[4,3,5,5],[4,6,5,8],[4,9,5,11],[4,12,5,14],[4,16,5,23],[4,25,5,27],[4,28,5,30],[4,31,5,33],[4,34,5,36],[4,113,5,184],[4,185,5,241],[4,242,5,289],[4,290,5,346],[4,348,4,365],[4,371,4,379],[4,383,4,391],[5,348,5,357],[5,358,5,365],[5,371,5,375],[5,376,5,379],[5,383,5,387],[5,388,5,391],[6,0,8,1],[6,2,8,2],[6,3,8,4],[6,5,8,5],[6,6,8,7],[6,8,8,8],[6,9,8,10],[6,11,8,11],[6,12,8,13],[6,14,8,14],[6,25,8,26],[6,27,8,27],[6,28,8,29],[6,30,8,30],[6,31,8,32],[6,33,8,33],[6,34,8,35],[6,36,8,36],[6,113,7,136],[6,137,7,160],[6,161,7,184],[6,185,7,214],[6,215,7,241],[6,242,7,265],[6,266,7,289],[6,290,7,319],[6,320,7,346],[6,348,6,353],[6,354,6,357],[6,358,6,361],[6,362,6,365],[6,371,6,373],[6,374,6,375],[6,376,6,377],[6,378,6,379],[6,383,6,385],[6,386,6,387],[6,388,6,389],[6,390,6,391],[7,348,7,349],[7,350,7,351],[7,352,7,353],[7,354,7,355],[7,356,7,357],[7,358,7,359],[7,360,7,361],[7,362,7,363],[7,364,7,365],[8,17,24,17],[8,18,8,21],[8,130,8,136],[8,154,8,160],[8,178,8,184],[8,206,8,214],[8,234,8,241],[8,259,8,265],[8,283,8,289],[8,311,8,319],[8,339,8,346],[8,367,8,370],[8,381,8,382],[9,18,10,18],[9,19,9,20],[9,22,10,22],[9,367,9,370],[9,381,9,382],[10,0,28,0],[10,3,28,3],[10,6,28,6],[10,9,28,9],[10,12,28,12],[10,19,10,20],[10,25,28,25],[10,28,28,28],[10,31,28,31],[10,34,28,34],[10,367,10,370],[11,18,12,18],[11,19,11,20],[11,22,12,22],[12,19,12,20],[13,18,14,18],[13,19,13,20],[13,22,14,22],[14,19,14,20],[15,18,16,21],[15,22,16,22],[18,18,18,21],[19,18,20,18],[19,19,19,20],[19,22,20,22],[20,19,20,20],[21,18,22,18],[21,19,21,20],[21,22,22,22],[22,19,22,20],[23,18,24,21],[23,22,24,22],[26,17,40,17],[26,18,26,21],[27,18,28,18],[27,19,27,20],[27,22,28,22],[28,19,28,20],[29,0,503,0],[29,6,503,6],[29,9,503,9],[29,18,30,18],[29,19,29,20],[29,22,30,22],[29,25,503,25],[29,31,503,31],[30,19,30,20],[31,18,32,21],[31,22,32,22],[34,18,34,21],[35,18,36,18],[35,19,35,20],[35,22,36,22],[36,19,36,20],[37,18,38,18],[37,19,37,20],[37,22,38,22],[38,19,38,20],[39,18,40,21],[39,22,40,22]],"bounds":{"rows_first":125,"rows_last":31,"rows_between":125,"halvings":4}}
["FRONT",{"$nulls":8},"FRONT",{"$nulls":15},"REAR",{"$nulls":5},"REAR",{"$nulls":78},"\nSEZIONE DI CALCOLO\n\n\n\n\n\nSEZIONE DI CALCOLO\n\n\n\n\nSEZIONE DI CALCOLO\n\n\n\n\nSEZIONE DI CALCOLO\n\n\n\n\nSEZIONE DI CALCOLO\n\n\n\n\nSEZIONE DI CALCOLO\n\n\n\n\nSEZIONE DI CALCOLO\n\n\n\n\nSEZIONE DI CALCOLO\n\n\n\n\nSEZIONE DI CALCOLO\n\n\n\n\nSEZIONE DI CALCOLO\n\n\n\n\nSEZIONE DI CALCOLO\n\n\n\n\nSEZIONE DI CALCOLO\n\n\n\n\nSEZIONE DI CALCOLO\n\n\n\n\nSEZIONE DI CALCOLO\n\n\n\n\nSEZIONE DI CALCOLO\n\n\n\n\nSEZIONE DI CALCOLO\n\n\n\n\nSEZIONE DI CALCOLO\n\n\n\n\nSEZIONE DI CALCOLO\n\n\n\n\nSEZIONE DI CALCOLO\n\n\n\n\nSEZIONE DI CALCOLO\n\n\n\n\nSEZIONE DI CALCOLO\n\n\n\n\nSEZIONE DI CALCOLO\n\n\n\n\nSEZIONE DI CALCOLO\n\n\n\n\nSEZIONE DI CALCOLO\n\n\n\n\nSEZIONE DI CALCOLO\n\n\n\n\nSEZIONE DI CALCOLO\n\n\n\n\nSEZIONE DI CALCOLO\n\n\n\n\nSEZIONE DI CALCOLO\n\n\n\n\nSEZIONE DI CALCOLO\n\n\n\n\nSEZIONE DI CALCOLO\n\n\n\n\nSEZIONE DI CALCOLO\n\n\n\n\nSEZIONE DI CALCOLO\n\n\n\n\nSEZIONE DI CALCOLO\n\n\n\n\nSEZIONE DI CALCOLO\n\n\n\n\n"]
[]
["INCREMENTAL GEOMETRY VALUES",{"$nulls":8},"INCREMENTAL SUSPENSION PARAMETER VALUES",{"$nulls":15},"INCREMENTAL GEOMETRY VALUES",{"$nulls":5},"INCREMENTAL SUSPENSION PARAMETER VALUES",{"$nulls":81},"FRONT",{"$nulls":128},"REAR"]
[]
["3D BUMP",null,null,"3D ROLL",null,null,"3D STEER",null,null,"3D BUMP",null,null,"3D ROLL",{"$nulls":3},"by Lorenzo Carboni",{"$nulls":8},"3D BUMP",null,null,"3D ROLL",null,null,"3D BUMP",null,null,"3D ROLL",{"$nulls":78},"INCREMENTAL GEOMETRY VALUES",{"$nulls":71},"INCREMENTAL SUSPENSION PARAMETER VALUES",{"$nulls":56},"INCREMENTAL GEOMETRY VALUES",{"$nulls":47},"INCREMENTAL SUSPENSION PARAMETER VALUES",{"$nulls":57},"VERIFICA LUNGHEZZA DATI IMMESSI",{"$nulls":22},"COMPLESSIVO ERRORI",{"$nulls":11},"NUMERO PUNTI E INTERVALLI"]
[{"$nulls":348},"FRONT",{"$nulls":9},"REAR",{"$nulls":12},"FRONT",{"$nulls":4},"REAR",{"$nulls":6},"FRONT",{"$nulls":4},"REAR"]
[null,null,"CAMBER ANGLE - TOE ANGLE - CASTOR ANGLE - KINGPIN ANGLE - DAMPER RATIO - SPRING RATIO",null,null,"CAMBER ANGLE - TOE ANGLE - CASTOR ANGLE - KINGPIN ANGLE - DAMPER RATIO - SPRING RATIO",null,null,"TOE ANGLE RHS - TOE ANGLE LHS - CAMBER ANGLE RHS - CAMBER ANGLE LHS - ACKERMANN - TURNING CIRCLE RADIUS",null,null,"ANTI DIVE - ANTI SQUAT - ROLL CENTRE HEIGHT TO BODY - ROLL CENTRE HEIGHT TO GRND - HALF TRACK CHANGE - WHEELBASE CHANGE - DAMPER TRAVEL - SPRING TRAVEL",null,null,"ROLL CENTRE POSITION (X Y Z) - HALF TRACK CHANGE - WHEELBASE CHANGE - DAMPER TRAVEL - SPRING TRAVEL",{"$nulls":12},"CAMBER ANGLE - TOE ANGLE - CASTOR ANGLE - KINGPIN ANGLE - DAMPER RATIO - SPRING RATIO",null,null,"CAMBER ANGLE - TOE ANGLE - CASTOR ANGLE - KINGPIN ANGLE - DAMPER RATIO - SPRING RATIO",null,null,"ANTI DIVE - ANTI SQUAT - ROLL CENTRE HEIGHT TO BODY - ROLL CENTRE HEIGHT TO GRND - HALF TRACK CHANGE - WHEELBASE CHANGE - DAMPER TRAVEL - SPRING TRAVEL",null,null,"ROLL CENTRE POSITION (X Y Z) - HALF TRACK CHANGE - WHEELBASE CHANGE - DAMPER TRAVEL - SPRING TRAVEL",{"$nulls":76},"3D BUMP",{"$nulls":23},"3D ROLL",{"$nulls":23},"3D STEER",{"$nulls":23},"3D BUMP",{"$nulls":29},"3D ROLL",{"$nulls":26},"3D BUMP",{"$nulls":23},"3D ROLL",{"$nulls":23},"3D BUMP",{"$nulls":29},"3D ROLL",{"$nulls":27},"GEOMETRY",{"$nulls":5},"SUSPENSION",{"$nulls":3},"GEOMETRY",{"$nulls":3},"SUSPENSION",{"$nulls":8},"GEOMETRY",null,null,"SUSPENSION",null,"GEOMETRY",null,"SUSPENSION",{"$nulls":4},"GEOMETRY",null,null,"SUSPENSION",null,"GEOMETRY",null,"SUSPENSION"]
[{"$nulls":348},"3D BUMP",null,"3D ROLL",null,"3D STEER",null,"3D BUMP",null,"3D ROLL",null,"3D BUMP",null,"3D ROLL",null,"3D BUMP",null,"3D ROLL",{"$nulls":6},"3D BUMP","3D ROLL","3D STEER","3D BUMP","3D ROLL","3D BUMP","3D ROLL","3D BUMP","3D ROLL",{"$nulls":3},"3D BUMP","3D ROLL","3D STEER","3D BUMP","3D ROLL","3D BUMP","3D ROLL","3D BUMP","3D ROLL"]
[{"$nulls":17},"FORNT","GEOMETRY VALUES",{"$nulls":3},"Check",{"$nulls":90},"Originale","check","Spazi",1,"1 RID",2,"2 RID",3,"3 RID",4,"4 RID",5,"5 RID",6,"6 RID",7,null,"TABELLA FINALE",{"$nulls":6},"Originale","check","Spazi",1,"1 RID",2,"2 RID",3,"3 RID",4,"4 RID",5,"5 RID",6,"6 RID",7,null,"TABELLA FINALE",{"$nulls":6},"Originale","check","Spazi",1,"1 RID",2,"2 RID",3,"3 RID",4,"4 RID",5,"5 RID",6,"6 RID",7,null,"TABELLA FINALE",{"$nulls":6},"Originale","check","Spazi",1,"1 RID",2,"2 RID",3,"3 RID",4,"4 RID",5,"5 RID",6,"6 RID",7,"7 RID",8,"8 RID",9,null,"TABELLA FINALE",{"$nulls":8},"Originale","check","Spazi",1,"1 RID",2,"2 RID",3,"3 RID",4,"4 RID",5,"5 RID",6,"6 RID",7,"7 RID",8,null,"TABELLA FINALE",{"$nulls":7},"Originale","check","Spazi",1,"1 RID",2,"2 RID",3,"3 RID",4,"4 RID",5,"5 RID",6,"6 RID",7,null,"TABELLA FINALE",{"$nulls":6},"Originale","check","Spazi",1,"1 RID",2,"2 RID",3,"3 RID",4,"4 RID",5,"5 RID",6,"6 RID",7,null,"TABELLA FINALE",{"$nulls":6},"Originale","check","Spazi",1,"1 RID",2,"2 RID",3,"3 RID",4,"4 RID",5,"5 RID",6,"6 RID",7,"7 RID",8,"8 RID",9,null,"TABELLA FINALE",{"$nulls":8},"Originale","check","Spazi",1,"1 RID",2,"2 RID",3,"3 RID",4,"4 RID",5,"5 RID",6,"6 RID",7,"7 RID",8,null,"TABELLA FINALE",{"$nulls":8},"valore","check","valore","check","valore","check","valore","check","valore","check","valore","check","valore","check","valore","check","valore","check",null,"ERRORI LUNGHEZZA TABELLA ",{"$nulls":3},{"$f":" COUNTIF(ML10:ML504, \"1\")","v":0},{"$f":" COUNTIF(MN10:MN504, \"1\")","v":0},{"$f":" COUNTIF(MP10:MP504, \"1\")","v":0},{"$f":" COUNTIF(MR10:MR504, \"1\")","v":0},{"$f":" COUNTIF(MT10:MT504, \"1\")","v":0},{"$f":" COUNTIF(MV10:MV504, \"1\")","v":0},{"$f":" COUNTIF(MX10:MX504, \"1\")","v":0},{"$f":" COUNTIF(MZ10:MZ504, \"1\")","v":0},{"$f":" COUNTIF(NB10:NB504, \"1\")","v":0},null,"NUMERO PUNTI",null,{"$f":"IF(NOT(ISBLANK(B10)),COUNTIF(DK10:DK504,\"0\"),0)","v":48},{"$f":"IF(NOT(ISBLANK(E10)),COUNTIF(EI10:EI504,\"0\"),0)","v":31},{"$f":"IF(NOT(ISBLANK(H10)),COUNTIF(FG10:FG504,\"0\"),0)","v":53},{"$f":"IF(NOT(ISBLANK(K10)),COUNTIF(GE10:GE504,\"0\"),0)","v":48},{"$f":"IF(NOT(ISBLANK(N10)),COUNTIF(HI10:HI504,\"0\"),0)","v":31},{"$f":"IF(NOT(ISBLANK(AA10)),COUNTIF(IJ10:IJ504,\"0\"),0)","v":48},{"$f":"IF(NOT(ISBLANK(AD10)),COUNTIF(JH10:JH504,\"0\"),0)","v":31},{"$f":"IF(NOT(ISBLANK(AG10)),COUNTIF(KF10:KF504,\"0\"),0)","v":48},{"$f":"IF(NOT(ISBLANK(AJ10)),COUNTIF(LJ10:LJ504,\"0\"),0)","v":31}]
[null,"-17.00             -0.2605   -1.6856    3.0584   11.2743     1.138     1.138",null,null," -1.50              0.3763   -1.4833    3.7532   10.6516     1.083     1.083",null,null,"    -26.00               20.08    -25.84     -1.33      2.08     80.54   3698.01",null,null," -17.00     17.89      0.00     48.22     65.22     -1.33      0.02     15.17     15.17",null,null,"-1.50    542.27   -177.35     34.64     -0.17     -0.14    -15.27    -15.27",{"$nulls":4},"3D BUMP","Numero Punti Totali = ",null,{"$f":"IF(NOT(ISBLANK($B$10)),$NT9, \"\")","v":48},{"$f":"$NH$11","v":0},{"$nulls":3},"  -17.00             -0.4313    0.8519    7.2088    2.2255     1.247     1.247",null,null,"    -1.50             -0.0878    0.8485    6.9997    1.8847     1.087     1.087",null,null,"  -17.00     16.16     25.88     81.80     98.80     -2.23     -0.85     14.11     14.11",null,null,"     -1.50   2083.10   -170.96     58.24     -0.24      1.00    -14.34    -14.34",{"$nulls":77},{"$f":"IF(NOT(ISBLANK($B10)),$B10,\" \")","v":"-17.00             -0.2605   -1.6856    3.0584   11.2743     1.138     1.138"},{"$f":"IF($DJ10 = \" \",1,0)","v":0},{"$f":"IF($DK10 = 0,TRIM($DJ10),\"\")","v":"-17.00 -0.2605 -1.6856 3.0584 11.2743 1.138 1.138"},{"$f":"IF($DK10 = 0,SUBSTITUTE(LEFT($DL10, FIND(\" \",$DL10)-1),\".\",\",\"),\"\")","v":"-17,00"},{"$f":"IF($DK10 = 0,TRIM(MID($DL10,LEN($DM10)+1,50)),\"\")","v":"-0.2605 -1.6856 3.0584 11.2743 1.138 1.138"},{"$f":"IF($DK10 = 0,SUBSTITUTE(LEFT($DN10, FIND(\" \",$DN10)-1),\".\",\",\"),\"\")","v":"-0,2605"},{"$f":"IF($DK10 = 0,TRIM(MID($DN10,LEN($DO10)+1,50)),\"\")","v":"-1.6856 3.0584 11.2743 1.138 1.138"},{"$f":"IF($DK10 = 0,SUBSTITUTE(LEFT($DP10, FIND(\" \",$DP10)-1),\".\",\",\"),\"\")","v":"-1,6856"},{"$f":"IF($DK10 = 0,TRIM(MID($DP10,LEN($DQ10)+1,50)),\"\")","v":"3.0584 11.2743 1.138 1.138"},{"$f":"IF($DK10 = 0,SUBSTITUTE(LEFT($DR10, FIND(\" \",$DR10)-1),\".\",\",\"),\"\")","v":"3,0584"},{"$f":"IF($DK10 = 0,TRIM(MID($DR10,LEN($DS10)+1,50)),\"\")","v":"11.2743 1.138 1.138"},{"$f":"IF($DK10 = 0,SUBSTITUTE(LEFT($DT10, FIND(\" \",$DT10)-1),\".\",\",\"),\"\")","v":"11,2743"},{"$f":"IF($DK10 = 0,TRIM(MID($DT10,LEN($DU10)+1,50)),\"\")","v":"1.138 1.138"},{"$f":"IF($DK10 = 0,SUBSTITUTE(LEFT($DV10, FIND(\" \",$DV10)-1),\".\",\",\"),\"\")","v":"1,138"},{"$f":"IF($DK10 = 0,TRIM(MID($DV10,LEN($DW10)+1,50)),\"\")","v":"1.138"},{"$f":"IF($DK10 = 0,SUBSTITUTE($DX10,\".\",\",\"),\"\")","v":"1,138"},null,{"$f":"IF($DK10 = 0, VALUE($DM10),\"\")","v":{"v":-17,"d":"-17.00"}},{"$f":"IF($DK10 = 0, VALUE($DO10),\"\")","v":-0.2605},{"$f":"IF($DK10 = 0, VALUE($DQ10),\"\")","v":-1.6856},{"$f":"IF($DK10 = 0, VALUE($DS10),\"\")","v":3.0584},{"$f":"IF($DK10 = 0, VALUE($DU10),\"\")","v":11.2743},{"$f":"IF($DK10 = 0, VALUE($DW10),\"\")","v":1.138},{"$f":"IF($DK10 = 0, VALUE($DY10),\"\")","v":1.138},{"$f":"IF(NOT(ISBLANK($E10)),$E10,\" \")","v":" -1.50              0.3763   -1.4833    3.7532   10.6516     1.083     1.083"},{"$f":"IF($EH10 = \" \",1,0)","v":0},{"$f":"IF($EI10 = 0,TRIM($EH10),\"\")","v":"-1.50 0.3763 -1.4833 3.7532 10.6516 1.083 1.083"},{"$f":"IF($EI10 = 0,SUBSTITUTE(LEFT($EJ10, FIND(\" \",$EJ10)-1),\".\",\",\"),\"\")","v":"-1,50"},{"$f":"IF($EI10 = 0,TRIM(MID($EJ10,LEN($EK10)+1,50)),\"\")","v":"0.3763 -1.4833 3.7532 10.6516 1.083 1.083"},{"$f":"IF($EI10 = 0,SUBSTITUTE(LEFT($EL10, FIND(\" \",$EL10)-1),\".\",\",\"),\"\")","v":"0,3763"},{"$f":"IF($EI10 = 0,TRIM(MID($EL10,LEN($EM10)+1,50)),\"\")","v":"-1.4833 3.7532 10.6516 1.083 1.083"},{"$f":"IF($EI10 = 0,SUBSTITUTE(LEFT($EN10, FIND(\" \",$EN10)-1),\".\",\",\"),\"\")","v":"-1,4833"},{"$f":"IF($EI10 = 0,TRIM(MID($EN10,LEN($EO10)+1,50)),\"\")","v":"3.7532 10.6516 1.083 1.083"},{"$f":"IF($EI10 = 0,SUBSTITUTE(LEFT($EP10, FIND(\" \",$EP10)-1),\".\",\",\"),\"\")","v":"3,7532"},{"$f":"IF($EI10 = 0,TRIM(MID($EP10,LEN($EQ10)+1,50)),\"\")","v":"10.6516 1.083 1.083"},{"$f":"IF($EI10 = 0,SUBSTITUTE(LEFT($ER10, FIND(\" \",$ER10)-1),\".\",\",\"),\"\")","v":"10,6516"},{"$f":"IF($EI10 = 0,TRIM(MID($ER10,LEN($ES10)+1,50)),\"\")","v":"1.083 1.083"},{"$f":"IF($EI10 = 0,SUBSTITUTE(LEFT($ET10, FIND(\" \",$ET10)-1),\".\",\",\"),\"\")","v":"1,083"},{"$f":"IF($EI10 = 0,TRIM(MID($ET10,LEN($EU10)+1,50)),\"\")","v":"1.083"},{"$f":"IF($EI10 = 0,SUBSTITUTE($EV10,\".\",\",\"),\"\")","v":"1,083"},null,{"$f":"IF($EI10 = 0, VALUE($EK10),\"\")","v":{"v":-1.5,"d":"-1.50"}},{"$f":"IF($EI10 = 0, VALUE($EM10),\"\")","v":0.3763},{"$f":"IF($EI10 = 0, VALUE($EO10),\"\")","v":-1.4833},{"$f":"IF($EI10 = 0, VALUE($EQ10),\"\")","v":3.7532},{"$f":"IF($EI10 = 0, VALUE($ES10),\"\")","v":10.6516},{"$f":"IF($EI10 = 0, VALUE($EU10),\"\")","v":1.083},{"$f":"IF($EI10 = 0, VALUE($EW10),\"\")","v":1.083},{"$f":"IF(NOT(ISBLANK($H10)),$H10,\" \")","v":"    -26.00               20.08    -25.84     -1.33      2.08     80.54   3698.01"},{"$f":"IF($FF10 = \" \",1,0)","v":0},{"$f":"IF($FG10 = 0,TRIM($FF10),\"\")","v":"-26.00 20.08 -25.84 -1.33 2.08 80.54 3698.01"},{"$f":"IF($FG10 = 0,SUBSTITUTE(LEFT($FH10, FIND(\" \",$FH10)-1),\".\",\",\"),\"\")","v":"-26,00"},{"$f":"IF($FG10 = 0,TRIM(MID($FH10,LEN($FI10)+1,50)),\"\")","v":"20.08 -25.84 -1.33 2.08 80.54 3698.01"},{"$f":"IF($FG10 = 0,SUBSTITUTE(LEFT($FJ10, FIND(\" \",$FJ10)-1),\".\",\",\"),\"\")","v":"20,08"},{"$f":"IF($FG10 = 0,TRIM(MID($FJ10,LEN($FK10)+1,50)),\"\")","v":"-25.84 -1.33 2.08 80.54 3698.01"},{"$f":"IF($FG10 = 0,SUBSTITUTE(LEFT($FL10, FIND(\" \",$FL10)-1),\".\",\",\"),\"\")","v":"-25,84"},{"$f":"IF($FG10 = 0,TRIM(MID($FL10,LEN($FM10)+1,50)),\"\")","v":"-1.33 2.08 80.54 3698.01"},{"$f":"IF($FG10 = 0,SUBSTITUTE(LEFT($FN10, FIND(\" \",$FN10)-1),\".\",\",\"),\"\")","v":"-1,33"},{"$f":"IF($FG10 = 0,TRIM(MID($FN10,LEN($FO10)+1,50)),\"\")","v":"2.08 80.54 3698.01"},{"$f":"IF($FG10 = 0,SUBSTITUTE(LEFT($FP10, FIND(\" \",$FP10)-1),\".\",\",\"),\"\")","v":"2,08"},{"$f":"IF($FG10 = 0,TRIM(MID($FP10,LEN($FQ10)+1,50)),\"\")","v":"80.54 3698.01"},{"$f":"IF($FG10 = 0,SUBSTITUTE(LEFT($FR10, FIND(\" \",$FR10)-1),\".\",\",\"),\"\")","v":"80,54"},{"$f":"IF($FG10 = 0,TRIM(MID($FR10,LEN($FS10)+1,50)),\"\")","v":"3698.01"},{"$f":"IF($FG10 = 0,SUBSTITUTE($FT10,\".\",\",\"),\"\")","v":"3698,01"},null,{"$f":"IF($FG10 = 0, VALUE($FI10),\"\")","v":{"v":-26,"d":"-26.00"}},{"$f":"IF($FG10 = 0, VALUE($FK10),\"\")","v":20.08},{"$f":"IF($FG10 = 0, VALUE($FM10),\"\")","v":-25.84},{"$f":"IF($FG10 = 0, VALUE($FO10),\"\")","v":-1.33},{"$f":"IF($FG10 = 0, VALUE($FQ10),\"\")","v":2.08},{"$f":"IF($FG10 = 0, VALUE($FS10),\"\")","v":80.54},{"$f":"IF($FG10 = 0, VALUE($FU10),\"\")","v":3698.01},{"$f":"IF(NOT(ISBLANK($K10)),$K10,\" \")","v":" -17.00     17.89      0.00     48.22     65.22     -1.33      0.02     15.17     15.17"},{"$f":"IF($GD10 = \" \",1,0)","v":0},{"$f":"IF($GE10 = 0,TRIM($GD10),\"\")","v":"-17.00 17.89 0.00 48.22 65.22 -1.33 0.02 15.17 15.17"},{"$f":"IF($GE10 = 0,SUBSTITUTE(LEFT($GF10, FIND(\" \",$GF10)-1),\".\",\",\"),\"\")","v":"-17,00"},{"$f":"IF($GE10 = 0,TRIM(MID($GF10,LEN($GG10)+1,50)),\"\")","v":"17.89 0.00 48.22 65.22 -1.33 0.02 15.17 15.17"},{"$f":"IF($GE10 = 0,SUBSTITUTE(LEFT($GH10, FIND(\" \",$GH10)-1),\".\",\",\"),\"\")","v":"17,89"},{"$f":"IF($GE10 = 0,TRIM(MID($GH10,LEN($GI10)+1,50)),\"\")","v":"0.00 48.22 65.22 -1.33 0.02 15.17 15.17"},{"$f":"IF($GE10 = 0,SUBSTITUTE(LEFT($GJ10, FIND(\" \",$GJ10)-1),\".\",\",\"),\"\")","v":"0,00"},{"$f":"IF($GE10 = 0,TRIM(MID($GJ10,LEN($GK10)+1,50)),\"\")","v":"48.22 65.22 -1.33 0.02 15.17 15.17"},{"$f":"IF($GE10 = 0,SUBSTITUTE(LEFT($GL10, FIND(\" \",$GL10)-1),\".\",\",\"),\"\")","v":"48,22"},{"$f":"IF($GE10 = 0,TRIM(MID($GL10,LEN($GM10)+1,50)),\"\")","v":"65.22 -1.33 0.02 15.17 15.17"},{"$f":"IF($GE10 = 0,SUBSTITUTE(LEFT($GN10, FIND(\" \",$GN10)-1),\".\",\",\"),\"\")","v":"65,22"},{"$f":"IF($GE10 = 0,TRIM(MID($GN10,LEN($GO10)+1,50)),\"\")","v":"-1.33 0.02 15.17 15.17"},{"$f":"IF($GE10 = 0,SUBSTITUTE(LEFT($GP10, FIND(\" \",$GP10)-1),\".\",\",\"),\"\")","v":"-1,33"},{"$f":"IF($GE10 = 0,TRIM(MID($GP10,LEN($GQ10)+1,50)),\"\")","v":"0.02 15.17 15.17"},{"$f":"IF($GE10 = 0,SUBSTITUTE(LEFT($GR10, FIND(\" \",$GR10)-1),\".\",\",\"),\"\")","v":"0,02"},{"$f":"IF($GE10 = 0,TRIM(MID($GR10,LEN($GS10)+1,50)),\"\")","v":"15.17 15.17"},{"$f":"IF($GE10 = 0,SUBSTITUTE(LEFT($GT10, FIND(\" \",$GT10)-1),\".\",\",\"),\"\")","v":"15,17"},{"$f":"IF($GE10 = 0,TRIM(MID($GT10,LEN($GU10)+1,50)),\"\")","v":"15.17"},{"$f":"IF($GE10 = 0,SUBSTITUTE($GV10,\".\",\",\"),\"\")","v":"15,17"},null,{"$f":"IF($GE10 = 0, VALUE($GG10),\"\")","v":{"v":-17,"d":"-17.00"}},{"$f":"IF($GE10 = 0, VALUE($GI10),\"\")","v":17.89},{"$f":"IF($GE10 = 0, VALUE($GK10),\"\")","v":{"v":0,"d":"0.00"}},{"$f":"IF($GE10 = 0, VALUE($GM10),\"\")","v":48.22},{"$f":"IF($GE10 = 0, VALUE($GO10),\"\")","v":65.22},{"$f":"IF($GE10 = 0, VALUE($GQ10),\"\")","v":-1.33},{"$f":"IF($GE10 = 0, VALUE($GS10),\"\")","v":0.02},{"$f":"IF($GE10 = 0, VALUE($GU10),\"\")","v":15.17},{"$f":"IF($GE10 = 0, VALUE($GW10),\"\")","v":15.17},{"$f":"IF(NOT(ISBLANK($N10)),$N10,\" \")","v":"-1.50    542.27   -177.35     34.64     -0.17     -0.14    -15.27    -15.27"},{"$f":"IF($HH10 = \" \",1,0)","v":0},{"$f":"IF($HI10 = 0,TRIM($HH10),\"\")","v":"-1.50 542.27 -177.35 34.64 -0.17 -0.14 -15.27 -15.27"},{"$f":"IF($HI10 = 0,SUBSTITUTE(LEFT($HJ10, FIND(\" \",$HJ10)-1),\".\",\",\"),\"\")","v":"-1,50"},{"$f":"IF($HI10 = 0,TRIM(MID($HJ10,LEN($HK10)+1,50)),\"\")","v":"542.27 -177.35 34.64 -0.17 -0.14 -15.27 -15.27"},{"$f":"IF($HI10 = 0,SUBSTITUTE(LEFT($HL10, FIND(\" \",$HL10)-1),\".\",\",\"),\"\")","v":"542,27"},{"$f":"IF($HI10 = 0,TRIM(MID($HL10,LEN($HM10)+1,50)),\"\")","v":"-177.35 34.64 -0.17 -0.14 -15.27 -15.27"},{"$f":"IF($HI10 = 0,SUBSTITUTE(LEFT($HN10, FIND(\" \",$HN10)-1),\".\",\",\"),\"\")","v":"-177,35"},{"$f":"IF($HI10 = 0,TRIM(MID($HN10,LEN($HO10)+1,50)),\"\")","v":"34.64 -0.17 -0.14 -15.27 -15.27"},{"$f":"IF($HI10 = 0,SUBSTITUTE(LEFT($HP10, FIND(\" \",$HP10)-1),\".\",\",\"),\"\")","v":"34,64"},{"$f":"IF($HI10 = 0,TRIM(MID($HP10,LEN($HQ10)+1,50)),\"\")","v":"-0.17 -0.14 -15.27 -15.27"},{"$f":"IF($HI10 = 0,SUBSTITUTE(LEFT($HR10, FIND(\" \",$HR10)-1),\".\",\",\"),\"\")","v":"-0,17"},{"$f":"IF($HI10 = 0,TRIM(MID($HR10,LEN($HS10)+1,50)),\"\")","v":"-0.14 -15.27 -15.27"},{"$f":"IF($HI10 = 0,SUBSTITUTE(LEFT($HT10, FIND(\" \",$HT10)-1),\".\",\",\"),\"\")","v":"-0,14"},{"$f":"IF($HI10 = 0,TRIM(MID($HT10,LEN($HU10)+1,50)),\"\")","v":"-15.27 -15.27"},{"$f":"IF($HI10 = 0,SUBSTITUTE(LEFT($HV10, FIND(\" \",$HV10)-1),\".\",\",\"),\"\")","v":"-15,27"},{"$f":"IF($HI10 = 0,TRIM(MID($HV10,LEN($HW10)+1,50)),\"\")","v":"-15.27"},{"$f":"IF($HI10 = 0,SUBSTITUTE($HX10,\".\",\",\"),\"\")","v":"-15,27"},null,{"$f":"IF($HI10 = 0, VALUE($HK10),\"\")","v":{"v":-1.5,"d":"-1.50"}},{"$f":"IF($HI10 = 0, VALUE($HM10),\"\")","v":542.27},{"$f":"IF($HI10 = 0, VALUE($HO10),\"\")","v":-177.35},{"$f":"IF($HI10 = 0, VALUE($HQ10),\"\")","v":34.64},{"$f":"IF($HI10 = 0, VALUE($HS10),\"\")","v":-0.17},{"$f":"IF($HI10 = 0, VALUE($HU10),\"\")","v":-0.14},{"$f":"IF($HI10 = 0, VALUE($HW10),\"\")","v":-15.27},{"$f":"IF($HI10 = 0, VALUE($HY10),\"\")","v":-15.27},{"$f":"IF(NOT(ISBLANK($AA10)),$AA10,\" \")","v":"  -17.00             -0.4313    0.8519    7.2088    2.2255     1.247     1.247"},{"$f":"IF($II10 = \" \",1,0)","v":0},{"$f":"IF($IJ10 = 0,TRIM($II10),\"\")","v":"-17.00 -0.4313 0.8519 7.2088 2.2255 1.247 1.247"},{"$f":"IF($IJ10 = 0,SUBSTITUTE(LEFT($IK10, FIND(\" \",$IK10)-1),\".\",\",\"),\"\")","v":"-17,00"},{"$f":"IF($IJ10 = 0,TRIM(MID($IK10,LEN($IL10)+1,50)),\"\")","v":"-0.4313 0.8519 7.2088 2.2255 1.247 1.247"},{"$f":"IF($IJ10 = 0,SUBSTITUTE(LEFT($IM10, FIND(\" \",$IM10)-1),\".\",\",\"),\"\")","v":"-0,4313"},{"$f":"IF($IJ10 = 0,TRIM(MID($IM10,LEN($IN10)+1,50)),\"\")","v":"0.8519 7.2088 2.2255 1.247 1.247"},{"$f":"IF($IJ10 = 0,SUBSTITUTE(LEFT($IO10, FIND(\" \",$IO10)-1),\".\",\",\"),\"\")","v":"0,8519"},{"$f":"IF($IJ10 = 0,TRIM(MID($IO10,LEN($IP10)+1,50)),\"\")","v":"7.2088 2.2255 1.247 1.247"},{"$f":"IF($IJ10 = 0,SUBSTITUTE(LEFT($IQ10, FIND(\" \",$IQ10)-1),\".\",\",\"),\"\")","v":"7,2088"},{"$f":"IF($IJ10 = 0,TRIM(MID($IQ10,LEN($IR10)+1,50)),\"\")","v":"2.2255 1.247 1.247"},{"$f":"IF($IJ10 = 0,SUBSTITUTE(LEFT($IS10, FIND(\" \",$IS10)-1),\".\",\",\"),\"\")","v":"2,2255"},{"$f":"IF($IJ10 = 0,TRIM(MID($IS10,LEN($IT10)+1,50)),\"\")","v":"1.247 1.247"},{"$f":"IF($IJ10 = 0,SUBSTITUTE(LEFT($IU10, FIND(\" \",$IU10)-1),\".\",\",\"),\"\")","v":"1,247"},{"$f":"IF($IJ10 = 0,TRIM(MID($IU10,LEN($IV10)+1,50)),\"\")","v":"1.247"},{"$f":"IF($IJ10 = 0,SUBSTITUTE($IW10,\".\",\",\"),\"\")","v":"1,247"},null,{"$f":"IF($IJ10 = 0, VALUE($IL10),\"\")","v":{"v":-17,"d":"-17.00"}},{"$f":"IF($IJ10 = 0, VALUE($IN10),\"\")","v":-0.4313},{"$f":"IF($IJ10 = 0, VALUE($IP10),\"\")","v":0.8519},{"$f":"IF($IJ10 = 0, VALUE($IR10),\"\")","v":7.2088},{"$f":"IF($IJ10 = 0, VALUE($IT10),\"\")","v":2.2255},{"$f":"IF($IJ10 = 0, VALUE($IV10),\"\")","v":1.247},{"$f":"IF($IJ10 = 0, VALUE($IX10),\"\")","v":1.247},{"$f":"IF(NOT(ISBLANK($AD10)),$AD10,\" \")","v":"    -1.50             -0.0878    0.8485    6.9997    1.8847     1.087     1.087"},{"$f":"IF($JG10 = \" \",1,0)","v":0},{"$f":"IF($JH10 = 0,TRIM($JG10),\"\")","v":"-1.50 -0.0878 0.8485 6.9997 1.8847 1.087 1.087"},{"$f":"IF($JH10 = 0,SUBSTITUTE(LEFT($JI10, FIND(\" \",$JI10)-1),\".\",\",\"),\"\")","v":"-1,50"},{"$f":"IF($JH10 = 0,TRIM(MID($JI10,LEN($JJ10)+1,50)),\"\")","v":"-0.0878 0.8485 6.9997 1.8847 1.087 1.087"},{"$f":"IF($JH10 = 0,SUBSTITUTE(LEFT($JK10, FIND(\" \",$JK10)-1),\".\",\",\"),\"\")","v":"-0,0878"},{"$f":"IF($JH10 = 0,TRIM(MID($JK10,LEN($JL10)+1,50)),\"\")","v":"0.8485 6.9997 1.8847 1.087 1.087"},{"$f":"IF($JH10 = 0,SUBSTITUTE(LEFT($JM10, FIND(\" \",$JM10)-1),\".\",\",\"),\"\")","v":"0,8485"},{"$f":"IF($JH10 = 0,TRIM(MID($JM10,LEN($JN10)+1,50)),\"\")","v":"6.9997 1.8847 1.087 1.087"},{"$f":"IF($JH10 = 0,SUBSTITUTE(LEFT($JO10, FIND(\" \",$JO10)-1),\".\",\",\"),\"\")","v":"6,9997"},{"$f":"IF($JH10 = 0,TRIM(MID($JO10,LEN($JP10)+1,50)),\"\")","v":"1.8847 1.087 1.087"},{"$f":"IF($JH10 = 0,SUBSTITUTE(LEFT($JQ10, FIND(\" \",$JQ10)-1),\".\",\",\"),\"\")","v":"1,8847"},{"$f":"IF($JH10 = 0,TRIM(MID($JQ10,LEN($JR10)+1,50)),\"\")","v":"1.087 1.087"},{"$f":"IF($JH10 = 0,SUBSTITUTE(LEFT($JS10, FIND(\" \",$JS10)-1),\".\",\",\"),\"\")","v":"1,087"},{"$f":"IF($JH10 = 0,TRIM(MID($JS10,LEN($JT10)+1,50)),\"\")","v":"1.087"},{"$f":"IF($JH10 = 0,SUBSTITUTE($JU10,\".\",\",\"),\"\")","v":"1,087"},null,{"$f":"IF($JH10 = 0, VALUE($JJ10),\"\")","v":{"v":-1.5,"d":"-1.50"}},{"$f":"IF($JH10 = 0, VALUE($JL10),\"\")","v":-0.0878},{"$f":"IF($JH10 = 0, VALUE($JN10),\"\")","v":0.8485},{"$f":"IF($JH10 = 0, VALUE($JP10),\"\")","v":6.9997},{"$f":"IF($JH10 = 0, VALUE($JR10),\"\")","v":1.8847},{"$f":"IF($JH10 = 0, VALUE($JT10),\"\")","v":1.087},{"$f":"IF($JH10 = 0, VALUE($JV10),\"\")","v":1.087},{"$f":"IF(NOT(ISBLANK($AG10)),$AG10,\" \")","v":"  -17.00     16.16     25.88     81.80     98.80     -2.23     -0.85     14.11     14.11"},{"$f":"IF($KE10 = \" \",1,0)","v":0},{"$f":"IF($KF10 = 0,TRIM($KE10),\"\")","v":"-17.00 16.16 25.88 81.80 98.80 -2.23 -0.85 14.11 14.11"},{"$f":"IF($KF10 = 0,SUBSTITUTE(LEFT($KG10, FIND(\" \",$KG10)-1),\".\",\",\"),\"\")","v":"-17,00"},{"$f":"IF($KF10 = 0,TRIM(MID($KG10,LEN($KH10)+1,50)),\"\")","v":"16.16 25.88 81.80 98.80 -2.23 -0.85 14.11 14.11"},{"$f":"IF($KF10 = 0,SUBSTITUTE(LEFT($KI10, FIND(\" \",$KI10)-1),\".\",\",\"),\"\")","v":"16,16"},{"$f":"IF($KF10 = 0,TRIM(MID($KI10,LEN($KJ10)+1,50)),\"\")","v":"25.88 81.80 98.80 -2.23 -0.85 14.11 14.11"},{"$f":"IF($KF10 = 0,SUBSTITUTE(LEFT($KK10, FIND(\" \",$KK10)-1),\".\",\",\"),\"\")","v":"25,88"},{"$f":"IF($KF10 = 0,TRIM(MID($KK10,LEN($KL10)+1,50)),\"\")","v":"81.80 98.80 -2.23 -0.85 14.11 14.11"},{"$f":"IF($KF10 = 0,SUBSTITUTE(LEFT($KM10, FIND(\" \",$KM10)-1),\".\",\",\"),\"\")","v":"81,80"},{"$f":"IF($KF10 = 0,TRIM(MID($KM10,LEN($KN10)+1,50)),\"\")","v":"98.80 -2.23 -0.85 14.11 14.11"},{"$f":"IF($KF10 = 0,SUBSTITUTE(LEFT($KO10, FIND(\" \",$KO10)-1),\".\",\",\"),\"\")","v":"98,80"},{"$f":"IF($KF10 = 0,TRIM(MID($KO10,LEN($KP10)+1,50)),\"\")","v":"-2.23 -0.85 14.11 14.11"},{"$f":"IF($KF10 = 0,SUBSTITUTE(LEFT($KQ10, FIND(\" \",$KQ10)-1),\".\",\",\"),\"\")","v":"-2,23"},{"$f":"IF($KF10 = 0,TRIM(MID($KQ10,LEN($KR10)+1,50)),\"\")","v":"-0.85 14.11 14.11"},{"$f":"IF($KF10 = 0,SUBSTITUTE(LEFT($KS10, FIND(\" \",$KS10)-1),\".\",\",\"),\"\")","v":"-0,85"},{"$f":"IF($KF10 = 0,TRIM(MID($KS10,LEN($KT10)+1,50)),\"\")","v":"14.11 14.11"},{"$f":"IF($KF10 = 0,SUBSTITUTE(LEFT($KU10, FIND(\" \",$KU10)-1),\".\",\",\"),\"\")","v":"14,11"},{"$f":"IF($KF10 = 0,TRIM(MID($KU10,LEN($KV10)+1,50)),\"\")","v":"14.11"},{"$f":"IF($KF10 = 0,SUBSTITUTE($KW10,\".\",\",\"),\"\")","v":"14,11"},null,{"$f":"IF($KF10 = 0, VALUE($KH10),\"\")","v":{"v":-17,"d":"-17.00"}},{"$f":"IF($KF10 = 0, VALUE($KJ10),\"\")","v":16.16},{"$f":"IF($KF10 = 0, VALUE($KL10),\"\")","v":25.88},{"$f":"IF($KF10 = 0, VALUE($KN10),\"\")","v":{"v":81.8,"d":"81.80"}},{"$f":"IF($KF10 = 0, VALUE($KP10),\"\")","v":{"v":98.8,"d":"98.80"}},{"$f":"IF($KF10 = 0, VALUE($KR10),\"\")","v":-2.23},{"$f":"IF($KF10 = 0, VALUE($KT10),\"\")","v":-0.85},{"$f":"IF($KF10 = 0, VALUE($KV10),\"\")","v":14.11},{"$f":"IF($KF10 = 0, VALUE($KX10),\"\")","v":14.11},{"$f":"IF(NOT(ISBLANK($AJ10)),$AJ10,\" \")","v":"     -1.50   2083.10   -170.96     58.24     -0.24      1.00    -14.34    -14.34"},{"$f":"IF($LI10 = \" \",1,0)","v":0},{"$f":"IF($LJ10 = 0,TRIM($LI10),\"\")","v":"-1.50 2083.10 -170.96 58.24 -0.24 1.00 -14.34 -14.34"},{"$f":"IF($LJ10 = 0,SUBSTITUTE(LEFT($LK10, FIND(\" \",$LK10)-1),\".\",\",\"),\"\")","v":"-1,50"},{"$f":"IF($LJ10 = 0,TRIM(MID($LK10,LEN($LL10)+1,50)),\"\")","v":"2083.10 -170.96 58.24 -0.24 1.00 -14.34 -14.34"},{"$f":"IF($LJ10 = 0,SUBSTITUTE(LEFT($LM10, FIND(\" \",$LM10)-1),\".\",\",\"),\"\")","v":"2083,10"},{"$f":"IF($LJ10 = 0,TRIM(MID($LM10,LEN($LN10)+1,50)),\"\")","v":"-170.96 58.24 -0.24 1.00 -14.34 -14.34"},{"$f":"IF($LJ10 = 0,SUBSTITUTE(LEFT($LO10, FIND(\" \",$LO10)-1),\".\",\",\"),\"\")","v":"-170,96"},{"$f":"IF($LJ10 = 0,TRIM(MID($LO10,LEN($LP10)+1,50)),\"\")","v":"58.24 -0.24 1.00 -14.34 -14.34"},{"$f":"IF($LJ10 = 0,SUBSTITUTE(LEFT($LQ10, FIND(\" \",$LQ10)-1),\".\",\",\"),\"\")","v":"58,24"},{"$f":"IF($LJ10 = 0,TRIM(MID($LQ10,LEN($LR10)+1,50)),\"\")","v":"-0.24 1.00 -14.34 -14.34"},{"$f":"IF($LJ10 = 0,SUBSTITUTE(LEFT($LS10, FIND(\" \",$LS10)-1),\".\",\",\"),\"\")","v":"-0,24"},{"$f":"IF($LJ10 = 0,TRIM(MID($LS10,LEN($LT10)+1,50)),\"\")","v":"1.00 -14.34 -14.34"},{"$f":"IF($LJ10 = 0,SUBSTITUTE(LEFT($LU10, FIND(\" \",$LU10)-1),\".\",\",\"),\"\")","v":"1,00"},{"$f":"IF($LJ10 = 0,TRIM(MID($LU10,LEN($LV10)+1,50)),\"\")","v":"-14.34 -14.34"},{"$f":"IF($LJ10 = 0,SUBSTITUTE(LEFT($LW10, FIND(\" \",$LW10)-1),\".\",\",\"),\"\")","v":"-14,34"},{"$f":"IF($LJ10 = 0,TRIM(MID($LW10,LEN($LX10)+1,50)),\"\")","v":"-14.34"},{"$f":"IF($LJ10 = 0,SUBSTITUTE($LY10,\".\",\",\"),\"\")","v":"-14,34"},null,{"$f":"IF($LJ10 = 0, VALUE($LL10),\"\")","v":{"v":-1.5,"d":"-1.50"}},{"$f":"IF($LJ10 = 0, VALUE($LN10),\"\")","v":{"v":2083.1,"d":"2083.10"}},{"$f":"IF($LJ10 = 0, VALUE($LP10),\"\")","v":-170.96},{"$f":"IF($LJ10 = 0, VALUE($LR10),\"\")","v":58.24},{"$f":"IF($LJ10 = 0, VALUE($LT10),\"\")","v":-0.24},{"$f":"IF($LJ10 = 0, VALUE($LV10),\"\")","v":{"v":1,"d":"1.00"}},{"$f":"IF($LJ10 = 0, VALUE($LX10),\"\")","v":-14.34},{"$f":"IF($LJ10 = 0, VALUE($LZ10),\"\")","v":-14.34},null,{"$f":" IFERROR(FIND(\" \",$DX10,1),0)","v":0},{"$f":"IF(NOT($MK10 = 0),1,0)","v":0},{"$f":" IFERROR(FIND(\" \",$EV10,1),0)","v":0},{"$f":"IF(NOT($MM10 = 0),1,0)","v":0},{"$f":" IFERROR(FIND(\" \",$FT10,1),0)","v":0},{"$f":"IF(NOT($MO10 = 0),1,0)","v":0},{"$f":" IFERROR(FIND(\" \",$GV10,1),0)","v":0},{"$f":"IF(NOT($MQ10 = 0),1,0)","v":0},{"$f":" IFERROR(FIND(\" \",$HX10,1),0)","v":0},{"$f":"IF(NOT($MS10 = 0),1,0)","v":0},{"$f":" IFERROR(FIND(\" \",$IW10,1),0)","v":0},{"$f":"IF(NOT($MU10 = 0),1,0)","v":0},{"$f":" IFERROR(FIND(\" \",$JU10,1),0)","v":0},{"$f":"IF(NOT($MW10 = 0),1,0)","v":0},{"$f":" IFERROR(FIND(\" \",$KW10,1),0)","v":0},{"$f":"IF(NOT($MY10 = 0),1,0)","v":0},{"$f":" IFERROR(FIND(\" \",$LY10,1),0)","v":0},{"$f":"IF(NOT($NA10 = 0),1,0)","v":0},null,"ERRORI POSIZIONE 1 TABELLA",{"$nulls":3},{"$f":"IF(AND(ISBLANK(B10),NOT(ISBLANK(B11))),1,0)","v":0},{"$f":"IF(AND(ISBLANK(E10),NOT(ISBLANK(E11))),1,0)","v":0},{"$f":"IF(AND(ISBLANK(H10),NOT(ISBLANK(H11))),1,0)","v":0},{"$f":"IF(AND(ISBLANK(K10),NOT(ISBLANK(K11))),1,0)","v":0},{"$f":"IF(AND(ISBLANK(N10),NOT(ISBLANK(N11))),1,0)","v":0},{"$f":"IF(AND(ISBLANK(AA10),NOT(ISBLANK(AA11))),1,0)","v":0},{"$f":"IF(AND(ISBLANK(AD10),NOT(ISBLANK(AD11))),1,0)","v":0},{"$f":"IF(AND(ISBLANK(AG10),NOT(ISBLANK(AG11))),1,0)","v":0},{"$f":"IF(AND(ISBLANK(AJ10),NOT(ISBLANK(AJ11))),1,0)","v":0},null,"INTERVALLI",null,{"$f":"ABS(DM10)-ABS(DM11)","v":{"v":1,"d":"1.00"}},{"$f":"ABS(EK10)-ABS(EK11)","v":{"v":0.10000000000000009,"d":"0.10"}},{"$f":"ABS(FI10)-ABS(FI11)","v":{"v":1,"d":"1.00"}},{"$f":"ABS(GG10)-ABS(GG11)","v":{"v":1,"d":"1.00"}},{"$f":"ABS(HK10)-ABS(HK11)","v":{"v":0.10000000000000009,"d":"0.10"}},{"$f":"ABS(IL10)-ABS(IL11)","v":{"v":1,"d":"1.00"}},{"$f":"ABS(JJ10)-ABS(JJ11)","v":{"v":0.10000000000000009,"d":"0.10"}},{"$f":"ABS(KH10)-ABS(KH11)","v":{"v":1,"d":"1.00"}},{"$f":"ABS(LL10)-ABS(LL11)","v":{"v":0.10000000000000009,"d":"0.10"}}]
["BUMP TRAVEL","    -16.00             -0.2850   -1.6796    3.0797   11.2993     1.136     1.136",null,"ROLL ANGLE","     -1.40              0.3061   -1.4900    3.7311   10.7215     1.084     1.084",null,"RACK TRAVEL","    -25.00               19.26    -24.80     -1.34      1.90     84.01   3872.64",null,"BUMP TRAVEL","    -16.00     17.95      0.00     47.59     63.59     -1.24      0.02     14.29     14.29",null,"ROLL ANGLE","     -1.40    542.27   -165.57     35.00     -0.15     -0.13    -14.24    -14.24",{"$nulls":5},"Intervallo Tra Punti = ",null,{"$f":"IF(NOT(ISBLANK($B$10)),$NT10, \"\")","v":1},{"$nulls":3},"BUMP TRAVEL","    -16.00             -0.4659    0.8514    7.2028    2.2602     1.242     1.242",null,"ROLL ANGLE","     -1.40             -0.1497    0.8483    7.0068    1.9466     1.092     1.092",null,"BUMP TRAVEL","    -16.00     16.09     25.70     80.68     96.68     -2.07     -0.79     13.31     13.31",null,"ROLL ANGLE","     -1.40   2083.10   -159.62     58.85     -0.21      0.94    -13.35    -13.35",{"$nulls":77},"    -16.00             -0.2850   -1.6796    3.0797   11.2993     1.136     1.136",{"$f":"IF($DJ11 = \" \",1,0)","v":0},"-16.00 -0.2850 -1.6796 3.0797 11.2993 1.136 1.136",{"$f":"IF($DK11 = 0,SUBSTITUTE(LEFT($DL11, FIND(\" \",$DL11)-1),\".\",\",\"),\"\")","v":"-16,00"},"-0.2850 -1.6796 3.0797 11.2993 1.136 1.136","-0,2850","-1.6796 3.0797 11.2993 1.136 1.136","-1,6796","3.0797 11.2993 1.136 1.136","3,0797","11.2993 1.136 1.136","11,2993","1.136 1.136","1,136","1.136","1,136",null,{"v":-16,"d":"-16.00"},-0.285,-1.6796,3.0797,11.2993,1.136,1.136,{"$f":"IF(NOT(ISBLANK($E11)),$E11,\" \")","v":"     -1.40              0.3061   -1.4900    3.7311   10.7215     1.084     1.084"},{"$f":"IF($EH11 = \" \",1,0)","v":0},{"$f":"IF($EI11 = 0,TRIM($EH11),\"\")","v":"-1.40 0.3061 -1.4900 3.7311 10.7215 1.084 1.084"},{"$f":"IF($EI11 = 0,SUBSTITUTE(LEFT($EJ11, FIND(\" \",$EJ11)-1),\".\",\",\"),\"\")","v":"-1,40"},{"$f":"IF($EI11 = 0,TRIM(MID($EJ11,LEN($EK11)+1,50)),\"\")","v":"0.3061 -1.4900 3.7311 10.7215 1.084 1.084"},{"$f":"IF($EI11 = 0,SUBSTITUTE(LEFT($EL11, FIND(\" \",$EL11)-1),\".\",\",\"),\"\")","v":"0,3061"},{"$f":"IF($EI11 = 0,TRIM(MID($EL11,LEN($EM11)+1,50)),\"\")","v":"-1.4900 3.7311 10.7215 1.084 1.084"},{"$f":"IF($EI11 = 0,SUBSTITUTE(LEFT($EN11, FIND(\" \",$EN11)-1),\".\",\",\"),\"\")","v":"-1,4900"},{"$f":"IF($EI11 = 0,TRIM(MID($EN11,LEN($EO11)+1,50)),\"\")","v":"3.7311 10.7215 1.084 1.084"},{"$f":"IF($EI11 = 0,SUBSTITUTE(LEFT($EP11, FIND(\" \",$EP11)-1),\".\",\",\"),\"\")","v":"3,7311"},{"$f":"IF($EI11 = 0,TRIM(MID($EP11,LEN($EQ11)+1,50)),\"\")","v":"10.7215 1.084 1.084"},{"$f":"IF($EI11 = 0,SUBSTITUTE(LEFT($ER11, FIND(\" \",$ER11)-1),\".\",\",\"),\"\")","v":"10,7215"},{"$f":"IF($EI11 = 0,TRIM(MID($ER11,LEN($ES11)+1,50)),\"\")","v":"1.084 1.084"},{"$f":"IF($EI11 = 0,SUBSTITUTE(LEFT($ET11, FIND(\" \",$ET11)-1),\".\",\",\"),\"\")","v":"1,084"},{"$f":"IF($EI11 = 0,TRIM(MID($ET11,LEN($EU11)+1,50)),\"\")","v":"1.084"},{"$f":"IF($EI11 = 0,SUBSTITUTE($EV11,\".\",\",\"),\"\")","v":"1,084"},null,{"$f":"IF($EI11 = 0, VALUE($EK11),\"\")","v":{"v":-1.4,"d":"-1.40"}},{"$f":"IF($EI11 = 0, VALUE($EM11),\"\")","v":0.3061},{"$f":"IF($EI11 = 0, VALUE($EO11),\"\")","v":-1.49},{"$f":"IF($EI11 = 0, VALUE($EQ11),\"\")","v":3.7311},{"$f":"IF($EI11 = 0, VALUE($ES11),\"\")","v":10.7215},{"$f":"IF($EI11 = 0, VALUE($EU11),\"\")","v":1.084},{"$f":"IF($EI11 = 0, VALUE($EW11),\"\")","v":1.084},{"$f":"IF(NOT(ISBLANK($H11)),$H11,\" \")","v":"    -25.00               19.26    -24.80     -1.34      1.90     84.01   3872.64"},{"$f":"IF($FF11 = \" \",1,0)","v":0},{"$f":"IF($FG11 = 0,TRIM($FF11),\"\")","v":"-25.00 19.26 -24.80 -1.34 1.90 84.01 3872.64"},{"$f":"IF($FG11 = 0,SUBSTITUTE(LEFT($FH11, FIND(\" \",$FH11)-1),\".\",\",\"),\"\")","v":"-25,00"},{"$f":"IF($FG11 = 0,TRIM(MID($FH11,LEN($FI11)+1,50)),\"\")","v":"19.26 -24.80 -1.34 1.90 84.01 3872.64"},{"$f":"IF($FG11 = 0,SUBSTITUTE(LEFT($FJ11, FIND(\" \",$FJ11)-1),\".\",\",\"),\"\")","v":"19,26"},{"$f":"IF($FG11 = 0,TRIM(MID($FJ11,LEN($FK11)+1,50)),\"\")","v":"-24.80 -1.34 1.90 84.01 3872.64"},{"$f":"IF($FG11 = 0,SUBSTITUTE(LEFT($FL11, FIND(\" \",$FL11)-1),\".\",\",\"),\"\")","v":"-24,80"},{"$f":"IF($FG11 = 0,TRIM(MID($FL11,LEN($FM11)+1,50)),\"\")","v":"-1.34 1.90 84.01 3872.64"},{"$f":"IF($FG11 = 0,SUBSTITUTE(LEFT($FN11, FIND(\" \",$FN11)-1),\".\",\",\"),\"\")","v":"-1,34"},{"$f":"IF($FG11 = 0,TRIM(MID($FN11,LEN($FO11)+1,50)),\"\")","v":"1.90 84.01 3872.64"},{"$f":"IF($FG11 = 0,SUBSTITUTE(LEFT($FP11, FIND(\" \",$FP11)-1),\".\",\",\"),\"\")","v":"1,90"},{"$f":"IF($FG11 = 0,TRIM(MID($FP11,LEN($FQ11)+1,50)),\"\")","v":"84.01 3872.64"},{"$f":"IF($FG11 = 0,SUBSTITUTE(LEFT($FR11, FIND(\" \",$FR11)-1),\".\",\",\"),\"\")","v":"84,01"},{"$f":"IF($FG11 = 0,TRIM(MID($FR11,LEN($FS11)+1,50)),\"\")","v":"3872.64"},{"$f":"IF($FG11 = 0,SUBSTITUTE($FT11,\".\",\",\"),\"\")","v":"3872,64"},null,{"$f":"IF($FG11 = 0, VALUE($FI11),\"\")","v":{"v":-25,"d":"-25.00"}},{"$f":"IF($FG11 = 0, VALUE($FK11),\"\")","v":19.26},{"$f":"IF($FG11 = 0, VALUE($FM11),\"\")","v":-24.8},{"$f":"IF($FG11 = 0, VALUE($FO11),\"\")","v":-1.34},{"$f":"IF($FG11 = 0, VALUE($FQ11),\"\")","v":1.9},{"$f":"IF($FG11 = 0, VALUE($FS11),\"\")","v":84.01},{"$f":"IF($FG11 = 0, VALUE($FU11),\"\")","v":3872.64},{"$f":"IF(NOT(ISBLANK($K11)),$K11,\" \")","v":"    -16.00     17.95      0.00     47.59     63.59     -1.24      0.02     14.29     14.29"},{"$f":"IF($GD11 = \" \",1,0)","v":0},"-16.00 17.95 0.00 47.59 63.59 -1.24 0.02 14.29 14.29",{"$f":"IF($GE11 = 0,SUBSTITUTE(LEFT($GF11, FIND(\" \",$GF11)-1),\".\",\",\"),\"\")","v":"-16,00"},"17.95 0.00 47.59 63.59 -1.24 0.02 14.29 14.29","17,95","0.00 47.59 63.59 -1.24 0.02 14.29 14.29","0,00","47.59 63.59 -1.24 0.02 14.29 14.29","47,59","63.59 -1.24 0.02 14.29 14.29","63,59","-1.24 0.02 14.29 14.29","-1,24","0.02 14.29 14.29","0,02","14.29 14.29","14,29","14.29","14,29",null,{"v":-16,"d":"-16.00"},17.95,{"v":0,"d":"0.00"},47.59,63.59,-1.24,0.02,14.29,14.29,{"$f":"IF(NOT(ISBLANK($N11)),$N11,\" \")","v":"     -1.40    542.27   -165.57     35.00     -0.15     -0.13    -14.24    -14.24"},{"$f":"IF($HH11 = \" \",1,0)","v":0},{"$f":"IF($HI11 = 0,TRIM($HH11),\"\")","v":"-1.40 542.27 -165.57 35.00 -0.15 -0.13 -14.24 -14.24"},{"$f":"IF($HI11 = 0,SUBSTITUTE(LEFT($HJ11, FIND(\" \",$HJ11)-1),\".\",\",\"),\"\")","v":"-1,40"},{"$f":"IF($HI11 = 0,TRIM(MID($HJ11,LEN($HK11)+1,50)),\"\")","v":"542.27 -165.57 35.00 -0.15 -0.13 -14.24 -14.24"},{"$f":"IF($HI11 = 0,SUBSTITUTE(LEFT($HL11, FIND(\" \",$HL11)-1),\".\",\",\"),\"\")","v":"542,27"},{"$f":"IF($HI11 = 0,TRIM(MID($HL11,LEN($HM11)+1,50)),\"\")","v":"-165.57 35.00 -0.15 -0.13 -14.24 -14.24"},{"$f":"IF($HI11 = 0,SUBSTITUTE(LEFT($HN11, FIND(\" \",$HN11)-1),\".\",\",\"),\"\")","v":"-165,57"},{"$f":"IF($HI11 = 0,TRIM(MID($HN11,LEN($HO11)+1,50)),\"\")","v":"35.00 -0.15 -0.13 -14.24 -14.24"},{"$f":"IF($HI11 = 0,SUBSTITUTE(LEFT($HP11, FIND(\" \",$HP11)-1),\".\",\",\"),\"\")","v":"35,00"},{"$f":"IF($HI11 = 0,TRIM(MID($HP11,LEN($HQ11)+1,50)),\"\")","v":"-0.15 -0.13 -14.24 -14.24"},{"$f":"IF($HI11 = 0,SUBSTITUTE(LEFT($HR11, FIND(\" \",$HR11)-1),\".\",\",\"),\"\")","v":"-0,15"},{"$f":"IF($HI11 = 0,TRIM(MID($HR11,LEN($HS11)+1,50)),\"\")","v":"-0.13 -14.24 -14.24"},{"$f":"IF($HI11 = 0,SUBSTITUTE(LEFT($HT11, FIND(\" \",$HT11)-1),\".\",\",\"),\"\")","v":"-0,13"},{"$f":"IF($HI11 = 0,TRIM(MID($HT11,LEN($HU11)+1,50)),\"\")","v":"-14.24 -14.24"},{"$f":"IF($HI11 = 0,SUBSTITUTE(LEFT($HV11, FIND(\" \",$HV11)-1),\".\",\",\"),\"\")","v":"-14,24"},{"$f":"IF($HI11 = 0,TRIM(MID($HV11,LEN($HW11)+1,50)),\"\")","v":"-14.24"},{"$f":"IF($HI11 = 0,SUBSTITUTE($HX11,\".\",\",\"),\"\")","v":"-14,24"},null,{"$f":"IF($HI11 = 0, VALUE($HK11),\"\")","v":{"v":-1.4,"d":"-1.40"}},{"$f":"IF($HI11 = 0, VALUE($HM11),\"\")","v":542.27},{"$f":"IF($HI11 = 0, VALUE($HO11),\"\")","v":-165.57},{"$f":"IF($HI11 = 0, VALUE($HQ11),\"\")","v":{"v":35,"d":"35.00"}},{"$f":"IF($HI11 = 0, VALUE($HS11),\"\")","v":-0.15},{"$f":"IF($HI11 = 0, VALUE($HU11),\"\")","v":-0.13},{"$f":"IF($HI11 = 0, VALUE($HW11),\"\")","v":-14.24},{"$f":"IF($HI11 = 0, VALUE($HY11),\"\")","v":-14.24},{"$f":"IF(NOT(ISBLANK($AA11)),$AA11,\" \")","v":"    -16.00             -0.4659    0.8514    7.2028    2.2602     1.242     1.242"},{"$f":"IF($II11 = \" \",1,0)","v":0},{"$f":"IF($IJ11 = 0,TRIM($II11),\"\")","v":"-16.00 -0.4659 0.8514 7.2028 2.2602 1.242 1.242"},{"$f":"IF($IJ11 = 0,SUBSTITUTE(LEFT($IK11, FIND(\" \",$IK11)-1),\".\",\",\"),\"\")","v":"-16,00"},{"$f":"IF($IJ11 = 0,TRIM(MID($IK11,LEN($IL11)+1,50)),\"\")","v":"-0.4659 0.8514 7.2028 2.2602 1.242 1.242"},{"$f":"IF($IJ11 = 0,SUBSTITUTE(LEFT($IM11, FIND(\" \",$IM11)-1),\".\",\",\"),\"\")","v":"-0,4659"},{"$f":"IF($IJ11 = 0,TRIM(MID($IM11,LEN($IN11)+1,50)),\"\")","v":"0.8514 7.2028 2.2602 1.242 1.242"},{"$f":"IF($IJ11 = 0,SUBSTITUTE(LEFT($IO11, FIND(\" \",$IO11)-1),\".\",\",\"),\"\")","v":"0,8514"},{"$f":"IF($IJ11 = 0,TRIM(MID($IO11,LEN($IP11)+1,50)),\"\")","v":"7.2028 2.2602 1.242 1.242"},{"$f":"IF($IJ11 = 0,SUBSTITUTE(LEFT($IQ11, FIND(\" \",$IQ11)-1),\".\",\",\"),\"\")","v":"7,2028"},{"$f":"IF($IJ11 = 0,TRIM(MID($IQ11,LEN($IR11)+1,50)),\"\")","v":"2.2602 1.242 1.242"},{"$f":"IF($IJ11 = 0,SUBSTITUTE(LEFT($IS11, FIND(\" \",$IS11)-1),\".\",\",\"),\"\")","v":"2,2602"},{"$f":"IF($IJ11 = 0,TRIM(MID($IS11,LEN($IT11)+1,50)),\"\")","v":"1.242 1.242"},{"$f":"IF($IJ11 = 0,SUBSTITUTE(LEFT($IU11, FIND(\" \",$IU11)-1),\".\",\",\"),\"\")","v":"1,242"},{"$f":"IF($IJ11 = 0,TRIM(MID($IU11,LEN($IV11)+1,50)),\"\")","v":"1.242"},{"$f":"IF($IJ11 = 0,SUBSTITUTE($IW11,\".\",\",\"),\"\")","v":"1,242"},null,{"$f":"IF($IJ11 = 0, VALUE($IL11),\"\")","v":{"v":-16,"d":"-16.00"}},{"$f":"IF($IJ11 = 0, VALUE($IN11),\"\")","v":-0.4659},{"$f":"IF($IJ11 = 0, VALUE($IP11),\"\")","v":0.8514},{"$f":"IF($IJ11 = 0, VALUE($IR11),\"\")","v":7.2028},{"$f":"IF($IJ11 = 0, VALUE($IT11),\"\")","v":2.2602},{"$f":"IF($IJ11 = 0, VALUE($IV11),\"\")","v":1.242},{"$f":"IF($IJ11 = 0, VALUE($IX11),\"\")","v":1.242},{"$f":"IF(NOT(ISBLANK($AD11)),$AD11,\" \")","v":"     -1.40             -0.1497    0.8483    7.0068    1.9466     1.092     1.092"},{"$f":"IF($JG11 = \" \",1,0)","v":0},{"$f":"IF($JH11 = 0,TRIM($JG11),\"\")","v":"-1.40 -0.1497 0.8483 7.0068 1.9466 1.092 1.092"},{"$f":"IF($JH11 = 0,SUBSTITUTE(LEFT($JI11, FIND(\" \",$JI11)-1),\".\",\",\"),\"\")","v":"-1,40"},{"$f":"IF($JH11 = 0,TRIM(MID($JI11,LEN($JJ11)+1,50)),\"\")","v":"-0.1497 0.8483 7.0068 1.9466 1.092 1.092"},{"$f":"IF($JH11 = 0,SUBSTITUTE(LEFT($JK11, FIND(\" \",$JK11)-1),\".\",\",\"),\"\")","v":"-0,1497"},{"$f":"IF($JH11 = 0,TRIM(MID($JK11,LEN($JL11)+1,50)),\"\")","v":"0.8483 7.0068 1.9466 1.092 1.092"},{"$f":"IF($JH11 = 0,SUBSTITUTE(LEFT($JM11, FIND(\" \",$JM11)-1),\".\",\",\"),\"\")","v":"0,8483"},{"$f":"IF($JH11 = 0,TRIM(MID($JM11,LEN($JN11)+1,50)),\"\")","v":"7.0068 1.9466 1.092 1.092"},{"$f":"IF($JH11 = 0,SUBSTITUTE(LEFT($JO11, FIND(\" \",$JO11)-1),\".\",\",\"),\"\")","v":"7,0068"},{"$f":"IF($JH11 = 0,TRIM(MID($JO11,LEN($JP11)+1,50)),\"\")","v":"1.9466 1.092 1.092"},{"$f":"IF($JH11 = 0,SUBSTITUTE(LEFT($JQ11, FIND(\" \",$JQ11)-1),\".\",\",\"),\"\")","v":"1,9466"},{"$f":"IF($JH11 = 0,TRIM(MID($JQ11,LEN($JR11)+1,50)),\"\")","v":"1.092 1.092"},{"$f":"IF($JH11 = 0,SUBSTITUTE(LEFT($JS11, FIND(\" \",$JS11)-1),\".\",\",\"),\"\")","v":"1,092"},{"$f":"IF($JH11 = 0,TRIM(MID($JS11,LEN($JT11)+1,50)),\"\")","v":"1.092"},{"$f":"IF($JH11 = 0,SUBSTITUTE($JU11,\".\",\",\"),\"\")","v":"1,092"},null,{"$f":"IF($JH11 = 0, VALUE($JJ11),\"\")","v":{"v":-1.4,"d":"-1.40"}},{"$f":"IF($JH11 = 0, VALUE($JL11),\"\")","v":-0.1497},{"$f":"IF($JH11 = 0, VALUE($JN11),\"\")","v":0.8483},{"$f":"IF($JH11 = 0, VALUE($JP11),\"\")","v":7.0068},{"$f":"IF($JH11 = 0, VALUE($JR11),\"\")","v":1.9466},{"$f":"IF($JH11 = 0, VALUE($JT11),\"\")","v":1.092},{"$f":"IF($JH11 = 0, VALUE($JV11),\"\")","v":1.092},{"$f":"IF(NOT(ISBLANK($AG11)),$AG11,\" \")","v":"    -16.00     16.09     25.70     80.68     96.68     -2.07     -0.79     13.31     13.31"},{"$f":"IF($KE11 = \" \",1,0)","v":0},{"$f":"IF($KF11 = 0,TRIM($KE11),\"\")","v":"-16.00 16.09 25.70 80.68 96.68 -2.07 -0.79 13.31 13.31"},{"$f":"IF($KF11 = 0,SUBSTITUTE(LEFT($KG11, FIND(\" \",$KG11)-1),\".\",\",\"),\"\")","v":"-16,00"},{"$f":"IF($KF11 = 0,TRIM(MID($KG11,LEN($KH11)+1,50)),\"\")","v":"16.09 25.70 80.68 96.68 -2.07 -0.79 13.31 13.31"},{"$f":"IF($KF11 = 0,SUBSTITUTE(LEFT($KI11, FIND(\" \",$KI11)-1),\".\",\",\"),\"\")","v":"16,09"},{"$f":"IF($KF11 = 0,TRIM(MID($KI11,LEN($KJ11)+1,50)),\"\")","v":"25.70 80.68 96.68 -2.07 -0.79 13.31 13.31"},{"$f":"IF($KF11 = 0,SUBSTITUTE(LEFT($KK11, FIND(\" \",$KK11)-1),\".\",\",\"),\"\")","v":"25,70"},{"$f":"IF($KF11 = 0,TRIM(MID($KK11,LEN($KL11)+1,50)),\"\")","v":"80.68 96.68 -2.07 -0.79 13.31 13.31"},{"$f":"IF($KF11 = 0,SUBSTITUTE(LEFT($KM11, FIND(\" \",$KM11)-1),\".\",\",\"),\"\")","v":"80,68"},{"$f":"IF($KF11 = 0,TRIM(MID($KM11,LEN($KN11)+1,50)),\"\")","v":"96.68 -2.07 -0.79 13.31 13.31"},{"$f":"IF($KF11 = 0,SUBSTITUTE(LEFT($KO11, FIND(\" \",$KO11)-1),\".\",\",\"),\"\")","v":"96,68"},{"$f":"IF($KF11 = 0,TRIM(MID($KO11,LEN($KP11)+1,50)),\"\")","v":"-2.07 -0.79 13.31 13.31"},{"$f":"IF($KF11 = 0,SUBSTITUTE(LEFT($KQ11, FIND(\" \",$KQ11)-1),\".\",\",\"),\"\")","v":"-2,07"},{"$f":"IF($KF11 = 0,TRIM(MID($KQ11,LEN($KR11)+1,50)),\"\")","v":"-0.79 13.31 13.31"},{"$f":"IF($KF11 = 0,SUBSTITUTE(LEFT($KS11, FIND(\" \",$KS11)-1),\".\",\",\"),\"\")","v":"-0,79"},{"$f":"IF($KF11 = 0,TRIM(MID($KS11,LEN($KT11)+1,50)),\"\")","v":"13.31 13.31"},{"$f":"IF($KF11 = 0,SUBSTITUTE(LEFT($KU11, FIND(\" \",$KU11)-1),\".\",\",\"),\"\")","v":"13,31"},{"$f":"IF($KF11 = 0,TRIM(MID($KU11,LEN($KV11)+1,50)),\"\")","v":"13.31"},{"$f":"IF($KF11 = 0,SUBSTITUTE($KW11,\".\",\",\"),\"\")","v":"13,31"},null,{"$f":"IF($KF11 = 0, VALUE($KH11),\"\")","v":{"v":-16,"d":"-16.00"}},{"$f":"IF($KF11 = 0, VALUE($KJ11),\"\")","v":16.09},{"$f":"IF($KF11 = 0, VALUE($KL11),\"\")","v":{"v":25.7,"d":"25.70"}},{"$f":"IF($KF11 = 0, VALUE($KN11),\"\")","v":80.68},{"$f":"IF($KF11 = 0, VALUE($KP11),\"\")","v":96.68},{"$f":"IF($KF11 = 0, VALUE($KR11),\"\")","v":-2.07},{"$f":"IF($KF11 = 0, VALUE($KT11),\"\")","v":-0.79},{"$f":"IF($KF11 = 0, VALUE($KV11),\"\")","v":13.31},{"$f":"IF($KF11 = 0, VALUE($KX11),\"\")","v":13.31},{"$f":"IF(NOT(ISBLANK($AJ11)),$AJ11,\" \")","v":"     -1.40   2083.10   -159.62     58.85     -0.21      0.94    -13.35    -13.35"},{"$f":"IF($LI11 = \" \",1,0)","v":0},{"$f":"IF($LJ11 = 0,TRIM($LI11),\"\")","v":"-1.40 2083.10 -159.62 58.85 -0.21 0.94 -13.35 -13.35"},{"$f":"IF($LJ11 = 0,SUBSTITUTE(LEFT($LK11, FIND(\" \",$LK11)-1),\".\",\",\"),\"\")","v":"-1,40"},{"$f":"IF($LJ11 = 0,TRIM(MID($LK11,LEN($LL11)+1,50)),\"\")","v":"2083.10 -159.62 58.85 -0.21 0.94 -13.35 -13.35"},{"$f":"IF($LJ11 = 0,SUBSTITUTE(LEFT($LM11, FIND(\" \",$LM11)-1),\".\",\",\"),\"\")","v":"2083,10"},{"$f":"IF($LJ11 = 0,TRIM(MID($LM11,LEN($LN11)+1,50)),\"\")","v":"-159.62 58.85 -0.21 0.94 -13.35 -13.35"},{"$f":"IF($LJ11 = 0,SUBSTITUTE(LEFT($LO11, FIND(\" \",$LO11)-1),\".\",\",\"),\"\")","v":"-159,62"},{"$f":"IF($LJ11 = 0,TRIM(MID($LO11,LEN($LP11)+1,50)),\"\")","v":"58.85 -0.21 0.94 -13.35 -13.35"},{"$f":"IF($LJ11 = 0,SUBSTITUTE(LEFT($LQ11, FIND(\" \",$LQ11)-1),\".\",\",\"),\"\")","v":"58,85"},{"$f":"IF($LJ11 = 0,TRIM(MID($LQ11,LEN($LR11)+1,50)),\"\")","v":"-0.21 0.94 -13.35 -13.35"},{"$f":"IF($LJ11 = 0,SUBSTITUTE(LEFT($LS11, FIND(\" \",$LS11)-1),\".\",\",\"),\"\")","v":"-0,21"},{"$f":"IF($LJ11 = 0,TRIM(MID($LS11,LEN($LT11)+1,50)),\"\")","v":"0.94 -13.35 -13.35"},{"$f":"IF($LJ11 = 0,SUBSTITUTE(LEFT($LU11, FIND(\" \",$LU11)-1),\".\",\",\"),\"\")","v":"0,94"},{"$f":"IF($LJ11 = 0,TRIM(MID($LU11,LEN($LV11)+1,50)),\"\")","v":"-13.35 -13.35"},{"$f":"IF($LJ11 = 0,SUBSTITUTE(LEFT($LW11, FIND(\" \",$LW11)-1),\".\",\",\"),\"\")","v":"-13,35"},{"$f":"IF($LJ11 = 0,TRIM(MID($LW11,LEN($LX11)+1,50)),\"\")","v":"-13.35"},{"$f":"IF($LJ11 = 0,SUBSTITUTE($LY11,\".\",\",\"),\"\")","v":"-13,35"},null,{"$f":"IF($LJ11 = 0, VALUE($LL11),\"\")","v":{"v":-1.4,"d":"-1.40"}},{"$f":"IF($LJ11 = 0, VALUE($LN11),\"\")","v":{"v":2083.1,"d":"2083.10"}},{"$f":"IF($LJ11 = 0, VALUE($LP11),\"\")","v":-159.62},{"$f":"IF($LJ11 = 0, VALUE($LR11),\"\")","v":58.85},{"$f":"IF($LJ11 = 0, VALUE($LT11),\"\")","v":-0.21},{"$f":"IF($LJ11 = 0, VALUE($LV11),\"\")","v":0.94},{"$f":"IF($LJ11 = 0, VALUE($LX11),\"\")","v":-13.35},{"$f":"IF($LJ11 = 0, VALUE($LZ11),\"\")","v":-13.35},null,{"$f":" IFERROR(FIND(\" \",$DX11,1),0)","v":0},{"$f":"IF(NOT($MK11 = 0),1,0)","v":0},{"$f":" IFERROR(FIND(\" \",$EV11,1),0)","v":0},{"$f":"IF(NOT($MM11 = 0),1,0)","v":0},{"$f":" IFERROR(FIND(\" \",$FT11,1),0)","v":0},{"$f":"IF(NOT($MO11 = 0),1,0)","v":0},{"$f":" IFERROR(FIND(\" \",$GV11,1),0)","v":0},{"$f":"IF(NOT($MQ11 = 0),1,0)","v":0},{"$f":" IFERROR(FIND(\" \",$HX11,1),0)","v":0},{"$f":"IF(NOT($MS11 = 0),1,0)","v":0},{"$f":" IFERROR(FIND(\" \",$IW11,1),0)","v":0},{"$f":"IF(NOT($MU11 = 0),1,0)","v":0},{"$f":" IFERROR(FIND(\" \",$JU11,1),0)","v":0},{"$f":"IF(NOT($MW11 = 0),1,0)","v":0},{"$f":" IFERROR(FIND(\" \",$KW11,1),0)","v":0},{"$f":"IF(NOT($MY11 = 0),1,0)","v":0},{"$f":" IFERROR(FIND(\" \",$LY11,1),0)","v":0},{"$f":"IF(NOT($NA11 = 0),1,0)","v":0},null,"TOTALE",{"$nulls":3},{"$f":" IF(AND(NH$9 = 0,NH$10=0),0,1)","v":0},{"$f":" IF(AND(NI$9 = 0,NI$10=0),0,1)","v":0},0,0,0,0,0,0,0]
[null,"    -15.00             -0.3097   -1.6736    3.1010   11.3244     1.134     1.134",null,null,"     -1.30              0.2358   -1.4967    3.7090   10.7914     1.085     1.085",null,null,"    -24.00               18.43    -23.77     -1.34      1.73     87.97   4060.83",null,null,"    -15.00     18.01      0.00     46.95     61.95     -1.14      0.02     13.41     13.41",null,null,"     -1.30    542.27   -153.78     35.35     -0.13     -0.12    -13.22    -13.22",{"$nulls":4},"3D ROLL","Numero Punti Totali = ",null,{"$f":"IF(NOT(ISBLANK($E$10)),$NU9, \"\")","v":31},{"$f":"$NI$11","v":0},{"$nulls":3},"    -15.00             -0.5005    0.8511    7.1968    2.2950     1.237     1.237",null,null,"     -1.30             -0.2117    0.8482    7.0139    2.0085     1.096     1.096",null,null,"    -15.00     16.03     25.53     79.56     94.56     -1.92     -0.74     12.50     12.50",null,null,"     -1.30   2083.10   -148.28     59.42     -0.18      0.88    -12.37    -12.37",{"$nulls":77},"    -15.00             -0.3097   -1.6736    3.1010   11.3244     1.134     1.134",0,"-15.00 -0.3097 -1.6736 3.1010 11.3244 1.134 1.134","-15,00","-0.3097 -1.6736 3.1010 11.3244 1.134 1.134","-0,3097","-1.6736 3.1010 11.3244 1.134 1.134","-1,6736","3.1010 11.3244 1.134 1.134","3,1010","11.3244 1.134 1.134","11,3244","1.134 1.134","1,134","1.134","1,134",null,{"v":-15,"d":"-15.00"},-0.3097,-1.6736,3.101,11.3244,1.134,1.134,"     -1.30              0.2358   -1.4967    3.7090   10.7914     1.085     1.085",0,"-1.30 0.2358 -1.4967 3.7090 10.7914 1.085 1.085","-1,30","0.2358 -1.4967 3.7090 10.7914 1.085 1.085","0,2358","-1.4967 3.7090 10.7914 1.085 1.085","-1,4967","3.7090 10.7914 1.085 1.085","3,7090","10.7914 1.085 1.085","10,7914","1.085 1.085","1,085","1.085","1,085",null,{"v":-1.3,"d":"-1.30"},0.2358,-1.4967,3.709,10.7914,1.085,1.085,"    -24.00               18.43    -23.77     -1.34      1.73     87.97   4060.83",0,"-24.00 18.43 -23.77 -1.34 1.73 87.97 4060.83","-24,00","18.43 -23.77 -1.34 1.73 87.97 4060.83","18,43","-23.77 -1.34 1.73 87.97 4060.83","-23,77","-1.34 1.73 87.97 4060.83","-1,34","1.73 87.97 4060.83","1,73","87.97 4060.83","87,97","4060.83","4060,83",null,{"v":-24,"d":"-24.00"},18.43,-23.77,-1.34,1.73,87.97,4060.83,"    -15.00     18.01      0.00     46.95     61.95     -1.14      0.02     13.41     13.41",0,"-15.00 18.01 0.00 46.95 61.95 -1.14 0.02 13.41 13.41","-15,00","18.01 0.00 46.95 61.95 -1.14 0.02 13.41 13.41","18,01","0.00 46.95 61.95 -1.14 0.02 13.41 13.41","0,00","46.95 61.95 -1.14 0.02 13.41 13.41","46,95","61.95 -1.14 0.02 13.41 13.41","61,95","-1.14 0.02 13.41 13.41","-1,14","0.02 13.41 13.41","0,02","13.41 13.41","13,41","13.41","13,41",null,{"v":-15,"d":"-15.00"},18.01,{"v":0,"d":"0.00"},46.95,61.95,-1.14,0.02,13.41,13.41,"     -1.30    542.27   -153.78     35.35     -0.13     -0.12    -13.22    -13.22",0,"-1.30 542.27 -153.78 35.35 -0.13 -0.12 -13.22 -13.22","-1,30","542.27 -153.78 35.35 -0.13 -0.12 -13.22 -13.22","542,27","-153.78 35.35 -0.13 -0.12 -13.22 -13.22","-153,78","35.35 -0.13 -0.12 -13.22 -13.22","35,35","-0.13 -0.12 -13.22 -13.22","-0,13","-0.12 -13.22 -13.22","-0,12","-13.22 -13.22","-13,22","-13.22","-13,22",null,{"v":-1.3,"d":"-1.30"},542.27,-153.78,35.35,-0.13,-0.12,-13.22,-13.22,"    -15.00             -0.5005    0.8511    7.1968    2.2950     1.237     1.237",0,"-15.00 -0.5005 0.8511 7.1968 2.2950 1.237 1.237","-15,00","-0.5005 0.8511 7.1968 2.2950 1.237 1.237","-0,5005","0.8511 7.1968 2.2950 1.237 1.237","0,8511","7.1968 2.2950 1.237 1.237","7,1968","2.2950 1.237 1.237","2,2950","1.237 1.237","1,237","1.237","1,237",null,{"v":-15,"d":"-15.00"},-0.5005,0.8511,7.1968,2.295,1.237,1.237,"     -1.30             -0.2117    0.8482    7.0139    2.0085     1.096     1.096",0,"-1.30 -0.2117 0.8482 7.0139 2.0085 1.096 1.096","-1,30","-0.2117 0.8482 7.0139 2.0085 1.096 1.096","-0,2117","0.8482 7.0139 2.0085 1.096 1.096","0,8482","7.0139 2.0085 1.096 1.096","7,0139","2.0085 1.096 1.096","2,0085","1.096 1.096","1,096","1.096","1,096",null,{"v":-1.3,"d":"-1.30"},-0.2117,0.8482,7.0139,2.0085,1.096,1.096,"    -15.00     16.03     25.53     79.56     94.56     -1.92     -0.74     12.50     12.50",0,"-15.00 16.03 25.53 79.56 94.56 -1.92 -0.74 12.50 12.50","-15,00","16.03 25.53 79.56 94.56 -1.92 -0.74 12.50 12.50","16,03","25.53 79.56 94.56 -1.92 -0.74 12.50 12.50","25,53","79.56 94.56 -1.92 -0.74 12.50 12.50","79,56","94.56 -1.92 -0.74 12.50 12.50","94,56","-1.92 -0.74 12.50 12.50","-1,92","-0.74 12.50 12.50","-0,74","12.50 12.50","12,50","12.50","12,50",null,{"v":-15,"d":"-15.00"},16.03,25.53,79.56,94.56,-1.92,-0.74,{"v":12.5,"d":"12.50"},{"v":12.5,"d":"12.50"},"     -1.30   2083.10   -148.28     59.42     -0.18      0.88    -12.37    -12.37",0,"-1.30 2083.10 -148.28 59.42 -0.18 0.88 -12.37 -12.37","-1,30","2083.10 -148.28 59.42 -0.18 0.88 -12.37 -12.37","2083,10","-148.28 59.42 -0.18 0.88 -12.37 -12.37","-148,28","59.42 -0.18 0.88 -12.37 -12.37","59,42","-0.18 0.88 -12.37 -12.37","-0,18","0.88 -12.37 -12.37","0,88","-12.37 -12.37","-12,37","-12.37","-12,37",null,{"v":-1.3,"d":"-1.30"},{"v":2083.1,"d":"2083.10"},-148.28,59.42,-0.18,0.88,-12.37,-12.37,null,0,0,0,0,0,0,0,0,0,0,0,0,0,0,0,0,0,0]
[null,"    -14.00             -0.3343   -1.6676    3.1224   11.3496     1.132     1.132",null,null,"     -1.20              0.1654   -1.5033    3.6869   10.8613     1.086     1.086",null,null,"    -23.00               17.61    -22.75     -1.34      1.57     92.50   4264.45",null,null,"    -14.00     18.07      0.00     46.32     60.32     -1.05      0.02     12.52     12.52",null,null,"     -1.20    542.27   -141.98     35.66     -0.11     -0.11    -12.19    -12.19",{"$nulls":5},"Intervallo Tra Punti = ",null,{"$f":"IF(NOT(ISBLANK($E$10)),$NU10, \"\")","v":0.10000000000000009},{"$nulls":4},"    -14.00             -0.5351    0.8507    7.1908    2.3297     1.233     1.233",null,null,"     -1.20             -0.2737    0.8481    7.0210    2.0704     1.101     1.101",null,null,"    -14.00     15.96     25.35     78.44     92.44     -1.76     -0.69     11.69     11.69",null,null,"     -1.20   2083.10   -136.92     59.95     -0.15      0.81    -11.39    -11.39",{"$nulls":77},"    -14.00             -0.3343   -1.6676    3.1224   11.3496     1.132     1.132",0,"-14.00 -0.3343 -1.6676 3.1224 11.3496 1.132 1.132","-14,00","-0.3343 -1.6676 3.1224 11.3496 1.132 1.132","-0,3343","-1.6676 3.1224 11.3496 1.132 1.132","-1,6676","3.1224 11.3496 1.132 1.132","3,1224","11.3496 1.132 1.132","11,3496","1.132 1.132","1,132","1.132","1,132",null,{"v":-14,"d":"-14.00"},-0.3343,-1.6676,3.1224,11.3496,1.132,1.132,"     -1.20              0.1654   -1.5033    3.6869   10.8613     1.086     1.086",0,"-1.20 0.1654 -1.5033 3.6869 10.8613 1.086 1.086","-1,20","0.1654 -1.5033 3.6869 10.8613 1.086 1.086","0,1654","-1.5033 3.6869 10.8613 1.086 1.086","-1,5033","3.6869 10.8613 1.086 1.086","3,6869","10.8613 1.086 1.086","10,8613","1.086 1.086","1,086","1.086","1,086",null,{"v":-1.2,"d":"-1.20"},0.1654,-1.5033,3.6869,10.8613,1.086,1.086,"    -23.00               17.61    -22.75     -1.34      1.57     92.50   4264.45",0,"-23.00 17.61 -22.75 -1.34 1.57 92.50 4264.45","-23,00","17.61 -22.75 -1.34 1.57 92.50 4264.45","17,61","-22.75 -1.34 1.57 92.50 4264.45","-22,75","-1.34 1.57 92.50 4264.45","-1,34","1.57 92.50 4264.45","1,57","92.50 4264.45","92,50","4264.45","4264,45",null,{"v":-23,"d":"-23.00"},17.61,-22.75,-1.34,1.57,92.5,4264.45,"    -14.00     18.07      0.00     46.32     60.32     -1.05      0.02     12.52     12.52",0,"-14.00 18.07 0.00 46.32 60.32 -1.05 0.02 12.52 12.52","-14,00","18.07 0.00 46.32 60.32 -1.05 0.02 12.52 12.52","18,07","0.00 46.32 60.32 -1.05 0.02 12.52 12.52","0,00","46.32 60.32 -1.05 0.02 12.52 12.52","46,32","60.32 -1.05 0.02 12.52 12.52","60,32","-1.05 0.02 12.52 12.52","-1,05","0.02 12.52 12.52","0,02","12.52 12.52","12,52","12.52","12,52",null,{"v":-14,"d":"-14.00"},18.07,{"v":0,"d":"0.00"},46.32,60.32,-1.05,0.02,12.52,12.52,"     -1.20    542.27   -141.98     35.66     -0.11     -0.11    -12.19    -12.19",0,"-1.20 542.27 -141.98 35.66 -0.11 -0.11 -12.19 -12.19","-1,20","542.27 -141.98 35.66 -0.11 -0.11 -12.19 -12.19","542,27","-141.98 35.66 -0.11 -0.11 -12.19 -12.19","-141,98","35.66 -0.11 -0.11 -12.19 -12.19","35,66","-0.11 -0.11 -12.19 -12.19","-0,11","-0.11 -12.19 -12.19","-0,11","-12.19 -12.19","-12,19","-12.19","-12,19",null,{"v":-1.2,"d":"-1.20"},542.27,-141.98,35.66,-0.11,-0.11,-12.19,-12.19,"    -14.00             -0.5351    0.8507    7.1908    2.3297     1.233     1.233",0,"-14.00 -0.5351 0.8507 7.1908 2.3297 1.233 1.233","-14,00","-0.5351 0.8507 7.1908 2.3297 1.233 1.233","-0,5351","0.8507 7.1908 2.3297 1.233 1.233","0,8507","7.1908 2.3297 1.233 1.233","7,1908","2.3297 1.233 1.233","2,3297","1.233 1.233","1,233","1.233","1,233",null,{"v":-14,"d":"-14.00"},-0.5351,0.8507,7.1908,2.3297,1.233,1.233,"     -1.20             -0.2737    0.8481    7.0210    2.0704     1.101     1.101",0,"-1.20 -0.2737 0.8481 7.0210 2.0704 1.101 1.101","-1,20","-0.2737 0.8481 7.0210 2.0704 1.101 1.101","-0,2737","0.8481 7.0210 2.0704 1.101 1.101","0,8481","7.0210 2.0704 1.101 1.101","7,0210","2.0704 1.101 1.101","2,0704","1.101 1.101","1,101","1.101","1,101",null,{"v":-1.2,"d":"-1.20"},-0.2737,0.8481,7.021,2.0704,1.101,1.101,"    -14.00     15.96     25.35     78.44     92.44     -1.76     -0.69     11.69     11.69",0,"-14.00 15.96 25.35 78.44 92.44 -1.76 -0.69 11.69 11.69","-14,00","15.96 25.35 78.44 92.44 -1.76 -0.69 11.69 11.69","15,96","25.35 78.44 92.44 -1.76 -0.69 11.69 11.69","25,35","78.44 92.44 -1.76 -0.69 11.69 11.69","78,44","92.44 -1.76 -0.69 11.69 11.69","92,44","-1.76 -0.69 11.69 11.69","-1,76","-0.69 11.69 11.69","-0,69","11.69 11.69","11,69","11.69","11,69",null,{"v":-14,"d":"-14.00"},15.96,25.35,78.44,92.44,-1.76,-0.69,11.69,11.69,"     -1.20   2083.10   -136.92     59.95     -0.15      0.81    -11.39    -11.39",0,"-1.20 2083.10 -136.92 59.95 -0.15 0.81 -11.39 -11.39","-1,20","2083.10 -136.92 59.95 -0.15 0.81 -11.39 -11.39","2083,10","-136.92 59.95 -0.15 0.81 -11.39 -11.39","-136,92","59.95 -0.15 0.81 -11.39 -11.39","59,95","-0.15 0.81 -11.39 -11.39","-0,15","0.81 -11.39 -11.39","0,81","-11.39 -11.39","-11,39","-11.39","-11,39",null,{"v":-1.2,"d":"-1.20"},{"v":2083.1,"d":"2083.10"},-136.92,59.95,-0.15,0.81,-11.39,-11.39,null,0,0,0,0,0,0,0,0,0,0,0,0,0,0,0,0,0,0]
[null,"    -13.00             -0.3591   -1.6615    3.1437   11.3748     1.130     1.130",null,null,"     -1.10              0.0949   -1.5098    3.6648   10.9314     1.087     1.087",null,null,"    -22.00               16.78    -21.75     -1.33      1.41     97.71   4485.67",null,null,"    -13.00     18.12      0.00     45.68     58.68     -0.95      0.02     11.64     11.64",null,null,"     -1.10    542.27   -130.17     35.95     -0.09     -0.10    -11.17    -11.17",{"$nulls":4},"3D STEER","Numero Punti Totali = ",null,{"$f":"IF(NOT(ISBLANK($H$10)),$NV9, \"\")","v":53},{"$f":"$NJ$11","v":0},{"$nulls":3},"    -13.00             -0.5697    0.8505    7.1848    2.3644     1.228     1.228",null,null,"     -1.10             -0.3357    0.8482    7.0281    2.1324     1.106     1.106",null,null,"    -13.00     15.90     25.17     77.33     90.33     -1.62     -0.63     10.88     10.88",null,null,"     -1.10   2083.10   -125.55     60.44     -0.13      0.75    -10.42    -10.42",{"$nulls":77},"    -13.00             -0.3591   -1.6615    3.1437   11.3748     1.130     1.130",0,"-13.00 -0.3591 -1.6615 3.1437 11.3748 1.130 1.130","-13,00","-0.3591 -1.6615 3.1437 11.3748 1.130 1.130","-0,3591","-1.6615 3.1437 11.3748 1.130 1.130","-1,6615","3.1437 11.3748 1.130 1.130","3,1437","11.3748 1.130 1.130","11,3748","1.130 1.130","1,130","1.130","1,130",null,{"v":-13,"d":"-13.00"},-0.3591,-1.6615,3.1437,11.3748,1.13,1.13,"     -1.10              0.0949   -1.5098    3.6648   10.9314     1.087     1.087",0,"-1.10 0.0949 -1.5098 3.6648 10.9314 1.087 1.087","-1,10","0.0949 -1.5098 3.6648 10.9314 1.087 1.087","0,0949","-1.5098 3.6648 10.9314 1.087 1.087","-1,5098","3.6648 10.9314 1.087 1.087","3,6648","10.9314 1.087 1.087","10,9314","1.087 1.087","1,087","1.087","1,087",null,{"v":-1.1,"d":"-1.10"},0.0949,-1.5098,3.6648,10.9314,1.087,1.087,"    -22.00               16.78    -21.75     -1.33      1.41     97.71   4485.67",0,"-22.00 16.78 -21.75 -1.33 1.41 97.71 4485.67","-22,00","16.78 -21.75 -1.33 1.41 97.71 4485.67","16,78","-21.75 -1.33 1.41 97.71 4485.67","-21,75","-1.33 1.41 97.71 4485.67","-1,33","1.41 97.71 4485.67","1,41","97.71 4485.67","97,71","4485.67","4485,67",null,{"v":-22,"d":"-22.00"},16.78,-21.75,-1.33,1.41,97.71,4485.67,"    -13.00     18.12      0.00     45.68     58.68     -0.95      0.02     11.64     11.64",0,"-13.00 18.12 0.00 45.68 58.68 -0.95 0.02 11.64 11.64","-13,00","18.12 0.00 45.68 58.68 -0.95 0.02 11.64 11.64","18,12","0.00 45.68 58.68 -0.95 0.02 11.64 11.64","0,00","45.68 58.68 -0.95 0.02 11.64 11.64","45,68","58.68 -0.95 0.02 11.64 11.64","58,68","-0.95 0.02 11.64 11.64","-0,95","0.02 11.64 11.64","0,02","11.64 11.64","11,64","11.64","11,64",null,{"v":-13,"d":"-13.00"},18.12,{"v":0,"d":"0.00"},45.68,58.68,-0.95,0.02,11.64,11.64,"     -1.10    542.27   -130.17     35.95     -0.09     -0.10    -11.17    -11.17",0,"-1.10 542.27 -130.17 35.95 -0.09 -0.10 -11.17 -11.17","-1,10","542.27 -130.17 35.95 -0.09 -0.10 -11.17 -11.17","542,27","-130.17 35.95 -0.09 -0.10 -11.17 -11.17","-130,17","35.95 -0.09 -0.10 -11.17 -11.17","35,95","-0.09 -0.10 -11.17 -11.17","-0,09","-0.10 -11.17 -11.17","-0,10","-11.17 -11.17","-11,17","-11.17","-11,17",null,{"v":-1.1,"d":"-1.10"},542.27,-130.17,35.95,-0.09,{"v":-0.1,"d":"-0.10"},-11.17,-11.17,"    -13.00             -0.5697    0.8505    7.1848    2.3644     1.228     1.228",0,"-13.00 -0.5697 0.8505 7.1848 2.3644 1.228 1.228","-13,00","-0.5697 0.8505 7.1848 2.3644 1.228 1.228","-0,5697","0.8505 7.1848 2.3644 1.228 1.228","0,8505","7.1848 2.3644 1.228 1.228","7,1848","2.3644 1.228 1.228","2,3644","1.228 1.228","1,228","1.228","1,228",null,{"v":-13,"d":"-13.00"},-0.5697,0.8505,7.1848,2.3644,1.228,1.228,"     -1.10             -0.3357    0.8482    7.0281    2.1324     1.106     1.106",0,"-1.10 -0.3357 0.8482 7.0281 2.1324 1.106 1.106","-1,10","-0.3357 0.8482 7.0281 2.1324 1.106 1.106","-0,3357","0.8482 7.0281 2.1324 1.106 1.106","0,8482","7.0281 2.1324 1.106 1.106","7,0281","2.1324 1.106 1.106","2,1324","1.106 1.106","1,106","1.106","1,106",null,{"v":-1.1,"d":"-1.10"},-0.3357,0.8482,7.0281,2.1324,1.106,1.106,"    -13.00     15.90     25.17     77.33     90.33     -1.62     -0.63     10.88     10.88",0,"-13.00 15.90 25.17 77.33 90.33 -1.62 -0.63 10.88 10.88","-13,00","15.90 25.17 77.33 90.33 -1.62 -0.63 10.88 10.88","15,90","25.17 77.33 90.33 -1.62 -0.63 10.88 10.88","25,17","77.33 90.33 -1.62 -0.63 10.88 10.88","77,33","90.33 -1.62 -0.63 10.88 10.88","90,33","-1.62 -0.63 10.88 10.88","-1,62","-0.63 10.88 10.88","-0,63","10.88 10.88","10,88","10.88","10,88",null,{"v":-13,"d":"-13.00"},{"v":15.9,"d":"15.90"},25.17,77.33,90.33,-1.62,-0.63,10.88,10.88,"     -1.10   2083.10   -125.55     60.44     -0.13      0.75    -10.42    -10.42",0,"-1.10 2083.10 -125.55 60.44 -0.13 0.75 -10.42 -10.42","-1,10","2083.10 -125.55 60.44 -0.13 0.75 -10.42 -10.42","2083,10","-125.55 60.44 -0.13 0.75 -10.42 -10.42","-125,55","60.44 -0.13 0.75 -10.42 -10.42","60,44","-0.13 0.75 -10.42 -10.42","-0,13","0.75 -10.42 -10.42","0,75","-10.42 -10.42","-10,42","-10.42","-10,42",null,{"v":-1.1,"d":"-1.10"},{"v":2083.1,"d":"2083.10"},-125.55,60.44,-0.13,0.75,-10.42,-10.42,null,0,0,0,0,0,0,0,0,0,0,0,0,0,0,0,0,0,0]
[null,"    -12.00             -0.3839   -1.6553    3.1650   11.4000     1.127     1.127",null,null,"     -1.00              0.0243   -1.5163    3.6426   11.0016     1.088     1.088",null,null,"    -21.00               15.96    -20.75     -1.33      1.26    103.72   4727.10",null,null,"    -12.00     18.18      0.00     45.05     57.05     -0.87      0.01     10.75     10.75",null,null,"     -1.00    542.27   -118.36     36.22     -0.08     -0.10    -10.15    -10.15",{"$nulls":5},"Intervallo Tra Punti = ",null,{"$f":"IF(NOT(ISBLANK($H$10)),$NV10, \"\")","v":1},{"$nulls":4},"    -12.00             -0.6044    0.8503    7.1787    2.3991     1.223     1.223",null,null,"     -1.00             -0.3979    0.8483    7.0352    2.1944     1.111     1.111",null,null,"    -12.00     15.83     24.99     76.21     88.21     -1.47     -0.58     10.06     10.06",null,null,"     -1.00   2083.10   -114.16     60.88     -0.11      0.68     -9.45     -9.45",{"$nulls":77},"    -12.00             -0.3839   -1.6553    3.1650   11.4000     1.127     1.127",0,"-12.00 -0.3839 -1.6553 3.1650 11.4000 1.127 1.127","-12,00","-0.3839 -1.6553 3.1650 11.4000 1.127 1.127","-0,3839","-1.6553 3.1650 11.4000 1.127 1.127","-1,6553","3.1650 11.4000 1.127 1.127","3,1650","11.4000 1.127 1.127","11,4000","1.127 1.127","1,127","1.127","1,127",null,{"v":-12,"d":"-12.00"},-0.3839,-1.6553,3.165,11.4,1.127,1.127,"     -1.00              0.0243   -1.5163    3.6426   11.0016     1.088     1.088",0,"-1.00 0.0243 -1.5163 3.6426 11.0016 1.088 1.088","-1,00","0.0243 -1.5163 3.6426 11.0016 1.088 1.088","0,0243","-1.5163 3.6426 11.0016 1.088 1.088","-1,5163","3.6426 11.0016 1.088 1.088","3,6426","11.0016 1.088 1.088","11,0016","1.088 1.088","1,088","1.088","1,088",null,{"v":-1,"d":"-1.00"},0.0243,-1.5163,3.6426,11.0016,1.088,1.088,"    -21.00               15.96    -20.75     -1.33      1.26    103.72   4727.10",0,"-21.00 15.96 -20.75 -1.33 1.26 103.72 4727.10","-21,00","15.96 -20.75 -1.33 1.26 103.72 4727.10","15,96","-20.75 -1.33 1.26 103.72 4727.10","-20,75","-1.33 1.26 103.72 4727.10","-1,33","1.26 103.72 4727.10","1,26","103.72 4727.10","103,72","4727.10","4727,10",null,{"v":-21,"d":"-21.00"},15.96,-20.75,-1.33,1.26,103.72,4727.1,"    -12.00     18.18      0.00     45.05     57.05     -0.87      0.01     10.75     10.75",0,"-12.00 18.18 0.00 45.05 57.05 -0.87 0.01 10.75 10.75","-12,00","18.18 0.00 45.05 57.05 -0.87 0.01 10.75 10.75","18,18","0.00 45.05 57.05 -0.87 0.01 10.75 10.75","0,00","45.05 57.05 -0.87 0.01 10.75 10.75","45,05","57.05 -0.87 0.01 10.75 10.75","57,05","-0.87 0.01 10.75 10.75","-0,87","0.01 10.75 10.75","0,01","10.75 10.75","10,75","10.75","10,75",null,{"v":-12,"d":"-12.00"},18.18,{"v":0,"d":"0.00"},45.05,57.05,-0.87,0.01,10.75,10.75,"     -1.00    542.27   -118.36     36.22     -0.08     -0.10    -10.15    -10.15",0,"-1.00 542.27 -118.36 36.22 -0.08 -0.10 -10.15 -10.15","-1,00","542.27 -118.36 36.22 -0.08 -0.10 -10.15 -10.15","542,27","-118.36 36.22 -0.08 -0.10 -10.15 -10.15","-118,36","36.22 -0.08 -0.10 -10.15 -10.15","36,22","-0.08 -0.10 -10.15 -10.15","-0,08","-0.10 -10.15 -10.15","-0,10","-10.15 -10.15","-10,15","-10.15","-10,15",null,{"v":-1,"d":"-1.00"},542.27,-118.36,36.22,-0.08,{"v":-0.1,"d":"-0.10"},-10.15,-10.15,"    -12.00             -0.6044    0.8503    7.1787    2.3991     1.223     1.223",0,"-12.00 -0.6044 0.8503 7.1787 2.3991 1.223 1.223","-12,00","-0.6044 0.8503 7.1787 2.3991 1.223 1.223","-0,6044","0.8503 7.1787 2.3991 1.223 1.223","0,8503","7.1787 2.3991 1.223 1.223","7,1787","2.3991 1.223 1.223","2,3991","1.223 1.223","1,223","1.223","1,223",null,{"v":-12,"d":"-12.00"},-0.6044,0.8503,7.1787,2.3991,1.223,1.223,"     -1.00             -0.3979    0.8483    7.0352    2.1944     1.111     1.111",0,"-1.00 -0.3979 0.8483 7.0352 2.1944 1.111 1.111","-1,00","-0.3979 0.8483 7.0352 2.1944 1.111 1.111","-0,3979","0.8483 7.0352 2.1944 1.111 1.111","0,8483","7.0352 2.1944 1.111 1.111","7,0352","2.1944 1.111 1.111","2,1944","1.111 1.111","1,111","1.111","1,111",null,{"v":-1,"d":"-1.00"},-0.3979,0.8483,7.0352,2.1944,1.111,1.111,"    -12.00     15.83     24.99     76.21     88.21     -1.47     -0.58     10.06     10.06",0,"-12.00 15.83 24.99 76.21 88.21 -1.47 -0.58 10.06 10.06","-12,00","15.83 24.99 76.21 88.21 -1.47 -0.58 10.06 10.06","15,83","24.99 76.21 88.21 -1.47 -0.58 10.06 10.06","24,99","76.21 88.21 -1.47 -0.58 10.06 10.06","76,21","88.21 -1.47 -0.58 10.06 10.06","88,21","-1.47 -0.58 10.06 10.06","-1,47","-0.58 10.06 10.06","-0,58","10.06 10.06","10,06","10.06","10,06",null,{"v":-12,"d":"-12.00"},15.83,24.99,76.21,88.21,-1.47,-0.58,10.06,10.06,"     -1.00   2083.10   -114.16     60.88     -0.11      0.68     -9.45     -9.45",0,"-1.00 2083.10 -114.16 60.88 -0.11 0.68 -9.45 -9.45","-1,00","2083.10 -114.16 60.88 -0.11 0.68 -9.45 -9.45","2083,10","-114.16 60.88 -0.11 0.68 -9.45 -9.45","-114,16","60.88 -0.11 0.68 -9.45 -9.45","60,88","-0.11 0.68 -9.45 -9.45","-0,11","0.68 -9.45 -9.45","0,68","-9.45 -9.45","-9,45","-9.45","-9,45",null,{"v":-1,"d":"-1.00"},{"v":2083.1,"d":"2083.10"},-114.16,60.88,-0.11,0.68,-9.45,-9.45,null,0,0,0,0,0,0,0,0,0,0,0,0,0,0,0,0,0,0]
[null,"    -11.00             -0.4087   -1.6492    3.1863   11.4253     1.125     1.125",null,null,"     -0.90             -0.0464   -1.5228    3.6205   11.0718     1.090     1.090",null,null,"    -20.00               15.14    -19.77     -1.32      1.12    110.70   4991.90",null,null,"    -11.00     18.24      0.00     44.41     55.41     -0.78      0.01      9.87      9.87",null,null,"     -0.90    542.27   -106.54     36.46     -0.07     -0.09     -9.12     -9.12",{"$nulls":4},"Check Complessivo",{"$nulls":3},{"$f":"IF(AND($W$10=0,$W$12=0,$W$14=0),0,1)","v":0},{"$nulls":3},"    -11.00             -0.6390    0.8502    7.1727    2.4339     1.218     1.218",null,null,"     -0.90             -0.4600    0.8485    7.0423    2.2565     1.116     1.116",null,null,"    -11.00     15.77     24.81     75.10     86.10     -1.33     -0.53      9.24      9.24",null,null,"     -0.90   2083.10   -102.77     61.28     -0.09      0.62     -8.48     -8.48",{"$nulls":77},"    -11.00             -0.4087   -1.6492    3.1863   11.4253     1.125     1.125",0,"-11.00 -0.4087 -1.6492 3.1863 11.4253 1.125 1.125","-11,00","-0.4087 -1.6492 3.1863 11.4253 1.125 1.125","-0,4087","-1.6492 3.1863 11.4253 1.125 1.125","-1,6492","3.1863 11.4253 1.125 1.125","3,1863","11.4253 1.125 1.125","11,4253","1.125 1.125","1,125","1.125","1,125",null,{"v":-11,"d":"-11.00"},-0.4087,-1.6492,3.1863,11.4253,1.125,1.125,"     -0.90             -0.0464   -1.5228    3.6205   11.0718     1.090     1.090",0,"-0.90 -0.0464 -1.5228 3.6205 11.0718 1.090 1.090","-0,90","-0.0464 -1.5228 3.6205 11.0718 1.090 1.090","-0,0464","-1.5228 3.6205 11.0718 1.090 1.090","-1,5228","3.6205 11.0718 1.090 1.090","3,6205","11.0718 1.090 1.090","11,0718","1.090 1.090","1,090","1.090","1,090",null,{"v":-0.9,"d":"-0.90"},-0.0464,-1.5228,3.6205,11.0718,1.09,1.09,"    -20.00               15.14    -19.77     -1.32      1.12    110.70   4991.90",0,"-20.00 15.14 -19.77 -1.32 1.12 110.70 4991.90","-20,00","15.14 -19.77 -1.32 1.12 110.70 4991.90","15,14","-19.77 -1.32 1.12 110.70 4991.90","-19,77","-1.32 1.12 110.70 4991.90","-1,32","1.12 110.70 4991.90","1,12","110.70 4991.90","110,70","4991.90","4991,90",null,{"v":-20,"d":"-20.00"},15.14,-19.77,-1.32,1.12,110.7,4991.9,"    -11.00     18.24      0.00     44.41     55.41     -0.78      0.01      9.87      9.87",0,"-11.00 18.24 0.00 44.41 55.41 -0.78 0.01 9.87 9.87","-11,00","18.24 0.00 44.41 55.41 -0.78 0.01 9.87 9.87","18,24","0.00 44.41 55.41 -0.78 0.01 9.87 9.87","0,00","44.41 55.41 -0.78 0.01 9.87 9.87","44,41","55.41 -0.78 0.01 9.87 9.87","55,41","-0.78 0.01 9.87 9.87","-0,78","0.01 9.87 9.87","0,01","9.87 9.87","9,87","9.87","9,87",null,{"v":-11,"d":"-11.00"},18.24,{"v":0,"d":"0.00"},44.41,55.41,-0.78,0.01,9.87,9.87,"     -0.90    542.27   -106.54     36.46     -0.07     -0.09     -9.12     -9.12",0,"-0.90 542.27 -106.54 36.46 -0.07 -0.09 -9.12 -9.12","-0,90","542.27 -106.54 36.46 -0.07 -0.09 -9.12 -9.12","542,27","-106.54 36.46 -0.07 -0.09 -9.12 -9.12","-106,54","36.46 -0.07 -0.09 -9.12 -9.12","36,46","-0.07 -0.09 -9.12 -9.12","-0,07","-0.09 -9.12 -9.12","-0,09","-9.12 -9.12","-9,12","-9.12","-9,12",null,{"v":-0.9,"d":"-0.90"},542.27,-106.54,36.46,-0.07,-0.09,-9.12,-9.12,"    -11.00             -0.6390    0.8502    7.1727    2.4339     1.218     1.218",0,"-11.00 -0.6390 0.8502 7.1727 2.4339 1.218 1.218","-11,00","-0.6390 0.8502 7.1727 2.4339 1.218 1.218","-0,6390","0.8502 7.1727 2.4339 1.218 1.218","0,8502","7.1727 2.4339 1.218 1.218","7,1727","2.4339 1.218 1.218","2,4339","1.218 1.218","1,218","1.218","1,218",null,{"v":-11,"d":"-11.00"},-0.639,0.8502,7.1727,2.4339,1.218,1.218,"     -0.90             -0.4600    0.8485    7.0423    2.2565     1.116     1.116",0,"-0.90 -0.4600 0.8485 7.0423 2.2565 1.116 1.116","-0,90","-0.4600 0.8485 7.0423 2.2565 1.116 1.116","-0,4600","0.8485 7.0423 2.2565 1.116 1.116","0,8485","7.0423 2.2565 1.116 1.116","7,0423","2.2565 1.116 1.116","2,2565","1.116 1.116","1,116","1.116","1,116",null,{"v":-0.9,"d":"-0.90"},-0.46,0.8485,7.0423,2.2565,1.116,1.116,"    -11.00     15.77     24.81     75.10     86.10     -1.33     -0.53      9.24      9.24",0,"-11.00 15.77 24.81 75.10 86.10 -1.33 -0.53 9.24 9.24","-11,00","15.77 24.81 75.10 86.10 -1.33 -0.53 9.24 9.24","15,77","24.81 75.10 86.10 -1.33 -0.53 9.24 9.24","24,81","75.10 86.10 -1.33 -0.53 9.24 9.24","75,10","86.10 -1.33 -0.53 9.24 9.24","86,10","-1.33 -0.53 9.24 9.24","-1,33","-0.53 9.24 9.24","-0,53","9.24 9.24","9,24","9.24","9,24",null,{"v":-11,"d":"-11.00"},15.77,24.81,{"v":75.1,"d":"75.10"},{"v":86.1,"d":"86.10"},-1.33,-0.53,9.24,9.24,"     -0.90   2083.10   -102.77     61.28     -0.09      0.62     -8.48     -8.48",0,"-0.90 2083.10 -102.77 61.28 -0.09 0.62 -8.48 -8.48","-0,90","2083.10 -102.77 61.28 -0.09 0.62 -8.48 -8.48","2083,10","-102.77 61.28 -0.09 0.62 -8.48 -8.48","-102,77","61.28 -0.09 0.62 -8.48 -8.48","61,28","-0.09 0.62 -8.48 -8.48","-0,09","0.62 -8.48 -8.48","0,62","-8.48 -8.48","-8,48","-8.48","-8,48",null,{"v":-0.9,"d":"-0.90"},{"v":2083.1,"d":"2083.10"},-102.77,61.28,-0.09,0.62,-8.48,-8.48,null,0,0,0,0,0,0,0,0,0,0,0,0,0,0,0,0,0,0]
[null,"    -10.00             -0.4337   -1.6429    3.2077   11.4507     1.123     1.123",null,null,"     -0.80             -0.1172   -1.5291    3.5984   11.1421     1.091     1.091",null,null,"    -19.00               14.31    -18.79     -1.31      0.99    118.84   5283.91",null,null,"    -10.00     18.30      0.00     43.78     53.78     -0.70      0.01      8.98      8.98",null,null,"     -0.80    542.27    -94.71     36.68     -0.05     -0.08     -8.10     -8.10",{"$nulls":12},"    -10.00             -0.6737    0.8502    7.1667    2.4686     1.213     1.213",null,null,"     -0.80             -0.5222    0.8487    7.0494    2.3186     1.121     1.121",null,null,"    -10.00     15.70     24.62     73.99     83.99     -1.19     -0.48      8.42      8.42",null,null,"     -0.80   2083.10    -91.38     61.64     -0.07      0.55     -7.52     -7.52",{"$nulls":77},"    -10.00             -0.4337   -1.6429    3.2077   11.4507     1.123     1.123",0,"-10.00 -0.4337 -1.6429 3.2077 11.4507 1.123 1.123","-10,00","-0.4337 -1.6429 3.2077 11.4507 1.123 1.123","-0,4337","-1.6429 3.2077 11.4507 1.123 1.123","-1,6429","3.2077 11.4507 1.123 1.123","3,2077","11.4507 1.123 1.123","11,4507","1.123 1.123","1,123","1.123","1,123",null,{"v":-10,"d":"-10.00"},-0.4337,-1.6429,3.2077,11.4507,1.123,1.123,"     -0.80             -0.1172   -1.5291    3.5984   11.1421     1.091     1.091",0,"-0.80 -0.1172 -1.5291 3.5984 11.1421 1.091 1.091","-0,80","-0.1172 -1.5291 3.5984 11.1421 1.091 1.091","-0,1172","-1.5291 3.5984 11.1421 1.091 1.091","-1,5291","3.5984 11.1421 1.091 1.091","3,5984","11.1421 1.091 1.091","11,1421","1.091 1.091","1,091","1.091","1,091",null,{"v":-0.8,"d":"-0.80"},-0.1172,-1.5291,3.5984,11.1421,1.091,1.091,"    -19.00               14.31    -18.79     -1.31      0.99    118.84   5283.91",0,"-19.00 14.31 -18.79 -1.31 0.99 118.84 5283.91","-19,00","14.31 -18.79 -1.31 0.99 118.84 5283.91","14,31","-18.79 -1.31 0.99 118.84 5283.91","-18,79","-1.31 0.99 118.84 5283.91","-1,31","0.99 118.84 5283.91","0,99","118.84 5283.91","118,84","5283.91","5283,91",null,{"v":-19,"d":"-19.00"},14.31,-18.79,-1.31,0.99,118.84,5283.91,"    -10.00     18.30      0.00     43.78     53.78     -0.70      0.01      8.98      8.98",0,"-10.00 18.30 0.00 43.78 53.78 -0.70 0.01 8.98 8.98","-10,00","18.30 0.00 43.78 53.78 -0.70 0.01 8.98 8.98","18,30","0.00 43.78 53.78 -0.70 0.01 8.98 8.98","0,00","43.78 53.78 -0.70 0.01 8.98 8.98","43,78","53.78 -0.70 0.01 8.98 8.98","53,78","-0.70 0.01 8.98 8.98","-0,70","0.01 8.98 8.98","0,01","8.98 8.98","8,98","8.98","8,98",null,{"v":-10,"d":"-10.00"},{"v":18.3,"d":"18.30"},{"v":0,"d":"0.00"},43.78,53.78,{"v":-0.7,"d":"-0.70"},0.01,8.98,8.98,"     -0.80    542.27    -94.71     36.68     -0.05     -0.08     -8.10     -8.10",0,"-0.80 542.27 -94.71 36.68 -0.05 -0.08 -8.10 -8.10","-0,80","542.27 -94.71 36.68 -0.05 -0.08 -8.10 -8.10","542,27","-94.71 36.68 -0.05 -0.08 -8.10 -8.10","-94,71","36.68 -0.05 -0.08 -8.10 -8.10","36,68","-0.05 -0.08 -8.10 -8.10","-0,05","-0.08 -8.10 -8.10","-0,08","-8.10 -8.10","-8,10","-8.10","-8,10",null,{"v":-0.8,"d":"-0.80"},542.27,-94.71,36.68,-0.05,-0.08,{"v":-8.1,"d":"-8.10"},{"v":-8.1,"d":"-8.10"},"    -10.00             -0.6737    0.8502    7.1667    2.4686     1.213     1.213",0,"-10.00 -0.6737 0.8502 7.1667 2.4686 1.213 1.213","-10,00","-0.6737 0.8502 7.1667 2.4686 1.213 1.213","-0,6737","0.8502 7.1667 2.4686 1.213 1.213","0,8502","7.1667 2.4686 1.213 1.213","7,1667","2.4686 1.213 1.213","2,4686","1.213 1.213","1,213","1.213","1,213",null,{"v":-10,"d":"-10.00"},-0.6737,0.8502,7.1667,2.4686,1.213,1.213,"     -0.80             -0.5222    0.8487    7.0494    2.3186     1.121     1.121",0,"-0.80 -0.5222 0.8487 7.0494 2.3186 1.121 1.121","-0,80","-0.5222 0.8487 7.0494 2.3186 1.121 1.121","-0,5222","0.8487 7.0494 2.3186 1.121 1.121","0,8487","7.0494 2.3186 1.121 1.121","7,0494","2.3186 1.121 1.121","2,3186","1.121 1.121","1,121","1.121","1,121",null,{"v":-0.8,"d":"-0.80"},-0.5222,0.8487,7.0494,2.3186,1.121,1.121,"    -10.00     15.70     24.62     73.99     83.99     -1.19     -0.48      8.42      8.42",0,"-10.00 15.70 24.62 73.99 83.99 -1.19 -0.48 8.42 8.42","-10,00","15.70 24.62 73.99 83.99 -1.19 -0.48 8.42 8.42","15,70","24.62 73.99 83.99 -1.19 -0.48 8.42 8.42","24,62","73.99 83.99 -1.19 -0.48 8.42 8.42","73,99","83.99 -1.19 -0.48 8.42 8.42","83,99","-1.19 -0.48 8.42 8.42","-1,19","-0.48 8.42 8.42","-0,48","8.42 8.42","8,42","8.42","8,42",null,{"v":-10,"d":"-10.00"},{"v":15.7,"d":"15.70"},24.62,73.99,83.99,-1.19,-0.48,8.42,8.42,"     -0.80   2083.10    -91.38     61.64     -0.07      0.55     -7.52     -7.52",0,"-0.80 2083.10 -91.38 61.64 -0.07 0.55 -7.52 -7.52","-0,80","2083.10 -91.38 61.64 -0.07 0.55 -7.52 -7.52","2083,10","-91.38 61.64 -0.07 0.55 -7.52 -7.52","-91,38","61.64 -0.07 0.55 -7.52 -7.52","61,64","-0.07 0.55 -7.52 -7.52","-0,07","0.55 -7.52 -7.52","0,55","-7.52 -7.52","-7,52","-7.52","-7,52",null,{"v":-0.8,"d":"-0.80"},{"v":2083.1,"d":"2083.10"},-91.38,61.64,-0.07,0.55,-7.52,-7.52,null,0,0,0,0,0,0,0,0,0,0,0,0,0,0,0,0,0,0]
[null,"     -9.00             -0.4587   -1.6366    3.2290   11.4761     1.122     1.122",null,null,"     -0.70             -0.1880   -1.5354    3.5762   11.2125     1.093     1.093",null,null,"    -18.00               13.49    -17.83     -1.29      0.86    128.42   5607.86",null,null,"     -9.00     18.36      0.00     43.15     52.15     -0.61      0.01      8.09      8.09",null,null,"     -0.70    542.27    -82.88     36.87     -0.04     -0.07     -7.09     -7.09",{"$nulls":12},"     -9.00             -0.7083    0.8503    7.1607    2.5033     1.208     1.208",null,null,"     -0.70             -0.5844    0.8491    7.0566    2.3807     1.126     1.126",null,null,"     -9.00     15.63     24.44     72.89     81.89     -1.06     -0.43      7.59      7.59",null,null,"     -0.70   2083.10    -79.97     61.96     -0.05      0.48     -6.57     -6.57",{"$nulls":77},"     -9.00             -0.4587   -1.6366    3.2290   11.4761     1.122     1.122",0,"-9.00 -0.4587 -1.6366 3.2290 11.4761 1.122 1.122","-9,00","-0.4587 -1.6366 3.2290 11.4761 1.122 1.122","-0,4587","-1.6366 3.2290 11.4761 1.122 1.122","-1,6366","3.2290 11.4761 1.122 1.122","3,2290","11.4761 1.122 1.122","11,4761","1.122 1.122","1,122","1.122","1,122",null,{"v":-9,"d":"-9.00"},-0.4587,-1.6366,3.229,11.4761,1.122,1.122,"     -0.70             -0.1880   -1.5354    3.5762   11.2125     1.093     1.093",0,"-0.70 -0.1880 -1.5354 3.5762 11.2125 1.093 1.093","-0,70","-0.1880 -1.5354 3.5762 11.2125 1.093 1.093","-0,1880","-1.5354 3.5762 11.2125 1.093 1.093","-1,5354","3.5762 11.2125 1.093 1.093","3,5762","11.2125 1.093 1.093","11,2125","1.093 1.093","1,093","1.093","1,093",null,{"v":-0.7,"d":"-0.70"},-0.188,-1.5354,3.5762,11.2125,1.093,1.093,"    -18.00               13.49    -17.83     -1.29      0.86    128.42   5607.86",0,"-18.00 13.49 -17.83 -1.29 0.86 128.42 5607.86","-18,00","13.49 -17.83 -1.29 0.86 128.42 5607.86","13,49","-17.83 -1.29 0.86 128.42 5607.86","-17,83","-1.29 0.86 128.42 5607.86","-1,29","0.86 128.42 5607.86","0,86","128.42 5607.86","128,42","5607.86","5607,86",null,{"v":-18,"d":"-18.00"},13.49,-17.83,-1.29,0.86,128.42,5607.86,"     -9.00     18.36      0.00     43.15     52.15     -0.61      0.01      8.09      8.09",0,"-9.00 18.36 0.00 43.15 52.15 -0.61 0.01 8.09 8.09","-9,00","18.36 0.00 43.15 52.15 -0.61 0.01 8.09 8.09","18,36","0.00 43.15 52.15 -0.61 0.01 8.09 8.09","0,00","43.15 52.15 -0.61 0.01 8.09 8.09","43,15","52.15 -0.61 0.01 8.09 8.09","52,15","-0.61 0.01 8.09 8.09","-0,61","0.01 8.09 8.09","0,01","8.09 8.09","8,09","8.09","8,09",null,{"v":-9,"d":"-9.00"},18.36,{"v":0,"d":"0.00"},43.15,52.15,-0.61,0.01,8.09,8.09,"     -0.70    542.27    -82.88     36.87     -0.04     -0.07     -7.09     -7.09",0,"-0.70 542.27 -82.88 36.87 -0.04 -0.07 -7.09 -7.09","-0,70","542.27 -82.88 36.87 -0.04 -0.07 -7.09 -7.09","542,27","-82.88 36.87 -0.04 -0.07 -7.09 -7.09","-82,88","36.87 -0.04 -0.07 -7.09 -7.09","36,87","-0.04 -0.07 -7.09 -7.09","-0,04","-0.07 -7.09 -7.09","-0,07","-7.09 -7.09","-7,09","-7.09","-7,09",null,{"v":-0.7,"d":"-0.70"},542.27,-82.88,36.87,-0.04,-0.07,-7.09,-7.09,"     -9.00             -0.7083    0.8503    7.1607    2.5033     1.208     1.208",0,"-9.00 -0.7083 0.8503 7.1607 2.5033 1.208 1.208","-9,00","-0.7083 0.8503 7.1607 2.5033 1.208 1.208","-0,7083","0.8503 7.1607 2.5033 1.208 1.208","0,8503","7.1607 2.5033 1.208 1.208","7,1607","2.5033 1.208 1.208","2,5033","1.208 1.208","1,208","1.208","1,208",null,{"v":-9,"d":"-9.00"},-0.7083,0.8503,7.1607,2.5033,1.208,1.208,"     -0.70             -0.5844    0.8491    7.0566    2.3807     1.126     1.126",0,"-0.70 -0.5844 0.8491 7.0566 2.3807 1.126 1.126","-0,70","-0.5844 0.8491 7.0566 2.3807 1.126 1.126","-0,5844","0.8491 7.0566 2.3807 1.126 1.126","0,8491","7.0566 2.3807 1.126 1.126","7,0566","2.3807 1.126 1.126","2,3807","1.126 1.126","1,126","1.126","1,126",null,{"v":-0.7,"d":"-0.70"},-0.5844,0.8491,7.0566,2.3807,1.126,1.126,"     -9.00     15.63     24.44     72.89     81.89     -1.06     -0.43      7.59      7.59",0,"-9.00 15.63 24.44 72.89 81.89 -1.06 -0.43 7.59 7.59","-9,00","15.63 24.44 72.89 81.89 -1.06 -0.43 7.59 7.59","15,63","24.44 72.89 81.89 -1.06 -0.43 7.59 7.59","24,44","72.89 81.89 -1.06 -0.43 7.59 7.59","72,89","81.89 -1.06 -0.43 7.59 7.59","81,89","-1.06 -0.43 7.59 7.59","-1,06","-0.43 7.59 7.59","-0,43","7.59 7.59","7,59","7.59","7,59",null,{"v":-9,"d":"-9.00"},15.63,24.44,72.89,81.89,-1.06,-0.43,7.59,7.59,"     -0.70   2083.10    -79.97     61.96     -0.05      0.48     -6.57     -6.57",0,"-0.70 2083.10 -79.97 61.96 -0.05 0.48 -6.57 -6.57","-0,70","2083.10 -79.97 61.96 -0.05 0.48 -6.57 -6.57","2083,10","-79.97 61.96 -0.05 0.48 -6.57 -6.57","-79,97","61.96 -0.05 0.48 -6.57 -6.57","61,96","-0.05 0.48 -6.57 -6.57","-0,05","0.48 -6.57 -6.57","0,48","-6.57 -6.57","-6,57","-6.57","-6,57",null,{"v":-0.7,"d":"-0.70"},{"v":2083.1,"d":"2083.10"},-79.97,61.96,-0.05,0.48,-6.57,-6.57,null,0,0,0,0,0,0,0,0,0,0,0,0,0,0,0,0,0,0]
[null,"     -8.00             -0.4837   -1.6303    3.2503   11.5016     1.120     1.120",null,null,"     -0.60             -0.2590   -1.5417    3.5541   11.2830     1.094     1.094",null,null,"    -17.00               12.66    -16.87     -1.28      0.74    139.79   5969.67",null,null,"     -8.00     18.42      0.00     42.52     50.52     -0.54      0.01      7.19      7.19",null,null,"     -0.60    542.27    -71.05     37.03     -0.03     -0.06     -6.07     -6.07",{"$nulls":4},"SUSPENSION PARAMETER",{"$nulls":3},"Check",{"$nulls":3},"     -8.00             -0.7430    0.8504    7.1546    2.5381     1.203     1.203",null,null,"     -0.60             -0.6467    0.8495    7.0637    2.4429     1.131     1.131",null,null,"     -8.00     15.57     24.25     71.78     79.78     -0.93     -0.38      6.76      6.76",null,null,"     -0.60   2083.10    -68.56     62.24     -0.04      0.42     -5.62     -5.62",{"$nulls":77},"     -8.00             -0.4837   -1.6303    3.2503   11.5016     1.120     1.120",0,"-8.00 -0.4837 -1.6303 3.2503 11.5016 1.120 1.120","-8,00","-0.4837 -1.6303 3.2503 11.5016 1.120 1.120","-0,4837","-1.6303 3.2503 11.5016 1.120 1.120","-1,6303","3.2503 11.5016 1.120 1.120","3,2503","11.5016 1.120 1.120","11,5016","1.120 1.120","1,120","1.120","1,120",null,{"v":-8,"d":"-8.00"},-0.4837,-1.6303,3.2503,11.5016,1.12,1.12,"     -0.60             -0.2590   -1.5417    3.5541   11.2830     1.094     1.094",0,"-0.60 -0.2590 -1.5417 3.5541 11.2830 1.094 1.094","-0,60","-0.2590 -1.5417 3.5541 11.2830 1.094 1.094","-0,2590","-1.5417 3.5541 11.2830 1.094 1.094","-1,5417","3.5541 11.2830 1.094 1.094","3,5541","11.2830 1.094 1.094","11,2830","1.094 1.094","1,094","1.094","1,094",null,{"v":-0.6,"d":"-0.60"},-0.259,-1.5417,3.5541,11.283,1.094,1.094,"    -17.00               12.66    -16.87     -1.28      0.74    139.79   5969.67",0,"-17.00 12.66 -16.87 -1.28 0.74 139.79 5969.67","-17,00","12.66 -16.87 -1.28 0.74 139.79 5969.67","12,66","-16.87 -1.28 0.74 139.79 5969.67","-16,87","-1.28 0.74 139.79 5969.67","-1,28","0.74 139.79 5969.67","0,74","139.79 5969.67","139,79","5969.67","5969,67",null,{"v":-17,"d":"-17.00"},12.66,-16.87,-1.28,0.74,139.79,5969.67,"     -8.00     18.42      0.00     42.52     50.52     -0.54      0.01      7.19      7.19",0,"-8.00 18.42 0.00 42.52 50.52 -0.54 0.01 7.19 7.19","-8,00","18.42 0.00 42.52 50.52 -0.54 0.01 7.19 7.19","18,42","0.00 42.52 50.52 -0.54 0.01 7.19 7.19","0,00","42.52 50.52 -0.54 0.01 7.19 7.19","42,52","50.52 -0.54 0.01 7.19 7.19","50,52","-0.54 0.01 7.19 7.19","-0,54","0.01 7.19 7.19","0,01","7.19 7.19","7,19","7.19","7,19",null,{"v":-8,"d":"-8.00"},18.42,{"v":0,"d":"0.00"},42.52,50.52,-0.54,0.01,7.19,7.19,"     -0.60    542.27    -71.05     37.03     -0.03     -0.06     -6.07     -6.07",0,"-0.60 542.27 -71.05 37.03 -0.03 -0.06 -6.07 -6.07","-0,60","542.27 -71.05 37.03 -0.03 -0.06 -6.07 -6.07","542,27","-71.05 37.03 -0.03 -0.06 -6.07 -6.07","-71,05","37.03 -0.03 -0.06 -6.07 -6.07","37,03","-0.03 -0.06 -6.07 -6.07","-0,03","-0.06 -6.07 -6.07","-0,06","-6.07 -6.07","-6,07","-6.07","-6,07",null,{"v":-0.6,"d":"-0.60"},542.27,-71.05,37.03,-0.03,-0.06,-6.07,-6.07,"     -8.00             -0.7430    0.8504    7.1546    2.5381     1.203     1.203",0,"-8.00 -0.7430 0.8504 7.1546 2.5381 1.203 1.203","-8,00","-0.7430 0.8504 7.1546 2.5381 1.203 1.203","-0,7430","0.8504 7.1546 2.5381 1.203 1.203","0,8504","7.1546 2.5381 1.203 1.203","7,1546","2.5381 1.203 1.203","2,5381","1.203 1.203","1,203","1.203","1,203",null,{"v":-8,"d":"-8.00"},-0.743,0.8504,7.1546,2.5381,1.203,1.203,"     -0.60             -0.6467    0.8495    7.0637    2.4429     1.131     1.131",0,"-0.60 -0.6467 0.8495 7.0637 2.4429 1.131 1.131","-0,60","-0.6467 0.8495 7.0637 2.4429 1.131 1.131","-0,6467","0.8495 7.0637 2.4429 1.131 1.131","0,8495","7.0637 2.4429 1.131 1.131","7,0637","2.4429 1.131 1.131","2,4429","1.131 1.131","1,131","1.131","1,131",null,{"v":-0.6,"d":"-0.60"},-0.6467,0.8495,7.0637,2.4429,1.131,1.131,"     -8.00     15.57     24.25     71.78     79.78     -0.93     -0.38      6.76      6.76",0,"-8.00 15.57 24.25 71.78 79.78 -0.93 -0.38 6.76 6.76","-8,00","15.57 24.25 71.78 79.78 -0.93 -0.38 6.76 6.76","15,57","24.25 71.78 79.78 -0.93 -0.38 6.76 6.76","24,25","71.78 79.78 -0.93 -0.38 6.76 6.76","71,78","79.78 -0.93 -0.38 6.76 6.76","79,78","-0.93 -0.38 6.76 6.76","-0,93","-0.38 6.76 6.76","-0,38","6.76 6.76","6,76","6.76","6,76",null,{"v":-8,"d":"-8.00"},15.57,24.25,71.78,79.78,-0.93,-0.38,6.76,6.76,"     -0.60   2083.10    -68.56     62.24     -0.04      0.42     -5.62     -5.62",0,"-0.60 2083.10 -68.56 62.24 -0.04 0.42 -5.62 -5.62","-0,60","2083.10 -68.56 62.24 -0.04 0.42 -5.62 -5.62","2083,10","-68.56 62.24 -0.04 0.42 -5.62 -5.62","-68,56","62.24 -0.04 0.42 -5.62 -5.62","62,24","-0.04 0.42 -5.62 -5.62","-0,04","0.42 -5.62 -5.62","0,42","-5.62 -5.62","-5,62","-5.62","-5,62",null,{"v":-0.6,"d":"-0.60"},{"v":2083.1,"d":"2083.10"},-68.56,62.24,-0.04,0.42,-5.62,-5.62,null,0,0,0,0,0,0,0,0,0,0,0,0,0,0,0,0,0,0]
[null,"     -7.00             -0.5088   -1.6239    3.2717   11.5271     1.118     1.118",null,null,"     -0.50             -0.3300   -1.5479    3.5319   11.3535     1.096     1.096",null,null,"    -16.00               11.84    -15.92     -1.26      0.62    153.39   6376.79",null,null,"     -7.00     18.48      0.00     41.89     48.89     -0.46      0.01      6.30      6.30",null,null,"     -0.50    542.27    -59.21     37.17     -0.03     -0.05     -5.05     -5.05",{"$nulls":4},"3D BUMP","Numero Punti Totali = ",null,{"$f":"IF(NOT(ISBLANK($K$10)),$NW9, \"\")","v":48},{"$f":"$NK$11","v":0},{"$nulls":3},"     -7.00             -0.7778    0.8505    7.1486    2.5728     1.198     1.198",null,null,"     -0.50             -0.7091    0.8500    7.0708    2.5051     1.136     1.136",null,null,"     -7.00     15.50     24.07     70.68     77.68     -0.80     -0.33      5.93      5.93",null,null,"     -0.50   2083.10    -57.14     62.47     -0.03      0.35     -4.67     -4.67",{"$nulls":77},"     -7.00             -0.5088   -1.6239    3.2717   11.5271     1.118     1.118",0,"-7.00 -0.5088 -1.6239 3.2717 11.5271 1.118 1.118","-7,00","-0.5088 -1.6239 3.2717 11.5271 1.118 1.118","-0,5088","-1.6239 3.2717 11.5271 1.118 1.118","-1,6239","3.2717 11.5271 1.118 1.118","3,2717","11.5271 1.118 1.118","11,5271","1.118 1.118","1,118","1.118","1,118",null,{"v":-7,"d":"-7.00"},-0.5088,-1.6239,3.2717,11.5271,1.118,1.118,"     -0.50             -0.3300   -1.5479    3.5319   11.3535     1.096     1.096",0,"-0.50 -0.3300 -1.5479 3.5319 11.3535 1.096 1.096","-0,50","-0.3300 -1.5479 3.5319 11.3535 1.096 1.096","-0,3300","-1.5479 3.5319 11.3535 1.096 1.096","-1,5479","3.5319 11.3535 1.096 1.096","3,5319","11.3535 1.096 1.096","11,3535","1.096 1.096","1,096","1.096","1,096",null,{"v":-0.5,"d":"-0.50"},-0.33,-1.5479,3.5319,11.3535,1.096,1.096,"    -16.00               11.84    -15.92     -1.26      0.62    153.39   6376.79",0,"-16.00 11.84 -15.92 -1.26 0.62 153.39 6376.79","-16,00","11.84 -15.92 -1.26 0.62 153.39 6376.79","11,84","-15.92 -1.26 0.62 153.39 6376.79","-15,92","-1.26 0.62 153.39 6376.79","-1,26","0.62 153.39 6376.79","0,62","153.39 6376.79","153,39","6376.79","6376,79",null,{"v":-16,"d":"-16.00"},11.84,-15.92,-1.26,0.62,153.39,6376.79,"     -7.00     18.48      0.00     41.89     48.89     -0.46      0.01      6.30      6.30",0,"-7.00 18.48 0.00 41.89 48.89 -0.46 0.01 6.30 6.30","-7,00","18.48 0.00 41.89 48.89 -0.46 0.01 6.30 6.30","18,48","0.00 41.89 48.89 -0.46 0.01 6.30 6.30","0,00","41.89 48.89 -0.46 0.01 6.30 6.30","41,89","48.89 -0.46 0.01 6.30 6.30","48,89","-0.46 0.01 6.30 6.30","-0,46","0.01 6.30 6.30","0,01","6.30 6.30","6,30","6.30","6,30",null,{"v":-7,"d":"-7.00"},18.48,{"v":0,"d":"0.00"},41.89,48.89,-0.46,0.01,{"v":6.3,"d":"6.30"},{"v":6.3,"d":"6.30"},"     -0.50    542.27    -59.21     37.17     -0.03     -0.05     -5.05     -5.05",0,"-0.50 542.27 -59.21 37.17 -0.03 -0.05 -5.05 -5.05","-0,50","542.27 -59.21 37.17 -0.03 -0.05 -5.05 -5.05","542,27","-59.21 37.17 -0.03 -0.05 -5.05 -5.05","-59,21","37.17 -0.03 -0.05 -5.05 -5.05","37,17","-0.03 -0.05 -5.05 -5.05","-0,03","-0.05 -5.05 -5.05","-0,05","-5.05 -5.05","-5,05","-5.05","-5,05",null,{"v":-0.5,"d":"-0.50"},542.27,-59.21,37.17,-0.03,-0.05,-5.05,-5.05,"     -7.00             -0.7778    0.8505    7.1486    2.5728     1.198     1.198",0,"-7.00 -0.7778 0.8505 7.1486 2.5728 1.198 1.198","-7,00","-0.7778 0.8505 7.1486 2.5728 1.198 1.198","-0,7778","0.8505 7.1486 2.5728 1.198 1.198","0,8505","7.1486 2.5728 1.198 1.198","7,1486","2.5728 1.198 1.198","2,5728","1.198 1.198","1,198","1.198","1,198",null,{"v":-7,"d":"-7.00"},-0.7778,0.8505,7.1486,2.5728,1.198,1.198,"     -0.50             -0.7091    0.8500    7.0708    2.5051     1.136     1.136",0,"-0.50 -0.7091 0.8500 7.0708 2.5051 1.136 1.136","-0,50","-0.7091 0.8500 7.0708 2.5051 1.136 1.136","-0,7091","0.8500 7.0708 2.5051 1.136 1.136","0,8500","7.0708 2.5051 1.136 1.136","7,0708","2.5051 1.136 1.136","2,5051","1.136 1.136","1,136","1.136","1,136",null,{"v":-0.5,"d":"-0.50"},-0.7091,0.85,7.0708,2.5051,1.136,1.136,"     -7.00     15.50     24.07     70.68     77.68     -0.80     -0.33      5.93      5.93",0,"-7.00 15.50 24.07 70.68 77.68 -0.80 -0.33 5.93 5.93","-7,00","15.50 24.07 70.68 77.68 -0.80 -0.33 5.93 5.93","15,50","24.07 70.68 77.68 -0.80 -0.33 5.93 5.93","24,07","70.68 77.68 -0.80 -0.33 5.93 5.93","70,68","77.68 -0.80 -0.33 5.93 5.93","77,68","-0.80 -0.33 5.93 5.93","-0,80","-0.33 5.93 5.93","-0,33","5.93 5.93","5,93","5.93","5,93",null,{"v":-7,"d":"-7.00"},{"v":15.5,"d":"15.50"},24.07,70.68,77.68,{"v":-0.8,"d":"-0.80"},-0.33,5.93,5.93,"     -0.50   2083.10    -57.14     62.47     -0.03      0.35     -4.67     -4.67",0,"-0.50 2083.10 -57.14 62.47 -0.03 0.35 -4.67 -4.67","-0,50","2083.10 -57.14 62.47 -0.03 0.35 -4.67 -4.67","2083,10","-57.14 62.47 -0.03 0.35 -4.67 -4.67","-57,14","62.47 -0.03 0.35 -4.67 -4.67","62,47","-0.03 0.35 -4.67 -4.67","-0,03","0.35 -4.67 -4.67","0,35","-4.67 -4.67","-4,67","-4.67","-4,67",null,{"v":-0.5,"d":"-0.50"},{"v":2083.1,"d":"2083.10"},-57.14,62.47,-0.03,0.35,-4.67,-4.67,null,0,0,0,0,0,0,0,0,0,0,0,0,0,0,0,0,0,0]
[null,"     -6.00             -0.5340   -1.6175    3.2930   11.5527     1.116     1.116",null,null,"     -0.40             -0.4011   -1.5540    3.5098   11.4242     1.098     1.098",null,null,"    -15.00               11.01    -14.98     -1.24      0.51    169.85   6838.80",null,null,"     -6.00     18.54      0.00     41.26     47.26     -0.39      0.01      5.40      5.40",null,null,"     -0.40    542.27    -47.37     37.29     -0.02     -0.04     -4.04     -4.04",{"$nulls":5},"Intervallo Tra Punti = ",null,{"$f":"IF(NOT(ISBLANK($K$10)),$NW10, \"\")","v":1},{"$nulls":4},"     -6.00             -0.8125    0.8508    7.1426    2.6076     1.193     1.193",null,null,"     -0.40             -0.7714    0.8506    7.0779    2.5673     1.142     1.142",null,null,"     -6.00     15.43     23.88     69.58     75.58     -0.67     -0.28      5.09      5.09",null,null,"     -0.40   2083.10    -45.72     62.66     -0.02      0.28     -3.73     -3.73",{"$nulls":77},"     -6.00             -0.5340   -1.6175    3.2930   11.5527     1.116     1.116",0,"-6.00 -0.5340 -1.6175 3.2930 11.5527 1.116 1.116","-6,00","-0.5340 -1.6175 3.2930 11.5527 1.116 1.116","-0,5340","-1.6175 3.2930 11.5527 1.116 1.116","-1,6175","3.2930 11.5527 1.116 1.116","3,2930","11.5527 1.116 1.116","11,5527","1.116 1.116","1,116","1.116","1,116",null,{"v":-6,"d":"-6.00"},-0.534,-1.6175,3.293,11.5527,1.116,1.116,"     -0.40             -0.4011   -1.5540    3.5098   11.4242     1.098     1.098",0,"-0.40 -0.4011 -1.5540 3.5098 11.4242 1.098 1.098","-0,40","-0.4011 -1.5540 3.5098 11.4242 1.098 1.098","-0,4011","-1.5540 3.5098 11.4242 1.098 1.098","-1,5540","3.5098 11.4242 1.098 1.098","3,5098","11.4242 1.098 1.098","11,4242","1.098 1.098","1,098","1.098","1,098",null,{"v":-0.4,"d":"-0.40"},-0.4011,-1.554,3.5098,11.4242,1.098,1.098,"    -15.00               11.01    -14.98     -1.24      0.51    169.85   6838.80",0,"-15.00 11.01 -14.98 -1.24 0.51 169.85 6838.80","-15,00","11.01 -14.98 -1.24 0.51 169.85 6838.80","11,01","-14.98 -1.24 0.51 169.85 6838.80","-14,98","-1.24 0.51 169.85 6838.80","-1,24","0.51 169.85 6838.80","0,51","169.85 6838.80","169,85","6838.80","6838,80",null,{"v":-15,"d":"-15.00"},11.01,-14.98,-1.24,0.51,169.85,6838.8,"     -6.00     18.54      0.00     41.26     47.26     -0.39      0.01      5.40      5.40",0,"-6.00 18.54 0.00 41.26 47.26 -0.39 0.01 5.40 5.40","-6,00","18.54 0.00 41.26 47.26 -0.39 0.01 5.40 5.40","18,54","0.00 41.26 47.26 -0.39 0.01 5.40 5.40","0,00","41.26 47.26 -0.39 0.01 5.40 5.40","41,26","47.26 -0.39 0.01 5.40 5.40","47,26","-0.39 0.01 5.40 5.40","-0,39","0.01 5.40 5.40","0,01","5.40 5.40","5,40","5.40","5,40",null,{"v":-6,"d":"-6.00"},18.54,{"v":0,"d":"0.00"},41.26,47.26,-0.39,0.01,{"v":5.4,"d":"5.40"},{"v":5.4,"d":"5.40"},"     -0.40    542.27    -47.37     37.29     -0.02     -0.04     -4.04     -4.04",0,"-0.40 542.27 -47.37 37.29 -0.02 -0.04 -4.04 -4.04","-0,40","542.27 -47.37 37.29 -0.02 -0.04 -4.04 -4.04","542,27","-47.37 37.29 -0.02 -0.04 -4.04 -4.04","-47,37","37.29 -0.02 -0.04 -4.04 -4.04","37,29","-0.02 -0.04 -4.04 -4.04","-0,02","-0.04 -4.04 -4.04","-0,04","-4.04 -4.04","-4,04","-4.04","-4,04",null,{"v":-0.4,"d":"-0.40"},542.27,-47.37,37.29,-0.02,-0.04,-4.04,-4.04,"     -6.00             -0.8125    0.8508    7.1426    2.6076     1.193     1.193",0,"-6.00 -0.8125 0.8508 7.1426 2.6076 1.193 1.193","-6,00","-0.8125 0.8508 7.1426 2.6076 1.193 1.193","-0,8125","0.8508 7.1426 2.6076 1.193 1.193","0,8508","7.1426 2.6076 1.193 1.193","7,1426","2.6076 1.193 1.193","2,6076","1.193 1.193","1,193","1.193","1,193",null,{"v":-6,"d":"-6.00"},-0.8125,0.8508,7.1426,2.6076,1.193,1.193,"     -0.40             -0.7714    0.8506    7.0779    2.5673     1.142     1.142",0,"-0.40 -0.7714 0.8506 7.0779 2.5673 1.142 1.142","-0,40","-0.7714 0.8506 7.0779 2.5673 1.142 1.142","-0,7714","0.8506 7.0779 2.5673 1.142 1.142","0,8506","7.0779 2.5673 1.142 1.142","7,0779","2.5673 1.142 1.142","2,5673","1.142 1.142","1,142","1.142","1,142",null,{"v":-0.4,"d":"-0.40"},-0.7714,0.8506,7.0779,2.5673,1.142,1.142,"     -6.00     15.43     23.88     69.58     75.58     -0.67     -0.28      5.09      5.09",0,"-6.00 15.43 23.88 69.58 75.58 -0.67 -0.28 5.09 5.09","-6,00","15.43 23.88 69.58 75.58 -0.67 -0.28 5.09 5.09","15,43","23.88 69.58 75.58 -0.67 -0.28 5.09 5.09","23,88","69.58 75.58 -0.67 -0.28 5.09 5.09","69,58","75.58 -0.67 -0.28 5.09 5.09","75,58","-0.67 -0.28 5.09 5.09","-0,67","-0.28 5.09 5.09","-0,28","5.09 5.09","5,09","5.09","5,09",null,{"v":-6,"d":"-6.00"},15.43,23.88,69.58,75.58,-0.67,-0.28,5.09,5.09,"     -0.40   2083.10    -45.72     62.66     -0.02      0.28     -3.73     -3.73",0,"-0.40 2083.10 -45.72 62.66 -0.02 0.28 -3.73 -3.73","-0,40","2083.10 -45.72 62.66 -0.02 0.28 -3.73 -3.73","2083,10","-45.72 62.66 -0.02 0.28 -3.73 -3.73","-45,72","62.66 -0.02 0.28 -3.73 -3.73","62,66","-0.02 0.28 -3.73 -3.73","-0,02","0.28 -3.73 -3.73","0,28","-3.73 -3.73","-3,73","-3.73","-3,73",null,{"v":-0.4,"d":"-0.40"},{"v":2083.1,"d":"2083.10"},-45.72,62.66,-0.02,0.28,-3.73,-3.73,null,0,0,0,0,0,0,0,0,0,0,0,0,0,0,0,0,0,0]
[null,"     -5.00             -0.5592   -1.6110    3.3143   11.5784     1.114     1.114",null,null,"     -0.30             -0.4723   -1.5601    3.4876   11.4949     1.100     1.100",null,null,"    -14.00               10.19    -14.04     -1.22      0.40    190.00   7368.24",null,null,"     -5.00     18.60      0.00     40.63     45.63     -0.32      0.00      4.51      4.51",null,null,"     -0.30    542.27    -35.53     37.38     -0.01     -0.03     -3.03     -3.03",{"$nulls":4},"3D ROLL","Numero Punti Totali = ",null,{"$f":"IF(NOT(ISBLANK($N$10)),$NX9, \"\")","v":31},{"$f":"$NL$11","v":0},{"$nulls":3},"     -5.00             -0.8472    0.8511    7.1366    2.6424     1.188     1.188",null,null,"     -0.30             -0.8338    0.8513    7.0851    2.6295     1.147     1.147",null,null,"     -5.00     15.37     23.70     68.48     73.48     -0.55     -0.23      4.25      4.25",null,null,"     -0.30   2083.10    -34.29     62.81     -0.01      0.21     -2.79     -2.79",{"$nulls":77},"     -5.00             -0.5592   -1.6110    3.3143   11.5784     1.114     1.114",0,"-5.00 -0.5592 -1.6110 3.3143 11.5784 1.114 1.114","-5,00","-0.5592 -1.6110 3.3143 11.5784 1.114 1.114","-0,5592","-1.6110 3.3143 11.5784 1.114 1.114","-1,6110","3.3143 11.5784 1.114 1.114","3,3143","11.5784 1.114 1.114","11,5784","1.114 1.114","1,114","1.114","1,114",null,{"v":-5,"d":"-5.00"},-0.5592,-1.611,3.3143,11.5784,1.114,1.114,"     -0.30             -0.4723   -1.5601    3.4876   11.4949     1.100     1.100",0,"-0.30 -0.4723 -1.5601 3.4876 11.4949 1.100 1.100","-0,30","-0.4723 -1.5601 3.4876 11.4949 1.100 1.100","-0,4723","-1.5601 3.4876 11.4949 1.100 1.100","-1,5601","3.4876 11.4949 1.100 1.100","3,4876","11.4949 1.100 1.100","11,4949","1.100 1.100","1,100","1.100","1,100",null,{"v":-0.3,"d":"-0.30"},-0.4723,-1.5601,3.4876,11.4949,1.1,1.1,"    -14.00               10.19    -14.04     -1.22      0.40    190.00   7368.24",0,"-14.00 10.19 -14.04 -1.22 0.40 190.00 7368.24","-14,00","10.19 -14.04 -1.22 0.40 190.00 7368.24","10,19","-14.04 -1.22 0.40 190.00 7368.24","-14,04","-1.22 0.40 190.00 7368.24","-1,22","0.40 190.00 7368.24","0,40","190.00 7368.24","190,00","7368.24","7368,24",null,{"v":-14,"d":"-14.00"},10.19,-14.04,-1.22,0.4,190,7368.24,"     -5.00     18.60      0.00     40.63     45.63     -0.32      0.00      4.51      4.51",0,"-5.00 18.60 0.00 40.63 45.63 -0.32 0.00 4.51 4.51","-5,00","18.60 0.00 40.63 45.63 -0.32 0.00 4.51 4.51","18,60","0.00 40.63 45.63 -0.32 0.00 4.51 4.51","0,00","40.63 45.63 -0.32 0.00 4.51 4.51","40,63","45.63 -0.32 0.00 4.51 4.51","45,63","-0.32 0.00 4.51 4.51","-0,32","0.00 4.51 4.51","0,00","4.51 4.51","4,51","4.51","4,51",null,{"v":-5,"d":"-5.00"},{"v":18.6,"d":"18.60"},{"v":0,"d":"0.00"},40.63,45.63,-0.32,{"v":0,"d":"0.00"},4.51,4.51,"     -0.30    542.27    -35.53     37.38     -0.01     -0.03     -3.03     -3.03",0,"-0.30 542.27 -35.53 37.38 -0.01 -0.03 -3.03 -3.03","-0,30","542.27 -35.53 37.38 -0.01 -0.03 -3.03 -3.03","542,27","-35.53 37.38 -0.01 -0.03 -3.03 -3.03","-35,53","37.38 -0.01 -0.03 -3.03 -3.03","37,38","-0.01 -0.03 -3.03 -3.03","-0,01","-0.03 -3.03 -3.03","-0,03","-3.03 -3.03","-3,03","-3.03","-3,03",null,{"v":-0.3,"d":"-0.30"},542.27,-35.53,37.38,-0.01,-0.03,-3.03,-3.03,"     -5.00             -0.8472    0.8511    7.1366    2.6424     1.188     1.188",0,"-5.00 -0.8472 0.8511 7.1366 2.6424 1.188 1.188","-5,00","-0.8472 0.8511 7.1366 2.6424 1.188 1.188","-0,8472","0.8511 7.1366 2.6424 1.188 1.188","0,8511","7.1366 2.6424 1.188 1.188","7,1366","2.6424 1.188 1.188","2,6424","1.188 1.188","1,188","1.188","1,188",null,{"v":-5,"d":"-5.00"},-0.8472,0.8511,7.1366,2.6424,1.188,1.188,"     -0.30             -0.8338    0.8513    7.0851    2.6295     1.147     1.147",0,"-0.30 -0.8338 0.8513 7.0851 2.6295 1.147 1.147","-0,30","-0.8338 0.8513 7.0851 2.6295 1.147 1.147","-0,8338","0.8513 7.0851 2.6295 1.147 1.147","0,8513","7.0851 2.6295 1.147 1.147","7,0851","2.6295 1.147 1.147","2,6295","1.147 1.147","1,147","1.147","1,147",null,{"v":-0.3,"d":"-0.30"},-0.8338,0.8513,7.0851,2.6295,1.147,1.147,"     -5.00     15.37     23.70     68.48     73.48     -0.55     -0.23      4.25      4.25",0,"-5.00 15.37 23.70 68.48 73.48 -0.55 -0.23 4.25 4.25","-5,00","15.37 23.70 68.48 73.48 -0.55 -0.23 4.25 4.25","15,37","23.70 68.48 73.48 -0.55 -0.23 4.25 4.25","23,70","68.48 73.48 -0.55 -0.23 4.25 4.25","68,48","73.48 -0.55 -0.23 4.25 4.25","73,48","-0.55 -0.23 4.25 4.25","-0,55","-0.23 4.25 4.25","-0,23","4.25 4.25","4,25","4.25","4,25",null,{"v":-5,"d":"-5.00"},15.37,{"v":23.7,"d":"23.70"},68.48,73.48,-0.55,-0.23,4.25,4.25,"     -0.30   2083.10    -34.29     62.81     -0.01      0.21     -2.79     -2.79",0,"-0.30 2083.10 -34.29 62.81 -0.01 0.21 -2.79 -2.79","-0,30","2083.10 -34.29 62.81 -0.01 0.21 -2.79 -2.79","2083,10","-34.29 62.81 -0.01 0.21 -2.79 -2.79","-34,29","62.81 -0.01 0.21 -2.79 -2.79","62,81","-0.01 0.21 -2.79 -2.79","-0,01","0.21 -2.79 -2.79","0,21","-2.79 -2.79","-2,79","-2.79","-2,79",null,{"v":-0.3,"d":"-0.30"},{"v":2083.1,"d":"2083.10"},-34.29,62.81,-0.01,0.21,-2.79,-2.79,null,0,0,0,0,0,0,0,0,0,0,0,0,0,0,0,0,0,0]
[null,"     -4.00             -0.5846   -1.6045    3.3357   11.6041     1.112     1.112",null,null,"     -0.20             -0.5436   -1.5661    3.4654   11.5657     1.101     1.101",null,null,"    -13.00                9.36    -13.12     -1.20      0.30    215.03   7981.80",null,null,"     -4.00     18.66      0.00     40.00     44.00     -0.25      0.00      3.61      3.61",null,null,"     -0.20    542.27    -23.69     37.44     -0.01     -0.02     -2.02     -2.02",{"$nulls":5},"Intervallo Tra Punti = ",null,{"$f":"IF(NOT(ISBLANK($N$10)),$NX10, \"\")","v":0.10000000000000009},{"$nulls":4},"     -4.00             -0.8820    0.8515    7.1306    2.6772     1.183     1.183",null,null,"     -0.20             -0.8963    0.8520    7.0922    2.6918     1.152     1.152",null,null,"     -4.00     15.30     23.51     67.38     71.38     -0.44     -0.18      3.41      3.41",null,null,"     -0.20   2083.10    -22.86     62.92      0.00      0.14     -1.85     -1.85",{"$nulls":77},"     -4.00             -0.5846   -1.6045    3.3357   11.6041     1.112     1.112",0,"-4.00 -0.5846 -1.6045 3.3357 11.6041 1.112 1.112","-4,00","-0.5846 -1.6045 3.3357 11.6041 1.112 1.112","-0,5846","-1.6045 3.3357 11.6041 1.112 1.112","-1,6045","3.3357 11.6041 1.112 1.112","3,3357","11.6041 1.112 1.112","11,6041","1.112 1.112","1,112","1.112","1,112",null,{"v":-4,"d":"-4.00"},-0.5846,-1.6045,3.3357,11.6041,1.112,1.112,"     -0.20             -0.5436   -1.5661    3.4654   11.5657     1.101     1.101",0,"-0.20 -0.5436 -1.5661 3.4654 11.5657 1.101 1.101","-0,20","-0.5436 -1.5661 3.4654 11.5657 1.101 1.101","-0,5436","-1.5661 3.4654 11.5657 1.101 1.101","-1,5661","3.4654 11.5657 1.101 1.101","3,4654","11.5657 1.101 1.101","11,5657","1.101 1.101","1,101","1.101","1,101",null,{"v":-0.2,"d":"-0.20"},-0.5436,-1.5661,3.4654,11.5657,1.101,1.101,"    -13.00                9.36    -13.12     -1.20      0.30    215.03   7981.80",0,"-13.00 9.36 -13.12 -1.20 0.30 215.03 7981.80","-13,00","9.36 -13.12 -1.20 0.30 215.03 7981.80","9,36","-13.12 -1.20 0.30 215.03 7981.80","-13,12","-1.20 0.30 215.03 7981.80","-1,20","0.30 215.03 7981.80","0,30","215.03 7981.80","215,03","7981.80","7981,80",null,{"v":-13,"d":"-13.00"},9.36,-13.12,-1.2,0.3,215.03,7981.8,"     -4.00     18.66      0.00     40.00     44.00     -0.25      0.00      3.61      3.61",0,"-4.00 18.66 0.00 40.00 44.00 -0.25 0.00 3.61 3.61","-4,00","18.66 0.00 40.00 44.00 -0.25 0.00 3.61 3.61","18,66","0.00 40.00 44.00 -0.25 0.00 3.61 3.61","0,00","40.00 44.00 -0.25 0.00 3.61 3.61","40,00","44.00 -0.25 0.00 3.61 3.61","44,00","-0.25 0.00 3.61 3.61","-0,25","0.00 3.61 3.61","0,00","3.61 3.61","3,61","3.61","3,61",null,{"v":-4,"d":"-4.00"},18.66,{"v":0,"d":"0.00"},{"v":40,"d":"40.00"},{"v":44,"d":"44.00"},-0.25,{"v":0,"d":"0.00"},3.61,3.61,"     -0.20    542.27    -23.69     37.44     -0.01     -0.02     -2.02     -2.02",0,"-0.20 542.27 -23.69 37.44 -0.01 -0.02 -2.02 -2.02","-0,20","542.27 -23.69 37.44 -0.01 -0.02 -2.02 -2.02","542,27","-23.69 37.44 -0.01 -0.02 -2.02 -2.02","-23,69","37.44 -0.01 -0.02 -2.02 -2.02","37,44","-0.01 -0.02 -2.02 -2.02","-0,01","-0.02 -2.02 -2.02","-0,02","-2.02 -2.02","-2,02","-2.02","-2,02",null,{"v":-0.2,"d":"-0.20"},542.27,-23.69,37.44,-0.01,-0.02,-2.02,-2.02,"     -4.00             -0.8820    0.8515    7.1306    2.6772     1.183     1.183",0,"-4.00 -0.8820 0.8515 7.1306 2.6772 1.183 1.183","-4,00","-0.8820 0.8515 7.1306 2.6772 1.183 1.183","-0,8820","0.8515 7.1306 2.6772 1.183 1.183","0,8515","7.1306 2.6772 1.183 1.183","7,1306","2.6772 1.183 1.183","2,6772","1.183 1.183","1,183","1.183","1,183",null,{"v":-4,"d":"-4.00"},-0.882,0.8515,7.1306,2.6772,1.183,1.183,"     -0.20             -0.8963    0.8520    7.0922    2.6918     1.152     1.152",0,"-0.20 -0.8963 0.8520 7.0922 2.6918 1.152 1.152","-0,20","-0.8963 0.8520 7.0922 2.6918 1.152 1.152","-0,8963","0.8520 7.0922 2.6918 1.152 1.152","0,8520","7.0922 2.6918 1.152 1.152","7,0922","2.6918 1.152 1.152","2,6918","1.152 1.152","1,152","1.152","1,152",null,{"v":-0.2,"d":"-0.20"},-0.8963,0.852,7.0922,2.6918,1.152,1.152,"     -4.00     15.30     23.51     67.38     71.38     -0.44     -0.18      3.41      3.41",0,"-4.00 15.30 23.51 67.38 71.38 -0.44 -0.18 3.41 3.41","-4,00","15.30 23.51 67.38 71.38 -0.44 -0.18 3.41 3.41","15,30","23.51 67.38 71.38 -0.44 -0.18 3.41 3.41","23,51","67.38 71.38 -0.44 -0.18 3.41 3.41","67,38","71.38 -0.44 -0.18 3.41 3.41","71,38","-0.44 -0.18 3.41 3.41","-0,44","-0.18 3.41 3.41","-0,18","3.41 3.41","3,41","3.41","3,41",null,{"v":-4,"d":"-4.00"},{"v":15.3,"d":"15.30"},23.51,67.38,71.38,-0.44,-0.18,3.41,3.41,"     -0.20   2083.10    -22.86     62.92      0.00      0.14     -1.85     -1.85",0,"-0.20 2083.10 -22.86 62.92 0.00 0.14 -1.85 -1.85","-0,20","2083.10 -22.86 62.92 0.00 0.14 -1.85 -1.85","2083,10","-22.86 62.92 0.00 0.14 -1.85 -1.85","-22,86","62.92 0.00 0.14 -1.85 -1.85","62,92","0.00 0.14 -1.85 -1.85","0,00","0.14 -1.85 -1.85","0,14","-1.85 -1.85","-1,85","-1.85","-1,85",null,{"v":-0.2,"d":"-0.20"},{"v":2083.1,"d":"2083.10"},-22.86,62.92,{"v":0,"d":"0.00"},0.14,-1.85,-1.85,null,0,0,0,0,0,0,0,0,0,0,0,0,0,0,0,0,0,0]
[null,"     -3.00             -0.6099   -1.5980    3.3570   11.6299     1.110     1.110",null,null,"     -0.10             -0.6150   -1.5721    3.4433   11.6366     1.103     1.103",null,null,"    -12.00                8.53    -12.20     -1.17      0.20    246.63   8702.29",null,null,"     -3.00     18.73      0.00     39.37     42.37     -0.18      0.00      2.71      2.71",null,null,"     -0.10    542.27    -11.85     37.48      0.00     -0.01     -1.01     -1.01",{"$nulls":4},"Check Complessivo",{"$nulls":3},{"$f":"IF(AND($W$20=0,$W$22=0),0,1)","v":0},{"$nulls":3},"     -3.00             -0.9168    0.8519    7.1246    2.7120     1.178     1.178",null,null,"     -0.10             -0.9588    0.8528    7.0993    2.7541     1.158     1.158",null,null,"     -3.00     15.23     23.32     66.28     69.28     -0.32     -0.14      2.56      2.56",null,null,"     -0.10   2083.10    -11.43     62.98      0.00      0.07     -0.93     -0.93",{"$nulls":77},"     -3.00             -0.6099   -1.5980    3.3570   11.6299     1.110     1.110",0,"-3.00 -0.6099 -1.5980 3.3570 11.6299 1.110 1.110","-3,00","-0.6099 -1.5980 3.3570 11.6299 1.110 1.110","-0,6099","-1.5980 3.3570 11.6299 1.110 1.110","-1,5980","3.3570 11.6299 1.110 1.110","3,3570","11.6299 1.110 1.110","11,6299","1.110 1.110","1,110","1.110","1,110",null,{"v":-3,"d":"-3.00"},-0.6099,-1.598,3.357,11.6299,1.11,1.11,"     -0.10             -0.6150   -1.5721    3.4433   11.6366     1.103     1.103",0,"-0.10 -0.6150 -1.5721 3.4433 11.6366 1.103 1.103","-0,10","-0.6150 -1.5721 3.4433 11.6366 1.103 1.103","-0,6150","-1.5721 3.4433 11.6366 1.103 1.103","-1,5721","3.4433 11.6366 1.103 1.103","3,4433","11.6366 1.103 1.103","11,6366","1.103 1.103","1,103","1.103","1,103",null,{"v":-0.1,"d":"-0.10"},-0.615,-1.5721,3.4433,11.6366,1.103,1.103,"    -12.00                8.53    -12.20     -1.17      0.20    246.63   8702.29",0,"-12.00 8.53 -12.20 -1.17 0.20 246.63 8702.29","-12,00","8.53 -12.20 -1.17 0.20 246.63 8702.29","8,53","-12.20 -1.17 0.20 246.63 8702.29","-12,20","-1.17 0.20 246.63 8702.29","-1,17","0.20 246.63 8702.29","0,20","246.63 8702.29","246,63","8702.29","8702,29",null,{"v":-12,"d":"-12.00"},8.53,-12.2,-1.17,0.2,246.63,8702.29,"     -3.00     18.73      0.00     39.37     42.37     -0.18      0.00      2.71      2.71",0,"-3.00 18.73 0.00 39.37 42.37 -0.18 0.00 2.71 2.71","-3,00","18.73 0.00 39.37 42.37 -0.18 0.00 2.71 2.71","18,73","0.00 39.37 42.37 -0.18 0.00 2.71 2.71","0,00","39.37 42.37 -0.18 0.00 2.71 2.71","39,37","42.37 -0.18 0.00 2.71 2.71","42,37","-0.18 0.00 2.71 2.71","-0,18","0.00 2.71 2.71","0,00","2.71 2.71","2,71","2.71","2,71",null,{"v":-3,"d":"-3.00"},18.73,{"v":0,"d":"0.00"},39.37,42.37,-0.18,{"v":0,"d":"0.00"},2.71,2.71,"     -0.10    542.27    -11.85     37.48      0.00     -0.01     -1.01     -1.01",0,"-0.10 542.27 -11.85 37.48 0.00 -0.01 -1.01 -1.01","-0,10","542.27 -11.85 37.48 0.00 -0.01 -1.01 -1.01","542,27","-11.85 37.48 0.00 -0.01 -1.01 -1.01","-11,85","37.48 0.00 -0.01 -1.01 -1.01","37,48","0.00 -0.01 -1.01 -1.01","0,00","-0.01 -1.01 -1.01","-0,01","-1.01 -1.01","-1,01","-1.01","-1,01",null,{"v":-0.1,"d":"-0.10"},542.27,-11.85,37.48,{"v":0,"d":"0.00"},-0.01,-1.01,-1.01,"     -3.00             -0.9168    0.8519    7.1246    2.7120     1.178     1.178",0,"-3.00 -0.9168 0.8519 7.1246 2.7120 1.178 1.178","-3,00","-0.9168 0.8519 7.1246 2.7120 1.178 1.178","-0,9168","0.8519 7.1246 2.7120 1.178 1.178","0,8519","7.1246 2.7120 1.178 1.178","7,1246","2.7120 1.178 1.178","2,7120","1.178 1.178","1,178","1.178","1,178",null,{"v":-3,"d":"-3.00"},-0.9168,0.8519,7.1246,2.712,1.178,1.178,"     -0.10             -0.9588    0.8528    7.0993    2.7541     1.158     1.158",0,"-0.10 -0.9588 0.8528 7.0993 2.7541 1.158 1.158","-0,10","-0.9588 0.8528 7.0993 2.7541 1.158 1.158","-0,9588","0.8528 7.0993 2.7541 1.158 1.158","0,8528","7.0993 2.7541 1.158 1.158","7,0993","2.7541 1.158 1.158","2,7541","1.158 1.158","1,158","1.158","1,158",null,{"v":-0.1,"d":"-0.10"},-0.9588,0.8528,7.0993,2.7541,1.158,1.158,"     -3.00     15.23     23.32     66.28     69.28     -0.32     -0.14      2.56      2.56",0,"-3.00 15.23 23.32 66.28 69.28 -0.32 -0.14 2.56 2.56","-3,00","15.23 23.32 66.28 69.28 -0.32 -0.14 2.56 2.56","15,23","23.32 66.28 69.28 -0.32 -0.14 2.56 2.56","23,32","66.28 69.28 -0.32 -0.14 2.56 2.56","66,28","69.28 -0.32 -0.14 2.56 2.56","69,28","-0.32 -0.14 2.56 2.56","-0,32","-0.14 2.56 2.56","-0,14","2.56 2.56","2,56","2.56","2,56",null,{"v":-3,"d":"-3.00"},15.23,23.32,66.28,69.28,-0.32,-0.14,2.56,2.56,"     -0.10   2083.10    -11.43     62.98      0.00      0.07     -0.93     -0.93",0,"-0.10 2083.10 -11.43 62.98 0.00 0.07 -0.93 -0.93","-0,10","2083.10 -11.43 62.98 0.00 0.07 -0.93 -0.93","2083,10","-11.43 62.98 0.00 0.07 -0.93 -0.93","-11,43","62.98 0.00 0.07 -0.93 -0.93","62,98","0.00 0.07 -0.93 -0.93","0,00","0.07 -0.93 -0.93","0,07","-0.93 -0.93","-0,93","-0.93","-0,93",null,{"v":-0.1,"d":"-0.10"},{"v":2083.1,"d":"2083.10"},-11.43,62.98,{"v":0,"d":"0.00"},0.07,-0.93,-0.93,null,0,0,0,0,0,0,0,0,0,0,0,0,0,0,0,0,0,0]
[null,"     -2.00             -0.6354   -1.5913    3.3784   11.6557     1.109     1.109",null,null,"      0.00             -0.6864   -1.5780    3.4211   11.7075     1.105     1.105",null,null,"    -11.00                7.70    -11.28     -1.14      0.11    287.29   9561.79",null,null,"     -2.00     18.79      0.00     38.74     40.74     -0.12      0.00      1.81      1.81",null,null,"      0.00    542.27      0.00     37.49      0.00      0.00      0.00      0.00",{"$nulls":12},"     -2.00             -0.9516    0.8525    7.1185    2.7468     1.173     1.173",null,null,"      0.00             -1.0213    0.8537    7.1065    2.8165     1.163     1.163",null,null,"     -2.00     15.16     23.13     65.19     67.19     -0.21     -0.09      1.71      1.71",null,null,"      0.00   2083.10      0.00     63.00      0.00      0.00      0.00      0.00",{"$nulls":77},"     -2.00             -0.6354   -1.5913    3.3784   11.6557     1.109     1.109",0,"-2.00 -0.6354 -1.5913 3.3784 11.6557 1.109 1.109","-2,00","-0.6354 -1.5913 3.3784 11.6557 1.109 1.109","-0,6354","-1.5913 3.3784 11.6557 1.109 1.109","-1,5913","3.3784 11.6557 1.109 1.109","3,3784","11.6557 1.109 1.109","11,6557","1.109 1.109","1,109","1.109","1,109",null,{"v":-2,"d":"-2.00"},-0.6354,-1.5913,3.3784,11.6557,1.109,1.109,"      0.00             -0.6864   -1.5780    3.4211   11.7075     1.105     1.105",0,"0.00 -0.6864 -1.5780 3.4211 11.7075 1.105 1.105","0,00","-0.6864 -1.5780 3.4211 11.7075 1.105 1.105","-0,6864","-1.5780 3.4211 11.7075 1.105 1.105","-1,5780","3.4211 11.7075 1.105 1.105","3,4211","11.7075 1.105 1.105","11,7075","1.105 1.105","1,105","1.105","1,105",null,{"v":0,"d":"0.00"},-0.6864,-1.578,3.4211,11.7075,1.105,1.105,"    -11.00                7.70    -11.28     -1.14      0.11    287.29   9561.79",0,"-11.00 7.70 -11.28 -1.14 0.11 287.29 9561.79","-11,00","7.70 -11.28 -1.14 0.11 287.29 9561.79","7,70","-11.28 -1.14 0.11 287.29 9561.79","-11,28","-1.14 0.11 287.29 9561.79","-1,14","0.11 287.29 9561.79","0,11","287.29 9561.79","287,29","9561.79","9561,79",null,{"v":-11,"d":"-11.00"},7.7,-11.28,-1.14,0.11,287.29,9561.79,"     -2.00     18.79      0.00     38.74     40.74     -0.12      0.00      1.81      1.81",0,"-2.00 18.79 0.00 38.74 40.74 -0.12 0.00 1.81 1.81","-2,00","18.79 0.00 38.74 40.74 -0.12 0.00 1.81 1.81","18,79","0.00 38.74 40.74 -0.12 0.00 1.81 1.81","0,00","38.74 40.74 -0.12 0.00 1.81 1.81","38,74","40.74 -0.12 0.00 1.81 1.81","40,74","-0.12 0.00 1.81 1.81","-0,12","0.00 1.81 1.81","0,00","1.81 1.81","1,81","1.81","1,81",null,{"v":-2,"d":"-2.00"},18.79,{"v":0,"d":"0.00"},38.74,40.74,-0.12,{"v":0,"d":"0.00"},1.81,1.81,"      0.00    542.27      0.00     37.49      0.00      0.00      0.00      0.00",0,"0.00 542.27 0.00 37.49 0.00 0.00 0.00 0.00","0,00","542.27 0.00 37.49 0.00 0.00 0.00 0.00","542,27","0.00 37.49 0.00 0.00 0.00 0.00","0,00","37.49 0.00 0.00 0.00 0.00","37,49","0.00 0.00 0.00 0.00","0,00","0.00 0.00 0.00","0,00","0.00 0.00","0,00","0.00","0,00",null,{"v":0,"d":"0.00"},542.27,{"v":0,"d":"0.00"},37.49,{"v":0,"d":"0.00"},{"v":0,"d":"0.00"},{"v":0,"d":"0.00"},{"v":0,"d":"0.00"},"     -2.00             -0.9516    0.8525    7.1185    2.7468     1.173     1.173",0,"-2.00 -0.9516 0.8525 7.1185 2.7468 1.173 1.173","-2,00","-0.9516 0.8525 7.1185 2.7468 1.173 1.173","-0,9516","0.8525 7.1185 2.7468 1.173 1.173","0,8525","7.1185 2.7468 1.173 1.173","7,1185","2.7468 1.173 1.173","2,7468","1.173 1.173","1,173","1.173","1,173",null,{"v":-2,"d":"-2.00"},-0.9516,0.8525,7.1185,2.7468,1.173,1.173,"      0.00             -1.0213    0.8537    7.1065    2.8165     1.163     1.163",0,"0.00 -1.0213 0.8537 7.1065 2.8165 1.163 1.163","0,00","-1.0213 0.8537 7.1065 2.8165 1.163 1.163","-1,0213","0.8537 7.1065 2.8165 1.163 1.163","0,8537","7.1065 2.8165 1.163 1.163","7,1065","2.8165 1.163 1.163","2,8165","1.163 1.163","1,163","1.163","1,163",null,{"v":0,"d":"0.00"},-1.0213,0.8537,7.1065,2.8165,1.163,1.163,"     -2.00     15.16     23.13     65.19     67.19     -0.21     -0.09      1.71      1.71",0,"-2.00 15.16 23.13 65.19 67.19 -0.21 -0.09 1.71 1.71","-2,00","15.16 23.13 65.19 67.19 -0.21 -0.09 1.71 1.71","15,16","23.13 65.19 67.19 -0.21 -0.09 1.71 1.71","23,13","65.19 67.19 -0.21 -0.09 1.71 1.71","65,19","67.19 -0.21 -0.09 1.71 1.71","67,19","-0.21 -0.09 1.71 1.71","-0,21","-0.09 1.71 1.71","-0,09","1.71 1.71","1,71","1.71","1,71",null,{"v":-2,"d":"-2.00"},15.16,23.13,65.19,67.19,-0.21,-0.09,1.71,1.71,"      0.00   2083.10      0.00     63.00      0.00      0.00      0.00      0.00",0,"0.00 2083.10 0.00 63.00 0.00 0.00 0.00 0.00","0,00","2083.10 0.00 63.00 0.00 0.00 0.00 0.00","2083,10","0.00 63.00 0.00 0.00 0.00 0.00","0,00","63.00 0.00 0.00 0.00 0.00","63,00","0.00 0.00 0.00 0.00","0,00","0.00 0.00 0.00","0,00","0.00 0.00","0,00","0.00","0,00",null,{"v":0,"d":"0.00"},{"v":2083.1,"d":"2083.10"},{"v":0,"d":"0.00"},{"v":63,"d":"63.00"},{"v":0,"d":"0.00"},{"v":0,"d":"0.00"},{"v":0,"d":"0.00"},{"v":0,"d":"0.00"},null,0,0,0,0,0,0,0,0,0,0,0,0,0,0,0,0,0,0]
[null,"     -1.00             -0.6609   -1.5847    3.3997   11.6816     1.107     1.107",null,null,"      0.10             -0.7580   -1.5838    3.3989   11.7786     1.107     1.107",null,null,"    -10.00                6.87    -10.37     -1.11      0.02    340.85  10606.96",null,null,"     -1.00     18.85      0.00     38.12     39.12     -0.06      0.00      0.90      0.90",null,null,"      0.10    542.27     11.85     37.48      0.00      0.01      1.01      1.01",{"$nulls":12},"     -1.00             -0.9864    0.8531    7.1125    2.7816     1.168     1.168",null,null,"      0.10             -1.0839    0.8547    7.1136    2.8788     1.169     1.169",null,null,"     -1.00     15.10     22.93     64.09     65.09     -0.10     -0.05      0.86      0.86",null,null,"      0.10   2083.10     11.43     62.98      0.00     -0.07      0.92      0.92",{"$nulls":77},"     -1.00             -0.6609   -1.5847    3.3997   11.6816     1.107     1.107",0,"-1.00 -0.6609 -1.5847 3.3997 11.6816 1.107 1.107","-1,00","-0.6609 -1.5847 3.3997 11.6816 1.107 1.107","-0,6609","-1.5847 3.3997 11.6816 1.107 1.107","-1,5847","3.3997 11.6816 1.107 1.107","3,3997","11.6816 1.107 1.107","11,6816","1.107 1.107","1,107","1.107","1,107",null,{"v":-1,"d":"-1.00"},-0.6609,-1.5847,3.3997,11.6816,1.107,1.107,"      0.10             -0.7580   -1.5838    3.3989   11.7786     1.107     1.107",0,"0.10 -0.7580 -1.5838 3.3989 11.7786 1.107 1.107","0,10","-0.7580 -1.5838 3.3989 11.7786 1.107 1.107","-0,7580","-1.5838 3.3989 11.7786 1.107 1.107","-1,5838","3.3989 11.7786 1.107 1.107","3,3989","11.7786 1.107 1.107","11,7786","1.107 1.107","1,107","1.107","1,107",null,{"v":0.1,"d":"0.10"},-0.758,-1.5838,3.3989,11.7786,1.107,1.107,"    -10.00                6.87    -10.37     -1.11      0.02    340.85  10606.96",0,"-10.00 6.87 -10.37 -1.11 0.02 340.85 10606.96","-10,00","6.87 -10.37 -1.11 0.02 340.85 10606.96","6,87","-10.37 -1.11 0.02 340.85 10606.96","-10,37","-1.11 0.02 340.85 10606.96","-1,11","0.02 340.85 10606.96","0,02","340.85 10606.96","340,85","10606.96","10606,96",null,{"v":-10,"d":"-10.00"},6.87,-10.37,-1.11,0.02,340.85,10606.96,"     -1.00     18.85      0.00     38.12     39.12     -0.06      0.00      0.90      0.90",0,"-1.00 18.85 0.00 38.12 39.12 -0.06 0.00 0.90 0.90","-1,00","18.85 0.00 38.12 39.12 -0.06 0.00 0.90 0.90","18,85","0.00 38.12 39.12 -0.06 0.00 0.90 0.90","0,00","38.12 39.12 -0.06 0.00 0.90 0.90","38,12","39.12 -0.06 0.00 0.90 0.90","39,12","-0.06 0.00 0.90 0.90","-0,06","0.00 0.90 0.90","0,00","0.90 0.90","0,90","0.90","0,90",null,{"v":-1,"d":"-1.00"},18.85,{"v":0,"d":"0.00"},38.12,39.12,-0.06,{"v":0,"d":"0.00"},{"v":0.9,"d":"0.90"},{"v":0.9,"d":"0.90"},"      0.10    542.27     11.85     37.48      0.00      0.01      1.01      1.01",0,"0.10 542.27 11.85 37.48 0.00 0.01 1.01 1.01","0,10","542.27 11.85 37.48 0.00 0.01 1.01 1.01","542,27","11.85 37.48 0.00 0.01 1.01 1.01","11,85","37.48 0.00 0.01 1.01 1.01","37,48","0.00 0.01 1.01 1.01","0,00","0.01 1.01 1.01","0,01","1.01 1.01","1,01","1.01","1,01",null,{"v":0.1,"d":"0.10"},542.27,11.85,37.48,{"v":0,"d":"0.00"},0.01,1.01,1.01,"     -1.00             -0.9864    0.8531    7.1125    2.7816     1.168     1.168",0,"-1.00 -0.9864 0.8531 7.1125 2.7816 1.168 1.168","-1,00","-0.9864 0.8531 7.1125 2.7816 1.168 1.168","-0,9864","0.8531 7.1125 2.7816 1.168 1.168","0,8531","7.1125 2.7816 1.168 1.168","7,1125","2.7816 1.168 1.168","2,7816","1.168 1.168","1,168","1.168","1,168",null,{"v":-1,"d":"-1.00"},-0.9864,0.8531,7.1125,2.7816,1.168,1.168,"      0.10             -1.0839    0.8547    7.1136    2.8788     1.169     1.169",0,"0.10 -1.0839 0.8547 7.1136 2.8788 1.169 1.169","0,10","-1.0839 0.8547 7.1136 2.8788 1.169 1.169","-1,0839","0.8547 7.1136 2.8788 1.169 1.169","0,8547","7.1136 2.8788 1.169 1.169","7,1136","2.8788 1.169 1.169","2,8788","1.169 1.169","1,169","1.169","1,169",null,{"v":0.1,"d":"0.10"},-1.0839,0.8547,7.1136,2.8788,1.169,1.169,"     -1.00     15.10     22.93     64.09     65.09     -0.10     -0.05      0.86      0.86",0,"-1.00 15.10 22.93 64.09 65.09 -0.10 -0.05 0.86 0.86","-1,00","15.10 22.93 64.09 65.09 -0.10 -0.05 0.86 0.86","15,10","22.93 64.09 65.09 -0.10 -0.05 0.86 0.86","22,93","64.09 65.09 -0.10 -0.05 0.86 0.86","64,09","65.09 -0.10 -0.05 0.86 0.86","65,09","-0.10 -0.05 0.86 0.86","-0,10","-0.05 0.86 0.86","-0,05","0.86 0.86","0,86","0.86","0,86",null,{"v":-1,"d":"-1.00"},{"v":15.1,"d":"15.10"},22.93,64.09,65.09,{"v":-0.1,"d":"-0.10"},-0.05,0.86,0.86,"      0.10   2083.10     11.43     62.98      0.00     -0.07      0.92      0.92",0,"0.10 2083.10 11.43 62.98 0.00 -0.07 0.92 0.92","0,10","2083.10 11.43 62.98 0.00 -0.07 0.92 0.92","2083,10","11.43 62.98 0.00 -0.07 0.92 0.92","11,43","62.98 0.00 -0.07 0.92 0.92","62,98","0.00 -0.07 0.92 0.92","0,00","-0.07 0.92 0.92","-0,07","0.92 0.92","0,92","0.92","0,92",null,{"v":0.1,"d":"0.10"},{"v":2083.1,"d":"2083.10"},11.43,62.98,{"v":0,"d":"0.00"},-0.07,0.92,0.92,null,0,0,0,0,0,0,0,0,0,0,0,0,0,0,0,0,0,0]
[null,"      0.00             -0.6864   -1.5780    3.4211   11.7075     1.105     1.105",null,null,"      0.20             -0.8296   -1.5896    3.3767   11.8497     1.109     1.109",null,null,"     -9.00                6.03     -9.47     -1.08     -0.07    413.33  11908.67",null,null,"      0.00     18.91      0.00     37.49     37.49      0.00      0.00      0.00      0.00",null,null,"      0.20    542.27     23.69     37.44      0.00      0.02      2.01      2.01",{"$nulls":3},"REAR","GEOMETRY VALUES",{"$nulls":3},"Check",{"$nulls":3},"      0.00             -1.0213    0.8537    7.1065    2.8165     1.163     1.163",null,null,"      0.20             -1.1464    0.8558    7.1208    2.9412     1.174     1.174",null,null,"      0.00     15.03     22.74     63.00     63.00      0.00      0.00      0.00      0.00",null,null,"      0.20   2083.10     22.86     62.92      0.00     -0.14      1.84      1.84",{"$nulls":77},"      0.00             -0.6864   -1.5780    3.4211   11.7075     1.105     1.105",0,"0.00 -0.6864 -1.5780 3.4211 11.7075 1.105 1.105","0,00","-0.6864 -1.5780 3.4211 11.7075 1.105 1.105","-0,6864","-1.5780 3.4211 11.7075 1.105 1.105","-1,5780","3.4211 11.7075 1.105 1.105","3,4211","11.7075 1.105 1.105","11,7075","1.105 1.105","1,105","1.105","1,105",null,{"v":0,"d":"0.00"},-0.6864,-1.578,3.4211,11.7075,1.105,1.105,"      0.20             -0.8296   -1.5896    3.3767   11.8497     1.109     1.109",0,"0.20 -0.8296 -1.5896 3.3767 11.8497 1.109 1.109","0,20","-0.8296 -1.5896 3.3767 11.8497 1.109 1.109","-0,8296","-1.5896 3.3767 11.8497 1.109 1.109","-1,5896","3.3767 11.8497 1.109 1.109","3,3767","11.8497 1.109 1.109","11,8497","1.109 1.109","1,109","1.109","1,109",null,{"v":0.2,"d":"0.20"},-0.8296,-1.5896,3.3767,11.8497,1.109,1.109,"     -9.00                6.03     -9.47     -1.08     -0.07    413.33  11908.67",0,"-9.00 6.03 -9.47 -1.08 -0.07 413.33 11908.67","-9,00","6.03 -9.47 -1.08 -0.07 413.33 11908.67","6,03","-9.47 -1.08 -0.07 413.33 11908.67","-9,47","-1.08 -0.07 413.33 11908.67","-1,08","-0.07 413.33 11908.67","-0,07","413.33 11908.67","413,33","11908.67","11908,67",null,{"v":-9,"d":"-9.00"},6.03,-9.47,-1.08,-0.07,413.33,11908.67,"      0.00     18.91      0.00     37.49     37.49      0.00      0.00      0.00      0.00",0,"0.00 18.91 0.00 37.49 37.49 0.00 0.00 0.00 0.00","0,00","18.91 0.00 37.49 37.49 0.00 0.00 0.00 0.00","18,91","0.00 37.49 37.49 0.00 0.00 0.00 0.00","0,00","37.49 37.49 0.00 0.00 0.00 0.00","37,49","37.49 0.00 0.00 0.00 0.00","37,49","0.00 0.00 0.00 0.00","0,00","0.00 0.00 0.00","0,00","0.00 0.00","0,00","0.00","0,00",null,{"v":0,"d":"0.00"},18.91,{"v":0,"d":"0.00"},37.49,37.49,{"v":0,"d":"0.00"},{"v":0,"d":"0.00"},{"v":0,"d":"0.00"},{"v":0,"d":"0.00"},"      0.20    542.27     23.69     37.44      0.00      0.02      2.01      2.01",0,"0.20 542.27 23.69 37.44 0.00 0.02 2.01 2.01","0,20","542.27 23.69 37.44 0.00 0.02 2.01 2.01","542,27","23.69 37.44 0.00 0.02 2.01 2.01","23,69","37.44 0.00 0.02 2.01 2.01","37,44","0.00 0.02 2.01 2.01","0,00","0.02 2.01 2.01","0,02","2.01 2.01","2,01","2.01","2,01",null,{"v":0.2,"d":"0.20"},542.27,23.69,37.44,{"v":0,"d":"0.00"},0.02,2.01,2.01,"      0.00             -1.0213    0.8537    7.1065    2.8165     1.163     1.163",0,"0.00 -1.0213 0.8537 7.1065 2.8165 1.163 1.163","0,00","-1.0213 0.8537 7.1065 2.8165 1.163 1.163","-1,0213","0.8537 7.1065 2.8165 1.163 1.163","0,8537","7.1065 2.8165 1.163 1.163","7,1065","2.8165 1.163 1.163","2,8165","1.163 1.163","1,163","1.163","1,163",null,{"v":0,"d":"0.00"},-1.0213,0.8537,7.1065,2.8165,1.163,1.163,"      0.20             -1.1464    0.8558    7.1208    2.9412     1.174     1.174",0,"0.20 -1.1464 0.8558 7.1208 2.9412 1.174 1.174","0,20","-1.1464 0.8558 7.1208 2.9412 1.174 1.174","-1,1464","0.8558 7.1208 2.9412 1.174 1.174","0,8558","7.1208 2.9412 1.174 1.174","7,1208","2.9412 1.174 1.174","2,9412","1.174 1.174","1,174","1.174","1,174",null,{"v":0.2,"d":"0.20"},-1.1464,0.8558,7.1208,2.9412,1.174,1.174,"      0.00     15.03     22.74     63.00     63.00      0.00      0.00      0.00      0.00",0,"0.00 15.03 22.74 63.00 63.00 0.00 0.00 0.00 0.00","0,00","15.03 22.74 63.00 63.00 0.00 0.00 0.00 0.00","15,03","22.74 63.00 63.00 0.00 0.00 0.00 0.00","22,74","63.00 63.00 0.00 0.00 0.00 0.00","63,00","63.00 0.00 0.00 0.00 0.00","63,00","0.00 0.00 0.00 0.00","0,00","0.00 0.00 0.00","0,00","0.00 0.00","0,00","0.00","0,00",null,{"v":0,"d":"0.00"},15.03,22.74,{"v":63,"d":"63.00"},{"v":63,"d":"63.00"},{"v":0,"d":"0.00"},{"v":0,"d":"0.00"},{"v":0,"d":"0.00"},{"v":0,"d":"0.00"},"      0.20   2083.10     22.86     62.92      0.00     -0.14      1.84      1.84",0,"0.20 2083.10 22.86 62.92 0.00 -0.14 1.84 1.84","0,20","2083.10 22.86 62.92 0.00 -0.14 1.84 1.84","2083,10","22.86 62.92 0.00 -0.14 1.84 1.84","22,86","62.92 0.00 -0.14 1.84 1.84","62,92","0.00 -0.14 1.84 1.84","0,00","-0.14 1.84 1.84","-0,14","1.84 1.84","1,84","1.84","1,84",null,{"v":0.2,"d":"0.20"},{"v":2083.1,"d":"2083.10"},22.86,62.92,{"v":0,"d":"0.00"},-0.14,1.84,1.84,null,0,0,0,0,0,0,0,0,0,0,0,0,0,0,0,0,0,0]
[null,"      1.00             -0.7121   -1.5712    3.4424   11.7335     1.104     1.104",null,null,"      0.30             -0.9013   -1.5953    3.3545   11.9209     1.111     1.111",null,null,"     -8.00                5.20     -8.58     -1.05     -0.15    514.84  13580.48",null,null,"      1.00     18.98      0.00     36.86     35.86      0.06      0.00     -0.91     -0.91",null,null,"      0.30    542.27     35.53     37.38      0.00      0.03      3.01      3.01",{"$nulls":4},"3D BUMP","Numero Punti Totali = ",null,{"$f":"IF(NOT(ISBLANK($AA$10)),$NY9, \"\")","v":48},{"$f":"$NM$11","v":0},{"$nulls":3},"      1.00             -1.0562    0.8544    7.1005    2.8513     1.158     1.158",null,null,"      0.30             -1.2091    0.8569    7.1280    3.0036     1.180     1.180",null,null,"      1.00     14.96     22.55     61.91     60.91      0.10      0.04     -0.86     -0.86",null,null,"      0.30   2083.10     34.29     62.81     -0.01     -0.22      2.75      2.75",{"$nulls":77},"      1.00             -0.7121   -1.5712    3.4424   11.7335     1.104     1.104",0,"1.00 -0.7121 -1.5712 3.4424 11.7335 1.104 1.104","1,00","-0.7121 -1.5712 3.4424 11.7335 1.104 1.104","-0,7121","-1.5712 3.4424 11.7335 1.104 1.104","-1,5712","3.4424 11.7335 1.104 1.104","3,4424","11.7335 1.104 1.104","11,7335","1.104 1.104","1,104","1.104","1,104",null,{"v":1,"d":"1.00"},-0.7121,-1.5712,3.4424,11.7335,1.104,1.104,"      0.30             -0.9013   -1.5953    3.3545   11.9209     1.111     1.111",0,"0.30 -0.9013 -1.5953 3.3545 11.9209 1.111 1.111","0,30","-0.9013 -1.5953 3.3545 11.9209 1.111 1.111","-0,9013","-1.5953 3.3545 11.9209 1.111 1.111","-1,5953","3.3545 11.9209 1.111 1.111","3,3545","11.9209 1.111 1.111","11,9209","1.111 1.111","1,111","1.111","1,111",null,{"v":0.3,"d":"0.30"},-0.9013,-1.5953,3.3545,11.9209,1.111,1.111,"     -8.00                5.20     -8.58     -1.05     -0.15    514.84  13580.48",0,"-8.00 5.20 -8.58 -1.05 -0.15 514.84 13580.48","-8,00","5.20 -8.58 -1.05 -0.15 514.84 13580.48","5,20","-8.58 -1.05 -0.15 514.84 13580.48","-8,58","-1.05 -0.15 514.84 13580.48","-1,05","-0.15 514.84 13580.48","-0,15","514.84 13580.48","514,84","13580.48","13580,48",null,{"v":-8,"d":"-8.00"},5.2,-8.58,-1.05,-0.15,514.84,13580.48,"      1.00     18.98      0.00     36.86     35.86      0.06      0.00     -0.91     -0.91",0,"1.00 18.98 0.00 36.86 35.86 0.06 0.00 -0.91 -0.91","1,00","18.98 0.00 36.86 35.86 0.06 0.00 -0.91 -0.91","18,98","0.00 36.86 35.86 0.06 0.00 -0.91 -0.91","0,00","36.86 35.86 0.06 0.00 -0.91 -0.91","36,86","35.86 0.06 0.00 -0.91 -0.91","35,86","0.06 0.00 -0.91 -0.91","0,06","0.00 -0.91 -0.91","0,00","-0.91 -0.91","-0,91","-0.91","-0,91",null,{"v":1,"d":"1.00"},18.98,{"v":0,"d":"0.00"},36.86,35.86,0.06,{"v":0,"d":"0.00"},-0.91,-0.91,"      0.30    542.27     35.53     37.38      0.00      0.03      3.01      3.01",0,"0.30 542.27 35.53 37.38 0.00 0.03 3.01 3.01","0,30","542.27 35.53 37.38 0.00 0.03 3.01 3.01","542,27","35.53 37.38 0.00 0.03 3.01 3.01","35,53","37.38 0.00 0.03 3.01 3.01","37,38","0.00 0.03 3.01 3.01","0,00","0.03 3.01 3.01","0,03","3.01 3.01","3,01","3.01","3,01",null,{"v":0.3,"d":"0.30"},542.27,35.53,37.38,{"v":0,"d":"0.00"},0.03,3.01,3.01,"      1.00             -1.0562    0.8544    7.1005    2.8513     1.158     1.158",0,"1.00 -1.0562 0.8544 7.1005 2.8513 1.158 1.158","1,00","-1.0562 0.8544 7.1005 2.8513 1.158 1.158","-1,0562","0.8544 7.1005 2.8513 1.158 1.158","0,8544","7.1005 2.8513 1.158 1.158","7,1005","2.8513 1.158 1.158","2,8513","1.158 1.158","1,158","1.158","1,158",null,{"v":1,"d":"1.00"},-1.0562,0.8544,7.1005,2.8513,1.158,1.158,"      0.30             -1.2091    0.8569    7.1280    3.0036     1.180     1.180",0,"0.30 -1.2091 0.8569 7.1280 3.0036 1.180 1.180","0,30","-1.2091 0.8569 7.1280 3.0036 1.180 1.180","-1,2091","0.8569 7.1280 3.0036 1.180 1.180","0,8569","7.1280 3.0036 1.180 1.180","7,1280","3.0036 1.180 1.180","3,0036","1.180 1.180","1,180","1.180","1,180",null,{"v":0.3,"d":"0.30"},-1.2091,0.8569,7.128,3.0036,1.18,1.18,"      1.00     14.96     22.55     61.91     60.91      0.10      0.04     -0.86     -0.86",0,"1.00 14.96 22.55 61.91 60.91 0.10 0.04 -0.86 -0.86","1,00","14.96 22.55 61.91 60.91 0.10 0.04 -0.86 -0.86","14,96","22.55 61.91 60.91 0.10 0.04 -0.86 -0.86","22,55","61.91 60.91 0.10 0.04 -0.86 -0.86","61,91","60.91 0.10 0.04 -0.86 -0.86","60,91","0.10 0.04 -0.86 -0.86","0,10","0.04 -0.86 -0.86","0,04","-0.86 -0.86","-0,86","-0.86","-0,86",null,{"v":1,"d":"1.00"},14.96,22.55,61.91,60.91,{"v":0.1,"d":"0.10"},0.04,-0.86,-0.86,"      0.30   2083.10     34.29     62.81     -0.01     -0.22      2.75      2.75",0,"0.30 2083.10 34.29 62.81 -0.01 -0.22 2.75 2.75","0,30","2083.10 34.29 62.81 -0.01 -0.22 2.75 2.75","2083,10","34.29 62.81 -0.01 -0.22 2.75 2.75","34,29","62.81 -0.01 -0.22 2.75 2.75","62,81","-0.01 -0.22 2.75 2.75","-0,01","-0.22 2.75 2.75","-0,22","2.75 2.75","2,75","2.75","2,75",null,{"v":0.3,"d":"0.30"},{"v":2083.1,"d":"2083.10"},34.29,62.81,-0.01,-0.22,2.75,2.75,null,0,0,0,0,0,0,0,0,0,0,0,0,0,0,0,0,0,0]
[null,"      2.00             -0.7378   -1.5644    3.4638   11.7596     1.102     1.102",null,null,"      0.40             -0.9731   -1.6010    3.3323   11.9921     1.114     1.114",null,null,"     -7.00                4.36     -7.69     -1.01     -0.23    663.18  15817.92",null,null,"      2.00     19.04      0.00     36.24     34.24      0.11      0.00     -1.81     -1.81",null,null,"      0.40    542.27     47.37     37.29      0.00      0.04      4.01      4.01",{"$nulls":5},"Intervallo Tra Punti = ",null,{"$f":"IF(NOT(ISBLANK($AA$10)),$NY10, \"\")","v":1},{"$nulls":4},"      2.00             -1.0911    0.8552    7.0944    2.8862     1.154     1.154",null,null,"      0.40             -1.2717    0.8581    7.1351    3.0661     1.186     1.186",null,null,"      2.00     14.89     22.35     60.82     58.82      0.20      0.09     -1.73     -1.73",null,null,"      0.40   2083.10     45.72     62.66     -0.01     -0.29      3.66      3.66",{"$nulls":77},"      2.00             -0.7378   -1.5644    3.4638   11.7596     1.102     1.102",0,"2.00 -0.7378 -1.5644 3.4638 11.7596 1.102 1.102","2,00","-0.7378 -1.5644 3.4638 11.7596 1.102 1.102","-0,7378","-1.5644 3.4638 11.7596 1.102 1.102","-1,5644","3.4638 11.7596 1.102 1.102","3,4638","11.7596 1.102 1.102","11,7596","1.102 1.102","1,102","1.102","1,102",null,{"v":2,"d":"2.00"},-0.7378,-1.5644,3.4638,11.7596,1.102,1.102,"      0.40             -0.9731   -1.6010    3.3323   11.9921     1.114     1.114",0,"0.40 -0.9731 -1.6010 3.3323 11.9921 1.114 1.114","0,40","-0.9731 -1.6010 3.3323 11.9921 1.114 1.114","-0,9731","-1.6010 3.3323 11.9921 1.114 1.114","-1,6010","3.3323 11.9921 1.114 1.114","3,3323","11.9921 1.114 1.114","11,9921","1.114 1.114","1,114","1.114","1,114",null,{"v":0.4,"d":"0.40"},-0.9731,-1.601,3.3323,11.9921,1.114,1.114,"     -7.00                4.36     -7.69     -1.01     -0.23    663.18  15817.92",0,"-7.00 4.36 -7.69 -1.01 -0.23 663.18 15817.92","-7,00","4.36 -7.69 -1.01 -0.23 663.18 15817.92","4,36","-7.69 -1.01 -0.23 663.18 15817.92","-7,69","-1.01 -0.23 663.18 15817.92","-1,01","-0.23 663.18 15817.92","-0,23","663.18 15817.92","663,18","15817.92","15817,92",null,{"v":-7,"d":"-7.00"},4.36,-7.69,-1.01,-0.23,663.18,15817.92,"      2.00     19.04      0.00     36.24     34.24      0.11      0.00     -1.81     -1.81",0,"2.00 19.04 0.00 36.24 34.24 0.11 0.00 -1.81 -1.81","2,00","19.04 0.00 36.24 34.24 0.11 0.00 -1.81 -1.81","19,04","0.00 36.24 34.24 0.11 0.00 -1.81 -1.81","0,00","36.24 34.24 0.11 0.00 -1.81 -1.81","36,24","34.24 0.11 0.00 -1.81 -1.81","34,24","0.11 0.00 -1.81 -1.81","0,11","0.00 -1.81 -1.81","0,00","-1.81 -1.81","-1,81","-1.81","-1,81",null,{"v":2,"d":"2.00"},19.04,{"v":0,"d":"0.00"},36.24,34.24,0.11,{"v":0,"d":"0.00"},-1.81,-1.81,"      0.40    542.27     47.37     37.29      0.00      0.04      4.01      4.01",0,"0.40 542.27 47.37 37.29 0.00 0.04 4.01 4.01","0,40","542.27 47.37 37.29 0.00 0.04 4.01 4.01","542,27","47.37 37.29 0.00 0.04 4.01 4.01","47,37","37.29 0.00 0.04 4.01 4.01","37,29","0.00 0.04 4.01 4.01","0,00","0.04 4.01 4.01","0,04","4.01 4.01","4,01","4.01","4,01",null,{"v":0.4,"d":"0.40"},542.27,47.37,37.29,{"v":0,"d":"0.00"},0.04,4.01,4.01,"      2.00             -1.0911    0.8552    7.0944    2.8862     1.154     1.154",0,"2.00 -1.0911 0.8552 7.0944 2.8862 1.154 1.154","2,00","-1.0911 0.8552 7.0944 2.8862 1.154 1.154","-1,0911","0.8552 7.0944 2.8862 1.154 1.154","0,8552","7.0944 2.8862 1.154 1.154","7,0944","2.8862 1.154 1.154","2,8862","1.154 1.154","1,154","1.154","1,154",null,{"v":2,"d":"2.00"},-1.0911,0.8552,7.0944,2.8862,1.154,1.154,"      0.40             -1.2717    0.8581    7.1351    3.0661     1.186     1.186",0,"0.40 -1.2717 0.8581 7.1351 3.0661 1.186 1.186","0,40","-1.2717 0.8581 7.1351 3.0661 1.186 1.186","-1,2717","0.8581 7.1351 3.0661 1.186 1.186","0,8581","7.1351 3.0661 1.186 1.186","7,1351","3.0661 1.186 1.186","3,0661","1.186 1.186","1,186","1.186","1,186",null,{"v":0.4,"d":"0.40"},-1.2717,0.8581,7.1351,3.0661,1.186,1.186,"      2.00     14.89     22.35     60.82     58.82      0.20      0.09     -1.73     -1.73",0,"2.00 14.89 22.35 60.82 58.82 0.20 0.09 -1.73 -1.73","2,00","14.89 22.35 60.82 58.82 0.20 0.09 -1.73 -1.73","14,89","22.35 60.82 58.82 0.20 0.09 -1.73 -1.73","22,35","60.82 58.82 0.20 0.09 -1.73 -1.73","60,82","58.82 0.20 0.09 -1.73 -1.73","58,82","0.20 0.09 -1.73 -1.73","0,20","0.09 -1.73 -1.73","0,09","-1.73 -1.73","-1,73","-1.73","-1,73",null,{"v":2,"d":"2.00"},14.89,22.35,60.82,58.82,{"v":0.2,"d":"0.20"},0.09,-1.73,-1.73,"      0.40   2083.10     45.72     62.66     -0.01     -0.29      3.66      3.66",0,"0.40 2083.10 45.72 62.66 -0.01 -0.29 3.66 3.66","0,40","2083.10 45.72 62.66 -0.01 -0.29 3.66 3.66","2083,10","45.72 62.66 -0.01 -0.29 3.66 3.66","45,72","62.66 -0.01 -0.29 3.66 3.66","62,66","-0.01 -0.29 3.66 3.66","-0,01","-0.29 3.66 3.66","-0,29","3.66 3.66","3,66","3.66","3,66",null,{"v":0.4,"d":"0.40"},{"v":2083.1,"d":"2083.10"},45.72,62.66,-0.01,-0.29,3.66,3.66,null,0,0,0,0,0,0,0,0,0,0,0,0,0,0,0,0,0,0]
[null,"      3.00             -0.7636   -1.5575    3.4852   11.7857     1.100     1.100",null,null,"      0.50             -1.0450   -1.6066    3.3101   12.0635     1.116     1.116",null,null,"     -6.00                3.52     -6.80     -0.97     -0.30    892.24  18992.13",null,null,"      3.00     19.11      0.00     35.61     32.61      0.16      0.00     -2.72     -2.72",null,null,"      0.50    542.27     59.21     37.17     -0.01      0.05      5.01      5.01",{"$nulls":4},"3D ROLL","Numero Punti Totali = ",null,{"$f":"IF(NOT(ISBLANK($AD$10)),$NZ9, \"\")","v":31},{"$f":"$NN$11","v":0},{"$nulls":3},"      3.00             -1.1260    0.8561    7.0884    2.9211     1.149     1.149",null,null,"      0.50             -1.3344    0.8594    7.1423    3.1285     1.191     1.191",null,null,"      3.00     14.82     22.15     59.74     56.74      0.29      0.13     -2.60     -2.60",null,null,"      0.50   2083.10     57.14     62.47     -0.02     -0.37      4.56      4.56",{"$nulls":77},"      3.00             -0.7636   -1.5575    3.4852   11.7857     1.100     1.100",0,"3.00 -0.7636 -1.5575 3.4852 11.7857 1.100 1.100","3,00","-0.7636 -1.5575 3.4852 11.7857 1.100 1.100","-0,7636","-1.5575 3.4852 11.7857 1.100 1.100","-1,5575","3.4852 11.7857 1.100 1.100","3,4852","11.7857 1.100 1.100","11,7857","1.100 1.100","1,100","1.100","1,100",null,{"v":3,"d":"3.00"},-0.7636,-1.5575,3.4852,11.7857,1.1,1.1,"      0.50             -1.0450   -1.6066    3.3101   12.0635     1.116     1.116",0,"0.50 -1.0450 -1.6066 3.3101 12.0635 1.116 1.116","0,50","-1.0450 -1.6066 3.3101 12.0635 1.116 1.116","-1,0450","-1.6066 3.3101 12.0635 1.116 1.116","-1,6066","3.3101 12.0635 1.116 1.116","3,3101","12.0635 1.116 1.116","12,0635","1.116 1.116","1,116","1.116","1,116",null,{"v":0.5,"d":"0.50"},-1.045,-1.6066,3.3101,12.0635,1.116,1.116,"     -6.00                3.52     -6.80     -0.97     -0.30    892.24  18992.13",0,"-6.00 3.52 -6.80 -0.97 -0.30 892.24 18992.13","-6,00","3.52 -6.80 -0.97 -0.30 892.24 18992.13","3,52","-6.80 -0.97 -0.30 892.24 18992.13","-6,80","-0.97 -0.30 892.24 18992.13","-0,97","-0.30 892.24 18992.13","-0,30","892.24 18992.13","892,24","18992.13","18992,13",null,{"v":-6,"d":"-6.00"},3.52,-6.8,-0.97,-0.3,892.24,18992.13,"      3.00     19.11      0.00     35.61     32.61      0.16      0.00     -2.72     -2.72",0,"3.00 19.11 0.00 35.61 32.61 0.16 0.00 -2.72 -2.72","3,00","19.11 0.00 35.61 32.61 0.16 0.00 -2.72 -2.72","19,11","0.00 35.61 32.61 0.16 0.00 -2.72 -2.72","0,00","35.61 32.61 0.16 0.00 -2.72 -2.72","35,61","32.61 0.16 0.00 -2.72 -2.72","32,61","0.16 0.00 -2.72 -2.72","0,16","0.00 -2.72 -2.72","0,00","-2.72 -2.72","-2,72","-2.72","-2,72",null,{"v":3,"d":"3.00"},19.11,{"v":0,"d":"0.00"},35.61,32.61,0.16,{"v":0,"d":"0.00"},-2.72,-2.72,"      0.50    542.27     59.21     37.17     -0.01      0.05      5.01      5.01",0,"0.50 542.27 59.21 37.17 -0.01 0.05 5.01 5.01","0,50","542.27 59.21 37.17 -0.01 0.05 5.01 5.01","542,27","59.21 37.17 -0.01 0.05 5.01 5.01","59,21","37.17 -0.01 0.05 5.01 5.01","37,17","-0.01 0.05 5.01 5.01","-0,01","0.05 5.01 5.01","0,05","5.01 5.01","5,01","5.01","5,01",null,{"v":0.5,"d":"0.50"},542.27,59.21,37.17,-0.01,0.05,5.01,5.01,"      3.00             -1.1260    0.8561    7.0884    2.9211     1.149     1.149",0,"3.00 -1.1260 0.8561 7.0884 2.9211 1.149 1.149","3,00","-1.1260 0.8561 7.0884 2.9211 1.149 1.149","-1,1260","0.8561 7.0884 2.9211 1.149 1.149","0,8561","7.0884 2.9211 1.149 1.149","7,0884","2.9211 1.149 1.149","2,9211","1.149 1.149","1,149","1.149","1,149",null,{"v":3,"d":"3.00"},-1.126,0.8561,7.0884,2.9211,1.149,1.149,"      0.50             -1.3344    0.8594    7.1423    3.1285     1.191     1.191",0,"0.50 -1.3344 0.8594 7.1423 3.1285 1.191 1.191","0,50","-1.3344 0.8594 7.1423 3.1285 1.191 1.191","-1,3344","0.8594 7.1423 3.1285 1.191 1.191","0,8594","7.1423 3.1285 1.191 1.191","7,1423","3.1285 1.191 1.191","3,1285","1.191 1.191","1,191","1.191","1,191",null,{"v":0.5,"d":"0.50"},-1.3344,0.8594,7.1423,3.1285,1.191,1.191,"      3.00     14.82     22.15     59.74     56.74      0.29      0.13     -2.60     -2.60",0,"3.00 14.82 22.15 59.74 56.74 0.29 0.13 -2.60 -2.60","3,00","14.82 22.15 59.74 56.74 0.29 0.13 -2.60 -2.60","14,82","22.15 59.74 56.74 0.29 0.13 -2.60 -2.60","22,15","59.74 56.74 0.29 0.13 -2.60 -2.60","59,74","56.74 0.29 0.13 -2.60 -2.60","56,74","0.29 0.13 -2.60 -2.60","0,29","0.13 -2.60 -2.60","0,13","-2.60 -2.60","-2,60","-2.60","-2,60",null,{"v":3,"d":"3.00"},14.82,22.15,59.74,56.74,0.29,0.13,{"v":-2.6,"d":"-2.60"},{"v":-2.6,"d":"-2.60"},"      0.50   2083.10     57.14     62.47     -0.02     -0.37      4.56      4.56",0,"0.50 2083.10 57.14 62.47 -0.02 -0.37 4.56 4.56","0,50","2083.10 57.14 62.47 -0.02 -0.37 4.56 4.56","2083,10","57.14 62.47 -0.02 -0.37 4.56 4.56","57,14","62.47 -0.02 -0.37 4.56 4.56","62,47","-0.02 -0.37 4.56 4.56","-0,02","-0.37 4.56 4.56","-0,37","4.56 4.56","4,56","4.56","4,56",null,{"v":0.5,"d":"0.50"},{"v":2083.1,"d":"2083.10"},57.14,62.47,-0.02,-0.37,4.56,4.56,null,0,0,0,0,0,0,0,0,0,0,0,0,0,0,0,0,0,0]
[null,"      4.00             -0.7894   -1.5506    3.5065   11.8119     1.099     1.099",null,null,"      0.60             -1.1170   -1.6121    3.2879   12.1349     1.118     1.118",null,null,"     -5.00                2.68     -5.92     -0.93     -0.37   1273.26  23916.02",null,null,"      4.00     19.17      0.00     34.99     30.99      0.21      0.00     -3.63     -3.63",null,null,"      0.60    542.27     71.05     37.03     -0.01      0.06      6.00      6.00",{"$nulls":5},"Intervallo Tra Punti = ",null,{"$f":"IF(NOT(ISBLANK($AD$10)),$NZ10, \"\")","v":0.10000000000000009},{"$nulls":4},"      4.00             -1.1610    0.8570    7.0824    2.9560     1.144     1.144",null,null,"      0.60             -1.3972    0.8608    7.1495    3.1910     1.197     1.197",null,null,"      4.00     14.75     21.95     58.65     54.65      0.38      0.18     -3.47     -3.47",null,null,"      0.60   2083.10     68.56     62.24     -0.03     -0.44      5.46      5.46",{"$nulls":77},"      4.00             -0.7894   -1.5506    3.5065   11.8119     1.099     1.099",0,"4.00 -0.7894 -1.5506 3.5065 11.8119 1.099 1.099","4,00","-0.7894 -1.5506 3.5065 11.8119 1.099 1.099","-0,7894","-1.5506 3.5065 11.8119 1.099 1.099","-1,5506","3.5065 11.8119 1.099 1.099","3,5065","11.8119 1.099 1.099","11,8119","1.099 1.099","1,099","1.099","1,099",null,{"v":4,"d":"4.00"},-0.7894,-1.5506,3.5065,11.8119,1.099,1.099,"      0.60             -1.1170   -1.6121    3.2879   12.1349     1.118     1.118",0,"0.60 -1.1170 -1.6121 3.2879 12.1349 1.118 1.118","0,60","-1.1170 -1.6121 3.2879 12.1349 1.118 1.118","-1,1170","-1.6121 3.2879 12.1349 1.118 1.118","-1,6121","3.2879 12.1349 1.118 1.118","3,2879","12.1349 1.118 1.118","12,1349","1.118 1.118","1,118","1.118","1,118",null,{"v":0.6,"d":"0.60"},-1.117,-1.6121,3.2879,12.1349,1.118,1.118,"     -5.00                2.68     -5.92     -0.93     -0.37   1273.26  23916.02",0,"-5.00 2.68 -5.92 -0.93 -0.37 1273.26 23916.02","-5,00","2.68 -5.92 -0.93 -0.37 1273.26 23916.02","2,68","-5.92 -0.93 -0.37 1273.26 23916.02","-5,92","-0.93 -0.37 1273.26 23916.02","-0,93","-0.37 1273.26 23916.02","-0,37","1273.26 23916.02","1273,26","23916.02","23916,02",null,{"v":-5,"d":"-5.00"},2.68,-5.92,-0.93,-0.37,1273.26,23916.02,"      4.00     19.17      0.00     34.99     30.99      0.21      0.00     -3.63     -3.63",0,"4.00 19.17 0.00 34.99 30.99 0.21 0.00 -3.63 -3.63","4,00","19.17 0.00 34.99 30.99 0.21 0.00 -3.63 -3.63","19,17","0.00 34.99 30.99 0.21 0.00 -3.63 -3.63","0,00","34.99 30.99 0.21 0.00 -3.63 -3.63","34,99","30.99 0.21 0.00 -3.63 -3.63","30,99","0.21 0.00 -3.63 -3.63","0,21","0.00 -3.63 -3.63","0,00","-3.63 -3.63","-3,63","-3.63","-3,63",null,{"v":4,"d":"4.00"},19.17,{"v":0,"d":"0.00"},34.99,30.99,0.21,{"v":0,"d":"0.00"},-3.63,-3.63,"      0.60    542.27     71.05     37.03     -0.01      0.06      6.00      6.00",0,"0.60 542.27 71.05 37.03 -0.01 0.06 6.00 6.00","0,60","542.27 71.05 37.03 -0.01 0.06 6.00 6.00","542,27","71.05 37.03 -0.01 0.06 6.00 6.00","71,05","37.03 -0.01 0.06 6.00 6.00","37,03","-0.01 0.06 6.00 6.00","-0,01","0.06 6.00 6.00","0,06","6.00 6.00","6,00","6.00","6,00",null,{"v":0.6,"d":"0.60"},542.27,71.05,37.03,-0.01,0.06,{"v":6,"d":"6.00"},{"v":6,"d":"6.00"},"      4.00             -1.1610    0.8570    7.0824    2.9560     1.144     1.144",0,"4.00 -1.1610 0.8570 7.0824 2.9560 1.144 1.144","4,00","-1.1610 0.8570 7.0824 2.9560 1.144 1.144","-1,1610","0.8570 7.0824 2.9560 1.144 1.144","0,8570","7.0824 2.9560 1.144 1.144","7,0824","2.9560 1.144 1.144","2,9560","1.144 1.144","1,144","1.144","1,144",null,{"v":4,"d":"4.00"},-1.161,0.857,7.0824,2.956,1.144,1.144,"      0.60             -1.3972    0.8608    7.1495    3.1910     1.197     1.197",0,"0.60 -1.3972 0.8608 7.1495 3.1910 1.197 1.197","0,60","-1.3972 0.8608 7.1495 3.1910 1.197 1.197","-1,3972","0.8608 7.1495 3.1910 1.197 1.197","0,8608","7.1495 3.1910 1.197 1.197","7,1495","3.1910 1.197 1.197","3,1910","1.197 1.197","1,197","1.197","1,197",null,{"v":0.6,"d":"0.60"},-1.3972,0.8608,7.1495,3.191,1.197,1.197,"      4.00     14.75     21.95     58.65     54.65      0.38      0.18     -3.47     -3.47",0,"4.00 14.75 21.95 58.65 54.65 0.38 0.18 -3.47 -3.47","4,00","14.75 21.95 58.65 54.65 0.38 0.18 -3.47 -3.47","14,75","21.95 58.65 54.65 0.38 0.18 -3.47 -3.47","21,95","58.65 54.65 0.38 0.18 -3.47 -3.47","58,65","54.65 0.38 0.18 -3.47 -3.47","54,65","0.38 0.18 -3.47 -3.47","0,38","0.18 -3.47 -3.47","0,18","-3.47 -3.47","-3,47","-3.47","-3,47",null,{"v":4,"d":"4.00"},14.75,21.95,58.65,54.65,0.38,0.18,-3.47,-3.47,"      0.60   2083.10     68.56     62.24     -0.03     -0.44      5.46      5.46",0,"0.60 2083.10 68.56 62.24 -0.03 -0.44 5.46 5.46","0,60","2083.10 68.56 62.24 -0.03 -0.44 5.46 5.46","2083,10","68.56 62.24 -0.03 -0.44 5.46 5.46","68,56","62.24 -0.03 -0.44 5.46 5.46","62,24","-0.03 -0.44 5.46 5.46","-0,03","-0.44 5.46 5.46","-0,44","5.46 5.46","5,46","5.46","5,46",null,{"v":0.6,"d":"0.60"},{"v":2083.1,"d":"2083.10"},68.56,62.24,-0.03,-0.44,5.46,5.46,null,0,0,0,0,0,0,0,0,0,0,0,0,0,0,0,0,0,0]
[null,"      5.00             -0.8153   -1.5437    3.5279   11.8382     1.097     1.097",null,null,"      0.70             -1.1891   -1.6176    3.2657   12.2064     1.120     1.120",null,null,"     -4.00                1.83     -5.04     -0.89     -0.44   1977.65  32833.14",null,null,"      5.00     19.24      0.00     34.37     29.37      0.25      0.00     -4.54     -4.54",null,null,"      0.70    542.27     82.88     36.87     -0.02      0.07      7.00      7.00",{"$nulls":4},"Check Complessivo",{"$nulls":3},{"$f":"IF(AND($W$28=0,$W$30=0),0,1)","v":0},{"$nulls":3},"      5.00             -1.1960    0.8580    7.0764    2.9910     1.139     1.139",null,null,"      0.70             -1.4599    0.8622    7.1567    3.2535     1.202     1.202",null,null,"      5.00     14.68     21.75     57.57     52.57      0.47      0.22     -4.34     -4.34",null,null,"      0.70   2083.10     79.97     61.96     -0.05     -0.52      6.36      6.36",{"$nulls":77},"      5.00             -0.8153   -1.5437    3.5279   11.8382     1.097     1.097",0,"5.00 -0.8153 -1.5437 3.5279 11.8382 1.097 1.097","5,00","-0.8153 -1.5437 3.5279 11.8382 1.097 1.097","-0,8153","-1.5437 3.5279 11.8382 1.097 1.097","-1,5437","3.5279 11.8382 1.097 1.097","3,5279","11.8382 1.097 1.097","11,8382","1.097 1.097","1,097","1.097","1,097",null,{"v":5,"d":"5.00"},-0.8153,-1.5437,3.5279,11.8382,1.097,1.097,{"$f":"IF(NOT(ISBLANK($E32)),$E32,\" \")","v":"      0.70             -1.1891   -1.6176    3.2657   12.2064     1.120     1.120"},0,"0.70 -1.1891 -1.6176 3.2657 12.2064 1.120 1.120","0,70","-1.1891 -1.6176 3.2657 12.2064 1.120 1.120","-1,1891","-1.6176 3.2657 12.2064 1.120 1.120","-1,6176","3.2657 12.2064 1.120 1.120","3,2657","12.2064 1.120 1.120","12,2064","1.120 1.120","1,120","1.120","1,120",null,{"v":0.7,"d":"0.70"},-1.1891,-1.6176,3.2657,12.2064,1.12,1.12,"     -4.00                1.83     -5.04     -0.89     -0.44   1977.65  32833.14",0,"-4.00 1.83 -5.04 -0.89 -0.44 1977.65 32833.14","-4,00","1.83 -5.04 -0.89 -0.44 1977.65 32833.14","1,83","-5.04 -0.89 -0.44 1977.65 32833.14","-5,04","-0.89 -0.44 1977.65 32833.14","-0,89","-0.44 1977.65 32833.14","-0,44","1977.65 32833.14","1977,65","32833.14","32833,14",null,{"v":-4,"d":"-4.00"},1.83,-5.04,-0.89,-0.44,1977.65,32833.14,"      5.00     19.24      0.00     34.37     29.37      0.25      0.00     -4.54     -4.54",0,"5.00 19.24 0.00 34.37 29.37 0.25 0.00 -4.54 -4.54","5,00","19.24 0.00 34.37 29.37 0.25 0.00 -4.54 -4.54","19,24","0.00 34.37 29.37 0.25 0.00 -4.54 -4.54","0,00","34.37 29.37 0.25 0.00 -4.54 -4.54","34,37","29.37 0.25 0.00 -4.54 -4.54","29,37","0.25 0.00 -4.54 -4.54","0,25","0.00 -4.54 -4.54","0,00","-4.54 -4.54","-4,54","-4.54","-4,54",null,{"v":5,"d":"5.00"},19.24,{"v":0,"d":"0.00"},34.37,29.37,0.25,{"v":0,"d":"0.00"},-4.54,-4.54,"      0.70    542.27     82.88     36.87     -0.02      0.07      7.00      7.00",0,"0.70 542.27 82.88 36.87 -0.02 0.07 7.00 7.00","0,70","542.27 82.88 36.87 -0.02 0.07 7.00 7.00","542,27","82.88 36.87 -0.02 0.07 7.00 7.00","82,88","36.87 -0.02 0.07 7.00 7.00","36,87","-0.02 0.07 7.00 7.00","-0,02","0.07 7.00 7.00","0,07","7.00 7.00","7,00","7.00","7,00",null,{"v":0.7,"d":"0.70"},542.27,82.88,36.87,-0.02,0.07,{"v":7,"d":"7.00"},{"v":7,"d":"7.00"},"      5.00             -1.1960    0.8580    7.0764    2.9910     1.139     1.139",0,"5.00 -1.1960 0.8580 7.0764 2.9910 1.139 1.139","5,00","-1.1960 0.8580 7.0764 2.9910 1.139 1.139","-1,1960","0.8580 7.0764 2.9910 1.139 1.139","0,8580","7.0764 2.9910 1.139 1.139","7,0764","2.9910 1.139 1.139","2,9910","1.139 1.139","1,139","1.139","1,139",null,{"v":5,"d":"5.00"},-1.196,0.858,7.0764,2.991,1.139,1.139,"      0.70             -1.4599    0.8622    7.1567    3.2535     1.202     1.202",0,"0.70 -1.4599 0.8622 7.1567 3.2535 1.202 1.202","0,70","-1.4599 0.8622 7.1567 3.2535 1.202 1.202","-1,4599","0.8622 7.1567 3.2535 1.202 1.202","0,8622","7.1567 3.2535 1.202 1.202","7,1567","3.2535 1.202 1.202","3,2535","1.202 1.202","1,202","1.202","1,202",null,{"v":0.7,"d":"0.70"},-1.4599,0.8622,7.1567,3.2535,1.202,1.202,"      5.00     14.68     21.75     57.57     52.57      0.47      0.22     -4.34     -4.34",0,"5.00 14.68 21.75 57.57 52.57 0.47 0.22 -4.34 -4.34","5,00","14.68 21.75 57.57 52.57 0.47 0.22 -4.34 -4.34","14,68","21.75 57.57 52.57 0.47 0.22 -4.34 -4.34","21,75","57.57 52.57 0.47 0.22 -4.34 -4.34","57,57","52.57 0.47 0.22 -4.34 -4.34","52,57","0.47 0.22 -4.34 -4.34","0,47","0.22 -4.34 -4.34","0,22","-4.34 -4.34","-4,34","-4.34","-4,34",null,{"v":5,"d":"5.00"},14.68,21.75,57.57,52.57,0.47,0.22,-4.34,-4.34,"      0.70   2083.10     79.97     61.96     -0.05     -0.52      6.36      6.36",0,"0.70 2083.10 79.97 61.96 -0.05 -0.52 6.36 6.36","0,70","2083.10 79.97 61.96 -0.05 -0.52 6.36 6.36","2083,10","79.97 61.96 -0.05 -0.52 6.36 6.36","79,97","61.96 -0.05 -0.52 6.36 6.36","61,96","-0.05 -0.52 6.36 6.36","-0,05","-0.52 6.36 6.36","-0,52","6.36 6.36","6,36","6.36","6,36",null,{"v":0.7,"d":"0.70"},{"v":2083.1,"d":"2083.10"},79.97,61.96,-0.05,-0.52,6.36,6.36,null,0,0,0,0,0,0,0,0,0,0,0,0,0,0,0,0,0,0]
[null,"      6.00             -0.8413   -1.5367    3.5493   11.8645     1.096     1.096",null,null,"      0.80             -1.2612   -1.6231    3.2435   12.2780     1.122     1.122",null,null,"     -3.00                0.98     -4.17     -0.84     -0.51   3509.69  55457.71",null,null,"      6.00     19.30      0.00     33.74     27.74      0.29      0.00     -5.45     -5.45",null,null,"      0.80    542.27     94.71     36.68     -0.02      0.08      7.99      7.99",{"$nulls":12},"      6.00             -1.2310    0.8591    7.0703    3.0260     1.134     1.134",null,null,"      0.80             -1.5227    0.8638    7.1639    3.3161     1.208     1.208",null,null,"      6.00     14.61     21.55     56.49     50.49      0.55      0.26     -5.22     -5.22",null,null,"      0.80   2083.10     91.38     61.64     -0.06     -0.59      7.25      7.25",{"$nulls":77},"      6.00             -0.8413   -1.5367    3.5493   11.8645     1.096     1.096",0,"6.00 -0.8413 -1.5367 3.5493 11.8645 1.096 1.096","6,00","-0.8413 -1.5367 3.5493 11.8645 1.096 1.096","-0,8413","-1.5367 3.5493 11.8645 1.096 1.096","-1,5367","3.5493 11.8645 1.096 1.096","3,5493","11.8645 1.096 1.096","11,8645","1.096 1.096","1,096","1.096","1,096",null,{"v":6,"d":"6.00"},-0.8413,-1.5367,3.5493,11.8645,1.096,1.096,"      0.80             -1.2612   -1.6231    3.2435   12.2780     1.122     1.122",0,"0.80 -1.2612 -1.6231 3.2435 12.2780 1.122 1.122","0,80","-1.2612 -1.6231 3.2435 12.2780 1.122 1.122","-1,2612","-1.6231 3.2435 12.2780 1.122 1.122","-1,6231","3.2435 12.2780 1.122 1.122","3,2435","12.2780 1.122 1.122","12,2780","1.122 1.122","1,122","1.122","1,122",null,{"v":0.8,"d":"0.80"},-1.2612,-1.6231,3.2435,12.278,1.122,1.122,"     -3.00                0.98     -4.17     -0.84     -0.51   3509.69  55457.71",0,"-3.00 0.98 -4.17 -0.84 -0.51 3509.69 55457.71","-3,00","0.98 -4.17 -0.84 -0.51 3509.69 55457.71","0,98","-4.17 -0.84 -0.51 3509.69 55457.71","-4,17","-0.84 -0.51 3509.69 55457.71","-0,84","-0.51 3509.69 55457.71","-0,51","3509.69 55457.71","3509,69","55457.71","55457,71",null,{"v":-3,"d":"-3.00"},0.98,-4.17,-0.84,-0.51,3509.69,55457.71,"      6.00     19.30      0.00     33.74     27.74      0.29      0.00     -5.45     -5.45",0,"6.00 19.30 0.00 33.74 27.74 0.29 0.00 -5.45 -5.45","6,00","19.30 0.00 33.74 27.74 0.29 0.00 -5.45 -5.45","19,30","0.00 33.74 27.74 0.29 0.00 -5.45 -5.45","0,00","33.74 27.74 0.29 0.00 -5.45 -5.45","33,74","27.74 0.29 0.00 -5.45 -5.45","27,74","0.29 0.00 -5.45 -5.45","0,29","0.00 -5.45 -5.45","0,00","-5.45 -5.45","-5,45","-5.45","-5,45",null,{"v":6,"d":"6.00"},{"v":19.3,"d":"19.30"},{"v":0,"d":"0.00"},33.74,27.74,0.29,{"v":0,"d":"0.00"},-5.45,-5.45,"      0.80    542.27     94.71     36.68     -0.02      0.08      7.99      7.99",0,"0.80 542.27 94.71 36.68 -0.02 0.08 7.99 7.99","0,80","542.27 94.71 36.68 -0.02 0.08 7.99 7.99","542,27","94.71 36.68 -0.02 0.08 7.99 7.99","94,71","36.68 -0.02 0.08 7.99 7.99","36,68","-0.02 0.08 7.99 7.99","-0,02","0.08 7.99 7.99","0,08","7.99 7.99","7,99","7.99","7,99",null,{"v":0.8,"d":"0.80"},542.27,94.71,36.68,-0.02,0.08,7.99,7.99,"      6.00             -1.2310    0.8591    7.0703    3.0260     1.134     1.134",0,"6.00 -1.2310 0.8591 7.0703 3.0260 1.134 1.134","6,00","-1.2310 0.8591 7.0703 3.0260 1.134 1.134","-1,2310","0.8591 7.0703 3.0260 1.134 1.134","0,8591","7.0703 3.0260 1.134 1.134","7,0703","3.0260 1.134 1.134","3,0260","1.134 1.134","1,134","1.134","1,134",null,{"v":6,"d":"6.00"},-1.231,0.8591,7.0703,3.026,1.134,1.134,"      0.80             -1.5227    0.8638    7.1639    3.3161     1.208     1.208",0,"0.80 -1.5227 0.8638 7.1639 3.3161 1.208 1.208","0,80","-1.5227 0.8638 7.1639 3.3161 1.208 1.208","-1,5227","0.8638 7.1639 3.3161 1.208 1.208","0,8638","7.1639 3.3161 1.208 1.208","7,1639","3.3161 1.208 1.208","3,3161","1.208 1.208","1,208","1.208","1,208",null,{"v":0.8,"d":"0.80"},-1.5227,0.8638,7.1639,3.3161,1.208,1.208,"      6.00     14.61     21.55     56.49     50.49      0.55      0.26     -5.22     -5.22",0,"6.00 14.61 21.55 56.49 50.49 0.55 0.26 -5.22 -5.22","6,00","14.61 21.55 56.49 50.49 0.55 0.26 -5.22 -5.22","14,61","21.55 56.49 50.49 0.55 0.26 -5.22 -5.22","21,55","56.49 50.49 0.55 0.26 -5.22 -5.22","56,49","50.49 0.55 0.26 -5.22 -5.22","50,49","0.55 0.26 -5.22 -5.22","0,55","0.26 -5.22 -5.22","0,26","-5.22 -5.22","-5,22","-5.22","-5,22",null,{"v":6,"d":"6.00"},14.61,21.55,56.49,50.49,0.55,0.26,-5.22,-5.22,"      0.80   2083.10     91.38     61.64     -0.06     -0.59      7.25      7.25",0,"0.80 2083.10 91.38 61.64 -0.06 -0.59 7.25 7.25","0,80","2083.10 91.38 61.64 -0.06 -0.59 7.25 7.25","2083,10","91.38 61.64 -0.06 -0.59 7.25 7.25","91,38","61.64 -0.06 -0.59 7.25 7.25","61,64","-0.06 -0.59 7.25 7.25","-0,06","-0.59 7.25 7.25","-0,59","7.25 7.25","7,25","7.25","7,25",null,{"v":0.8,"d":"0.80"},{"v":2083.1,"d":"2083.10"},91.38,61.64,-0.06,-0.59,7.25,7.25,null,0,0,0,0,0,0,0,0,0,0,0,0,0,0,0,0,0,0]
[null,"      7.00             -0.8673   -1.5296    3.5707   11.8909     1.095     1.095",null,null,"      0.90             -1.3334   -1.6285    3.2213   12.3496     1.125     1.125",null,null,"     -2.00                0.13     -3.30     -0.79     -0.57   7942.76 346163.03",null,null,"      7.00     19.37      0.00     33.12     26.12      0.34      0.00     -6.37     -6.37",null,null,"      0.90    542.27    106.54     36.46     -0.03      0.09      8.98      8.98",{"$nulls":12},"      7.00             -1.2661    0.8602    7.0643    3.0610     1.130     1.130",null,null,"      0.90             -1.5855    0.8654    7.1711    3.3786     1.214     1.214",null,null,"      7.00     14.54     21.35     55.41     48.41      0.63      0.30     -6.11     -6.11",null,null,"      0.90   2083.10    102.77     61.28     -0.08     -0.67      8.13      8.13",{"$nulls":77},"      7.00             -0.8673   -1.5296    3.5707   11.8909     1.095     1.095",0,"7.00 -0.8673 -1.5296 3.5707 11.8909 1.095 1.095","7,00","-0.8673 -1.5296 3.5707 11.8909 1.095 1.095","-0,8673","-1.5296 3.5707 11.8909 1.095 1.095","-1,5296","3.5707 11.8909 1.095 1.095","3,5707","11.8909 1.095 1.095","11,8909","1.095 1.095","1,095","1.095","1,095",null,{"v":7,"d":"7.00"},-0.8673,-1.5296,3.5707,11.8909,1.095,1.095,"      0.90             -1.3334   -1.6285    3.2213   12.3496     1.125     1.125",0,"0.90 -1.3334 -1.6285 3.2213 12.3496 1.125 1.125","0,90","-1.3334 -1.6285 3.2213 12.3496 1.125 1.125","-1,3334","-1.6285 3.2213 12.3496 1.125 1.125","-1,6285","3.2213 12.3496 1.125 1.125","3,2213","12.3496 1.125 1.125","12,3496","1.125 1.125","1,125","1.125","1,125",null,{"v":0.9,"d":"0.90"},-1.3334,-1.6285,3.2213,12.3496,1.125,1.125,"     -2.00                0.13     -3.30     -0.79     -0.57   7942.76 346163.03",0,"-2.00 0.13 -3.30 -0.79 -0.57 7942.76 346163.03","-2,00","0.13 -3.30 -0.79 -0.57 7942.76 346163.03","0,13","-3.30 -0.79 -0.57 7942.76 346163.03","-3,30","-0.79 -0.57 7942.76 346163.03","-0,79","-0.57 7942.76 346163.03","-0,57","7942.76 346163.03","7942,76","346163.03","346163,03",null,{"v":-2,"d":"-2.00"},0.13,-3.3,-0.79,-0.57,7942.76,346163.03,"      7.00     19.37      0.00     33.12     26.12      0.34      0.00     -6.37     -6.37",0,"7.00 19.37 0.00 33.12 26.12 0.34 0.00 -6.37 -6.37","7,00","19.37 0.00 33.12 26.12 0.34 0.00 -6.37 -6.37","19,37","0.00 33.12 26.12 0.34 0.00 -6.37 -6.37","0,00","33.12 26.12 0.34 0.00 -6.37 -6.37","33,12","26.12 0.34 0.00 -6.37 -6.37","26,12","0.34 0.00 -6.37 -6.37","0,34","0.00 -6.37 -6.37","0,00","-6.37 -6.37","-6,37","-6.37","-6,37",null,{"v":7,"d":"7.00"},19.37,{"v":0,"d":"0.00"},33.12,26.12,0.34,{"v":0,"d":"0.00"},-6.37,-6.37,"      0.90    542.27    106.54     36.46     -0.03      0.09      8.98      8.98",0,"0.90 542.27 106.54 36.46 -0.03 0.09 8.98 8.98","0,90","542.27 106.54 36.46 -0.03 0.09 8.98 8.98","542,27","106.54 36.46 -0.03 0.09 8.98 8.98","106,54","36.46 -0.03 0.09 8.98 8.98","36,46","-0.03 0.09 8.98 8.98","-0,03","0.09 8.98 8.98","0,09","8.98 8.98","8,98","8.98","8,98",null,{"v":0.9,"d":"0.90"},542.27,106.54,36.46,-0.03,0.09,8.98,8.98,"      7.00             -1.2661    0.8602    7.0643    3.0610     1.130     1.130",0,"7.00 -1.2661 0.8602 7.0643 3.0610 1.130 1.130","7,00","-1.2661 0.8602 7.0643 3.0610 1.130 1.130","-1,2661","0.8602 7.0643 3.0610 1.130 1.130","0,8602","7.0643 3.0610 1.130 1.130","7,0643","3.0610 1.130 1.130","3,0610","1.130 1.130","1,130","1.130","1,130",null,{"v":7,"d":"7.00"},-1.2661,0.8602,7.0643,3.061,1.13,1.13,"      0.90             -1.5855    0.8654    7.1711    3.3786     1.214     1.214",0,"0.90 -1.5855 0.8654 7.1711 3.3786 1.214 1.214","0,90","-1.5855 0.8654 7.1711 3.3786 1.214 1.214","-1,5855","0.8654 7.1711 3.3786 1.214 1.214","0,8654","7.1711 3.3786 1.214 1.214","7,1711","3.3786 1.214 1.214","3,3786","1.214 1.214","1,214","1.214","1,214",null,{"v":0.9,"d":"0.90"},-1.5855,0.8654,7.1711,3.3786,1.214,1.214,"      7.00     14.54     21.35     55.41     48.41      0.63      0.30     -6.11     -6.11",0,"7.00 14.54 21.35 55.41 48.41 0.63 0.30 -6.11 -6.11","7,00","14.54 21.35 55.41 48.41 0.63 0.30 -6.11 -6.11","14,54","21.35 55.41 48.41 0.63 0.30 -6.11 -6.11","21,35","55.41 48.41 0.63 0.30 -6.11 -6.11","55,41","48.41 0.63 0.30 -6.11 -6.11","48,41","0.63 0.30 -6.11 -6.11","0,63","0.30 -6.11 -6.11","0,30","-6.11 -6.11","-6,11","-6.11","-6,11",null,{"v":7,"d":"7.00"},14.54,21.35,55.41,48.41,0.63,{"v":0.3,"d":"0.30"},-6.11,-6.11,"      0.90   2083.10    102.77     61.28     -0.08     -0.67      8.13      8.13",0,"0.90 2083.10 102.77 61.28 -0.08 -0.67 8.13 8.13","0,90","2083.10 102.77 61.28 -0.08 -0.67 8.13 8.13","2083,10","102.77 61.28 -0.08 -0.67 8.13 8.13","102,77","61.28 -0.08 -0.67 8.13 8.13","61,28","-0.08 -0.67 8.13 8.13","-0,08","-0.67 8.13 8.13","-0,67","8.13 8.13","8,13","8.13","8,13",null,{"v":0.9,"d":"0.90"},{"v":2083.1,"d":"2083.10"},102.77,61.28,-0.08,-0.67,8.13,8.13,null,0,0,0,0,0,0,0,0,0,0,0,0,0,0,0,0,0,0]
[null,"      8.00             -0.8935   -1.5225    3.5921   11.9173     1.093     1.093",null,null,"      1.00             -1.4057   -1.6338    3.1991   12.4214     1.127     1.127",null,null,"     -1.00               -0.72     -2.44     -0.74     -0.63   4900.51  79309.63",null,null,"      8.00     19.43      0.00     32.50     24.50      0.37      0.00     -7.28     -7.28",null,null,"      1.00    542.27    118.36     36.22     -0.04      0.10      9.97      9.97",{"$nulls":4},"SUSPENSION PARAMETER",{"$nulls":3},"Check",{"$nulls":3},"      8.00             -1.3012    0.8614    7.0583    3.0960     1.125     1.125",null,null,"      1.00             -1.6484    0.8671    7.1783    3.4412     1.219     1.219",null,null,"      8.00     14.47     21.15     54.33     46.33      0.71      0.34     -6.99     -6.99",null,null,"      1.00   2083.10    114.16     60.88     -0.10     -0.75      9.02      9.02",{"$nulls":77},"      8.00             -0.8935   -1.5225    3.5921   11.9173     1.093     1.093",0,"8.00 -0.8935 -1.5225 3.5921 11.9173 1.093 1.093","8,00","-0.8935 -1.5225 3.5921 11.9173 1.093 1.093","-0,8935","-1.5225 3.5921 11.9173 1.093 1.093","-1,5225","3.5921 11.9173 1.093 1.093","3,5921","11.9173 1.093 1.093","11,9173","1.093 1.093","1,093","1.093","1,093",null,{"v":8,"d":"8.00"},-0.8935,-1.5225,3.5921,11.9173,1.093,1.093,"      1.00             -1.4057   -1.6338    3.1991   12.4214     1.127     1.127",0,"1.00 -1.4057 -1.6338 3.1991 12.4214 1.127 1.127","1,00","-1.4057 -1.6338 3.1991 12.4214 1.127 1.127","-1,4057","-1.6338 3.1991 12.4214 1.127 1.127","-1,6338","3.1991 12.4214 1.127 1.127","3,1991","12.4214 1.127 1.127","12,4214","1.127 1.127","1,127","1.127","1,127",null,{"v":1,"d":"1.00"},-1.4057,-1.6338,3.1991,12.4214,1.127,1.127,"     -1.00               -0.72     -2.44     -0.74     -0.63   4900.51  79309.63",0,"-1.00 -0.72 -2.44 -0.74 -0.63 4900.51 79309.63","-1,00","-0.72 -2.44 -0.74 -0.63 4900.51 79309.63","-0,72","-2.44 -0.74 -0.63 4900.51 79309.63","-2,44","-0.74 -0.63 4900.51 79309.63","-0,74","-0.63 4900.51 79309.63","-0,63","4900.51 79309.63","4900,51","79309.63","79309,63",null,{"v":-1,"d":"-1.00"},-0.72,-2.44,-0.74,-0.63,4900.51,79309.63,"      8.00     19.43      0.00     32.50     24.50      0.37      0.00     -7.28     -7.28",0,"8.00 19.43 0.00 32.50 24.50 0.37 0.00 -7.28 -7.28","8,00","19.43 0.00 32.50 24.50 0.37 0.00 -7.28 -7.28","19,43","0.00 32.50 24.50 0.37 0.00 -7.28 -7.28","0,00","32.50 24.50 0.37 0.00 -7.28 -7.28","32,50","24.50 0.37 0.00 -7.28 -7.28","24,50","0.37 0.00 -7.28 -7.28","0,37","0.00 -7.28 -7.28","0,00","-7.28 -7.28","-7,28","-7.28","-7,28",null,{"v":8,"d":"8.00"},19.43,{"v":0,"d":"0.00"},{"v":32.5,"d":"32.50"},{"v":24.5,"d":"24.50"},0.37,{"v":0,"d":"0.00"},-7.28,-7.28,"      1.00    542.27    118.36     36.22     -0.04      0.10      9.97      9.97",0,"1.00 542.27 118.36 36.22 -0.04 0.10 9.97 9.97","1,00","542.27 118.36 36.22 -0.04 0.10 9.97 9.97","542,27","118.36 36.22 -0.04 0.10 9.97 9.97","118,36","36.22 -0.04 0.10 9.97 9.97","36,22","-0.04 0.10 9.97 9.97","-0,04","0.10 9.97 9.97","0,10","9.97 9.97","9,97","9.97","9,97",null,{"v":1,"d":"1.00"},542.27,118.36,36.22,-0.04,{"v":0.1,"d":"0.10"},9.97,9.97,"      8.00             -1.3012    0.8614    7.0583    3.0960     1.125     1.125",0,"8.00 -1.3012 0.8614 7.0583 3.0960 1.125 1.125","8,00","-1.3012 0.8614 7.0583 3.0960 1.125 1.125","-1,3012","0.8614 7.0583 3.0960 1.125 1.125","0,8614","7.0583 3.0960 1.125 1.125","7,0583","3.0960 1.125 1.125","3,0960","1.125 1.125","1,125","1.125","1,125",null,{"v":8,"d":"8.00"},-1.3012,0.8614,7.0583,3.096,1.125,1.125,"      1.00             -1.6484    0.8671    7.1783    3.4412     1.219     1.219",0,"1.00 -1.6484 0.8671 7.1783 3.4412 1.219 1.219","1,00","-1.6484 0.8671 7.1783 3.4412 1.219 1.219","-1,6484","0.8671 7.1783 3.4412 1.219 1.219","0,8671","7.1783 3.4412 1.219 1.219","7,1783","3.4412 1.219 1.219","3,4412","1.219 1.219","1,219","1.219","1,219",null,{"v":1,"d":"1.00"},-1.6484,0.8671,7.1783,3.4412,1.219,1.219,"      8.00     14.47     21.15     54.33     46.33      0.71      0.34     -6.99     -6.99",0,"8.00 14.47 21.15 54.33 46.33 0.71 0.34 -6.99 -6.99","8,00","14.47 21.15 54.33 46.33 0.71 0.34 -6.99 -6.99","14,47","21.15 54.33 46.33 0.71 0.34 -6.99 -6.99","21,15","54.33 46.33 0.71 0.34 -6.99 -6.99","54,33","46.33 0.71 0.34 -6.99 -6.99","46,33","0.71 0.34 -6.99 -6.99","0,71","0.34 -6.99 -6.99","0,34","-6.99 -6.99","-6,99","-6.99","-6,99",null,{"v":8,"d":"8.00"},14.47,21.15,54.33,46.33,0.71,0.34,-6.99,-6.99,"      1.00   2083.10    114.16     60.88     -0.10     -0.75      9.02      9.02",0,"1.00 2083.10 114.16 60.88 -0.10 -0.75 9.02 9.02","1,00","2083.10 114.16 60.88 -0.10 -0.75 9.02 9.02","2083,10","114.16 60.88 -0.10 -0.75 9.02 9.02","114,16","60.88 -0.10 -0.75 9.02 9.02","60,88","-0.10 -0.75 9.02 9.02","-0,10","-0.75 9.02 9.02","-0,75","9.02 9.02","9,02","9.02","9,02",null,{"v":1,"d":"1.00"},{"v":2083.1,"d":"2083.10"},114.16,60.88,{"v":-0.1,"d":"-0.10"},-0.75,9.02,9.02,null,0,0,0,0,0,0,0,0,0,0,0,0,0,0,0,0,0,0]
[null,"      9.00             -0.9196   -1.5154    3.6134   11.9438     1.092     1.092",null,null,"      1.10             -1.4781   -1.6390    3.1768   12.4932     1.130     1.130",null,null,"      0.00               -1.58     -1.58     -0.69     -0.69     80.54  55933.40",null,null,"      9.00     19.50      0.00     31.87     22.87      0.41      0.00     -8.19     -8.19",null,null,"      1.10    542.27    130.17     35.95     -0.05      0.11     10.95     10.95",{"$nulls":4},"3D BUMP","Numero Punti Totali = ",null,{"$f":"IF(NOT(ISBLANK($AG$10)),$OA9, \"\")","v":48},{"$f":"$NO$11","v":0},{"$nulls":3},"      9.00             -1.3363    0.8627    7.0522    3.1310     1.120     1.120",null,null,"      1.10             -1.7112    0.8689    7.1855    3.5037     1.225     1.225",null,null,"      9.00     14.40     20.94     53.25     44.25      0.78      0.38     -7.89     -7.89",null,null,"      1.10   2083.10    125.55     60.44     -0.12     -0.82      9.90      9.90",{"$nulls":77},"      9.00             -0.9196   -1.5154    3.6134   11.9438     1.092     1.092",0,"9.00 -0.9196 -1.5154 3.6134 11.9438 1.092 1.092","9,00","-0.9196 -1.5154 3.6134 11.9438 1.092 1.092","-0,9196","-1.5154 3.6134 11.9438 1.092 1.092","-1,5154","3.6134 11.9438 1.092 1.092","3,6134","11.9438 1.092 1.092","11,9438","1.092 1.092","1,092","1.092","1,092",null,{"v":9,"d":"9.00"},-0.9196,-1.5154,3.6134,11.9438,1.092,1.092,"      1.10             -1.4781   -1.6390    3.1768   12.4932     1.130     1.130",0,"1.10 -1.4781 -1.6390 3.1768 12.4932 1.130 1.130","1,10","-1.4781 -1.6390 3.1768 12.4932 1.130 1.130","-1,4781","-1.6390 3.1768 12.4932 1.130 1.130","-1,6390","3.1768 12.4932 1.130 1.130","3,1768","12.4932 1.130 1.130","12,4932","1.130 1.130","1,130","1.130","1,130",null,{"v":1.1,"d":"1.10"},-1.4781,-1.639,3.1768,12.4932,1.13,1.13,"      0.00               -1.58     -1.58     -0.69     -0.69     80.54  55933.40",0,"0.00 -1.58 -1.58 -0.69 -0.69 80.54 55933.40","0,00","-1.58 -1.58 -0.69 -0.69 80.54 55933.40","-1,58","-1.58 -0.69 -0.69 80.54 55933.40","-1,58","-0.69 -0.69 80.54 55933.40","-0,69","-0.69 80.54 55933.40","-0,69","80.54 55933.40","80,54","55933.40","55933,40",null,{"v":0,"d":"0.00"},-1.58,-1.58,-0.69,-0.69,80.54,55933.4,"      9.00     19.50      0.00     31.87     22.87      0.41      0.00     -8.19     -8.19",0,"9.00 19.50 0.00 31.87 22.87 0.41 0.00 -8.19 -8.19","9,00","19.50 0.00 31.87 22.87 0.41 0.00 -8.19 -8.19","19,50","0.00 31.87 22.87 0.41 0.00 -8.19 -8.19","0,00","31.87 22.87 0.41 0.00 -8.19 -8.19","31,87","22.87 0.41 0.00 -8.19 -8.19","22,87","0.41 0.00 -8.19 -8.19","0,41","0.00 -8.19 -8.19","0,00","-8.19 -8.19","-8,19","-8.19","-8,19",null,{"v":9,"d":"9.00"},{"v":19.5,"d":"19.50"},{"v":0,"d":"0.00"},31.87,22.87,0.41,{"v":0,"d":"0.00"},-8.19,-8.19,"      1.10    542.27    130.17     35.95     -0.05      0.11     10.95     10.95",0,"1.10 542.27 130.17 35.95 -0.05 0.11 10.95 10.95","1,10","542.27 130.17 35.95 -0.05 0.11 10.95 10.95","542,27","130.17 35.95 -0.05 0.11 10.95 10.95","130,17","35.95 -0.05 0.11 10.95 10.95","35,95","-0.05 0.11 10.95 10.95","-0,05","0.11 10.95 10.95","0,11","10.95 10.95","10,95","10.95","10,95",null,{"v":1.1,"d":"1.10"},542.27,130.17,35.95,-0.05,0.11,10.95,10.95,"      9.00             -1.3363    0.8627    7.0522    3.1310     1.120     1.120",0,"9.00 -1.3363 0.8627 7.0522 3.1310 1.120 1.120","9,00","-1.3363 0.8627 7.0522 3.1310 1.120 1.120","-1,3363","0.8627 7.0522 3.1310 1.120 1.120","0,8627","7.0522 3.1310 1.120 1.120","7,0522","3.1310 1.120 1.120","3,1310","1.120 1.120","1,120","1.120","1,120",null,{"v":9,"d":"9.00"},-1.3363,0.8627,7.0522,3.131,1.12,1.12,"      1.10             -1.7112    0.8689    7.1855    3.5037     1.225     1.225",0,"1.10 -1.7112 0.8689 7.1855 3.5037 1.225 1.225","1,10","-1.7112 0.8689 7.1855 3.5037 1.225 1.225","-1,7112","0.8689 7.1855 3.5037 1.225 1.225","0,8689","7.1855 3.5037 1.225 1.225","7,1855","3.5037 1.225 1.225","3,5037","1.225 1.225","1,225","1.225","1,225",null,{"v":1.1,"d":"1.10"},-1.7112,0.8689,7.1855,3.5037,1.225,1.225,"      9.00     14.40     20.94     53.25     44.25      0.78      0.38     -7.89     -7.89",0,"9.00 14.40 20.94 53.25 44.25 0.78 0.38 -7.89 -7.89","9,00","14.40 20.94 53.25 44.25 0.78 0.38 -7.89 -7.89","14,40","20.94 53.25 44.25 0.78 0.38 -7.89 -7.89","20,94","53.25 44.25 0.78 0.38 -7.89 -7.89","53,25","44.25 0.78 0.38 -7.89 -7.89","44,25","0.78 0.38 -7.89 -7.89","0,78","0.38 -7.89 -7.89","0,38","-7.89 -7.89","-7,89","-7.89","-7,89",null,{"v":9,"d":"9.00"},{"v":14.4,"d":"14.40"},20.94,53.25,44.25,0.78,0.38,-7.89,-7.89,"      1.10   2083.10    125.55     60.44     -0.12     -0.82      9.90      9.90",0,"1.10 2083.10 125.55 60.44 -0.12 -0.82 9.90 9.90","1,10","2083.10 125.55 60.44 -0.12 -0.82 9.90 9.90","2083,10","125.55 60.44 -0.12 -0.82 9.90 9.90","125,55","60.44 -0.12 -0.82 9.90 9.90","60,44","-0.12 -0.82 9.90 9.90","-0,12","-0.82 9.90 9.90","-0,82","9.90 9.90","9,90","9.90","9,90",null,{"v":1.1,"d":"1.10"},{"v":2083.1,"d":"2083.10"},125.55,60.44,-0.12,-0.82,{"v":9.9,"d":"9.90"},{"v":9.9,"d":"9.90"},null,0,0,0,0,0,0,0,0,0,0,0,0,0,0,0,0,0,0]
[null,"     10.00             -0.9459   -1.5082    3.6348   11.9704     1.091     1.091",null,null,"      1.20             -1.5506   -1.6443    3.1546   12.5650     1.132     1.132",null,null,"      1.00               -2.44     -0.72     -0.63     -0.74   4900.51  79309.63",null,null,"     10.00     19.57      0.00     31.25     21.25      0.44      0.00     -9.11     -9.11",null,null,"      1.20    542.27    141.98     35.66     -0.06      0.12     11.94     11.94",{"$nulls":5},"Intervallo Tra Punti = ",null,{"$f":"IF(NOT(ISBLANK($AG$10)),$OA10, \"\")","v":1},{"$nulls":4},"     10.00             -1.3715    0.8640    7.0462    3.1661     1.116     1.116",null,null,"      1.20             -1.7741    0.8707    7.1927    3.5663     1.231     1.231",null,null,"     10.00     14.33     20.74     52.17     42.17      0.85      0.42     -8.78     -8.78",null,null,"      1.20   2083.10    136.92     59.95     -0.14     -0.90     10.77     10.77",{"$nulls":77},"     10.00             -0.9459   -1.5082    3.6348   11.9704     1.091     1.091",0,"10.00 -0.9459 -1.5082 3.6348 11.9704 1.091 1.091","10,00","-0.9459 -1.5082 3.6348 11.9704 1.091 1.091","-0,9459","-1.5082 3.6348 11.9704 1.091 1.091","-1,5082","3.6348 11.9704 1.091 1.091","3,6348","11.9704 1.091 1.091","11,9704","1.091 1.091","1,091","1.091","1,091",null,{"v":10,"d":"10.00"},-0.9459,-1.5082,3.6348,11.9704,1.091,1.091,"      1.20             -1.5506   -1.6443    3.1546   12.5650     1.132     1.132",0,"1.20 -1.5506 -1.6443 3.1546 12.5650 1.132 1.132","1,20","-1.5506 -1.6443 3.1546 12.5650 1.132 1.132","-1,5506","-1.6443 3.1546 12.5650 1.132 1.132","-1,6443","3.1546 12.5650 1.132 1.132","3,1546","12.5650 1.132 1.132","12,5650","1.132 1.132","1,132","1.132","1,132",null,{"v":1.2,"d":"1.20"},-1.5506,-1.6443,3.1546,12.565,1.132,1.132,"      1.00               -2.44     -0.72     -0.63     -0.74   4900.51  79309.63",0,"1.00 -2.44 -0.72 -0.63 -0.74 4900.51 79309.63","1,00","-2.44 -0.72 -0.63 -0.74 4900.51 79309.63","-2,44","-0.72 -0.63 -0.74 4900.51 79309.63","-0,72","-0.63 -0.74 4900.51 79309.63","-0,63","-0.74 4900.51 79309.63","-0,74","4900.51 79309.63","4900,51","79309.63","79309,63",null,{"v":1,"d":"1.00"},-2.44,-0.72,-0.63,-0.74,4900.51,79309.63,"     10.00     19.57      0.00     31.25     21.25      0.44      0.00     -9.11     -9.11",0,"10.00 19.57 0.00 31.25 21.25 0.44 0.00 -9.11 -9.11","10,00","19.57 0.00 31.25 21.25 0.44 0.00 -9.11 -9.11","19,57","0.00 31.25 21.25 0.44 0.00 -9.11 -9.11","0,00","31.25 21.25 0.44 0.00 -9.11 -9.11","31,25","21.25 0.44 0.00 -9.11 -9.11","21,25","0.44 0.00 -9.11 -9.11","0,44","0.00 -9.11 -9.11","0,00","-9.11 -9.11","-9,11","-9.11","-9,11",null,{"v":10,"d":"10.00"},19.57,{"v":0,"d":"0.00"},31.25,21.25,0.44,{"v":0,"d":"0.00"},-9.11,-9.11,"      1.20    542.27    141.98     35.66     -0.06      0.12     11.94     11.94",0,"1.20 542.27 141.98 35.66 -0.06 0.12 11.94 11.94","1,20","542.27 141.98 35.66 -0.06 0.12 11.94 11.94","542,27","141.98 35.66 -0.06 0.12 11.94 11.94","141,98","35.66 -0.06 0.12 11.94 11.94","35,66","-0.06 0.12 11.94 11.94","-0,06","0.12 11.94 11.94","0,12","11.94 11.94","11,94","11.94","11,94",null,{"v":1.2,"d":"1.20"},542.27,141.98,35.66,-0.06,0.12,11.94,11.94,"     10.00             -1.3715    0.8640    7.0462    3.1661     1.116     1.116",0,"10.00 -1.3715 0.8640 7.0462 3.1661 1.116 1.116","10,00","-1.3715 0.8640 7.0462 3.1661 1.116 1.116","-1,3715","0.8640 7.0462 3.1661 1.116 1.116","0,8640","7.0462 3.1661 1.116 1.116","7,0462","3.1661 1.116 1.116","3,1661","1.116 1.116","1,116","1.116","1,116",null,{"v":10,"d":"10.00"},-1.3715,0.864,7.0462,3.1661,1.116,1.116,"      1.20             -1.7741    0.8707    7.1927    3.5663     1.231     1.231",0,"1.20 -1.7741 0.8707 7.1927 3.5663 1.231 1.231","1,20","-1.7741 0.8707 7.1927 3.5663 1.231 1.231","-1,7741","0.8707 7.1927 3.5663 1.231 1.231","0,8707","7.1927 3.5663 1.231 1.231","7,1927","3.5663 1.231 1.231","3,5663","1.231 1.231","1,231","1.231","1,231",null,{"v":1.2,"d":"1.20"},-1.7741,0.8707,7.1927,3.5663,1.231,1.231,"     10.00     14.33     20.74     52.17     42.17      0.85      0.42     -8.78     -8.78",0,"10.00 14.33 20.74 52.17 42.17 0.85 0.42 -8.78 -8.78","10,00","14.33 20.74 52.17 42.17 0.85 0.42 -8.78 -8.78","14,33","20.74 52.17 42.17 0.85 0.42 -8.78 -8.78","20,74","52.17 42.17 0.85 0.42 -8.78 -8.78","52,17","42.17 0.85 0.42 -8.78 -8.78","42,17","0.85 0.42 -8.78 -8.78","0,85","0.42 -8.78 -8.78","0,42","-8.78 -8.78","-8,78","-8.78","-8,78",null,{"v":10,"d":"10.00"},14.33,20.74,52.17,42.17,0.85,0.42,-8.78,-8.78,"      1.20   2083.10    136.92     59.95     -0.14     -0.90     10.77     10.77",0,"1.20 2083.10 136.92 59.95 -0.14 -0.90 10.77 10.77","1,20","2083.10 136.92 59.95 -0.14 -0.90 10.77 10.77","2083,10","136.92 59.95 -0.14 -0.90 10.77 10.77","136,92","59.95 -0.14 -0.90 10.77 10.77","59,95","-0.14 -0.90 10.77 10.77","-0,14","-0.90 10.77 10.77","-0,90","10.77 10.77","10,77","10.77","10,77",null,{"v":1.2,"d":"1.20"},{"v":2083.1,"d":"2083.10"},136.92,59.95,-0.14,{"v":-0.9,"d":"-0.90"},10.77,10.77,null,0,0,0,0,0,0,0,0,0,0,0,0,0,0,0,0,0,0]
[null,"     11.00             -0.9722   -1.5009    3.6562   11.9970     1.089     1.089",null,null,"      1.30             -1.6231   -1.6494    3.1324   12.6370     1.135     1.135",null,null,"      2.00               -3.30      0.13     -0.57     -0.79   7942.76 346163.03",null,null,"     11.00     19.63      0.00     30.63     19.63      0.47      0.00    -10.03    -10.03",null,null,"      1.30    542.27    153.78     35.35     -0.08      0.12     12.92     12.92",{"$nulls":4},"3D ROLL","Numero Punti Totali = ",null,{"$f":"IF(NOT(ISBLANK($AJ$10)),$OB9, \"\")","v":31},{"$f":"$NP$11","v":0},{"$nulls":3},"     11.00             -1.4067    0.8654    7.0402    3.2012     1.111     1.111",null,null,"      1.30             -1.8371    0.8727    7.1999    3.6289     1.236     1.236",null,null,"     11.00     14.25     20.53     51.10     40.10      0.92      0.46     -9.68     -9.68",null,null,"      1.30   2083.10    148.28     59.42     -0.17     -0.98     11.64     11.64",{"$nulls":77},"     11.00             -0.9722   -1.5009    3.6562   11.9970     1.089     1.089",0,"11.00 -0.9722 -1.5009 3.6562 11.9970 1.089 1.089","11,00","-0.9722 -1.5009 3.6562 11.9970 1.089 1.089","-0,9722","-1.5009 3.6562 11.9970 1.089 1.089","-1,5009","3.6562 11.9970 1.089 1.089","3,6562","11.9970 1.089 1.089","11,9970","1.089 1.089","1,089","1.089","1,089",null,{"v":11,"d":"11.00"},-0.9722,-1.5009,3.6562,11.997,1.089,1.089,"      1.30             -1.6231   -1.6494    3.1324   12.6370     1.135     1.135",0,"1.30 -1.6231 -1.6494 3.1324 12.6370 1.135 1.135","1,30","-1.6231 -1.6494 3.1324 12.6370 1.135 1.135","-1,6231","-1.6494 3.1324 12.6370 1.135 1.135","-1,6494","3.1324 12.6370 1.135 1.135","3,1324","12.6370 1.135 1.135","12,6370","1.135 1.135","1,135","1.135","1,135",null,{"v":1.3,"d":"1.30"},-1.6231,-1.6494,3.1324,12.637,1.135,1.135,"      2.00               -3.30      0.13     -0.57     -0.79   7942.76 346163.03",0,"2.00 -3.30 0.13 -0.57 -0.79 7942.76 346163.03","2,00","-3.30 0.13 -0.57 -0.79 7942.76 346163.03","-3,30","0.13 -0.57 -0.79 7942.76 346163.03","0,13","-0.57 -0.79 7942.76 346163.03","-0,57","-0.79 7942.76 346163.03","-0,79","7942.76 346163.03","7942,76","346163.03","346163,03",null,{"v":2,"d":"2.00"},-3.3,0.13,-0.57,-0.79,7942.76,346163.03,"     11.00     19.63      0.00     30.63     19.63      0.47      0.00    -10.03    -10.03",0,"11.00 19.63 0.00 30.63 19.63 0.47 0.00 -10.03 -10.03","11,00","19.63 0.00 30.63 19.63 0.47 0.00 -10.03 -10.03","19,63","0.00 30.63 19.63 0.47 0.00 -10.03 -10.03","0,00","30.63 19.63 0.47 0.00 -10.03 -10.03","30,63","19.63 0.47 0.00 -10.03 -10.03","19,63","0.47 0.00 -10.03 -10.03","0,47","0.00 -10.03 -10.03","0,00","-10.03 -10.03","-10,03","-10.03","-10,03",null,{"v":11,"d":"11.00"},19.63,{"v":0,"d":"0.00"},30.63,19.63,0.47,{"v":0,"d":"0.00"},-10.03,-10.03,"      1.30    542.27    153.78     35.35     -0.08      0.12     12.92     12.92",0,"1.30 542.27 153.78 35.35 -0.08 0.12 12.92 12.92","1,30","542.27 153.78 35.35 -0.08 0.12 12.92 12.92","542,27","153.78 35.35 -0.08 0.12 12.92 12.92","153,78","35.35 -0.08 0.12 12.92 12.92","35,35","-0.08 0.12 12.92 12.92","-0,08","0.12 12.92 12.92","0,12","12.92 12.92","12,92","12.92","12,92",null,{"v":1.3,"d":"1.30"},542.27,153.78,35.35,-0.08,0.12,12.92,12.92,"     11.00             -1.4067    0.8654    7.0402    3.2012     1.111     1.111",0,"11.00 -1.4067 0.8654 7.0402 3.2012 1.111 1.111","11,00","-1.4067 0.8654 7.0402 3.2012 1.111 1.111","-1,4067","0.8654 7.0402 3.2012 1.111 1.111","0,8654","7.0402 3.2012 1.111 1.111","7,0402","3.2012 1.111 1.111","3,2012","1.111 1.111","1,111","1.111","1,111",null,{"v":11,"d":"11.00"},-1.4067,0.8654,7.0402,3.2012,1.111,1.111,"      1.30             -1.8371    0.8727    7.1999    3.6289     1.236     1.236",0,"1.30 -1.8371 0.8727 7.1999 3.6289 1.236 1.236","1,30","-1.8371 0.8727 7.1999 3.6289 1.236 1.236","-1,8371","0.8727 7.1999 3.6289 1.236 1.236","0,8727","7.1999 3.6289 1.236 1.236","7,1999","3.6289 1.236 1.236","3,6289","1.236 1.236","1,236","1.236","1,236",null,{"v":1.3,"d":"1.30"},-1.8371,0.8727,7.1999,3.6289,1.236,1.236,"     11.00     14.25     20.53     51.10     40.10      0.92      0.46     -9.68     -9.68",0,"11.00 14.25 20.53 51.10 40.10 0.92 0.46 -9.68 -9.68","11,00","14.25 20.53 51.10 40.10 0.92 0.46 -9.68 -9.68","14,25","20.53 51.10 40.10 0.92 0.46 -9.68 -9.68","20,53","51.10 40.10 0.92 0.46 -9.68 -9.68","51,10","40.10 0.92 0.46 -9.68 -9.68","40,10","0.92 0.46 -9.68 -9.68","0,92","0.46 -9.68 -9.68","0,46","-9.68 -9.68","-9,68","-9.68","-9,68",null,{"v":11,"d":"11.00"},14.25,20.53,{"v":51.1,"d":"51.10"},{"v":40.1,"d":"40.10"},0.92,0.46,-9.68,-9.68,"      1.30   2083.10    148.28     59.42     -0.17     -0.98     11.64     11.64",0,"1.30 2083.10 148.28 59.42 -0.17 -0.98 11.64 11.64","1,30","2083.10 148.28 59.42 -0.17 -0.98 11.64 11.64","2083,10","148.28 59.42 -0.17 -0.98 11.64 11.64","148,28","59.42 -0.17 -0.98 11.64 11.64","59,42","-0.17 -0.98 11.64 11.64","-0,17","-0.98 11.64 11.64","-0,98","11.64 11.64","11,64","11.64","11,64",null,{"v":1.3,"d":"1.30"},{"v":2083.1,"d":"2083.10"},148.28,59.42,-0.17,-0.98,11.64,11.64,null,0,0,0,0,0,0,0,0,0,0,0,0,0,0,0,0,0,0]
[null,"     12.00             -0.9986   -1.4936    3.6776   12.0237     1.088     1.088",null,null,"      1.40             -1.6957   -1.6545    3.1102   12.7090     1.137     1.137",null,null,"      3.00               -4.17      0.98     -0.51     -0.84   3509.69  55457.71",null,null,"     12.00     19.70      0.00     30.01     18.01      0.50      0.00    -10.95    -10.95",null,null,"      1.40    542.27    165.57     35.00     -0.09      0.13     13.90     13.90",{"$nulls":5},"Intervallo Tra Punti = ",null,{"$f":"IF(NOT(ISBLANK($AJ$10)),$OB10, \"\")","v":0.10000000000000009},{"$nulls":4},"     12.00             -1.4419    0.8669    7.0341    3.2363     1.107     1.107",null,null,"      1.40             -1.9000    0.8747    7.2071    3.6916     1.242     1.242",null,null,"     12.00     14.18     20.32     50.02     38.02      0.98      0.50    -10.58    -10.58",null,null,"      1.40   2083.10    159.62     58.85     -0.20     -1.06     12.51     12.51",{"$nulls":77},"     12.00             -0.9986   -1.4936    3.6776   12.0237     1.088     1.088",0,"12.00 -0.9986 -1.4936 3.6776 12.0237 1.088 1.088","12,00","-0.9986 -1.4936 3.6776 12.0237 1.088 1.088","-0,9986","-1.4936 3.6776 12.0237 1.088 1.088","-1,4936","3.6776 12.0237 1.088 1.088","3,6776","12.0237 1.088 1.088","12,0237","1.088 1.088","1,088","1.088","1,088",null,{"v":12,"d":"12.00"},-0.9986,-1.4936,3.6776,12.0237,1.088,1.088,"      1.40             -1.6957   -1.6545    3.1102   12.7090     1.137     1.137",0,"1.40 -1.6957 -1.6545 3.1102 12.7090 1.137 1.137","1,40","-1.6957 -1.6545 3.1102 12.7090 1.137 1.137","-1,6957","-1.6545 3.1102 12.7090 1.137 1.137","-1,6545","3.1102 12.7090 1.137 1.137","3,1102","12.7090 1.137 1.137","12,7090","1.137 1.137","1,137","1.137","1,137",null,{"v":1.4,"d":"1.40"},-1.6957,-1.6545,3.1102,12.709,1.137,1.137,"      3.00               -4.17      0.98     -0.51     -0.84   3509.69  55457.71",0,"3.00 -4.17 0.98 -0.51 -0.84 3509.69 55457.71","3,00","-4.17 0.98 -0.51 -0.84 3509.69 55457.71","-4,17","0.98 -0.51 -0.84 3509.69 55457.71","0,98","-0.51 -0.84 3509.69 55457.71","-0,51","-0.84 3509.69 55457.71","-0,84","3509.69 55457.71","3509,69","55457.71","55457,71",null,{"v":3,"d":"3.00"},-4.17,0.98,-0.51,-0.84,3509.69,55457.71,"     12.00     19.70      0.00     30.01     18.01      0.50      0.00    -10.95    -10.95",0,"12.00 19.70 0.00 30.01 18.01 0.50 0.00 -10.95 -10.95","12,00","19.70 0.00 30.01 18.01 0.50 0.00 -10.95 -10.95","19,70","0.00 30.01 18.01 0.50 0.00 -10.95 -10.95","0,00","30.01 18.01 0.50 0.00 -10.95 -10.95","30,01","18.01 0.50 0.00 -10.95 -10.95","18,01","0.50 0.00 -10.95 -10.95","0,50","0.00 -10.95 -10.95","0,00","-10.95 -10.95","-10,95","-10.95","-10,95",null,{"v":12,"d":"12.00"},{"v":19.7,"d":"19.70"},{"v":0,"d":"0.00"},30.01,18.01,{"v":0.5,"d":"0.50"},{"v":0,"d":"0.00"},-10.95,-10.95,"      1.40    542.27    165.57     35.00     -0.09      0.13     13.90     13.90",0,"1.40 542.27 165.57 35.00 -0.09 0.13 13.90 13.90","1,40","542.27 165.57 35.00 -0.09 0.13 13.90 13.90","542,27","165.57 35.00 -0.09 0.13 13.90 13.90","165,57","35.00 -0.09 0.13 13.90 13.90","35,00","-0.09 0.13 13.90 13.90","-0,09","0.13 13.90 13.90","0,13","13.90 13.90","13,90","13.90","13,90",null,{"v":1.4,"d":"1.40"},542.27,165.57,{"v":35,"d":"35.00"},-0.09,0.13,{"v":13.9,"d":"13.90"},{"v":13.9,"d":"13.90"},"     12.00             -1.4419    0.8669    7.0341    3.2363     1.107     1.107",0,"12.00 -1.4419 0.8669 7.0341 3.2363 1.107 1.107","12,00","-1.4419 0.8669 7.0341 3.2363 1.107 1.107","-1,4419","0.8669 7.0341 3.2363 1.107 1.107","0,8669","7.0341 3.2363 1.107 1.107","7,0341","3.2363 1.107 1.107","3,2363","1.107 1.107","1,107","1.107","1,107",null,{"v":12,"d":"12.00"},-1.4419,0.8669,7.0341,3.2363,1.107,1.107,"      1.40             -1.9000    0.8747    7.2071    3.6916     1.242     1.242",0,"1.40 -1.9000 0.8747 7.2071 3.6916 1.242 1.242","1,40","-1.9000 0.8747 7.2071 3.6916 1.242 1.242","-1,9000","0.8747 7.2071 3.6916 1.242 1.242","0,8747","7.2071 3.6916 1.242 1.242","7,2071","3.6916 1.242 1.242","3,6916","1.242 1.242","1,242","1.242","1,242",null,{"v":1.4,"d":"1.40"},-1.9,0.8747,7.2071,3.6916,1.242,1.242,"     12.00     14.18     20.32     50.02     38.02      0.98      0.50    -10.58    -10.58",0,"12.00 14.18 20.32 50.02 38.02 0.98 0.50 -10.58 -10.58","12,00","14.18 20.32 50.02 38.02 0.98 0.50 -10.58 -10.58","14,18","20.32 50.02 38.02 0.98 0.50 -10.58 -10.58","20,32","50.02 38.02 0.98 0.50 -10.58 -10.58","50,02","38.02 0.98 0.50 -10.58 -10.58","38,02","0.98 0.50 -10.58 -10.58","0,98","0.50 -10.58 -10.58","0,50","-10.58 -10.58","-10,58","-10.58","-10,58",null,{"v":12,"d":"12.00"},14.18,20.32,50.02,38.02,0.98,{"v":0.5,"d":"0.50"},-10.58,-10.58,"      1.40   2083.10    159.62     58.85     -0.20     -1.06     12.51     12.51",0,"1.40 2083.10 159.62 58.85 -0.20 -1.06 12.51 12.51","1,40","2083.10 159.62 58.85 -0.20 -1.06 12.51 12.51","2083,10","159.62 58.85 -0.20 -1.06 12.51 12.51","159,62","58.85 -0.20 -1.06 12.51 12.51","58,85","-0.20 -1.06 12.51 12.51","-0,20","-1.06 12.51 12.51","-1,06","12.51 12.51","12,51","12.51","12,51",null,{"v":1.4,"d":"1.40"},{"v":2083.1,"d":"2083.10"},159.62,58.85,{"v":-0.2,"d":"-0.20"},-1.06,12.51,12.51,null,0,0,0,0,0,0,0,0,0,0,0,0,0,0,0,0,0,0]
[null,"     13.00             -1.0251   -1.4863    3.6990   12.0505     1.087     1.087",null,null,"      1.50             -1.7684   -1.6595    3.0879   12.7811     1.140     1.140",null,null,"      4.00               -5.04      1.83     -0.44     -0.89   1977.65  32833.14",null,null,"     13.00     19.77      0.00     29.39     16.39      0.52      0.00    -11.87    -11.87",null,null,"      1.50    542.27    177.35     34.64     -0.11      0.14     14.88     14.88",{"$nulls":4},"Check Complessivo",{"$nulls":3},{"$f":"IF(AND($W$36=0,$W$38=0),0,1)","v":0},{"$nulls":3},"     13.00             -1.4772    0.8684    7.0281    3.2715     1.102     1.102",null,null,"      1.50             -1.9630    0.8768    7.2144    3.7542     1.247     1.247",null,null,"     13.00     14.11     20.11     48.95     35.95      1.04      0.54    -11.49    -11.49",null,null,"      1.50   2083.10    170.96     58.24     -0.23     -1.14     13.37     13.37",{"$nulls":77},"     13.00             -1.0251   -1.4863    3.6990   12.0505     1.087     1.087",0,"13.00 -1.0251 -1.4863 3.6990 12.0505 1.087 1.087","13,00","-1.0251 -1.4863 3.6990 12.0505 1.087 1.087","-1,0251","-1.4863 3.6990 12.0505 1.087 1.087","-1,4863","3.6990 12.0505 1.087 1.087","3,6990","12.0505 1.087 1.087","12,0505","1.087 1.087","1,087","1.087","1,087",null,{"v":13,"d":"13.00"},-1.0251,-1.4863,3.699,12.0505,1.087,1.087,"      1.50             -1.7684   -1.6595    3.0879   12.7811     1.140     1.140",0,"1.50 -1.7684 -1.6595 3.0879 12.7811 1.140 1.140","1,50","-1.7684 -1.6595 3.0879 12.7811 1.140 1.140","-1,7684","-1.6595 3.0879 12.7811 1.140 1.140","-1,6595","3.0879 12.7811 1.140 1.140","3,0879","12.7811 1.140 1.140","12,7811","1.140 1.140","1,140","1.140","1,140",null,{"v":1.5,"d":"1.50"},-1.7684,-1.6595,3.0879,12.7811,1.14,1.14,"      4.00               -5.04      1.83     -0.44     -0.89   1977.65  32833.14",0,"4.00 -5.04 1.83 -0.44 -0.89 1977.65 32833.14","4,00","-5.04 1.83 -0.44 -0.89 1977.65 32833.14","-5,04","1.83 -0.44 -0.89 1977.65 32833.14","1,83","-0.44 -0.89 1977.65 32833.14","-0,44","-0.89 1977.65 32833.14","-0,89","1977.65 32833.14","1977,65","32833.14","32833,14",null,{"v":4,"d":"4.00"},-5.04,1.83,-0.44,-0.89,1977.65,32833.14,"     13.00     19.77      0.00     29.39     16.39      0.52      0.00    -11.87    -11.87",0,"13.00 19.77 0.00 29.39 16.39 0.52 0.00 -11.87 -11.87","13,00","19.77 0.00 29.39 16.39 0.52 0.00 -11.87 -11.87","19,77","0.00 29.39 16.39 0.52 0.00 -11.87 -11.87","0,00","29.39 16.39 0.52 0.00 -11.87 -11.87","29,39","16.39 0.52 0.00 -11.87 -11.87","16,39","0.52 0.00 -11.87 -11.87","0,52","0.00 -11.87 -11.87","0,00","-11.87 -11.87","-11,87","-11.87","-11,87",null,{"v":13,"d":"13.00"},19.77,{"v":0,"d":"0.00"},29.39,16.39,0.52,{"v":0,"d":"0.00"},-11.87,-11.87,"      1.50    542.27    177.35     34.64     -0.11      0.14     14.88     14.88",0,"1.50 542.27 177.35 34.64 -0.11 0.14 14.88 14.88","1,50","542.27 177.35 34.64 -0.11 0.14 14.88 14.88","542,27","177.35 34.64 -0.11 0.14 14.88 14.88","177,35","34.64 -0.11 0.14 14.88 14.88","34,64","-0.11 0.14 14.88 14.88","-0,11","0.14 14.88 14.88","0,14","14.88 14.88","14,88","14.88","14,88",null,{"v":1.5,"d":"1.50"},542.27,177.35,34.64,-0.11,0.14,14.88,14.88,"     13.00             -1.4772    0.8684    7.0281    3.2715     1.102     1.102",0,"13.00 -1.4772 0.8684 7.0281 3.2715 1.102 1.102","13,00","-1.4772 0.8684 7.0281 3.2715 1.102 1.102","-1,4772","0.8684 7.0281 3.2715 1.102 1.102","0,8684","7.0281 3.2715 1.102 1.102","7,0281","3.2715 1.102 1.102","3,2715","1.102 1.102","1,102","1.102","1,102",null,{"v":13,"d":"13.00"},-1.4772,0.8684,7.0281,3.2715,1.102,1.102,"      1.50             -1.9630    0.8768    7.2144    3.7542     1.247     1.247",0,"1.50 -1.9630 0.8768 7.2144 3.7542 1.247 1.247","1,50","-1.9630 0.8768 7.2144 3.7542 1.247 1.247","-1,9630","0.8768 7.2144 3.7542 1.247 1.247","0,8768","7.2144 3.7542 1.247 1.247","7,2144","3.7542 1.247 1.247","3,7542","1.247 1.247","1,247","1.247","1,247",null,{"v":1.5,"d":"1.50"},-1.963,0.8768,7.2144,3.7542,1.247,1.247,"     13.00     14.11     20.11     48.95     35.95      1.04      0.54    -11.49    -11.49",0,"13.00 14.11 20.11 48.95 35.95 1.04 0.54 -11.49 -11.49","13,00","14.11 20.11 48.95 35.95 1.04 0.54 -11.49 -11.49","14,11","20.11 48.95 35.95 1.04 0.54 -11.49 -11.49","20,11","48.95 35.95 1.04 0.54 -11.49 -11.49","48,95","35.95 1.04 0.54 -11.49 -11.49","35,95","1.04 0.54 -11.49 -11.49","1,04","0.54 -11.49 -11.49","0,54","-11.49 -11.49","-11,49","-11.49","-11,49",null,{"v":13,"d":"13.00"},14.11,20.11,48.95,35.95,1.04,0.54,-11.49,-11.49,"      1.50   2083.10    170.96     58.24     -0.23     -1.14     13.37     13.37",0,"1.50 2083.10 170.96 58.24 -0.23 -1.14 13.37 13.37","1,50","2083.10 170.96 58.24 -0.23 -1.14 13.37 13.37","2083,10","170.96 58.24 -0.23 -1.14 13.37 13.37","170,96","58.24 -0.23 -1.14 13.37 13.37","58,24","-0.23 -1.14 13.37 13.37","-0,23","-1.14 13.37 13.37","-1,14","13.37 13.37","13,37","13.37","13,37",null,{"v":1.5,"d":"1.50"},{"v":2083.1,"d":"2083.10"},170.96,58.24,-0.23,-1.14,13.37,13.37,null,0,0,0,0,0,0,0,0,0,0,0,0,0,0,0,0,0,0]
[null,"     14.00             -1.0517   -1.4789    3.7204   12.0773     1.086     1.086",{"$nulls":5},"      5.00               -5.92      2.68     -0.37     -0.93   1273.26  23916.02",null,null,"     14.00     19.84      0.00     28.77     14.77      0.55      0.00    -12.79    -12.79",{"$nulls":15},"     14.00             -1.5125    0.8700    7.0220    3.3067     1.098     1.098",{"$nulls":5},"     14.00     14.03     19.90     47.88     33.88      1.09      0.58    -12.40    -12.40",{"$nulls":80},"     14.00             -1.0517   -1.4789    3.7204   12.0773     1.086     1.086",0,"14.00 -1.0517 -1.4789 3.7204 12.0773 1.086 1.086","14,00","-1.0517 -1.4789 3.7204 12.0773 1.086 1.086","-1,0517","-1.4789 3.7204 12.0773 1.086 1.086","-1,4789","3.7204 12.0773 1.086 1.086","3,7204","12.0773 1.086 1.086","12,0773","1.086 1.086","1,086","1.086","1,086",null,{"v":14,"d":"14.00"},-1.0517,-1.4789,3.7204,12.0773,1.086,1.086," ",1,"","","","","","","","","","","","","","",null,"","","","","","","","      5.00               -5.92      2.68     -0.37     -0.93   1273.26  23916.02",0,"5.00 -5.92 2.68 -0.37 -0.93 1273.26 23916.02","5,00","-5.92 2.68 -0.37 -0.93 1273.26 23916.02","-5,92","2.68 -0.37 -0.93 1273.26 23916.02","2,68","-0.37 -0.93 1273.26 23916.02","-0,37","-0.93 1273.26 23916.02","-0,93","1273.26 23916.02","1273,26","23916.02","23916,02",null,{"v":5,"d":"5.00"},-5.92,2.68,-0.37,-0.93,1273.26,23916.02,"     14.00     19.84      0.00     28.77     14.77      0.55      0.00    -12.79    -12.79",0,"14.00 19.84 0.00 28.77 14.77 0.55 0.00 -12.79 -12.79","14,00","19.84 0.00 28.77 14.77 0.55 0.00 -12.79 -12.79","19,84","0.00 28.77 14.77 0.55 0.00 -12.79 -12.79","0,00","28.77 14.77 0.55 0.00 -12.79 -12.79","28,77","14.77 0.55 0.00 -12.79 -12.79","14,77","0.55 0.00 -12.79 -12.79","0,55","0.00 -12.79 -12.79","0,00","-12.79 -12.79","-12,79","-12.79","-12,79",null,{"v":14,"d":"14.00"},19.84,{"v":0,"d":"0.00"},28.77,14.77,0.55,{"v":0,"d":"0.00"},-12.79,-12.79," ",1,"","","","","","","","","","","","","","","","",null,"","","","","","","","","     14.00             -1.5125    0.8700    7.0220    3.3067     1.098     1.098",0,"14.00 -1.5125 0.8700 7.0220 3.3067 1.098 1.098","14,00","-1.5125 0.8700 7.0220 3.3067 1.098 1.098","-1,5125","0.8700 7.0220 3.3067 1.098 1.098","0,8700","7.0220 3.3067 1.098 1.098","7,0220","3.3067 1.098 1.098","3,3067","1.098 1.098","1,098","1.098","1,098",null,{"v":14,"d":"14.00"},-1.5125,0.87,7.022,3.3067,1.098,1.098," ",1,"","","","","","","","","","","","","","",null,"","","","","","","","     14.00     14.03     19.90     47.88     33.88      1.09      0.58    -12.40    -12.40",0,"14.00 14.03 19.90 47.88 33.88 1.09 0.58 -12.40 -12.40","14,00","14.03 19.90 47.88 33.88 1.09 0.58 -12.40 -12.40","14,03","19.90 47.88 33.88 1.09 0.58 -12.40 -12.40","19,90","47.88 33.88 1.09 0.58 -12.40 -12.40","47,88","33.88 1.09 0.58 -12.40 -12.40","33,88","1.09 0.58 -12.40 -12.40","1,09","0.58 -12.40 -12.40","0,58","-12.40 -12.40","-12,40","-12.40","-12,40",null,{"v":14,"d":"14.00"},14.03,{"v":19.9,"d":"19.90"},47.88,33.88,1.09,0.58,{"v":-12.4,"d":"-12.40"},{"v":-12.4,"d":"-12.40"}," ",1,"","","","","","","","","","","","","","","","",null,"","","","","","","","",null,0,0,0,0,0,0,0,0,0,0,0,0,0,0,0,0,0,0]
[null,"     15.00             -1.0783   -1.4714    3.7418   12.1042     1.085     1.085",{"$nulls":5},"      6.00               -6.80      3.52     -0.30     -0.97    892.24  18992.13",null,null,"     15.00     19.91      0.00     28.15     13.15      0.57      0.00    -13.71    -13.71",{"$nulls":15},"     15.00             -1.5479    0.8717    7.0160    3.3419     1.094     1.094",{"$nulls":5},"     15.00     13.96     19.68     46.81     31.81      1.15      0.61    -13.31    -13.31",{"$nulls":80},{"$f":"IF(NOT(ISBLANK($B42)),$B42,\" \")","v":"     15.00             -1.0783   -1.4714    3.7418   12.1042     1.085     1.085"},0,"15.00 -1.0783 -1.4714 3.7418 12.1042 1.085 1.085","15,00","-1.0783 -1.4714 3.7418 12.1042 1.085 1.085","-1,0783","-1.4714 3.7418 12.1042 1.085 1.085","-1,4714","3.7418 12.1042 1.085 1.085","3,7418","12.1042 1.085 1.085","12,1042","1.085 1.085","1,085","1.085","1,085",null,{"v":15,"d":"15.00"},-1.0783,-1.4714,3.7418,12.1042,1.085,1.085," ",1,"","","","","","","","","","","","","","",null,"","","","","","","","      6.00               -6.80      3.52     -0.30     -0.97    892.24  18992.13",0,"6.00 -6.80 3.52 -0.30 -0.97 892.24 18992.13","6,00","-6.80 3.52 -0.30 -0.97 892.24 18992.13","-6,80","3.52 -0.30 -0.97 892.24 18992.13","3,52","-0.30 -0.97 892.24 18992.13","-0,30","-0.97 892.24 18992.13","-0,97","892.24 18992.13","892,24","18992.13","18992,13",null,{"v":6,"d":"6.00"},-6.8,3.52,-0.3,-0.97,892.24,18992.13,{"$f":"IF(NOT(ISBLANK($K42)),$K42,\" \")","v":"     15.00     19.91      0.00     28.15     13.15      0.57      0.00    -13.71    -13.71"},0,"15.00 19.91 0.00 28.15 13.15 0.57 0.00 -13.71 -13.71","15,00","19.91 0.00 28.15 13.15 0.57 0.00 -13.71 -13.71","19,91","0.00 28.15 13.15 0.57 0.00 -13.71 -13.71","0,00","28.15 13.15 0.57 0.00 -13.71 -13.71","28,15","13.15 0.57 0.00 -13.71 -13.71","13,15","0.57 0.00 -13.71 -13.71","0,57","0.00 -13.71 -13.71","0,00","-13.71 -13.71","-13,71","-13.71","-13,71",null,{"v":15,"d":"15.00"},19.91,{"v":0,"d":"0.00"},28.15,13.15,0.57,{"v":0,"d":"0.00"},-13.71,-13.71," ",1,"","","","","","","","","","","","","","","","",null,"","","","","","","","","     15.00             -1.5479    0.8717    7.0160    3.3419     1.094     1.094",0,"15.00 -1.5479 0.8717 7.0160 3.3419 1.094 1.094","15,00","-1.5479 0.8717 7.0160 3.3419 1.094 1.094","-1,5479","0.8717 7.0160 3.3419 1.094 1.094","0,8717","7.0160 3.3419 1.094 1.094","7,0160","3.3419 1.094 1.094","3,3419","1.094 1.094","1,094","1.094","1,094",null,{"v":15,"d":"15.00"},-1.5479,0.8717,7.016,3.3419,1.094,1.094," ",1,"","","","","","","","","","","","","","",null,"","","","","","","","     15.00     13.96     19.68     46.81     31.81      1.15      0.61    -13.31    -13.31",0,"15.00 13.96 19.68 46.81 31.81 1.15 0.61 -13.31 -13.31","15,00","13.96 19.68 46.81 31.81 1.15 0.61 -13.31 -13.31","13,96","19.68 46.81 31.81 1.15 0.61 -13.31 -13.31","19,68","46.81 31.81 1.15 0.61 -13.31 -13.31","46,81","31.81 1.15 0.61 -13.31 -13.31","31,81","1.15 0.61 -13.31 -13.31","1,15","0.61 -13.31 -13.31","0,61","-13.31 -13.31","-13,31","-13.31","-13,31",null,{"v":15,"d":"15.00"},13.96,19.68,46.81,31.81,1.15,0.61,-13.31,-13.31," ",1,"","","","","","","","","","","","","","","","",null,"","","","","","","","",null,0,0,0,0,0,0,0,0,0,0,0,0,0,0,0,0,0,0]
[null,"     16.00             -1.1050   -1.4639    3.7632   12.1312     1.084     1.084",{"$nulls":5},"      7.00               -7.69      4.36     -0.23     -1.01    663.18  15817.92",null,null,"     16.00     19.98      0.00     27.53     11.53      0.58      0.00    -14.63    -14.63",{"$nulls":15},"     16.00             -1.5833    0.8734    7.0099    3.3772     1.089     1.089",{"$nulls":5},"     16.00     13.89     19.47     45.74     29.74      1.20      0.65    -14.22    -14.22",{"$nulls":80},"     16.00             -1.1050   -1.4639    3.7632   12.1312     1.084     1.084",0,"16.00 -1.1050 -1.4639 3.7632 12.1312 1.084 1.084","16,00","-1.1050 -1.4639 3.7632 12.1312 1.084 1.084","-1,1050","-1.4639 3.7632 12.1312 1.084 1.084","-1,4639","3.7632 12.1312 1.084 1.084","3,7632","12.1312 1.084 1.084","12,1312","1.084 1.084","1,084","1.084","1,084",null,{"v":16,"d":"16.00"},-1.105,-1.4639,3.7632,12.1312,1.084,1.084," ",1,"","","","","","","","","","","","","","",null,"","","","","","","","      7.00               -7.69      4.36     -0.23     -1.01    663.18  15817.92",0,"7.00 -7.69 4.36 -0.23 -1.01 663.18 15817.92","7,00","-7.69 4.36 -0.23 -1.01 663.18 15817.92","-7,69","4.36 -0.23 -1.01 663.18 15817.92","4,36","-0.23 -1.01 663.18 15817.92","-0,23","-1.01 663.18 15817.92","-1,01","663.18 15817.92","663,18","15817.92","15817,92",null,{"v":7,"d":"7.00"},-7.69,4.36,-0.23,-1.01,663.18,15817.92,"     16.00     19.98      0.00     27.53     11.53      0.58      0.00    -14.63    -14.63",0,"16.00 19.98 0.00 27.53 11.53 0.58 0.00 -14.63 -14.63","16,00","19.98 0.00 27.53 11.53 0.58 0.00 -14.63 -14.63","19,98","0.00 27.53 11.53 0.58 0.00 -14.63 -14.63","0,00","27.53 11.53 0.58 0.00 -14.63 -14.63","27,53","11.53 0.58 0.00 -14.63 -14.63","11,53","0.58 0.00 -14.63 -14.63","0,58","0.00 -14.63 -14.63","0,00","-14.63 -14.63","-14,63","-14.63","-14,63",null,{"v":16,"d":"16.00"},19.98,{"v":0,"d":"0.00"},27.53,11.53,0.58,{"v":0,"d":"0.00"},-14.63,-14.63," ",1,"","","","","","","","","","","","","","","","",null,"","","","","","","","","     16.00             -1.5833    0.8734    7.0099    3.3772     1.089     1.089",0,"16.00 -1.5833 0.8734 7.0099 3.3772 1.089 1.089","16,00","-1.5833 0.8734 7.0099 3.3772 1.089 1.089","-1,5833","0.8734 7.0099 3.3772 1.089 1.089","0,8734","7.0099 3.3772 1.089 1.089","7,0099","3.3772 1.089 1.089","3,3772","1.089 1.089","1,089","1.089","1,089",null,{"v":16,"d":"16.00"},-1.5833,0.8734,7.0099,3.3772,1.089,1.089," ",1,"","","","","","","","","","","","","","",null,"","","","","","","","     16.00     13.89     19.47     45.74     29.74      1.20      0.65    -14.22    -14.22",0,"16.00 13.89 19.47 45.74 29.74 1.20 0.65 -14.22 -14.22","16,00","13.89 19.47 45.74 29.74 1.20 0.65 -14.22 -14.22","13,89","19.47 45.74 29.74 1.20 0.65 -14.22 -14.22","19,47","45.74 29.74 1.20 0.65 -14.22 -14.22","45,74","29.74 1.20 0.65 -14.22 -14.22","29,74","1.20 0.65 -14.22 -14.22","1,20","0.65 -14.22 -14.22","0,65","-14.22 -14.22","-14,22","-14.22","-14,22",null,{"v":16,"d":"16.00"},13.89,19.47,45.74,29.74,{"v":1.2,"d":"1.20"},0.65,-14.22,-14.22," ",1,"","","","","","","","","","","","","","","","",null,"","","","","","","","",null,0,0,0,0,0,0,0,0,0,0,0,0,0,0,0,0,0,0]
[null,"     17.00             -1.1318   -1.4564    3.7846   12.1582     1.083     1.083",{"$nulls":5},"      8.00               -8.58      5.20     -0.15     -1.05    514.84  13580.48",null,null,"     17.00     20.05      0.00     26.91      9.91      0.60      0.00    -15.55    -15.55",{"$nulls":15},"     17.00             -1.6188    0.8752    7.0039    3.4125     1.085     1.085",{"$nulls":5},"     17.00     13.81     19.25     44.67     27.67      1.24      0.68    -15.14    -15.14",{"$nulls":80},"     17.00             -1.1318   -1.4564    3.7846   12.1582     1.083     1.083",0,"17.00 -1.1318 -1.4564 3.7846 12.1582 1.083 1.083","17,00","-1.1318 -1.4564 3.7846 12.1582 1.083 1.083","-1,1318","-1.4564 3.7846 12.1582 1.083 1.083","-1,4564","3.7846 12.1582 1.083 1.083","3,7846","12.1582 1.083 1.083","12,1582","1.083 1.083","1,083","1.083","1,083",null,{"v":17,"d":"17.00"},-1.1318,-1.4564,3.7846,12.1582,1.083,1.083," ",1,"","","","","","","","","","","","","","",null,"","","","","","","","      8.00               -8.58      5.20     -0.15     -1.05    514.84  13580.48",0,"8.00 -8.58 5.20 -0.15 -1.05 514.84 13580.48","8,00","-8.58 5.20 -0.15 -1.05 514.84 13580.48","-8,58","5.20 -0.15 -1.05 514.84 13580.48","5,20","-0.15 -1.05 514.84 13580.48","-0,15","-1.05 514.84 13580.48","-1,05","514.84 13580.48","514,84","13580.48","13580,48",null,{"v":8,"d":"8.00"},-8.58,5.2,-0.15,-1.05,514.84,13580.48,"     17.00     20.05      0.00     26.91      9.91      0.60      0.00    -15.55    -15.55",0,"17.00 20.05 0.00 26.91 9.91 0.60 0.00 -15.55 -15.55","17,00","20.05 0.00 26.91 9.91 0.60 0.00 -15.55 -15.55","20,05","0.00 26.91 9.91 0.60 0.00 -15.55 -15.55","0,00","26.91 9.91 0.60 0.00 -15.55 -15.55","26,91","9.91 0.60 0.00 -15.55 -15.55","9,91","0.60 0.00 -15.55 -15.55","0,60","0.00 -15.55 -15.55","0,00","-15.55 -15.55","-15,55","-15.55","-15,55",null,{"v":17,"d":"17.00"},20.05,{"v":0,"d":"0.00"},26.91,9.91,{"v":0.6,"d":"0.60"},{"v":0,"d":"0.00"},-15.55,-15.55," ",1,"","","","","","","","","","","","","","","","",null,"","","","","","","","","     17.00             -1.6188    0.8752    7.0039    3.4125     1.085     1.085",0,"17.00 -1.6188 0.8752 7.0039 3.4125 1.085 1.085","17,00","-1.6188 0.8752 7.0039 3.4125 1.085 1.085","-1,6188","0.8752 7.0039 3.4125 1.085 1.085","0,8752","7.0039 3.4125 1.085 1.085","7,0039","3.4125 1.085 1.085","3,4125","1.085 1.085","1,085","1.085","1,085",null,{"v":17,"d":"17.00"},-1.6188,0.8752,7.0039,3.4125,1.085,1.085," ",1,"","","","","","","","","","","","","","",null,"","","","","","","","     17.00     13.81     19.25     44.67     27.67      1.24      0.68    -15.14    -15.14",0,"17.00 13.81 19.25 44.67 27.67 1.24 0.68 -15.14 -15.14","17,00","13.81 19.25 44.67 27.67 1.24 0.68 -15.14 -15.14","13,81","19.25 44.67 27.67 1.24 0.68 -15.14 -15.14","19,25","44.67 27.67 1.24 0.68 -15.14 -15.14","44,67","27.67 1.24 0.68 -15.14 -15.14","27,67","1.24 0.68 -15.14 -15.14","1,24","0.68 -15.14 -15.14","0,68","-15.14 -15.14","-15,14","-15.14","-15,14",null,{"v":17,"d":"17.00"},13.81,19.25,44.67,27.67,1.24,0.68,-15.14,-15.14," ",1,"","","","","","","","","","","","","","","","",null,"","","","","","","","",null,0,0,0,0,0,0,0,0,0,0,0,0,0,0,0,0,0,0]
[null,"     18.00             -1.1586   -1.4488    3.8061   12.1853     1.082     1.082",{"$nulls":5},"      9.00               -9.47      6.03     -0.07     -1.08    413.33  11908.67",null,null,"     18.00     20.12      0.00     26.29      8.29      0.61      0.00    -16.48    -16.48",{"$nulls":15},"     18.00             -1.6543    0.8771    6.9978    3.4479     1.081     1.081",{"$nulls":5},"     18.00     13.74     19.03     43.60     25.60      1.28      0.72    -16.07    -16.07",{"$nulls":80},"     18.00             -1.1586   -1.4488    3.8061   12.1853     1.082     1.082",0,"18.00 -1.1586 -1.4488 3.8061 12.1853 1.082 1.082","18,00","-1.1586 -1.4488 3.8061 12.1853 1.082 1.082","-1,1586","-1.4488 3.8061 12.1853 1.082 1.082","-1,4488","3.8061 12.1853 1.082 1.082","3,8061","12.1853 1.082 1.082","12,1853","1.082 1.082","1,082","1.082","1,082",null,{"v":18,"d":"18.00"},-1.1586,-1.4488,3.8061,12.1853,1.082,1.082," ",1,"","","","","","","","","","","","","","",null,"","","","","","","","      9.00               -9.47      6.03     -0.07     -1.08    413.33  11908.67",0,"9.00 -9.47 6.03 -0.07 -1.08 413.33 11908.67","9,00","-9.47 6.03 -0.07 -1.08 413.33 11908.67","-9,47","6.03 -0.07 -1.08 413.33 11908.67","6,03","-0.07 -1.08 413.33 11908.67","-0,07","-1.08 413.33 11908.67","-1,08","413.33 11908.67","413,33","11908.67","11908,67",null,{"v":9,"d":"9.00"},-9.47,6.03,-0.07,-1.08,413.33,11908.67,"     18.00     20.12      0.00     26.29      8.29      0.61      0.00    -16.48    -16.48",0,"18.00 20.12 0.00 26.29 8.29 0.61 0.00 -16.48 -16.48","18,00","20.12 0.00 26.29 8.29 0.61 0.00 -16.48 -16.48","20,12","0.00 26.29 8.29 0.61 0.00 -16.48 -16.48","0,00","26.29 8.29 0.61 0.00 -16.48 -16.48","26,29","8.29 0.61 0.00 -16.48 -16.48","8,29","0.61 0.00 -16.48 -16.48","0,61","0.00 -16.48 -16.48","0,00","-16.48 -16.48","-16,48","-16.48","-16,48",null,{"v":18,"d":"18.00"},20.12,{"v":0,"d":"0.00"},26.29,8.29,0.61,{"v":0,"d":"0.00"},-16.48,-16.48," ",1,"","","","","","","","","","","","","","","","",null,"","","","","","","","","     18.00             -1.6543    0.8771    6.9978    3.4479     1.081     1.081",0,"18.00 -1.6543 0.8771 6.9978 3.4479 1.081 1.081","18,00","-1.6543 0.8771 6.9978 3.4479 1.081 1.081","-1,6543","0.8771 6.9978 3.4479 1.081 1.081","0,8771","6.9978 3.4479 1.081 1.081","6,9978","3.4479 1.081 1.081","3,4479","1.081 1.081","1,081","1.081","1,081",null,{"v":18,"d":"18.00"},-1.6543,0.8771,6.9978,3.4479,1.081,1.081," ",1,"","","","","","","","","","","","","","",null,"","","","","","","","     18.00     13.74     19.03     43.60     25.60      1.28      0.72    -16.07    -16.07",0,"18.00 13.74 19.03 43.60 25.60 1.28 0.72 -16.07 -16.07","18,00","13.74 19.03 43.60 25.60 1.28 0.72 -16.07 -16.07","13,74","19.03 43.60 25.60 1.28 0.72 -16.07 -16.07","19,03","43.60 25.60 1.28 0.72 -16.07 -16.07","43,60","25.60 1.28 0.72 -16.07 -16.07","25,60","1.28 0.72 -16.07 -16.07","1,28","0.72 -16.07 -16.07","0,72","-16.07 -16.07","-16,07","-16.07","-16,07",null,{"v":18,"d":"18.00"},13.74,19.03,{"v":43.6,"d":"43.60"},{"v":25.6,"d":"25.60"},1.28,0.72,-16.07,-16.07," ",1,"","","","","","","","","","","","","","","","",null,"","","","","","","","",null,0,0,0,0,0,0,0,0,0,0,0,0,0,0,0,0,0,0]
[null,"     19.00             -1.1855   -1.4411    3.8275   12.2125     1.082     1.082",{"$nulls":5},"     10.00              -10.37      6.87      0.02     -1.11    340.85  10606.96",null,null,"     19.00     20.19      0.00     25.67      6.67      0.62      0.00    -17.40    -17.40",{"$nulls":15},"     19.00             -1.6898    0.8790    6.9918    3.4832     1.078     1.078",{"$nulls":5},"     19.00     13.66     18.81     42.53     23.53      1.32      0.75    -16.99    -16.99",{"$nulls":80},"     19.00             -1.1855   -1.4411    3.8275   12.2125     1.082     1.082",0,"19.00 -1.1855 -1.4411 3.8275 12.2125 1.082 1.082","19,00","-1.1855 -1.4411 3.8275 12.2125 1.082 1.082","-1,1855","-1.4411 3.8275 12.2125 1.082 1.082","-1,4411","3.8275 12.2125 1.082 1.082","3,8275","12.2125 1.082 1.082","12,2125","1.082 1.082","1,082","1.082","1,082",null,{"v":19,"d":"19.00"},-1.1855,-1.4411,3.8275,12.2125,1.082,1.082," ",1,"","","","","","","","","","","","","","",null,"","","","","","","","     10.00              -10.37      6.87      0.02     -1.11    340.85  10606.96",0,"10.00 -10.37 6.87 0.02 -1.11 340.85 10606.96","10,00","-10.37 6.87 0.02 -1.11 340.85 10606.96","-10,37","6.87 0.02 -1.11 340.85 10606.96","6,87","0.02 -1.11 340.85 10606.96","0,02","-1.11 340.85 10606.96","-1,11","340.85 10606.96","340,85","10606.96","10606,96",null,{"v":10,"d":"10.00"},-10.37,6.87,0.02,-1.11,340.85,10606.96,"     19.00     20.19      0.00     25.67      6.67      0.62      0.00    -17.40    -17.40",0,"19.00 20.19 0.00 25.67 6.67 0.62 0.00 -17.40 -17.40","19,00","20.19 0.00 25.67 6.67 0.62 0.00 -17.40 -17.40","20,19","0.00 25.67 6.67 0.62 0.00 -17.40 -17.40","0,00","25.67 6.67 0.62 0.00 -17.40 -17.40","25,67","6.67 0.62 0.00 -17.40 -17.40","6,67","0.62 0.00 -17.40 -17.40","0,62","0.00 -17.40 -17.40","0,00","-17.40 -17.40","-17,40","-17.40","-17,40",null,{"v":19,"d":"19.00"},20.19,{"v":0,"d":"0.00"},25.67,6.67,0.62,{"v":0,"d":"0.00"},{"v":-17.4,"d":"-17.40"},{"v":-17.4,"d":"-17.40"}," ",1,"","","","","","","","","","","","","","","","",null,"","","","","","","","","     19.00             -1.6898    0.8790    6.9918    3.4832     1.078     1.078",0,"19.00 -1.6898 0.8790 6.9918 3.4832 1.078 1.078","19,00","-1.6898 0.8790 6.9918 3.4832 1.078 1.078","-1,6898","0.8790 6.9918 3.4832 1.078 1.078","0,8790","6.9918 3.4832 1.078 1.078","6,9918","3.4832 1.078 1.078","3,4832","1.078 1.078","1,078","1.078","1,078",null,{"v":19,"d":"19.00"},-1.6898,0.879,6.9918,3.4832,1.078,1.078," ",1,"","","","","","","","","","","","","","",null,"","","","","","","","     19.00     13.66     18.81     42.53     23.53      1.32      0.75    -16.99    -16.99",0,"19.00 13.66 18.81 42.53 23.53 1.32 0.75 -16.99 -16.99","19,00","13.66 18.81 42.53 23.53 1.32 0.75 -16.99 -16.99","13,66","18.81 42.53 23.53 1.32 0.75 -16.99 -16.99","18,81","42.53 23.53 1.32 0.75 -16.99 -16.99","42,53","23.53 1.32 0.75 -16.99 -16.99","23,53","1.32 0.75 -16.99 -16.99","1,32","0.75 -16.99 -16.99","0,75","-16.99 -16.99","-16,99","-16.99","-16,99",null,{"v":19,"d":"19.00"},13.66,18.81,42.53,23.53,1.32,0.75,-16.99,-16.99," ",1,"","","","","","","","","","","","","","","","",null,"","","","","","","","",null,0,0,0,0,0,0,0,0,0,0,0,0,0,0,0,0,0,0]
[null,"     20.00             -1.2125   -1.4334    3.8489   12.2397     1.081     1.081",{"$nulls":5},"     11.00              -11.28      7.70      0.11     -1.14    287.29   9561.79",null,null,"     20.00     20.26      0.00     25.06      5.06      0.63      0.00    -18.33    -18.33",{"$nulls":15},"     20.00             -1.7254    0.8810    6.9857    3.5187     1.074     1.074",{"$nulls":5},"     20.00     13.59     18.59     41.47     21.47      1.36      0.79    -17.92    -17.92",{"$nulls":80},"     20.00             -1.2125   -1.4334    3.8489   12.2397     1.081     1.081",0,"20.00 -1.2125 -1.4334 3.8489 12.2397 1.081 1.081","20,00","-1.2125 -1.4334 3.8489 12.2397 1.081 1.081","-1,2125","-1.4334 3.8489 12.2397 1.081 1.081","-1,4334","3.8489 12.2397 1.081 1.081","3,8489","12.2397 1.081 1.081","12,2397","1.081 1.081","1,081","1.081","1,081",null,{"v":20,"d":"20.00"},-1.2125,-1.4334,3.8489,12.2397,1.081,1.081," ",1,"","","","","","","","","","","","","","",null,"","","","","","","","     11.00              -11.28      7.70      0.11     -1.14    287.29   9561.79",0,"11.00 -11.28 7.70 0.11 -1.14 287.29 9561.79","11,00","-11.28 7.70 0.11 -1.14 287.29 9561.79","-11,28","7.70 0.11 -1.14 287.29 9561.79","7,70","0.11 -1.14 287.29 9561.79","0,11","-1.14 287.29 9561.79","-1,14","287.29 9561.79","287,29","9561.79","9561,79",null,{"v":11,"d":"11.00"},-11.28,7.7,0.11,-1.14,287.29,9561.79,"     20.00     20.26      0.00     25.06      5.06      0.63      0.00    -18.33    -18.33",0,"20.00 20.26 0.00 25.06 5.06 0.63 0.00 -18.33 -18.33","20,00","20.26 0.00 25.06 5.06 0.63 0.00 -18.33 -18.33","20,26","0.00 25.06 5.06 0.63 0.00 -18.33 -18.33","0,00","25.06 5.06 0.63 0.00 -18.33 -18.33","25,06","5.06 0.63 0.00 -18.33 -18.33","5,06","0.63 0.00 -18.33 -18.33","0,63","0.00 -18.33 -18.33","0,00","-18.33 -18.33","-18,33","-18.33","-18,33",null,{"v":20,"d":"20.00"},20.26,{"v":0,"d":"0.00"},25.06,5.06,0.63,{"v":0,"d":"0.00"},-18.33,-18.33," ",1,"","","","","","","","","","","","","","","","",null,"","","","","","","","","     20.00             -1.7254    0.8810    6.9857    3.5187     1.074     1.074",0,"20.00 -1.7254 0.8810 6.9857 3.5187 1.074 1.074","20,00","-1.7254 0.8810 6.9857 3.5187 1.074 1.074","-1,7254","0.8810 6.9857 3.5187 1.074 1.074","0,8810","6.9857 3.5187 1.074 1.074","6,9857","3.5187 1.074 1.074","3,5187","1.074 1.074","1,074","1.074","1,074",null,{"v":20,"d":"20.00"},-1.7254,0.881,6.9857,3.5187,1.074,1.074," ",1,"","","","","","","","","","","","","","",null,"","","","","","","","     20.00     13.59     18.59     41.47     21.47      1.36      0.79    -17.92    -17.92",0,"20.00 13.59 18.59 41.47 21.47 1.36 0.79 -17.92 -17.92","20,00","13.59 18.59 41.47 21.47 1.36 0.79 -17.92 -17.92","13,59","18.59 41.47 21.47 1.36 0.79 -17.92 -17.92","18,59","41.47 21.47 1.36 0.79 -17.92 -17.92","41,47","21.47 1.36 0.79 -17.92 -17.92","21,47","1.36 0.79 -17.92 -17.92","1,36","0.79 -17.92 -17.92","0,79","-17.92 -17.92","-17,92","-17.92","-17,92",null,{"v":20,"d":"20.00"},13.59,18.59,41.47,21.47,1.36,0.79,-17.92,-17.92," ",1,"","","","","","","","","","","","","","","","",null,"","","","","","","","",null,0,0,0,0,0,0,0,0,0,0,0,0,0,0,0,0,0,0]
[null,"     21.00             -1.2396   -1.4257    3.8703   12.2670     1.080     1.080",{"$nulls":5},"     12.00              -12.20      8.53      0.20     -1.17    246.63   8702.29",null,null,"     21.00     20.33      0.00     24.44      3.44      0.63      0.00    -19.25    -19.25",{"$nulls":15},"     21.00             -1.7610    0.8831    6.9796    3.5541     1.070     1.070",{"$nulls":5},"     21.00     13.51     18.37     40.40     19.40      1.39      0.82    -18.86    -18.86",{"$nulls":80},"     21.00             -1.2396   -1.4257    3.8703   12.2670     1.080     1.080",0,"21.00 -1.2396 -1.4257 3.8703 12.2670 1.080 1.080","21,00","-1.2396 -1.4257 3.8703 12.2670 1.080 1.080","-1,2396","-1.4257 3.8703 12.2670 1.080 1.080","-1,4257","3.8703 12.2670 1.080 1.080","3,8703","12.2670 1.080 1.080","12,2670","1.080 1.080","1,080","1.080","1,080",null,{"v":21,"d":"21.00"},-1.2396,-1.4257,3.8703,12.267,1.08,1.08," ",1,"","","","","","","","","","","","","","",null,"","","","","","","","     12.00              -12.20      8.53      0.20     -1.17    246.63   8702.29",0,"12.00 -12.20 8.53 0.20 -1.17 246.63 8702.29","12,00","-12.20 8.53 0.20 -1.17 246.63 8702.29","-12,20","8.53 0.20 -1.17 246.63 8702.29","8,53","0.20 -1.17 246.63 8702.29","0,20","-1.17 246.63 8702.29","-1,17","246.63 8702.29","246,63","8702.29","8702,29",null,{"v":12,"d":"12.00"},-12.2,8.53,0.2,-1.17,246.63,8702.29,"     21.00     20.33      0.00     24.44      3.44      0.63      0.00    -19.25    -19.25",0,"21.00 20.33 0.00 24.44 3.44 0.63 0.00 -19.25 -19.25","21,00","20.33 0.00 24.44 3.44 0.63 0.00 -19.25 -19.25","20,33","0.00 24.44 3.44 0.63 0.00 -19.25 -19.25","0,00","24.44 3.44 0.63 0.00 -19.25 -19.25","24,44","3.44 0.63 0.00 -19.25 -19.25","3,44","0.63 0.00 -19.25 -19.25","0,63","0.00 -19.25 -19.25","0,00","-19.25 -19.25","-19,25","-19.25","-19,25",null,{"v":21,"d":"21.00"},20.33,{"v":0,"d":"0.00"},24.44,3.44,0.63,{"v":0,"d":"0.00"},-19.25,-19.25," ",1,"","","","","","","","","","","","","","","","",null,"","","","","","","","","     21.00             -1.7610    0.8831    6.9796    3.5541     1.070     1.070",0,"21.00 -1.7610 0.8831 6.9796 3.5541 1.070 1.070","21,00","-1.7610 0.8831 6.9796 3.5541 1.070 1.070","-1,7610","0.8831 6.9796 3.5541 1.070 1.070","0,8831","6.9796 3.5541 1.070 1.070","6,9796","3.5541 1.070 1.070","3,5541","1.070 1.070","1,070","1.070","1,070",null,{"v":21,"d":"21.00"},-1.761,0.8831,6.9796,3.5541,1.07,1.07," ",1,"","","","","","","","","","","","","","",null,"","","","","","","","     21.00     13.51     18.37     40.40     19.40      1.39      0.82    -18.86    -18.86",0,"21.00 13.51 18.37 40.40 19.40 1.39 0.82 -18.86 -18.86","21,00","13.51 18.37 40.40 19.40 1.39 0.82 -18.86 -18.86","13,51","18.37 40.40 19.40 1.39 0.82 -18.86 -18.86","18,37","40.40 19.40 1.39 0.82 -18.86 -18.86","40,40","19.40 1.39 0.82 -18.86 -18.86","19,40","1.39 0.82 -18.86 -18.86","1,39","0.82 -18.86 -18.86","0,82","-18.86 -18.86","-18,86","-18.86","-18,86",null,{"v":21,"d":"21.00"},13.51,18.37,{"v":40.4,"d":"40.40"},{"v":19.4,"d":"19.40"},1.39,0.82,-18.86,-18.86," ",1,"","","","","","","","","","","","","","","","",null,"","","","","","","","",null,0,0,0,0,0,0,0,0,0,0,0,0,0,0,0,0,0,0]
[null,"     22.00             -1.2667   -1.4179    3.8917   12.2944     1.080     1.080",{"$nulls":5},"     13.00              -13.12      9.36      0.30     -1.20    215.03   7981.80",null,null,"     22.00     20.41      0.00     23.82      1.82      0.64      0.00    -20.18    -20.18",{"$nulls":15},"     22.00             -1.7967    0.8852    6.9735    3.5896     1.067     1.067",{"$nulls":5},"     22.00     13.43     18.14     39.34     17.34      1.42      0.86    -19.79    -19.79",{"$nulls":80},"     22.00             -1.2667   -1.4179    3.8917   12.2944     1.080     1.080",0,"22.00 -1.2667 -1.4179 3.8917 12.2944 1.080 1.080","22,00","-1.2667 -1.4179 3.8917 12.2944 1.080 1.080","-1,2667","-1.4179 3.8917 12.2944 1.080 1.080","-1,4179","3.8917 12.2944 1.080 1.080","3,8917","12.2944 1.080 1.080","12,2944","1.080 1.080","1,080","1.080","1,080",null,{"v":22,"d":"22.00"},-1.2667,-1.4179,3.8917,12.2944,1.08,1.08," ",1,"","","","","","","","","","","","","","",null,"","","","","","","","     13.00              -13.12      9.36      0.30     -1.20    215.03   7981.80",0,"13.00 -13.12 9.36 0.30 -1.20 215.03 7981.80","13,00","-13.12 9.36 0.30 -1.20 215.03 7981.80","-13,12","9.36 0.30 -1.20 215.03 7981.80","9,36","0.30 -1.20 215.03 7981.80","0,30","-1.20 215.03 7981.80","-1,20","215.03 7981.80","215,03","7981.80","7981,80",null,{"v":13,"d":"13.00"},-13.12,9.36,0.3,-1.2,215.03,7981.8,"     22.00     20.41      0.00     23.82      1.82      0.64      0.00    -20.18    -20.18",0,"22.00 20.41 0.00 23.82 1.82 0.64 0.00 -20.18 -20.18","22,00","20.41 0.00 23.82 1.82 0.64 0.00 -20.18 -20.18","20,41","0.00 23.82 1.82 0.64 0.00 -20.18 -20.18","0,00","23.82 1.82 0.64 0.00 -20.18 -20.18","23,82","1.82 0.64 0.00 -20.18 -20.18","1,82","0.64 0.00 -20.18 -20.18","0,64","0.00 -20.18 -20.18","0,00","-20.18 -20.18","-20,18","-20.18","-20,18",null,{"v":22,"d":"22.00"},20.41,{"v":0,"d":"0.00"},23.82,1.82,0.64,{"v":0,"d":"0.00"},-20.18,-20.18," ",1,"","","","","","","","","","","","","","","","",null,"","","","","","","","","     22.00             -1.7967    0.8852    6.9735    3.5896     1.067     1.067",0,"22.00 -1.7967 0.8852 6.9735 3.5896 1.067 1.067","22,00","-1.7967 0.8852 6.9735 3.5896 1.067 1.067","-1,7967","0.8852 6.9735 3.5896 1.067 1.067","0,8852","6.9735 3.5896 1.067 1.067","6,9735","3.5896 1.067 1.067","3,5896","1.067 1.067","1,067","1.067","1,067",null,{"v":22,"d":"22.00"},-1.7967,0.8852,6.9735,3.5896,1.067,1.067," ",1,"","","","","","","","","","","","","","",null,"","","","","","","","     22.00     13.43     18.14     39.34     17.34      1.42      0.86    -19.79    -19.79",0,"22.00 13.43 18.14 39.34 17.34 1.42 0.86 -19.79 -19.79","22,00","13.43 18.14 39.34 17.34 1.42 0.86 -19.79 -19.79","13,43","18.14 39.34 17.34 1.42 0.86 -19.79 -19.79","18,14","39.34 17.34 1.42 0.86 -19.79 -19.79","39,34","17.34 1.42 0.86 -19.79 -19.79","17,34","1.42 0.86 -19.79 -19.79","1,42","0.86 -19.79 -19.79","0,86","-19.79 -19.79","-19,79","-19.79","-19,79",null,{"v":22,"d":"22.00"},13.43,18.14,39.34,17.34,1.42,0.86,-19.79,-19.79," ",1,"","","","","","","","","","","","","","","","",null,"","","","","","","","",null,0,0,0,0,0,0,0,0,0,0,0,0,0,0,0,0,0,0]
[null,"     23.00             -1.2940   -1.4100    3.9132   12.3218     1.079     1.079",{"$nulls":5},"     14.00              -14.04     10.19      0.40     -1.22    190.00   7368.24",null,null,"     23.00     20.48      0.00     23.20      0.20      0.63      0.00    -21.10    -21.10",{"$nulls":15},"     23.00             -1.8325    0.8875    6.9675    3.6252     1.064     1.064",{"$nulls":5},"     23.00     13.36     17.92     38.28     15.28      1.45      0.89    -20.73    -20.73",{"$nulls":80},"     23.00             -1.2940   -1.4100    3.9132   12.3218     1.079     1.079",0,"23.00 -1.2940 -1.4100 3.9132 12.3218 1.079 1.079","23,00","-1.2940 -1.4100 3.9132 12.3218 1.079 1.079","-1,2940","-1.4100 3.9132 12.3218 1.079 1.079","-1,4100","3.9132 12.3218 1.079 1.079","3,9132","12.3218 1.079 1.079","12,3218","1.079 1.079","1,079","1.079","1,079",null,{"v":23,"d":"23.00"},-1.294,-1.41,3.9132,12.3218,1.079,1.079," ",1,"","","","","","","","","","","","","","",null,"","","","","","","","     14.00              -14.04     10.19      0.40     -1.22    190.00   7368.24",0,"14.00 -14.04 10.19 0.40 -1.22 190.00 7368.24","14,00","-14.04 10.19 0.40 -1.22 190.00 7368.24","-14,04","10.19 0.40 -1.22 190.00 7368.24","10,19","0.40 -1.22 190.00 7368.24","0,40","-1.22 190.00 7368.24","-1,22","190.00 7368.24","190,00","7368.24","7368,24",null,{"v":14,"d":"14.00"},-14.04,10.19,0.4,-1.22,190,7368.24,"     23.00     20.48      0.00     23.20      0.20      0.63      0.00    -21.10    -21.10",0,"23.00 20.48 0.00 23.20 0.20 0.63 0.00 -21.10 -21.10","23,00","20.48 0.00 23.20 0.20 0.63 0.00 -21.10 -21.10","20,48","0.00 23.20 0.20 0.63 0.00 -21.10 -21.10","0,00","23.20 0.20 0.63 0.00 -21.10 -21.10","23,20","0.20 0.63 0.00 -21.10 -21.10","0,20","0.63 0.00 -21.10 -21.10","0,63","0.00 -21.10 -21.10","0,00","-21.10 -21.10","-21,10","-21.10","-21,10",null,{"v":23,"d":"23.00"},20.48,{"v":0,"d":"0.00"},{"v":23.2,"d":"23.20"},{"v":0.2,"d":"0.20"},0.63,{"v":0,"d":"0.00"},{"v":-21.1,"d":"-21.10"},{"v":-21.1,"d":"-21.10"}," ",1,"","","","","","","","","","","","","","","","",null,"","","","","","","","","     23.00             -1.8325    0.8875    6.9675    3.6252     1.064     1.064",0,"23.00 -1.8325 0.8875 6.9675 3.6252 1.064 1.064","23,00","-1.8325 0.8875 6.9675 3.6252 1.064 1.064","-1,8325","0.8875 6.9675 3.6252 1.064 1.064","0,8875","6.9675 3.6252 1.064 1.064","6,9675","3.6252 1.064 1.064","3,6252","1.064 1.064","1,064","1.064","1,064",null,{"v":23,"d":"23.00"},-1.8325,0.8875,6.9675,3.6252,1.064,1.064," ",1,"","","","","","","","","","","","","","",null,"","","","","","","","     23.00     13.36     17.92     38.28     15.28      1.45      0.89    -20.73    -20.73",0,"23.00 13.36 17.92 38.28 15.28 1.45 0.89 -20.73 -20.73","23,00","13.36 17.92 38.28 15.28 1.45 0.89 -20.73 -20.73","13,36","17.92 38.28 15.28 1.45 0.89 -20.73 -20.73","17,92","38.28 15.28 1.45 0.89 -20.73 -20.73","38,28","15.28 1.45 0.89 -20.73 -20.73","15,28","1.45 0.89 -20.73 -20.73","1,45","0.89 -20.73 -20.73","0,89","-20.73 -20.73","-20,73","-20.73","-20,73",null,{"v":23,"d":"23.00"},13.36,17.92,38.28,15.28,1.45,0.89,-20.73,-20.73," ",1,"","","","","","","","","","","","","","","","",null,"","","","","","","","",null,0,0,0,0,0,0,0,0,0,0,0,0,0,0,0,0,0,0]
[null,"     24.00             -1.3213   -1.4021    3.9346   12.3493     1.079     1.079",{"$nulls":5},"     15.00              -14.98     11.01      0.51     -1.24    169.85   6838.80",null,null,"     24.00     20.55      0.00     22.59     -1.41      0.63      0.00    -22.03    -22.03",{"$nulls":15},"     24.00             -1.8682    0.8897    6.9614    3.6608     1.061     1.061",{"$nulls":5},"     24.00     13.28     17.69     37.21     13.21      1.47      0.92    -21.67    -21.67",{"$nulls":80},"     24.00             -1.3213   -1.4021    3.9346   12.3493     1.079     1.079",0,"24.00 -1.3213 -1.4021 3.9346 12.3493 1.079 1.079","24,00","-1.3213 -1.4021 3.9346 12.3493 1.079 1.079","-1,3213","-1.4021 3.9346 12.3493 1.079 1.079","-1,4021","3.9346 12.3493 1.079 1.079","3,9346","12.3493 1.079 1.079","12,3493","1.079 1.079","1,079","1.079","1,079",null,{"v":24,"d":"24.00"},-1.3213,-1.4021,3.9346,12.3493,1.079,1.079," ",1,"","","","","","","","","","","","","","",null,"","","","","","","","     15.00              -14.98     11.01      0.51     -1.24    169.85   6838.80",0,"15.00 -14.98 11.01 0.51 -1.24 169.85 6838.80","15,00","-14.98 11.01 0.51 -1.24 169.85 6838.80","-14,98","11.01 0.51 -1.24 169.85 6838.80","11,01","0.51 -1.24 169.85 6838.80","0,51","-1.24 169.85 6838.80","-1,24","169.85 6838.80","169,85","6838.80","6838,80",null,{"v":15,"d":"15.00"},-14.98,11.01,0.51,-1.24,169.85,6838.8,"     24.00     20.55      0.00     22.59     -1.41      0.63      0.00    -22.03    -22.03",0,"24.00 20.55 0.00 22.59 -1.41 0.63 0.00 -22.03 -22.03","24,00","20.55 0.00 22.59 -1.41 0.63 0.00 -22.03 -22.03","20,55","0.00 22.59 -1.41 0.63 0.00 -22.03 -22.03","0,00","22.59 -1.41 0.63 0.00 -22.03 -22.03","22,59","-1.41 0.63 0.00 -22.03 -22.03","-1,41","0.63 0.00 -22.03 -22.03","0,63","0.00 -22.03 -22.03","0,00","-22.03 -22.03","-22,03","-22.03","-22,03",null,{"v":24,"d":"24.00"},20.55,{"v":0,"d":"0.00"},22.59,-1.41,0.63,{"v":0,"d":"0.00"},-22.03,-22.03," ",1,"","","","","","","","","","","","","","","","",null,"","","","","","","","","     24.00             -1.8682    0.8897    6.9614    3.6608     1.061     1.061",0,"24.00 -1.8682 0.8897 6.9614 3.6608 1.061 1.061","24,00","-1.8682 0.8897 6.9614 3.6608 1.061 1.061","-1,8682","0.8897 6.9614 3.6608 1.061 1.061","0,8897","6.9614 3.6608 1.061 1.061","6,9614","3.6608 1.061 1.061","3,6608","1.061 1.061","1,061","1.061","1,061",null,{"v":24,"d":"24.00"},-1.8682,0.8897,6.9614,3.6608,1.061,1.061," ",1,"","","","","","","","","","","","","","",null,"","","","","","","","     24.00     13.28     17.69     37.21     13.21      1.47      0.92    -21.67    -21.67",0,"24.00 13.28 17.69 37.21 13.21 1.47 0.92 -21.67 -21.67","24,00","13.28 17.69 37.21 13.21 1.47 0.92 -21.67 -21.67","13,28","17.69 37.21 13.21 1.47 0.92 -21.67 -21.67","17,69","37.21 13.21 1.47 0.92 -21.67 -21.67","37,21","13.21 1.47 0.92 -21.67 -21.67","13,21","1.47 0.92 -21.67 -21.67","1,47","0.92 -21.67 -21.67","0,92","-21.67 -21.67","-21,67","-21.67","-21,67",null,{"v":24,"d":"24.00"},13.28,17.69,37.21,13.21,1.47,0.92,-21.67,-21.67," ",1,"","","","","","","","","","","","","","","","",null,"","","","","","","","",null,0,0,0,0,0,0,0,0,0,0,0,0,0,0,0,0,0,0]
[null,"     25.00             -1.3487   -1.3942    3.9561   12.3769     1.079     1.079",{"$nulls":5},"     16.00              -15.92     11.84      0.62     -1.26    153.39   6376.79",null,null,"     25.00     20.63      0.00     21.97     -3.03      0.63      0.00    -22.96    -22.96",{"$nulls":15},"     25.00             -1.9041    0.8921    6.9553    3.6964     1.058     1.058",{"$nulls":5},"     25.00     13.20     17.46     36.15     11.15      1.49      0.95    -22.62    -22.62",{"$nulls":80},"     25.00             -1.3487   -1.3942    3.9561   12.3769     1.079     1.079",0,"25.00 -1.3487 -1.3942 3.9561 12.3769 1.079 1.079","25,00","-1.3487 -1.3942 3.9561 12.3769 1.079 1.079","-1,3487","-1.3942 3.9561 12.3769 1.079 1.079","-1,3942","3.9561 12.3769 1.079 1.079","3,9561","12.3769 1.079 1.079","12,3769","1.079 1.079","1,079","1.079","1,079",null,{"v":25,"d":"25.00"},-1.3487,-1.3942,3.9561,12.3769,1.079,1.079," ",1,"","","","","","","","","","","","","","",null,"","","","","","","","     16.00              -15.92     11.84      0.62     -1.26    153.39   6376.79",0,"16.00 -15.92 11.84 0.62 -1.26 153.39 6376.79","16,00","-15.92 11.84 0.62 -1.26 153.39 6376.79","-15,92","11.84 0.62 -1.26 153.39 6376.79","11,84","0.62 -1.26 153.39 6376.79","0,62","-1.26 153.39 6376.79","-1,26","153.39 6376.79","153,39","6376.79","6376,79",null,{"v":16,"d":"16.00"},-15.92,11.84,0.62,-1.26,153.39,6376.79,"     25.00     20.63      0.00     21.97     -3.03      0.63      0.00    -22.96    -22.96",0,"25.00 20.63 0.00 21.97 -3.03 0.63 0.00 -22.96 -22.96","25,00","20.63 0.00 21.97 -3.03 0.63 0.00 -22.96 -22.96","20,63","0.00 21.97 -3.03 0.63 0.00 -22.96 -22.96","0,00","21.97 -3.03 0.63 0.00 -22.96 -22.96","21,97","-3.03 0.63 0.00 -22.96 -22.96","-3,03","0.63 0.00 -22.96 -22.96","0,63","0.00 -22.96 -22.96","0,00","-22.96 -22.96","-22,96","-22.96","-22,96",null,{"v":25,"d":"25.00"},20.63,{"v":0,"d":"0.00"},21.97,-3.03,0.63,{"v":0,"d":"0.00"},-22.96,-22.96," ",1,"","","","","","","","","","","","","","","","",null,"","","","","","","","","     25.00             -1.9041    0.8921    6.9553    3.6964     1.058     1.058",0,"25.00 -1.9041 0.8921 6.9553 3.6964 1.058 1.058","25,00","-1.9041 0.8921 6.9553 3.6964 1.058 1.058","-1,9041","0.8921 6.9553 3.6964 1.058 1.058","0,8921","6.9553 3.6964 1.058 1.058","6,9553","3.6964 1.058 1.058","3,6964","1.058 1.058","1,058","1.058","1,058",null,{"v":25,"d":"25.00"},-1.9041,0.8921,6.9553,3.6964,1.058,1.058," ",1,"","","","","","","","","","","","","","",null,"","","","","","","","     25.00     13.20     17.46     36.15     11.15      1.49      0.95    -22.62    -22.62",0,"25.00 13.20 17.46 36.15 11.15 1.49 0.95 -22.62 -22.62","25,00","13.20 17.46 36.15 11.15 1.49 0.95 -22.62 -22.62","13,20","17.46 36.15 11.15 1.49 0.95 -22.62 -22.62","17,46","36.15 11.15 1.49 0.95 -22.62 -22.62","36,15","11.15 1.49 0.95 -22.62 -22.62","11,15","1.49 0.95 -22.62 -22.62","1,49","0.95 -22.62 -22.62","0,95","-22.62 -22.62","-22,62","-22.62","-22,62",null,{"v":25,"d":"25.00"},{"v":13.2,"d":"13.20"},17.46,36.15,11.15,1.49,0.95,-22.62,-22.62," ",1,"","","","","","","","","","","","","","","","",null,"","","","","","","","",null,0,0,0,0,0,0,0,0,0,0,0,0,0,0,0,0,0,0]
[null,"     26.00             -1.3761   -1.3862    3.9775   12.4046     1.079     1.079",{"$nulls":5},"     17.00              -16.87     12.66      0.74     -1.28    139.79   5969.67",null,null,"     26.00     20.70      0.00     21.36     -4.64      0.62      0.01    -23.88    -23.88",{"$nulls":15},"     26.00             -1.9400    0.8945    6.9492    3.7321     1.056     1.056",{"$nulls":5},"     26.00     13.12     17.22     35.09      9.09      1.51      0.98    -23.56    -23.56",{"$nulls":80},"     26.00             -1.3761   -1.3862    3.9775   12.4046     1.079     1.079",0,"26.00 -1.3761 -1.3862 3.9775 12.4046 1.079 1.079","26,00","-1.3761 -1.3862 3.9775 12.4046 1.079 1.079","-1,3761","-1.3862 3.9775 12.4046 1.079 1.079","-1,3862","3.9775 12.4046 1.079 1.079","3,9775","12.4046 1.079 1.079","12,4046","1.079 1.079","1,079","1.079","1,079",null,{"v":26,"d":"26.00"},-1.3761,-1.3862,3.9775,12.4046,1.079,1.079," ",1,"","","","","","","","","","","","","","",null,"","","","","","","","     17.00              -16.87     12.66      0.74     -1.28    139.79   5969.67",0,"17.00 -16.87 12.66 0.74 -1.28 139.79 5969.67","17,00","-16.87 12.66 0.74 -1.28 139.79 5969.67","-16,87","12.66 0.74 -1.28 139.79 5969.67","12,66","0.74 -1.28 139.79 5969.67","0,74","-1.28 139.79 5969.67","-1,28","139.79 5969.67","139,79","5969.67","5969,67",null,{"v":17,"d":"17.00"},-16.87,12.66,0.74,-1.28,139.79,5969.67,"     26.00     20.70      0.00     21.36     -4.64      0.62      0.01    -23.88    -23.88",0,"26.00 20.70 0.00 21.36 -4.64 0.62 0.01 -23.88 -23.88","26,00","20.70 0.00 21.36 -4.64 0.62 0.01 -23.88 -23.88","20,70","0.00 21.36 -4.64 0.62 0.01 -23.88 -23.88","0,00","21.36 -4.64 0.62 0.01 -23.88 -23.88","21,36","-4.64 0.62 0.01 -23.88 -23.88","-4,64","0.62 0.01 -23.88 -23.88","0,62","0.01 -23.88 -23.88","0,01","-23.88 -23.88","-23,88","-23.88","-23,88",null,{"v":26,"d":"26.00"},{"v":20.7,"d":"20.70"},{"v":0,"d":"0.00"},21.36,-4.64,0.62,0.01,-23.88,-23.88," ",1,"","","","","","","","","","","","","","","","",null,"","","","","","","","","     26.00             -1.9400    0.8945    6.9492    3.7321     1.056     1.056",0,"26.00 -1.9400 0.8945 6.9492 3.7321 1.056 1.056","26,00","-1.9400 0.8945 6.9492 3.7321 1.056 1.056","-1,9400","0.8945 6.9492 3.7321 1.056 1.056","0,8945","6.9492 3.7321 1.056 1.056","6,9492","3.7321 1.056 1.056","3,7321","1.056 1.056","1,056","1.056","1,056",null,{"v":26,"d":"26.00"},-1.94,0.8945,6.9492,3.7321,1.056,1.056," ",1,"","","","","","","","","","","","","","",null,"","","","","","","","     26.00     13.12     17.22     35.09      9.09      1.51      0.98    -23.56    -23.56",0,"26.00 13.12 17.22 35.09 9.09 1.51 0.98 -23.56 -23.56","26,00","13.12 17.22 35.09 9.09 1.51 0.98 -23.56 -23.56","13,12","17.22 35.09 9.09 1.51 0.98 -23.56 -23.56","17,22","35.09 9.09 1.51 0.98 -23.56 -23.56","35,09","9.09 1.51 0.98 -23.56 -23.56","9,09","1.51 0.98 -23.56 -23.56","1,51","0.98 -23.56 -23.56","0,98","-23.56 -23.56","-23,56","-23.56","-23,56",null,{"v":26,"d":"26.00"},13.12,17.22,35.09,9.09,1.51,0.98,-23.56,-23.56," ",1,"","","","","","","","","","","","","","","","",null,"","","","","","","","",null,0,0,0,0,0,0,0,0,0,0,0,0,0,0,0,0,0,0]
[null,"     27.00             -1.4037   -1.3781    3.9990   12.4323     1.079     1.079",{"$nulls":5},"     18.00              -17.83     13.49      0.86     -1.29    128.42   5607.86",null,null,"     27.00     20.78      0.00     20.74     -6.26      0.61      0.01    -24.81    -24.81",{"$nulls":15},"     27.00             -1.9759    0.8969    6.9431    3.7678     1.053     1.053",{"$nulls":5},"     27.00     13.04     16.99     34.03      7.03      1.52      1.01    -24.51    -24.51",{"$nulls":80},"     27.00             -1.4037   -1.3781    3.9990   12.4323     1.079     1.079",0,"27.00 -1.4037 -1.3781 3.9990 12.4323 1.079 1.079","27,00","-1.4037 -1.3781 3.9990 12.4323 1.079 1.079","-1,4037","-1.3781 3.9990 12.4323 1.079 1.079","-1,3781","3.9990 12.4323 1.079 1.079","3,9990","12.4323 1.079 1.079","12,4323","1.079 1.079","1,079","1.079","1,079",null,{"v":27,"d":"27.00"},-1.4037,-1.3781,3.999,12.4323,1.079,1.079," ",1,"","","","","","","","","","","","","","",null,"","","","","","","","     18.00              -17.83     13.49      0.86     -1.29    128.42   5607.86",0,"18.00 -17.83 13.49 0.86 -1.29 128.42 5607.86","18,00","-17.83 13.49 0.86 -1.29 128.42 5607.86","-17,83","13.49 0.86 -1.29 128.42 5607.86","13,49","0.86 -1.29 128.42 5607.86","0,86","-1.29 128.42 5607.86","-1,29","128.42 5607.86","128,42","5607.86","5607,86",null,{"v":18,"d":"18.00"},-17.83,13.49,0.86,-1.29,128.42,5607.86,"     27.00     20.78      0.00     20.74     -6.26      0.61      0.01    -24.81    -24.81",0,"27.00 20.78 0.00 20.74 -6.26 0.61 0.01 -24.81 -24.81","27,00","20.78 0.00 20.74 -6.26 0.61 0.01 -24.81 -24.81","20,78","0.00 20.74 -6.26 0.61 0.01 -24.81 -24.81","0,00","20.74 -6.26 0.61 0.01 -24.81 -24.81","20,74","-6.26 0.61 0.01 -24.81 -24.81","-6,26","0.61 0.01 -24.81 -24.81","0,61","0.01 -24.81 -24.81","0,01","-24.81 -24.81","-24,81","-24.81","-24,81",null,{"v":27,"d":"27.00"},20.78,{"v":0,"d":"0.00"},20.74,-6.26,0.61,0.01,-24.81,-24.81," ",1,"","","","","","","","","","","","","","","","",null,"","","","","","","","","     27.00             -1.9759    0.8969    6.9431    3.7678     1.053     1.053",0,"27.00 -1.9759 0.8969 6.9431 3.7678 1.053 1.053","27,00","-1.9759 0.8969 6.9431 3.7678 1.053 1.053","-1,9759","0.8969 6.9431 3.7678 1.053 1.053","0,8969","6.9431 3.7678 1.053 1.053","6,9431","3.7678 1.053 1.053","3,7678","1.053 1.053","1,053","1.053","1,053",null,{"v":27,"d":"27.00"},-1.9759,0.8969,6.9431,3.7678,1.053,1.053," ",1,"","","","","","","","","","","","","","",null,"","","","","","","","     27.00     13.04     16.99     34.03      7.03      1.52      1.01    -24.51    -24.51",0,"27.00 13.04 16.99 34.03 7.03 1.52 1.01 -24.51 -24.51","27,00","13.04 16.99 34.03 7.03 1.52 1.01 -24.51 -24.51","13,04","16.99 34.03 7.03 1.52 1.01 -24.51 -24.51","16,99","34.03 7.03 1.52 1.01 -24.51 -24.51","34,03","7.03 1.52 1.01 -24.51 -24.51","7,03","1.52 1.01 -24.51 -24.51","1,52","1.01 -24.51 -24.51","1,01","-24.51 -24.51","-24,51","-24.51","-24,51",null,{"v":27,"d":"27.00"},13.04,16.99,34.03,7.03,1.52,1.01,-24.51,-24.51," ",1,"","","","","","","","","","","","","","","","",null,"","","","","","","","",null,0,0,0,0,0,0,0,0,0,0,0,0,0,0,0,0,0,0]
[null,"     28.00             -1.4313   -1.3700    4.0204   12.4601     1.079     1.079",{"$nulls":5},"     19.00              -18.79     14.31      0.99     -1.31    118.84   5283.91",null,null,"     28.00     20.85      0.00     20.12     -7.88      0.60      0.01    -25.74    -25.74",{"$nulls":15},"     28.00             -2.0120    0.8995    6.9370    3.8036     1.052     1.052",{"$nulls":5},"     28.00     12.96     16.75     32.97      4.97      1.53      1.04    -25.46    -25.46",{"$nulls":80},"     28.00             -1.4313   -1.3700    4.0204   12.4601     1.079     1.079",0,"28.00 -1.4313 -1.3700 4.0204 12.4601 1.079 1.079","28,00","-1.4313 -1.3700 4.0204 12.4601 1.079 1.079","-1,4313","-1.3700 4.0204 12.4601 1.079 1.079","-1,3700","4.0204 12.4601 1.079 1.079","4,0204","12.4601 1.079 1.079","12,4601","1.079 1.079","1,079","1.079","1,079",null,{"v":28,"d":"28.00"},-1.4313,-1.37,4.0204,12.4601,1.079,1.079," ",1,"","","","","","","","","","","","","","",null,"","","","","","","","     19.00              -18.79     14.31      0.99     -1.31    118.84   5283.91",0,"19.00 -18.79 14.31 0.99 -1.31 118.84 5283.91","19,00","-18.79 14.31 0.99 -1.31 118.84 5283.91","-18,79","14.31 0.99 -1.31 118.84 5283.91","14,31","0.99 -1.31 118.84 5283.91","0,99","-1.31 118.84 5283.91","-1,31","118.84 5283.91","118,84","5283.91","5283,91",null,{"v":19,"d":"19.00"},-18.79,14.31,0.99,-1.31,118.84,5283.91,"     28.00     20.85      0.00     20.12     -7.88      0.60      0.01    -25.74    -25.74",0,"28.00 20.85 0.00 20.12 -7.88 0.60 0.01 -25.74 -25.74","28,00","20.85 0.00 20.12 -7.88 0.60 0.01 -25.74 -25.74","20,85","0.00 20.12 -7.88 0.60 0.01 -25.74 -25.74","0,00","20.12 -7.88 0.60 0.01 -25.74 -25.74","20,12","-7.88 0.60 0.01 -25.74 -25.74","-7,88","0.60 0.01 -25.74 -25.74","0,60","0.01 -25.74 -25.74","0,01","-25.74 -25.74","-25,74","-25.74","-25,74",null,{"v":28,"d":"28.00"},20.85,{"v":0,"d":"0.00"},20.12,-7.88,{"v":0.6,"d":"0.60"},0.01,-25.74,-25.74," ",1,"","","","","","","","","","","","","","","","",null,"","","","","","","","","     28.00             -2.0120    0.8995    6.9370    3.8036     1.052     1.052",0,"28.00 -2.0120 0.8995 6.9370 3.8036 1.052 1.052","28,00","-2.0120 0.8995 6.9370 3.8036 1.052 1.052","-2,0120","0.8995 6.9370 3.8036 1.052 1.052","0,8995","6.9370 3.8036 1.052 1.052","6,9370","3.8036 1.052 1.052","3,8036","1.052 1.052","1,052","1.052","1,052",null,{"v":28,"d":"28.00"},-2.012,0.8995,6.937,3.8036,1.052,1.052," ",1,"","","","","","","","","","","","","","",null,"","","","","","","","     28.00     12.96     16.75     32.97      4.97      1.53      1.04    -25.46    -25.46",0,"28.00 12.96 16.75 32.97 4.97 1.53 1.04 -25.46 -25.46","28,00","12.96 16.75 32.97 4.97 1.53 1.04 -25.46 -25.46","12,96","16.75 32.97 4.97 1.53 1.04 -25.46 -25.46","16,75","32.97 4.97 1.53 1.04 -25.46 -25.46","32,97","4.97 1.53 1.04 -25.46 -25.46","4,97","1.53 1.04 -25.46 -25.46","1,53","1.04 -25.46 -25.46","1,04","-25.46 -25.46","-25,46","-25.46","-25,46",null,{"v":28,"d":"28.00"},12.96,16.75,32.97,4.97,1.53,1.04,-25.46,-25.46," ",1,"","","","","","","","","","","","","","","","",null,"","","","","","","","",null,0,0,0,0,0,0,0,0,0,0,0,0,0,0,0,0,0,0]
[null,"     29.00             -1.4590   -1.3619    4.0419   12.4880     1.079     1.079",{"$nulls":5},"     20.00              -19.77     15.14      1.12     -1.32    110.70   4991.90",null,null,"     29.00     20.93      0.00     19.51     -9.49      0.58      0.01    -26.66    -26.66",{"$nulls":15},"     29.00             -2.0480    0.9021    6.9309    3.8394     1.050     1.050",{"$nulls":5},"     29.00     12.88     16.52     31.92      2.92      1.53      1.07    -26.41    -26.41",{"$nulls":80},"     29.00             -1.4590   -1.3619    4.0419   12.4880     1.079     1.079",0,"29.00 -1.4590 -1.3619 4.0419 12.4880 1.079 1.079","29,00","-1.4590 -1.3619 4.0419 12.4880 1.079 1.079","-1,4590","-1.3619 4.0419 12.4880 1.079 1.079","-1,3619","4.0419 12.4880 1.079 1.079","4,0419","12.4880 1.079 1.079","12,4880","1.079 1.079","1,079","1.079","1,079",null,{"v":29,"d":"29.00"},-1.459,-1.3619,4.0419,12.488,1.079,1.079," ",1,"","","","","","","","","","","","","","",null,"","","","","","","","     20.00              -19.77     15.14      1.12     -1.32    110.70   4991.90",0,"20.00 -19.77 15.14 1.12 -1.32 110.70 4991.90","20,00","-19.77 15.14 1.12 -1.32 110.70 4991.90","-19,77","15.14 1.12 -1.32 110.70 4991.90","15,14","1.12 -1.32 110.70 4991.90","1,12","-1.32 110.70 4991.90","-1,32","110.70 4991.90","110,70","4991.90","4991,90",null,{"v":20,"d":"20.00"},-19.77,15.14,1.12,-1.32,110.7,4991.9,"     29.00     20.93      0.00     19.51     -9.49      0.58      0.01    -26.66    -26.66",0,"29.00 20.93 0.00 19.51 -9.49 0.58 0.01 -26.66 -26.66","29,00","20.93 0.00 19.51 -9.49 0.58 0.01 -26.66 -26.66","20,93","0.00 19.51 -9.49 0.58 0.01 -26.66 -26.66","0,00","19.51 -9.49 0.58 0.01 -26.66 -26.66","19,51","-9.49 0.58 0.01 -26.66 -26.66","-9,49","0.58 0.01 -26.66 -26.66","0,58","0.01 -26.66 -26.66","0,01","-26.66 -26.66","-26,66","-26.66","-26,66",null,{"v":29,"d":"29.00"},20.93,{"v":0,"d":"0.00"},19.51,-9.49,0.58,0.01,-26.66,-26.66," ",1,"","","","","","","","","","","","","","","","",null,"","","","","","","","","     29.00             -2.0480    0.9021    6.9309    3.8394     1.050     1.050",0,"29.00 -2.0480 0.9021 6.9309 3.8394 1.050 1.050","29,00","-2.0480 0.9021 6.9309 3.8394 1.050 1.050","-2,0480","0.9021 6.9309 3.8394 1.050 1.050","0,9021","6.9309 3.8394 1.050 1.050","6,9309","3.8394 1.050 1.050","3,8394","1.050 1.050","1,050","1.050","1,050",null,{"v":29,"d":"29.00"},-2.048,0.9021,6.9309,3.8394,1.05,1.05," ",1,"","","","","","","","","","","","","","",null,"","","","","","","","     29.00     12.88     16.52     31.92      2.92      1.53      1.07    -26.41    -26.41",0,"29.00 12.88 16.52 31.92 2.92 1.53 1.07 -26.41 -26.41","29,00","12.88 16.52 31.92 2.92 1.53 1.07 -26.41 -26.41","12,88","16.52 31.92 2.92 1.53 1.07 -26.41 -26.41","16,52","31.92 2.92 1.53 1.07 -26.41 -26.41","31,92","2.92 1.53 1.07 -26.41 -26.41","2,92","1.53 1.07 -26.41 -26.41","1,53","1.07 -26.41 -26.41","1,07","-26.41 -26.41","-26,41","-26.41","-26,41",null,{"v":29,"d":"29.00"},12.88,16.52,31.92,2.92,1.53,1.07,-26.41,-26.41," ",1,"","","","","","","","","","","","","","","","",null,"","","","","","","","",null,0,0,0,0,0,0,0,0,0,0,0,0,0,0,0,0,0,0]
[null,"     30.00             -1.4868   -1.3536    4.0633   12.5159     1.080     1.080",{"$nulls":5},"     21.00              -20.75     15.96      1.26     -1.33    103.72   4727.10",null,null,"     30.00     21.01      0.00     18.89    -11.11      0.56      0.01    -27.59    -27.59",{"$nulls":15},"     30.00             -2.0842    0.9048    6.9248    3.8753     1.049     1.049",{"$nulls":5},"     30.00     12.80     16.28     30.86      0.86      1.54      1.10    -27.37    -27.37",{"$nulls":80},"     30.00             -1.4868   -1.3536    4.0633   12.5159     1.080     1.080",0,"30.00 -1.4868 -1.3536 4.0633 12.5159 1.080 1.080","30,00","-1.4868 -1.3536 4.0633 12.5159 1.080 1.080","-1,4868","-1.3536 4.0633 12.5159 1.080 1.080","-1,3536","4.0633 12.5159 1.080 1.080","4,0633","12.5159 1.080 1.080","12,5159","1.080 1.080","1,080","1.080","1,080",null,{"v":30,"d":"30.00"},-1.4868,-1.3536,4.0633,12.5159,1.08,1.08," ",1,"","","","","","","","","","","","","","",null,"","","","","","","","     21.00              -20.75     15.96      1.26     -1.33    103.72   4727.10",0,"21.00 -20.75 15.96 1.26 -1.33 103.72 4727.10","21,00","-20.75 15.96 1.26 -1.33 103.72 4727.10","-20,75","15.96 1.26 -1.33 103.72 4727.10","15,96","1.26 -1.33 103.72 4727.10","1,26","-1.33 103.72 4727.10","-1,33","103.72 4727.10","103,72","4727.10","4727,10",null,{"v":21,"d":"21.00"},-20.75,15.96,1.26,-1.33,103.72,4727.1,"     30.00     21.01      0.00     18.89    -11.11      0.56      0.01    -27.59    -27.59",0,"30.00 21.01 0.00 18.89 -11.11 0.56 0.01 -27.59 -27.59","30,00","21.01 0.00 18.89 -11.11 0.56 0.01 -27.59 -27.59","21,01","0.00 18.89 -11.11 0.56 0.01 -27.59 -27.59","0,00","18.89 -11.11 0.56 0.01 -27.59 -27.59","18,89","-11.11 0.56 0.01 -27.59 -27.59","-11,11","0.56 0.01 -27.59 -27.59","0,56","0.01 -27.59 -27.59","0,01","-27.59 -27.59","-27,59","-27.59","-27,59",null,{"v":30,"d":"30.00"},21.01,{"v":0,"d":"0.00"},18.89,-11.11,0.56,0.01,-27.59,-27.59," ",1,"","","","","","","","","","","","","","","","",null,"","","","","","","","","     30.00             -2.0842    0.9048    6.9248    3.8753     1.049     1.049",0,"30.00 -2.0842 0.9048 6.9248 3.8753 1.049 1.049","30,00","-2.0842 0.9048 6.9248 3.8753 1.049 1.049","-2,0842","0.9048 6.9248 3.8753 1.049 1.049","0,9048","6.9248 3.8753 1.049 1.049","6,9248","3.8753 1.049 1.049","3,8753","1.049 1.049","1,049","1.049","1,049",null,{"v":30,"d":"30.00"},-2.0842,0.9048,6.9248,3.8753,1.049,1.049," ",1,"","","","","","","","","","","","","","",null,"","","","","","","","     30.00     12.80     16.28     30.86      0.86      1.54      1.10    -27.37    -27.37",0,"30.00 12.80 16.28 30.86 0.86 1.54 1.10 -27.37 -27.37","30,00","12.80 16.28 30.86 0.86 1.54 1.10 -27.37 -27.37","12,80","16.28 30.86 0.86 1.54 1.10 -27.37 -27.37","16,28","30.86 0.86 1.54 1.10 -27.37 -27.37","30,86","0.86 1.54 1.10 -27.37 -27.37","0,86","1.54 1.10 -27.37 -27.37","1,54","1.10 -27.37 -27.37","1,10","-27.37 -27.37","-27,37","-27.37","-27,37",null,{"v":30,"d":"30.00"},{"v":12.8,"d":"12.80"},16.28,30.86,0.86,1.54,{"v":1.1,"d":"1.10"},-27.37,-27.37," ",1,"","","","","","","","","","","","","","","","",null,"","","","","","","","",null,0,0,0,0,0,0,0,0,0,0,0,0,0,0,0,0,0,0]
[{"$nulls":7},"     22.00              -21.75     16.78      1.41     -1.33     97.71   4485.67",{"$nulls":105}," ",1,"","","","","","","","","","","","","","",null,"","","","","","",""," ",1,"","","","","","","","","","","","","","",null,"","","","","","","","     22.00              -21.75     16.78      1.41     -1.33     97.71   4485.67",0,"22.00 -21.75 16.78 1.41 -1.33 97.71 4485.67","22,00","-21.75 16.78 1.41 -1.33 97.71 4485.67","-21,75","16.78 1.41 -1.33 97.71 4485.67","16,78","1.41 -1.33 97.71 4485.67","1,41","-1.33 97.71 4485.67","-1,33","97.71 4485.67","97,71","4485.67","4485,67",null,{"v":22,"d":"22.00"},-21.75,16.78,1.41,-1.33,97.71,4485.67," ",1,"","","","","","","","","","","","","","","","","","",null,"","","","","","","","",""," ",1,"","","","","","","","","","","","","","","","",null,"","","","","","","",""," ",1,"","","","","","","","","","","","","","",null,"","","","","","",""," ",1,"","","","","","","","","","","","","","",null,"","","","","","",""," ",1,"","","","","","","","","","","","","","","","","","",null,"","","","","","","","",""," ",1,"","","","","","","","","","","","","","","","",null,"","","","","","","","",null,0,0,0,0,0,0,0,0,0,0,0,0,0,0,0,0,0,0]
[{"$nulls":7},"     23.00              -22.75     17.61      1.57     -1.34     92.50   4264.45",{"$nulls":105}," ",1,"","","","","","","","","","","","","","",null,"","","","","","",""," ",1,"","","","","","","","","","","","","","",null,"","","","","","","","     23.00              -22.75     17.61      1.57     -1.34     92.50   4264.45",0,"23.00 -22.75 17.61 1.57 -1.34 92.50 4264.45","23,00","-22.75 17.61 1.57 -1.34 92.50 4264.45","-22,75","17.61 1.57 -1.34 92.50 4264.45","17,61","1.57 -1.34 92.50 4264.45","1,57","-1.34 92.50 4264.45","-1,34","92.50 4264.45","92,50","4264.45","4264,45",null,{"v":23,"d":"23.00"},-22.75,17.61,1.57,-1.34,92.5,4264.45," ",1,"","","","","","","","","","","","","","","","","","",null,"","","","","","","","",""," ",1,"","","","","","","","","","","","","","","","",null,"","","","","","","",""," ",1,"","","","","","","","","","","","","","",null,"","","","","","",""," ",1,"","","","","","","","","","","","","","",null,"","","","","","",""," ",1,"","","","","","","","","","","","","","","","","","",null,"","","","","","","","",""," ",1,"","","","","","","","","","","","","","","","",null,"","","","","","","","",null,0,0,0,0,0,0,0,0,0,0,0,0,0,0,0,0,0,0]
[{"$nulls":7},"     24.00              -23.77     18.43      1.73     -1.34     87.97   4060.83",{"$nulls":105}," ",1,"","","","","","","","","","","","","","",null,"","","","","","",""," ",1,"","","","","","","","","","","","","","",null,"","","","","","","","     24.00              -23.77     18.43      1.73     -1.34     87.97   4060.83",0,"24.00 -23.77 18.43 1.73 -1.34 87.97 4060.83","24,00","-23.77 18.43 1.73 -1.34 87.97 4060.83","-23,77","18.43 1.73 -1.34 87.97 4060.83","18,43","1.73 -1.34 87.97 4060.83","1,73","-1.34 87.97 4060.83","-1,34","87.97 4060.83","87,97","4060.83","4060,83",null,{"v":24,"d":"24.00"},-23.77,18.43,1.73,-1.34,87.97,4060.83," ",1,"","","","","","","","","","","","","","","","","","",null,"","","","","","","","",""," ",1,"","","","","","","","","","","","","","","","",null,"","","","","","","",""," ",1,"","","","","","","","","","","","","","",null,"","","","","","",""," ",1,"","","","","","","","","","","","","","",null,"","","","","","",""," ",1,"","","","","","","","","","","","","","","","","","",null,"","","","","","","","",""," ",1,"","","","","","","","","","","","","","","","",null,"","","","","","","","",null,0,0,0,0,0,0,0,0,0,0,0,0,0,0,0,0,0,0]
[{"$nulls":7},"     25.00              -24.80     19.26      1.90     -1.34     84.01   3872.64",{"$nulls":105}," ",1,"","","","","","","","","","","","","","",null,"","","","","","",""," ",1,"","","","","","","","","","","","","","",null,"","","","","","","","     25.00              -24.80     19.26      1.90     -1.34     84.01   3872.64",0,"25.00 -24.80 19.26 1.90 -1.34 84.01 3872.64","25,00","-24.80 19.26 1.90 -1.34 84.01 3872.64","-24,80","19.26 1.90 -1.34 84.01 3872.64","19,26","1.90 -1.34 84.01 3872.64","1,90","-1.34 84.01 3872.64","-1,34","84.01 3872.64","84,01","3872.64","3872,64",null,{"v":25,"d":"25.00"},-24.8,19.26,1.9,-1.34,84.01,3872.64," ",1,"","","","","","","","","","","","","","","","","","",null,"","","","","","","","",""," ",1,"","","","","","","","","","","","","","","","",null,"","","","","","","",""," ",1,"","","","","","","","","","","","","","",null,"","","","","","",""," ",1,"","","","","","","","","","","","","","",null,"","","","","","",""," ",1,"","","","","","","","","","","","","","","","","","",null,"","","","","","","","",""," ",1,"","","","","","","","","","","","","","","","",null,"","","","","","","","",null,0,0,0,0,0,0,0,0,0,0,0,0,0,0,0,0,0,0]
[{"$nulls":7},"     26.00              -25.84     20.08      2.08     -1.33     80.54   3698.01",{"$nulls":105}," ",1,"","","","","","","","","","","","","","",null,"","","","","","",""," ",1,"","","","","","","","","","","","","","",null,"","","","","","","","     26.00              -25.84     20.08      2.08     -1.33     80.54   3698.01",0,"26.00 -25.84 20.08 2.08 -1.33 80.54 3698.01","26,00","-25.84 20.08 2.08 -1.33 80.54 3698.01","-25,84","20.08 2.08 -1.33 80.54 3698.01","20,08","2.08 -1.33 80.54 3698.01","2,08","-1.33 80.54 3698.01","-1,33","80.54 3698.01","80,54","3698.01","3698,01",null,{"v":26,"d":"26.00"},-25.84,20.08,2.08,-1.33,80.54,3698.01," ",1,"","","","","","","","","","","","","","","","","","",null,"","","","","","","","",""," ",1,"","","","","","","","","","","","","","","","",null,"","","","","","","",""," ",1,"","","","","","","","","","","","","","",null,"","","","","","",""," ",1,"","","","","","","","","","","","","","",null,"","","","","","",""," ",1,"","","","","","","","","","","","","","","","","","",null,"","","","","","","","",""," ",1,"","","","","","","","","","","","","","","","",null,"","","","","","","","",null,0,0,0,0,0,0,0,0,0,0,0,0,0,0,0,0,0,0]
[{"$nulls":113},{"$f":"IF(NOT(ISBLANK($B63)),$B63,\" \")","v":" "},1,"","","","","","","","","","","","","","",null,"","","","","","",""," ",1,"","","","","","","","","","","","","","",null,"","","","","","",""," ",1,"","","","","","","","","","","","","","",null,"","","","","","","",{"$f":"IF(NOT(ISBLANK($K63)),$K63,\" \")","v":" "},1,"","","","","","","","","","","","","","","","","","",null,"","","","","","","","",""," ",1,"","","","","","","","","","","","","","","","",null,"","","","","","","",""," ",1,"","","","","","","","","","","","","","",null,"","","","","","",""," ",1,"","","","","","","","","","","","","","",null,"","","","","","",""," ",1,"","","","","","","","","","","","","","","","","","",null,"","","","","","","","",""," ",1,"","","","","","","","","","","","","","","","",null,"","","","","","","","",null,0,0,0,0,0,0,0,0,0,0,0,0,0,0,0,0,0,0]
[{"$nulls":113}," ",1,"","","","","","","","","","","","","","",null,"","","","","","","",{"$f":"IF(NOT(ISBLANK($E64)),$E64,\" \")","v":" "},1,"","","","","","","","","","","","","","",null,"","","","","","",""," ",1,"","","","","","","","","","","","","","",null,"","","","","","",""," ",1,"","","","","","","","","","","","","","","","","","",null,"","","","","","","","",""," ",1,"","","","","","","","","","","","","","","","",null,"","","","","","","",""," ",1,"","","","","","","","","","","","","","",null,"","","","","","",""," ",1,"","","","","","","","","","","","","","",null,"","","","","","",""," ",1,"","","","","","","","","","","","","","","","","","",null,"","","","","","","","",""," ",1,"","","","","","","","","","","","","","","","",null,"","","","","","","","",null,0,0,0,0,0,0,0,0,0,0,0,0,0,0,0,0,0,0]
[{"$nulls":113}," ",1,"","","","","","","","","","","","","","",null,"","","","","","",""," ",1,"","","","","","","","","","","","","","",null,"","","","","","",""," ",1,"","","","","","","","","","","","","","",null,"","","","","","",""," ",1,"","","","","","","","","","","","","","","","","","",null,"","","","","","","","",""," ",1,"","","","","","","","","","","","","","","","",null,"","","","","","","",""," ",1,"","","","","","","","","","","","","","",null,"","","","","","",""," ",1,"","","","","","","","","","","","","","",null,"","","","","","",""," ",1,"","","","","","","","","","","","","","","","","","",null,"","","","","","","","",""," ",1,"","","","","","","","","","","","","","","","",null,"","","","","","","","",null,0,0,0,0,0,0,0,0,0,0,0,0,0,0,0,0,0,0]
[{"$nulls":113}," ",1,"","","","","","","","","","","","","","",null,"","","","","","",""," ",1,"","","","","","","","","","","","","","",null,"","","","","","",""," ",1,"","","","","","","","","","","","","","",null,"","","","","","",""," ",1,"","","","","","","","","","","","","","","","","","",null,"","","","","","","","",""," ",1,"","","","","","","","","","","","","","","","",null,"","","","","","","",""," ",1,"","","","","","","","","","","","","","",null,"","","","","","",""," ",1,"","","","","","","","","","","","","","",null,"","","","","","",""," ",1,"","","","","","","","","","","","","","","","","","",null,"","","","","","","","",""," ",1,"","","","","","","","","","","","","","","","",null,"","","","","","","","",null,0,0,0,0,0,0,0,0,0,0,0,0,0,0,0,0,0,0]
[{"$nulls":113}," ",1,"","","","","","","","","","","","","","",null,"","","","","","",""," ",1,"","","","","","","","","","","","","","",null,"","","","","","",""," ",1,"","","","","","","","","","","","","","",null,"","","","","","",""," ",1,"","","","","","","","","","","","","","","","","","",null,"","","","","","","","",""," ",1,"","","","","","","","","","","","","","","","",null,"","","","","","","",""," ",1,"","","","","","","","","","","","","","",null,"","","","","","",""," ",1,"","","","","","","","","","","","","","",null,"","","","","","",""," ",1,"","","","","","","","","","","","","","","","","","",null,"","","","","","","","",""," ",1,"","","","","","","","","","","","","","","","",null,"","","","","","","","",null,0,0,0,0,0,0,0,0,0,0,0,0,0,0,0,0,0,0]
[{"$nulls":113}," ",1,"","","","","","","","","","","","","","",null,"","","","","","",""," ",1,"","","","","","","","","","","","","","",null,"","","","","","",""," ",1,"","","","","","","","","","","","","","",null,"","","","","","",""," ",1,"","","","","","","","","","","","","","","","","","",null,"","","","","","","","",""," ",1,"","","","","","","","","","","","","","","","",null,"","","","","","","",""," ",1,"","","","","","","","","","","","","","",null,"","","","","","",""," ",1,"","","","","","","","","","","","","","",null,"","","","","","",""," ",1,"","","","","","","","","","","","","","","","","","",null,"","","","","","","","",""," ",1,"","","","","","","","","","","","","","","","",null,"","","","","","","","",null,0,0,0,0,0,0,0,0,0,0,0,0,0,0,0,0,0,0]
[{"$nulls":113}," ",1,"","","","","","","","","","","","","","",null,"","","","","","",""," ",1,"","","","","","","","","","","","","","",null,"","","","","","",""," ",1,"","","","","","","","","","","","","","",null,"","","","","","",""," ",1,"","","","","","","","","","","","","","","","","","",null,"","","","","","","","",""," ",1,"","","","","","","","","","","","","","","","",null,"","","","","","","",""," ",1,"","","","","","","","","","","","","","",null,"","","","","","",""," ",1,"","","","","","","","","","","","","","",null,"","","","","","",""," ",1,"","","","","","","","","","","","","","","","","","",null,"","","","","","","","",""," ",1,"","","","","","","","","","","","","","","","",null,"","","","","","","","",null,0,0,0,0,0,0,0,0,0,0,0,0,0,0,0,0,0,0]
[{"$nulls":113}," ",1,"","","","","","","","","","","","","","",null,"","","","","","",""," ",1,"","","","","","","","","","","","","","",null,"","","","","","",""," ",1,"","","","","","","","","","","","","","",null,"","","","","","",""," ",1,"","","","","","","","","","","","","","","","","","",null,"","","","","","","","",""," ",1,"","","","","","","","","","","","","","","","",null,"","","","","","","",""," ",1,"","","","","","","","","","","","","","",null,"","","","","","",""," ",1,"","","","","","","","","","","","","","",null,"","","","","","",""," ",1,"","","","","","","","","","","","","","","","","","",null,"","","","","","","","",""," ",1,"","","","","","","","","","","","","","","","",null,"","","","","","","","",null,0,0,0,0,0,0,0,0,0,0,0,0,0,0,0,0,0,0]
[{"$nulls":113}," ",1,"","","","","","","","","","","","","","",null,"","","","","","",""," ",1,"","","","","","","","","","","","","","",null,"","","","","","",""," ",1,"","","","","","","","","","","","","","",null,"","","","","","",""," ",1,"","","","","","","","","","","","","","","","","","",null,"","","","","","","","",""," ",1,"","","","","","","","","","","","","","","","",null,"","","","","","","",""," ",1,"","","","","","","","","","","","","","",null,"","","","","","",""," ",1,"","","","","","","","","","","","","","",null,"","","","","","",""," ",1,"","","","","","","","","","","","","","","","","","",null,"","","","","","","","",""," ",1,"","","","","","","","","","","","","","","","",null,"","","","","","","","",null,0,0,0,0,0,0,0,0,0,0,0,0,0,0,0,0,0,0]
[{"$nulls":113}," ",1,"","","","","","","","","","","","","","",null,"","","","","","",""," ",1,"","","","","","","","","","","","","","",null,"","","","","","",""," ",1,"","","","","","","","","","","","","","",null,"","","","","","",""," ",1,"","","","","","","","","","","","","","","","","","",null,"","","","","","","","",""," ",1,"","","","","","","","","","","","","","","","",null,"","","","","","","",""," ",1,"","","","","","","","","","","","","","",null,"","","","","","",""," ",1,"","","","","","","","","","","","","","",null,"","","","","","",""," ",1,"","","","","","","","","","","","","","","","","","",null,"","","","","","","","",""," ",1,"","","","","","","","","","","","","","","","",null,"","","","","","","","",null,0,0,0,0,0,0,0,0,0,0,0,0,0,0,0,0,0,0]
[{"$nulls":113}," ",1,"","","","","","","","","","","","","","",null,"","","","","","",""," ",1,"","","","","","","","","","","","","","",null,"","","","","","",""," ",1,"","","","","","","","","","","","","","",null,"","","","","","",""," ",1,"","","","","","","","","","","","","","","","","","",null,"","","","","","","","",""," ",1,"","","","","","","","","","","","","","","","",null,"","","","","","","",""," ",1,"","","","","","","","","","","","","","",null,"","","","","","",""," ",1,"","","","","","","","","","","","","","",null,"","","","","","",""," ",1,"","","","","","","","","","","","","","","","","","",null,"","","","","","","","",""," ",1,"","","","","","","","","","","","","","","","",null,"","","","","","","","",null,0,0,0,0,0,0,0,0,0,0,0,0,0,0,0,0,0,0]
[{"$nulls":113}," ",1,{"$f":"IF($DK74 = 0,TRIM($DJ74),\"\")","v":""},"",{"$f":"IF($DK74 = 0,TRIM(MID($DL74,LEN($DM74)+1,50)),\"\")","v":""},{"$f":"IF($DK74 = 0,SUBSTITUTE(LEFT($DN74, FIND(\" \",$DN74)-1),\".\",\",\"),\"\")","v":""},{"$f":"IF($DK74 = 0,TRIM(MID($DN74,LEN($DO74)+1,50)),\"\")","v":""},{"$f":"IF($DK74 = 0,SUBSTITUTE(LEFT($DP74, FIND(\" \",$DP74)-1),\".\",\",\"),\"\")","v":""},{"$f":"IF($DK74 = 0,TRIM(MID($DP74,LEN($DQ74)+1,50)),\"\")","v":""},{"$f":"IF($DK74 = 0,SUBSTITUTE(LEFT($DR74, FIND(\" \",$DR74)-1),\".\",\",\"),\"\")","v":""},{"$f":"IF($DK74 = 0,TRIM(MID($DR74,LEN($DS74)+1,50)),\"\")","v":""},{"$f":"IF($DK74 = 0,SUBSTITUTE(LEFT($DT74, FIND(\" \",$DT74)-1),\".\",\",\"),\"\")","v":""},{"$f":"IF($DK74 = 0,TRIM(MID($DT74,LEN($DU74)+1,50)),\"\")","v":""},{"$f":"IF($DK74 = 0,SUBSTITUTE(LEFT($DV74, FIND(\" \",$DV74)-1),\".\",\",\"),\"\")","v":""},{"$f":"IF($DK74 = 0,TRIM(MID($DV74,LEN($DW74)+1,50)),\"\")","v":""},{"$f":"IF($DK74 = 0,SUBSTITUTE($DX74,\".\",\",\"),\"\")","v":""},null,{"$f":"IF($DK74 = 0, VALUE($DM74),\"\")","v":""},{"$f":"IF($DK74 = 0, VALUE($DO74),\"\")","v":""},{"$f":"IF($DK74 = 0, VALUE($DQ74),\"\")","v":""},{"$f":"IF($DK74 = 0, VALUE($DS74),\"\")","v":""},{"$f":"IF($DK74 = 0, VALUE($DU74),\"\")","v":""},{"$f":"IF($DK74 = 0, VALUE($DW74),\"\")","v":""},{"$f":"IF($DK74 = 0, VALUE($DY74),\"\")","v":""}," ",1,"","","","","","","","","","","","","","",null,"","","","","","",""," ",1,"","","","","","","","","","","","","","",null,"","","","","","",""," ",1,{"$f":"IF($GE74 = 0,TRIM($GD74),\"\")","v":""},"",{"$f":"IF($GE74 = 0,TRIM(MID($GF74,LEN($GG74)+1,50)),\"\")","v":""},{"$f":"IF($GE74 = 0,SUBSTITUTE(LEFT($GH74, FIND(\" \",$GH74)-1),\".\",\",\"),\"\")","v":""},{"$f":"IF($GE74 = 0,TRIM(MID($GH74,LEN($GI74)+1,50)),\"\")","v":""},{"$f":"IF($GE74 = 0,SUBSTITUTE(LEFT($GJ74, FIND(\" \",$GJ74)-1),\".\",\",\"),\"\")","v":""},{"$f":"IF($GE74 = 0,TRIM(MID($GJ74,LEN($GK74)+1,50)),\"\")","v":""},{"$f":"IF($GE74 = 0,SUBSTITUTE(LEFT($GL74, FIND(\" \",$GL74)-1),\".\",\",\"),\"\")","v":""},{"$f":"IF($GE74 = 0,TRIM(MID($GL74,LEN($GM74)+1,50)),\"\")","v":""},{"$f":"IF($GE74 = 0,SUBSTITUTE(LEFT($GN74, FIND(\" \",$GN74)-1),\".\",\",\"),\"\")","v":""},{"$f":"IF($GE74 = 0,TRIM(MID($GN74,LEN($GO74)+1,50)),\"\")","v":""},{"$f":"IF($GE74 = 0,SUBSTITUTE(LEFT($GP74, FIND(\" \",$GP74)-1),\".\",\",\"),\"\")","v":""},{"$f":"IF($GE74 = 0,TRIM(MID($GP74,LEN($GQ74)+1,50)),\"\")","v":""},{"$f":"IF($GE74 = 0,SUBSTITUTE(LEFT($GR74, FIND(\" \",$GR74)-1),\".\",\",\"),\"\")","v":""},{"$f":"IF($GE74 = 0,TRIM(MID($GR74,LEN($GS74)+1,50)),\"\")","v":""},{"$f":"IF($GE74 = 0,SUBSTITUTE(LEFT($GT74, FIND(\" \",$GT74)-1),\".\",\",\"),\"\")","v":""},{"$f":"IF($GE74 = 0,TRIM(MID($GT74,LEN($GU74)+1,50)),\"\")","v":""},{"$f":"IF($GE74 = 0,SUBSTITUTE($GV74,\".\",\",\"),\"\")","v":""},null,{"$f":"IF($GE74 = 0, VALUE($GG74),\"\")","v":""},{"$f":"IF($GE74 = 0, VALUE($GI74),\"\")","v":""},{"$f":"IF($GE74 = 0, VALUE($GK74),\"\")","v":""},{"$f":"IF($GE74 = 0, VALUE($GM74),\"\")","v":""},{"$f":"IF($GE74 = 0, VALUE($GO74),\"\")","v":""},{"$f":"IF($GE74 = 0, VALUE($GQ74),\"\")","v":""},{"$f":"IF($GE74 = 0, VALUE($GS74),\"\")","v":""},{"$f":"IF($GE74 = 0, VALUE($GU74),\"\")","v":""},{"$f":"IF($GE74 = 0, VALUE($GW74),\"\")","v":""}," ",1,"","","","","","","","","","","","","","","","",null,"","","","","","","",""," ",1,"","","","","","","","","","","","","","",null,"","","","","","",""," ",1,"","","","","","","","","","","","","","",null,"","","","","","",""," ",1,"","","","","","","","","","","","","","","","","","",null,"","","","","","","","",""," ",1,"","","","","","","","","","","","","","","","",null,"","","","","","","","",null,0,0,0,0,0,0,0,0,0,0,0,0,0,0,0,0,0,0]
[{"$nulls":113},{"$f":"IF(NOT(ISBLANK($B75)),$B75,\" \")","v":" "},{"$f":"IF($DJ75 = \" \",1,0)","v":1},"",{"$f":"IF($DK75 = 0,SUBSTITUTE(LEFT($DL75, FIND(\" \",$DL75)-1),\".\",\",\"),\"\")","v":""},"","","","","","","","","","","","",null,"","","","","","",""," ",{"$f":"IF($EH75 = \" \",1,0)","v":1},{"$f":"IF($EI75 = 0,TRIM($EH75),\"\")","v":""},{"$f":"IF($EI75 = 0,SUBSTITUTE(LEFT($EJ75, FIND(\" \",$EJ75)-1),\".\",\",\"),\"\")","v":""},{"$f":"IF($EI75 = 0,TRIM(MID($EJ75,LEN($EK75)+1,50)),\"\")","v":""},{"$f":"IF($EI75 = 0,SUBSTITUTE(LEFT($EL75, FIND(\" \",$EL75)-1),\".\",\",\"),\"\")","v":""},{"$f":"IF($EI75 = 0,TRIM(MID($EL75,LEN($EM75)+1,50)),\"\")","v":""},{"$f":"IF($EI75 = 0,SUBSTITUTE(LEFT($EN75, FIND(\" \",$EN75)-1),\".\",\",\"),\"\")","v":""},{"$f":"IF($EI75 = 0,TRIM(MID($EN75,LEN($EO75)+1,50)),\"\")","v":""},{"$f":"IF($EI75 = 0,SUBSTITUTE(LEFT($EP75, FIND(\" \",$EP75)-1),\".\",\",\"),\"\")","v":""},{"$f":"IF($EI75 = 0,TRIM(MID($EP75,LEN($EQ75)+1,50)),\"\")","v":""},{"$f":"IF($EI75 = 0,SUBSTITUTE(LEFT($ER75, FIND(\" \",$ER75)-1),\".\",\",\"),\"\")","v":""},{"$f":"IF($EI75 = 0,TRIM(MID($ER75,LEN($ES75)+1,50)),\"\")","v":""},{"$f":"IF($EI75 = 0,SUBSTITUTE(LEFT($ET75, FIND(\" \",$ET75)-1),\".\",\",\"),\"\")","v":""},{"$f":"IF($EI75 = 0,TRIM(MID($ET75,LEN($EU75)+1,50)),\"\")","v":""},{"$f":"IF($EI75 = 0,SUBSTITUTE($EV75,\".\",\",\"),\"\")","v":""},null,{"$f":"IF($EI75 = 0, VALUE($EK75),\"\")","v":""},{"$f":"IF($EI75 = 0, VALUE($EM75),\"\")","v":""},{"$f":"IF($EI75 = 0, VALUE($EO75),\"\")","v":""},{"$f":"IF($EI75 = 0, VALUE($EQ75),\"\")","v":""},{"$f":"IF($EI75 = 0, VALUE($ES75),\"\")","v":""},{"$f":"IF($EI75 = 0, VALUE($EU75),\"\")","v":""},{"$f":"IF($EI75 = 0, VALUE($EW75),\"\")","v":""},{"$f":"IF(NOT(ISBLANK($H75)),$H75,\" \")","v":" "},{"$f":"IF($FF75 = \" \",1,0)","v":1},{"$f":"IF($FG75 = 0,TRIM($FF75),\"\")","v":""},{"$f":"IF($FG75 = 0,SUBSTITUTE(LEFT($FH75, FIND(\" \",$FH75)-1),\".\",\",\"),\"\")","v":""},{"$f":"IF($FG75 = 0,TRIM(MID($FH75,LEN($FI75)+1,50)),\"\")","v":""},{"$f":"IF($FG75 = 0,SUBSTITUTE(LEFT($FJ75, FIND(\" \",$FJ75)-1),\".\",\",\"),\"\")","v":""},{"$f":"IF($FG75 = 0,TRIM(MID($FJ75,LEN($FK75)+1,50)),\"\")","v":""},{"$f":"IF($FG75 = 0,SUBSTITUTE(LEFT($FL75, FIND(\" \",$FL75)-1),\".\",\",\"),\"\")","v":""},{"$f":"IF($FG75 = 0,TRIM(MID($FL75,LEN($FM75)+1,50)),\"\")","v":""},{"$f":"IF($FG75 = 0,SUBSTITUTE(LEFT($FN75, FIND(\" \",$FN75)-1),\".\",\",\"),\"\")","v":""},{"$f":"IF($FG75 = 0,TRIM(MID($FN75,LEN($FO75)+1,50)),\"\")","v":""},{"$f":"IF($FG75 = 0,SUBSTITUTE(LEFT($FP75, FIND(\" \",$FP75)-1),\".\",\",\"),\"\")","v":""},{"$f":"IF($FG75 = 0,TRIM(MID($FP75,LEN($FQ75)+1,50)),\"\")","v":""},{"$f":"IF($FG75 = 0,SUBSTITUTE(LEFT($FR75, FIND(\" \",$FR75)-1),\".\",\",\"),\"\")","v":""},{"$f":"IF($FG75 = 0,TRIM(MID($FR75,LEN($FS75)+1,50)),\"\")","v":""},{"$f":"IF($FG75 = 0,SUBSTITUTE($FT75,\".\",\",\"),\"\")","v":""},null,{"$f":"IF($FG75 = 0, VALUE($FI75),\"\")","v":""},{"$f":"IF($FG75 = 0, VALUE($FK75),\"\")","v":""},{"$f":"IF($FG75 = 0, VALUE($FM75),\"\")","v":""},{"$f":"IF($FG75 = 0, VALUE($FO75),\"\")","v":""},{"$f":"IF($FG75 = 0, VALUE($FQ75),\"\")","v":""},{"$f":"IF($FG75 = 0, VALUE($FS75),\"\")","v":""},{"$f":"IF($FG75 = 0, VALUE($FU75),\"\")","v":""},{"$f":"IF(NOT(ISBLANK($K75)),$K75,\" \")","v":" "},{"$f":"IF($GD75 = \" \",1,0)","v":1},"",{"$f":"IF($GE75 = 0,SUBSTITUTE(LEFT($GF75, FIND(\" \",$GF75)-1),\".\",\",\"),\"\")","v":""},"","","","","","","","","","","","","","","","",null,"","","","","","","","","",{"$f":"IF(NOT(ISBLANK($N75)),$N75,\" \")","v":" "},{"$f":"IF($HH75 = \" \",1,0)","v":1},{"$f":"IF($HI75 = 0,TRIM($HH75),\"\")","v":""},{"$f":"IF($HI75 = 0,SUBSTITUTE(LEFT($HJ75, FIND(\" \",$HJ75)-1),\".\",\",\"),\"\")","v":""},{"$f":"IF($HI75 = 0,TRIM(MID($HJ75,LEN($HK75)+1,50)),\"\")","v":""},{"$f":"IF($HI75 = 0,SUBSTITUTE(LEFT($HL75, FIND(\" \",$HL75)-1),\".\",\",\"),\"\")","v":""},{"$f":"IF($HI75 = 0,TRIM(MID($HL75,LEN($HM75)+1,50)),\"\")","v":""},{"$f":"IF($HI75 = 0,SUBSTITUTE(LEFT($HN75, FIND(\" \",$HN75)-1),\".\",\",\"),\"\")","v":""},{"$f":"IF($HI75 = 0,TRIM(MID($HN75,LEN($HO75)+1,50)),\"\")","v":""},{"$f":"IF($HI75 = 0,SUBSTITUTE(LEFT($HP75, FIND(\" \",$HP75)-1),\".\",\",\"),\"\")","v":""},{"$f":"IF($HI75 = 0,TRIM(MID($HP75,LEN($HQ75)+1,50)),\"\")","v":""},{"$f":"IF($HI75 = 0,SUBSTITUTE(LEFT($HR75, FIND(\" \",$HR75)-1),\".\",\",\"),\"\")","v":""},{"$f":"IF($HI75 = 0,TRIM(MID($HR75,LEN($HS75)+1,50)),\"\")","v":""},{"$f":"IF($HI75 = 0,SUBSTITUTE(LEFT($HT75, FIND(\" \",$HT75)-1),\".\",\",\"),\"\")","v":""},{"$f":"IF($HI75 = 0,TRIM(MID($HT75,LEN($HU75)+1,50)),\"\")","v":""},{"$f":"IF($HI75 = 0,SUBSTITUTE(LEFT($HV75, FIND(\" \",$HV75)-1),\".\",\",\"),\"\")","v":""},{"$f":"IF($HI75 = 0,TRIM(MID($HV75,LEN($HW75)+1,50)),\"\")","v":""},{"$f":"IF($HI75 = 0,SUBSTITUTE($HX75,\".\",\",\"),\"\")","v":""},null,{"$f":"IF($HI75 = 0, VALUE($HK75),\"\")","v":""},{"$f":"IF($HI75 = 0, VALUE($HM75),\"\")","v":""},{"$f":"IF($HI75 = 0, VALUE($HO75),\"\")","v":""},{"$f":"IF($HI75 = 0, VALUE($HQ75),\"\")","v":""},{"$f":"IF($HI75 = 0, VALUE($HS75),\"\")","v":""},{"$f":"IF($HI75 = 0, VALUE($HU75),\"\")","v":""},{"$f":"IF($HI75 = 0, VALUE($HW75),\"\")","v":""},{"$f":"IF($HI75 = 0, VALUE($HY75),\"\")","v":""},{"$f":"IF(NOT(ISBLANK($AA75)),$AA75,\" \")","v":" "},{"$f":"IF($II75 = \" \",1,0)","v":1},{"$f":"IF($IJ75 = 0,TRIM($II75),\"\")","v":""},{"$f":"IF($IJ75 = 0,SUBSTITUTE(LEFT($IK75, FIND(\" \",$IK75)-1),\".\",\",\"),\"\")","v":""},{"$f":"IF($IJ75 = 0,TRIM(MID($IK75,LEN($IL75)+1,50)),\"\")","v":""},{"$f":"IF($IJ75 = 0,SUBSTITUTE(LEFT($IM75, FIND(\" \",$IM75)-1),\".\",\",\"),\"\")","v":""},{"$f":"IF($IJ75 = 0,TRIM(MID($IM75,LEN($IN75)+1,50)),\"\")","v":""},{"$f":"IF($IJ75 = 0,SUBSTITUTE(LEFT($IO75, FIND(\" \",$IO75)-1),\".\",\",\"),\"\")","v":""},{"$f":"IF($IJ75 = 0,TRIM(MID($IO75,LEN($IP75)+1,50)),\"\")","v":""},{"$f":"IF($IJ75 = 0,SUBSTITUTE(LEFT($IQ75, FIND(\" \",$IQ75)-1),\".\",\",\"),\"\")","v":""},{"$f":"IF($IJ75 = 0,TRIM(MID($IQ75,LEN($IR75)+1,50)),\"\")","v":""},{"$f":"IF($IJ75 = 0,SUBSTITUTE(LEFT($IS75, FIND(\" \",$IS75)-1),\".\",\",\"),\"\")","v":""},{"$f":"IF($IJ75 = 0,TRIM(MID($IS75,LEN($IT75)+1,50)),\"\")","v":""},{"$f":"IF($IJ75 = 0,SUBSTITUTE(LEFT($IU75, FIND(\" \",$IU75)-1),\".\",\",\"),\"\")","v":""},{"$f":"IF($IJ75 = 0,TRIM(MID($IU75,LEN($IV75)+1,50)),\"\")","v":""},{"$f":"IF($IJ75 = 0,SUBSTITUTE($IW75,\".\",\",\"),\"\")","v":""},null,{"$f":"IF($IJ75 = 0, VALUE($IL75),\"\")","v":""},{"$f":"IF($IJ75 = 0, VALUE($IN75),\"\")","v":""},{"$f":"IF($IJ75 = 0, VALUE($IP75),\"\")","v":""},{"$f":"IF($IJ75 = 0, VALUE($IR75),\"\")","v":""},{"$f":"IF($IJ75 = 0, VALUE($IT75),\"\")","v":""},{"$f":"IF($IJ75 = 0, VALUE($IV75),\"\")","v":""},{"$f":"IF($IJ75 = 0, VALUE($IX75),\"\")","v":""},{"$f":"IF(NOT(ISBLANK($AD75)),$AD75,\" \")","v":" "},{"$f":"IF($JG75 = \" \",1,0)","v":1},{"$f":"IF($JH75 = 0,TRIM($JG75),\"\")","v":""},{"$f":"IF($JH75 = 0,SUBSTITUTE(LEFT($JI75, FIND(\" \",$JI75)-1),\".\",\",\"),\"\")","v":""},{"$f":"IF($JH75 = 0,TRIM(MID($JI75,LEN($JJ75)+1,50)),\"\")","v":""},{"$f":"IF($JH75 = 0,SUBSTITUTE(LEFT($JK75, FIND(\" \",$JK75)-1),\".\",\",\"),\"\")","v":""},{"$f":"IF($JH75 = 0,TRIM(MID($JK75,LEN($JL75)+1,50)),\"\")","v":""},{"$f":"IF($JH75 = 0,SUBSTITUTE(LEFT($JM75, FIND(\" \",$JM75)-1),\".\",\",\"),\"\")","v":""},{"$f":"IF($JH75 = 0,TRIM(MID($JM75,LEN($JN75)+1,50)),\"\")","v":""},{"$f":"IF($JH75 = 0,SUBSTITUTE(LEFT($JO75, FIND(\" \",$JO75)-1),\".\",\",\"),\"\")","v":""},{"$f":"IF($JH75 = 0,TRIM(MID($JO75,LEN($JP75)+1,50)),\"\")","v":""},{"$f":"IF($JH75 = 0,SUBSTITUTE(LEFT($JQ75, FIND(\" \",$JQ75)-1),\".\",\",\"),\"\")","v":""},{"$f":"IF($JH75 = 0,TRIM(MID($JQ75,LEN($JR75)+1,50)),\"\")","v":""},{"$f":"IF($JH75 = 0,SUBSTITUTE(LEFT($JS75, FIND(\" \",$JS75)-1),\".\",\",\"),\"\")","v":""},{"$f":"IF($JH75 = 0,TRIM(MID($JS75,LEN($JT75)+1,50)),\"\")","v":""},{"$f":"IF($JH75 = 0,SUBSTITUTE($JU75,\".\",\",\"),\"\")","v":""},null,{"$f":"IF($JH75 = 0, VALUE($JJ75),\"\")","v":""},{"$f":"IF($JH75 = 0, VALUE($JL75),\"\")","v":""},{"$f":"IF($JH75 = 0, VALUE($JN75),\"\")","v":""},{"$f":"IF($JH75 = 0, VALUE($JP75),\"\")","v":""},{"$f":"IF($JH75 = 0, VALUE($JR75),\"\")","v":""},{"$f":"IF($JH75 = 0, VALUE($JT75),\"\")","v":""},{"$f":"IF($JH75 = 0, VALUE($JV75),\"\")","v":""},{"$f":"IF(NOT(ISBLANK($AG75)),$AG75,\" \")","v":" "},{"$f":"IF($KE75 = \" \",1,0)","v":1},{"$f":"IF($KF75 = 0,TRIM($KE75),\"\")","v":""},{"$f":"IF($KF75 = 0,SUBSTITUTE(LEFT($KG75, FIND(\" \",$KG75)-1),\".\",\",\"),\"\")","v":""},{"$f":"IF($KF75 = 0,TRIM(MID($KG75,LEN($KH75)+1,50)),\"\")","v":""},{"$f":"IF($KF75 = 0,SUBSTITUTE(LEFT($KI75, FIND(\" \",$KI75)-1),\".\",\",\"),\"\")","v":""},{"$f":"IF($KF75 = 0,TRIM(MID($KI75,LEN($KJ75)+1,50)),\"\")","v":""},{"$f":"IF($KF75 = 0,SUBSTITUTE(LEFT($KK75, FIND(\" \",$KK75)-1),\".\",\",\"),\"\")","v":""},{"$f":"IF($KF75 = 0,TRIM(MID($KK75,LEN($KL75)+1,50)),\"\")","v":""},{"$f":"IF($KF75 = 0,SUBSTITUTE(LEFT($KM75, FIND(\" \",$KM75)-1),\".\",\",\"),\"\")","v":""},{"$f":"IF($KF75 = 0,TRIM(MID($KM75,LEN($KN75)+1,50)),\"\")","v":""},{"$f":"IF($KF75 = 0,SUBSTITUTE(LEFT($KO75, FIND(\" \",$KO75)-1),\".\",\",\"),\"\")","v":""},{"$f":"IF($KF75 = 0,TRIM(MID($KO75,LEN($KP75)+1,50)),\"\")","v":""},{"$f":"IF($KF75 = 0,SUBSTITUTE(LEFT($KQ75, FIND(\" \",$KQ75)-1),\".\",\",\"),\"\")","v":""},{"$f":"IF($KF75 = 0,TRIM(MID($KQ75,LEN($KR75)+1,50)),\"\")","v":""},{"$f":"IF($KF75 = 0,SUBSTITUTE(LEFT($KS75, FIND(\" \",$KS75)-1),\".\",\",\"),\"\")","v":""},{"$f":"IF($KF75 = 0,TRIM(MID($KS75,LEN($KT75)+1,50)),\"\")","v":""},{"$f":"IF($KF75 = 0,SUBSTITUTE(LEFT($KU75, FIND(\" \",$KU75)-1),\".\",\",\"),\"\")","v":""},{"$f":"IF($KF75 = 0,TRIM(MID($KU75,LEN($KV75)+1,50)),\"\")","v":""},{"$f":"IF($KF75 = 0,SUBSTITUTE($KW75,\".\",\",\"),\"\")","v":""},null,{"$f":"IF($KF75 = 0, VALUE($KH75),\"\")","v":""},{"$f":"IF($KF75 = 0, VALUE($KJ75),\"\")","v":""},{"$f":"IF($KF75 = 0, VALUE($KL75),\"\")","v":""},{"$f":"IF($KF75 = 0, VALUE($KN75),\"\")","v":""},{"$f":"IF($KF75 = 0, VALUE($KP75),\"\")","v":""},{"$f":"IF($KF75 = 0, VALUE($KR75),\"\")","v":""},{"$f":"IF($KF75 = 0, VALUE($KT75),\"\")","v":""},{"$f":"IF($KF75 = 0, VALUE($KV75),\"\")","v":""},{"$f":"IF($KF75 = 0, VALUE($KX75),\"\")","v":""},{"$f":"IF(NOT(ISBLANK($AJ75)),$AJ75,\" \")","v":" "},{"$f":"IF($LI75 = \" \",1,0)","v":1},{"$f":"IF($LJ75 = 0,TRIM($LI75),\"\")","v":""},{"$f":"IF($LJ75 = 0,SUBSTITUTE(LEFT($LK75, FIND(\" \",$LK75)-1),\".\",\",\"),\"\")","v":""},{"$f":"IF($LJ75 = 0,TRIM(MID($LK75,LEN($LL75)+1,50)),\"\")","v":""},{"$f":"IF($LJ75 = 0,SUBSTITUTE(LEFT($LM75, FIND(\" \",$LM75)-1),\".\",\",\"),\"\")","v":""},{"$f":"IF($LJ75 = 0,TRIM(MID($LM75,LEN($LN75)+1,50)),\"\")","v":""},{"$f":"IF($LJ75 = 0,SUBSTITUTE(LEFT($LO75, FIND(\" \",$LO75)-1),\".\",\",\"),\"\")","v":""},{"$f":"IF($LJ75 = 0,TRIM(MID($LO75,LEN($LP75)+1,50)),\"\")","v":""},{"$f":"IF($LJ75 = 0,SUBSTITUTE(LEFT($LQ75, FIND(\" \",$LQ75)-1),\".\",\",\"),\"\")","v":""},{"$f":"IF($LJ75 = 0,TRIM(MID($LQ75,LEN($LR75)+1,50)),\"\")","v":""},{"$f":"IF($LJ75 = 0,SUBSTITUTE(LEFT($LS75, FIND(\" \",$LS75)-1),\".\",\",\"),\"\")","v":""},{"$f":"IF($LJ75 = 0,TRIM(MID($LS75,LEN($LT75)+1,50)),\"\")","v":""},{"$f":"IF($LJ75 = 0,SUBSTITUTE(LEFT($LU75, FIND(\" \",$LU75)-1),\".\",\",\"),\"\")","v":""},{"$f":"IF($LJ75 = 0,TRIM(MID($LU75,LEN($LV75)+1,50)),\"\")","v":""},{"$f":"IF($LJ75 = 0,SUBSTITUTE(LEFT($LW75, FIND(\" \",$LW75)-1),\".\",\",\"),\"\")","v":""},{"$f":"IF($LJ75 = 0,TRIM(MID($LW75,LEN($LX75)+1,50)),\"\")","v":""},{"$f":"IF($LJ75 = 0,SUBSTITUTE($LY75,\".\",\",\"),\"\")","v":""},null,{"$f":"IF($LJ75 = 0, VALUE($LL75),\"\")","v":""},{"$f":"IF($LJ75 = 0, VALUE($LN75),\"\")","v":""},{"$f":"IF($LJ75 = 0, VALUE($LP75),\"\")","v":""},{"$f":"IF($LJ75 = 0, VALUE($LR75),\"\")","v":""},{"$f":"IF($LJ75 = 0, VALUE($LT75),\"\")","v":""},{"$f":"IF($LJ75 = 0, VALUE($LV75),\"\")","v":""},{"$f":"IF($LJ75 = 0, VALUE($LX75),\"\")","v":""},{"$f":"IF($LJ75 = 0, VALUE($LZ75),\"\")","v":""},null,{"$f":" IFERROR(FIND(\" \",$DX75,1),0)","v":0},{"$f":"IF(NOT($MK75 = 0),1,0)","v":0},{"$f":" IFERROR(FIND(\" \",$EV75,1),0)","v":0},{"$f":"IF(NOT($MM75 = 0),1,0)","v":0},{"$f":" IFERROR(FIND(\" \",$FT75,1),0)","v":0},{"$f":"IF(NOT($MO75 = 0),1,0)","v":0},{"$f":" IFERROR(FIND(\" \",$GV75,1),0)","v":0},{"$f":"IF(NOT($MQ75 = 0),1,0)","v":0},{"$f":" IFERROR(FIND(\" \",$HX75,1),0)","v":0},{"$f":"IF(NOT($MS75 = 0),1,0)","v":0},{"$f":" IFERROR(FIND(\" \",$IW75,1),0)","v":0},{"$f":"IF(NOT($MU75 = 0),1,0)","v":0},{"$f":" IFERROR(FIND(\" \",$JU75,1),0)","v":0},{"$f":"IF(NOT($MW75 = 0),1,0)","v":0},{"$f":" IFERROR(FIND(\" \",$KW75,1),0)","v":0},{"$f":"IF(NOT($MY75 = 0),1,0)","v":0},{"$f":" IFERROR(FIND(\" \",$LY75,1),0)","v":0},{"$f":"IF(NOT($NA75 = 0),1,0)","v":0}]
[{"$nulls":113}," ",1,"","","","","","","","","","","","","","",null,"","","","","","",""," ",1,"","","","","","","","","","","","","","",null,"","","","","","",""," ",1,"","","","","","","","","","","","","","",null,"","","","","","",""," ",1,"","","","","","","","","","","","","","","","","","",null,"","","","","","","","",""," ",1,"","","","","","","","","","","","","","","","",null,"","","","","","","",""," ",1,"","","","","","","","","","","","","","",null,"","","","","","",""," ",1,"","","","","","","","","","","","","","",null,"","","","","","",""," ",1,"","","","","","","","","","","","","","","","","","",null,"","","","","","","","",""," ",1,"","","","","","","","","","","","","","","","",null,"","","","","","","","",null,0,0,0,0,0,0,0,0,0,0,0,0,0,0,0,0,0,0]
[{"$nulls":113}," ",1,"","","","","","","","","","","","","","",null,"","","","","","",""," ",1,"","","","","","","","","","","","","","",null,"","","","","","",""," ",1,"","","","","","","","","","","","","","",null,"","","","","","",""," ",1,"","","","","","","","","","","","","","","","","","",null,"","","","","","","","",""," ",1,"","","","","","","","","","","","","","","","",null,"","","","","","","",""," ",1,"","","","","","","","","","","","","","",null,"","","","","","",""," ",1,"","","","","","","","","","","","","","",null,"","","","","","",""," ",1,"","","","","","","","","","","","","","","","","","",null,"","","","","","","","",""," ",1,"","","","","","","","","","","","","","","","",null,"","","","","","","","",null,0,0,0,0,0,0,0,0,0,0,0,0,0,0,0,0,0,0]
[{"$nulls":113}," ",1,"","","","","","","","","","","","","","",null,"","","","","","",""," ",1,"","","","","","","","","","","","","","",null,"","","","","","",""," ",1,"","","","","","","","","","","","","","",null,"","","","","","",""," ",1,"","","","","","","","","","","","","","","","","","",null,"","","","","","","","",""," ",1,"","","","","","","","","","","","","","","","",null,"","","","","","","",""," ",1,"","","","","","","","","","","","","","",null,"","","","","","",""," ",1,"","","","","","","","","","","","","","",null,"","","","","","",""," ",1,"","","","","","","","","","","","","","","","","","",null,"","","","","","","","",""," ",1,"","","","","","","","","","","","","","","","",null,"","","","","","","","",null,0,0,0,0,0,0,0,0,0,0,0,0,0,0,0,0,0,0]
[{"$nulls":113}," ",1,"","","","","","","","","","","","","","",null,"","","","","","",""," ",1,"","","","","","","","","","","","","","",null,"","","","","","",""," ",1,"","","","","","","","","","","","","","",null,"","","","","","",""," ",1,"","","","","","","","","","","","","","","","","","",null,"","","","","","","","",""," ",1,"","","","","","","","","","","","","","","","",null,"","","","","","","",""," ",1,"","","","","","","","","","","","","","",null,"","","","","","",""," ",1,"","","","","","","","","","","","","","",null,"","","","","","",""," ",1,"","","","","","","","","","","","","","","","","","",null,"","","","","","","","",""," ",1,"","","","","","","","","","","","","","","","",null,"","","","","","","","",null,0,0,0,0,0,0,0,0,0,0,0,0,0,0,0,0,0,0]
[{"$nulls":113}," ",1,"","","","","","","","","","","","","","",null,"","","","","","",""," ",1,"","","","","","","","","","","","","","",null,"","","","","","",""," ",1,"","","","","","","","","","","","","","",null,"","","","","","",""," ",1,"","","","","","","","","","","","","","","","","","",null,"","","","","","","","",""," ",1,"","","","","","","","","","","","","","","","",null,"","","","","","","",""," ",1,"","","","","","","","","","","","","","",null,"","","","","","",""," ",1,"","","","","","","","","","","","","","",null,"","","","","","",""," ",1,"","","","","","","","","","","","","","","","","","",null,"","","","","","","","",""," ",1,"","","","","","","","","","","","","","","","",null,"","","","","","","","",null,0,0,0,0,0,0,0,0,0,0,0,0,0,0,0,0,0,0]
[{"$nulls":113}," ",1,"","","","","","","","","","","","","","",null,"","","","","","",""," ",1,"","","","","","","","","","","","","","",null,"","","","","","",""," ",1,"","","","","","","","","","","","","","",null,"","","","","","",""," ",1,"","","","","","","","","","","","","","","","","","",null,"","","","","","","","",""," ",1,"","","","","","","","","","","","","","","","",null,"","","","","","","",""," ",1,"","","","","","","","","","","","","","",null,"","","","","","",""," ",1,"","","","","","","","","","","","","","",null,"","","","","","",""," ",1,"","","","","","","","","","","","","","","","","","",null,"","","","","","","","",""," ",1,"","","","","","","","","","","","","","","","",null,"","","","","","","","",null,0,0,0,0,0,0,0,0,0,0,0,0,0,0,0,0,0,0]
[{"$nulls":113}," ",1,"","","","","","","","","","","","","","",null,"","","","","","",""," ",1,"","","","","","","","","","","","","","",null,"","","","","","",""," ",1,"","","","","","","","","","","","","","",null,"","","","","","",""," ",1,"","","","","","","","","","","","","","","","","","",null,"","","","","","","","",""," ",1,"","","","","","","","","","","","","","","","",null,"","","","","","","",""," ",1,"","","","","","","","","","","","","","",null,"","","","","","",""," ",1,"","","","","","","","","","","","","","",null,"","","","","","",""," ",1,"","","","","","","","","","","","","","","","","","",null,"","","","","","","","",""," ",1,"","","","","","","","","","","","","","","","",null,"","","","","","","","",null,0,0,0,0,0,0,0,0,0,0,0,0,0,0,0,0,0,0]
[{"$nulls":113}," ",1,"","","","","","","","","","","","","","",null,"","","","","","",""," ",1,"","","","","","","","","","","","","","",null,"","","","","","",""," ",1,"","","","","","","","","","","","","","",null,"","","","","","",""," ",1,"","","","","","","","","","","","","","","","","","",null,"","","","","","","","",""," ",1,"","","","","","","","","","","","","","","","",null,"","","","","","","",""," ",1,"","","","","","","","","","","","","","",null,"","","","","","",""," ",1,"","","","","","","","","","","","","","",null,"","","","","","",""," ",1,"","","","","","","","","","","","","","","","","","",null,"","","","","","","","",""," ",1,"","","","","","","","","","","","","","","","",null,"","","","","","","","",null,0,0,0,0,0,0,0,0,0,0,0,0,0,0,0,0,0,0]
[{"$nulls":113}," ",1,"","","","","","","","","","","","","","",null,"","","","","","",""," ",1,"","","","","","","","","","","","","","",null,"","","","","","",""," ",1,"","","","","","","","","","","","","","",null,"","","","","","",""," ",1,"","","","","","","","","","","","","","","","","","",null,"","","","","","","","",""," ",1,"","","","","","","","","","","","","","","","",null,"","","","","","","",""," ",1,"","","","","","","","","","","","","","",null,"","","","","","",""," ",1,"","","","","","","","","","","","","","",null,"","","","","","",""," ",1,"","","","","","","","","","","","","","","","","","",null,"","","","","","","","",""," ",1,"","","","","","","","","","","","","","","","",null,"","","","","","","","",null,0,0,0,0,0,0,0,0,0,0,0,0,0,0,0,0,0,0]
[{"$nulls":113}," ",1,"","","","","","","","","","","","","","",null,"","","","","","","",{"$f":"IF(NOT(ISBLANK($E85)),$E85,\" \")","v":" "},1,"","","","","","","","","","","","","","",null,"","","","","","",""," ",1,"","","","","","","","","","","","","","",null,"","","","","","",""," ",1,"","","","","","","","","","","","","","","","","","",null,"","","","","","","","",""," ",1,"","","","","","","","","","","","","","","","",null,"","","","","","","",""," ",1,"","","","","","","","","","","","","","",null,"","","","","","",""," ",1,"","","","","","","","","","","","","","",null,"","","","","","",""," ",1,"","","","","","","","","","","","","","","","","","",null,"","","","","","","","",""," ",1,"","","","","","","","","","","","","","","","",null,"","","","","","","","",null,0,0,0,0,0,0,0,0,0,0,0,0,0,0,0,0,0,0]
[{"$nulls":113}," ",1,"","","","","","","","","","","","","","",null,"","","","","","",""," ",1,"","","","","","","","","","","","","","",null,"","","","","","",""," ",1,"","","","","","","","","","","","","","",null,"","","","","","",""," ",1,"","","","","","","","","","","","","","","","","","",null,"","","","","","","","",""," ",1,"","","","","","","","","","","","","","","","",null,"","","","","","","",""," ",1,"","","","","","","","","","","","","","",null,"","","","","","",""," ",1,"","","","","","","","","","","","","","",null,"","","","","","",""," ",1,"","","","","","","","","","","","","","","","","","",null,"","","","","","","","",""," ",1,"","","","","","","","","","","","","","","","",null,"","","","","","","","",null,0,0,0,0,0,0,0,0,0,0,0,0,0,0,0,0,0,0]
[{"$nulls":113}," ",1,"","","","","","","","","","","","","","",null,"","","","","","",""," ",1,"","","","","","","","","","","","","","",null,"","","","","","",""," ",1,"","","","","","","","","","","","","","",null,"","","","","","",""," ",1,"","","","","","","","","","","","","","","","","","",null,"","","","","","","","",""," ",1,"","","","","","","","","","","","","","","","",null,"","","","","","","",""," ",1,"","","","","","","","","","","","","","",null,"","","","","","",""," ",1,"","","","","","","","","","","","","","",null,"","","","","","",""," ",1,"","","","","","","","","","","","","","","","","","",null,"","","","","","","","",""," ",1,"","","","","","","","","","","","","","","","",null,"","","","","","","","",null,0,0,0,0,0,0,0,0,0,0,0,0,0,0,0,0,0,0]
[{"$nulls":113}," ",1,"","","","","","","","","","","","","","",null,"","","","","","",""," ",1,"","","","","","","","","","","","","","",null,"","","","","","",""," ",1,"","","","","","","","","","","","","","",null,"","","","","","",""," ",1,"","","","","","","","","","","","","","","","","","",null,"","","","","","","","",""," ",1,"","","","","","","","","","","","","","","","",null,"","","","","","","",""," ",1,"","","","","","","","","","","","","","",null,"","","","","","",""," ",1,"","","","","","","","","","","","","","",null,"","","","","","",""," ",1,"","","","","","","","","","","","","","","","","","",null,"","","","","","","","",""," ",1,"","","","","","","","","","","","","","","","",null,"","","","","","","","",null,0,0,0,0,0,0,0,0,0,0,0,0,0,0,0,0,0,0]
[{"$nulls":113}," ",1,"","","","","","","","","","","","","","",null,"","","","","","",""," ",1,"","","","","","","","","","","","","","",null,"","","","","","",""," ",1,"","","","","","","","","","","","","","",null,"","","","","","",""," ",1,"","","","","","","","","","","","","","","","","","",null,"","","","","","","","",""," ",1,"","","","","","","","","","","","","","","","",null,"","","","","","","",""," ",1,"","","","","","","","","","","","","","",null,"","","","","","",""," ",1,"","","","","","","","","","","","","","",null,"","","","","","",""," ",1,"","","","","","","","","","","","","","","","","","",null,"","","","","","","","",""," ",1,"","","","","","","","","","","","","","","","",null,"","","","","","","","",null,0,0,0,0,0,0,0,0,0,0,0,0,0,0,0,0,0,0]
[{"$nulls":113}," ",1,"","","","","","","","","","","","","","",null,"","","","","","",""," ",1,"","","","","","","","","","","","","","",null,"","","","","","",""," ",1,"","","","","","","","","","","","","","",null,"","","","","","",""," ",1,"","","","","","","","","","","","","","","","","","",null,"","","","","","","","",""," ",1,"","","","","","","","","","","","","","","","",null,"","","","","","","",""," ",1,"","","","","","","","","","","","","","",null,"","","","","","",""," ",1,"","","","","","","","","","","","","","",null,"","","","","","",""," ",1,"","","","","","","","","","","","","","","","","","",null,"","","","","","","","",""," ",1,"","","","","","","","","","","","","","","","",null,"","","","","","","","",null,0,0,0,0,0,0,0,0,0,0,0,0,0,0,0,0,0,0]
[{"$nulls":113}," ",1,"","","","","","","","","","","","","","",null,"","","","","","",""," ",1,"","","","","","","","","","","","","","",null,"","","","","","",""," ",1,"","","","","","","","","","","","","","",null,"","","","","","",""," ",1,"","","","","","","","","","","","","","","","","","",null,"","","","","","","","",""," ",1,"","","","","","","","","","","","","","","","",null,"","","","","","","",""," ",1,"","","","","","","","","","","","","","",null,"","","","","","",""," ",1,"","","","","","","","","","","","","","",null,"","","","","","",""," ",1,"","","","","","","","","","","","","","","","","","",null,"","","","","","","","",""," ",1,"","","","","","","","","","","","","","","","",null,"","","","","","","","",null,0,0,0,0,0,0,0,0,0,0,0,0,0,0,0,0,0,0]
[{"$nulls":113}," ",1,"","","","","","","","","","","","","","",null,"","","","","","",""," ",1,"","","","","","","","","","","","","","",null,"","","","","","",""," ",1,"","","","","","","","","","","","","","",null,"","","","","","",""," ",1,"","","","","","","","","","","","","","","","","","",null,"","","","","","","","",""," ",1,"","","","","","","","","","","","","","","","",null,"","","","","","","",""," ",1,"","","","","","","","","","","","","","",null,"","","","","","",""," ",1,"","","","","","","","","","","","","","",null,"","","","","","",""," ",1,"","","","","","","","","","","","","","","","","","",null,"","","","","","","","",""," ",1,"","","","","","","","","","","","","","","","",null,"","","","","","","","",null,0,0,0,0,0,0,0,0,0,0,0,0,0,0,0,0,0,0]
[{"$nulls":113}," ",1,"","","","","","","","","","","","","","",null,"","","","","","",""," ",1,"","","","","","","","","","","","","","",null,"","","","","","",""," ",1,"","","","","","","","","","","","","","",null,"","","","","","",""," ",1,"","","","","","","","","","","","","","","","","","",null,"","","","","","","","",""," ",1,"","","","","","","","","","","","","","","","",null,"","","","","","","",""," ",1,"","","","","","","","","","","","","","",null,"","","","","","",""," ",1,"","","","","","","","","","","","","","",null,"","","","","","",""," ",1,"","","","","","","","","","","","","","","","","","",null,"","","","","","","","",""," ",1,"","","","","","","","","","","","","","","","",null,"","","","","","","","",null,0,0,0,0,0,0,0,0,0,0,0,0,0,0,0,0,0,0]
[{"$nulls":113}," ",1,"","","","","","","","","","","","","","",null,"","","","","","",""," ",1,"","","","","","","","","","","","","","",null,"","","","","","",""," ",1,"","","","","","","","","","","","","","",null,"","","","","","",""," ",1,"","","","","","","","","","","","","","","","","","",null,"","","","","","","","",""," ",1,"","","","","","","","","","","","","","","","",null,"","","","","","","",""," ",1,"","","","","","","","","","","","","","",null,"","","","","","",""," ",1,"","","","","","","","","","","","","","",null,"","","","","","",""," ",1,"","","","","","","","","","","","","","","","","","",null,"","","","","","","","",""," ",1,"","","","","","","","","","","","","","","","",null,"","","","","","","","",null,0,0,0,0,0,0,0,0,0,0,0,0,0,0,0,0,0,0]
[{"$nulls":113}," ",1,"","","","","","","","","","","","","","",null,"","","","","","",""," ",1,"","","","","","","","","","","","","","",null,"","","","","","",""," ",1,"","","","","","","","","","","","","","",null,"","","","","","",""," ",1,"","","","","","","","","","","","","","","","","","",null,"","","","","","","","",""," ",1,"","","","","","","","","","","","","","","","",null,"","","","","","","",""," ",1,"","","","","","","","","","","","","","",null,"","","","","","",""," ",1,"","","","","","","","","","","","","","",null,"","","","","","",""," ",1,"","","","","","","","","","","","","","","","","","",null,"","","","","","","","",""," ",1,"","","","","","","","","","","","","","","","",null,"","","","","","","","",null,0,0,0,0,0,0,0,0,0,0,0,0,0,0,0,0,0,0]
[{"$nulls":113}," ",1,"","","","","","","","","","","","","","",null,"","","","","","",""," ",1,"","","","","","","","","","","","","","",null,"","","","","","",""," ",1,"","","","","","","","","","","","","","",null,"","","","","","",""," ",1,"","","","","","","","","","","","","","","","","","",null,"","","","","","","","",""," ",1,"","","","","","","","","","","","","","","","",null,"","","","","","","",""," ",1,"","","","","","","","","","","","","","",null,"","","","","","",""," ",1,"","","","","","","","","","","","","","",null,"","","","","","",""," ",1,"","","","","","","","","","","","","","","","","","",null,"","","","","","","","",""," ",1,"","","","","","","","","","","","","","","","",null,"","","","","","","","",null,0,0,0,0,0,0,0,0,0,0,0,0,0,0,0,0,0,0]
[{"$nulls":113}," ",1,"","","","","","","","","","","","","","",null,"","","","","","",""," ",1,"","","","","","","","","","","","","","",null,"","","","","","",""," ",1,"","","","","","","","","","","","","","",null,"","","","","","",""," ",1,"","","","","","","","","","","","","","","","","","",null,"","","","","","","","",""," ",1,"","","","","","","","","","","","","","","","",null,"","","","","","","",""," ",1,"","","","","","","","","","","","","","",null,"","","","","","",""," ",1,"","","","","","","","","","","","","","",null,"","","","","","",""," ",1,"","","","","","","","","","","","","","","","","","",null,"","","","","","","","",""," ",1,"","","","","","","","","","","","","","","","",null,"","","","","","","","",null,0,0,0,0,0,0,0,0,0,0,0,0,0,0,0,0,0,0]
[{"$nulls":113}," ",1,"","","","","","","","","","","","","","",null,"","","","","","",""," ",1,"","","","","","","","","","","","","","",null,"","","","","","",""," ",1,"","","","","","","","","","","","","","",null,"","","","","","",""," ",1,"","","","","","","","","","","","","","","","","","",null,"","","","","","","","",""," ",1,"","","","","","","","","","","","","","","","",null,"","","","","","","",""," ",1,"","","","","","","","","","","","","","",null,"","","","","","",""," ",1,"","","","","","","","","","","","","","",null,"","","","","","",""," ",1,"","","","","","","","","","","","","","","","","","",null,"","","","","","","","",""," ",1,"","","","","","","","","","","","","","","","",null,"","","","","","","","",null,0,0,0,0,0,0,0,0,0,0,0,0,0,0,0,0,0,0]
[{"$nulls":113}," ",1,"","","","","","","","","","","","","","",null,"","","","","","",""," ",1,"","","","","","","","","","","","","","",null,"","","","","","",""," ",1,"","","","","","","","","","","","","","",null,"","","","","","",""," ",1,"","","","","","","","","","","","","","","","","","",null,"","","","","","","","",""," ",1,"","","","","","","","","","","","","","","","",null,"","","","","","","",""," ",1,"","","","","","","","","","","","","","",null,"","","","","","",""," ",1,"","","","","","","","","","","","","","",null,"","","","","","",""," ",1,"","","","","","","","","","","","","","","","","","",null,"","","","","","","","",""," ",1,"","","","","","","","","","","","","","","","",null,"","","","","","","","",null,0,0,0,0,0,0,0,0,0,0,0,0,0,0,0,0,0,0]
[{"$nulls":113}," ",1,"","","","","","","","","","","","","","",null,"","","","","","",""," ",1,"","","","","","","","","","","","","","",null,"","","","","","",""," ",1,"","","","","","","","","","","","","","",null,"","","","","","",""," ",1,"","","","","","","","","","","","","","","","","","",null,"","","","","","","","",""," ",1,"","","","","","","","","","","","","","","","",null,"","","","","","","",""," ",1,"","","","","","","","","","","","","","",null,"","","","","","",""," ",1,"","","","","","","","","","","","","","",null,"","","","","","",""," ",1,"","","","","","","","","","","","","","","","","","",null,"","","","","","","","",""," ",1,"","","","","","","","","","","","","","","","",null,"","","","","","","","",null,0,0,0,0,0,0,0,0,0,0,0,0,0,0,0,0,0,0]
[{"$nulls":113}," ",1,"","","","","","","","","","","","","","",null,"","","","","","",""," ",1,"","","","","","","","","","","","","","",null,"","","","","","",""," ",1,"","","","","","","","","","","","","","",null,"","","","","","",""," ",1,"","","","","","","","","","","","","","","","","","",null,"","","","","","","","",""," ",1,"","","","","","","","","","","","","","","","",null,"","","","","","","",""," ",1,"","","","","","","","","","","","","","",null,"","","","","","",""," ",1,"","","","","","","","","","","","","","",null,"","","","","","",""," ",1,"","","","","","","","","","","","","","","","","","",null,"","","","","","","","",""," ",1,"","","","","","","","","","","","","","","","",null,"","","","","","","","",null,0,0,0,0,0,0,0,0,0,0,0,0,0,0,0,0,0,0]
[{"$nulls":113}," ",1,"","","","","","","","","","","","","","",null,"","","","","","",""," ",1,"","","","","","","","","","","","","","",null,"","","","","","",""," ",1,"","","","","","","","","","","","","","",null,"","","","","","",""," ",1,"","","","","","","","","","","","","","","","","","",null,"","","","","","","","",""," ",1,"","","","","","","","","","","","","","","","",null,"","","","","","","",""," ",1,"","","","","","","","","","","","","","",null,"","","","","","",""," ",1,"","","","","","","","","","","","","","",null,"","","","","","",""," ",1,"","","","","","","","","","","","","","","","","","",null,"","","","","","","","",""," ",1,"","","","","","","","","","","","","","","","",null,"","","","","","","","",null,0,0,0,0,0,0,0,0,0,0,0,0,0,0,0,0,0,0]
[{"$nulls":113}," ",1,"","","","","","","","","","","","","","",null,"","","","","","",""," ",1,"","","","","","","","","","","","","","",null,"","","","","","",""," ",1,"","","","","","","","","","","","","","",null,"","","","","","",""," ",1,"","","","","","","","","","","","","","","","","","",null,"","","","","","","","",""," ",1,"","","","","","","","","","","","","","","","",null,"","","","","","","",""," ",1,"","","","","","","","","","","","","","",null,"","","","","","",""," ",1,"","","","","","","","","","","","","","",null,"","","","","","",""," ",1,"","","","","","","","","","","","","","","","","","",null,"","","","","","","","",""," ",1,"","","","","","","","","","","","","","","","",null,"","","","","","","","",null,0,0,0,0,0,0,0,0,0,0,0,0,0,0,0,0,0,0]
[{"$nulls":113}," ",1,"","","","","","","","","","","","","","",null,"","","","","","",""," ",1,"","","","","","","","","","","","","","",null,"","","","","","",""," ",1,"","","","","","","","","","","","","","",null,"","","","","","",""," ",1,"","","","","","","","","","","","","","","","","","",null,"","","","","","","","",""," ",1,"","","","","","","","","","","","","","","","",null,"","","","","","","",""," ",1,"","","","","","","","","","","","","","",null,"","","","","","",""," ",1,"","","","","","","","","","","","","","",null,"","","","","","",""," ",1,"","","","","","","","","","","","","","","","","","",null,"","","","","","","","",""," ",1,"","","","","","","","","","","","","","","","",null,"","","","","","","","",null,0,0,0,0,0,0,0,0,0,0,0,0,0,0,0,0,0,0]
[{"$nulls":113}," ",1,"","","","","","","","","","","","","","",null,"","","","","","",""," ",1,"","","","","","","","","","","","","","",null,"","","","","","",""," ",1,"","","","","","","","","","","","","","",null,"","","","","","",""," ",1,"","","","","","","","","","","","","","","","","","",null,"","","","","","","","",""," ",1,"","","","","","","","","","","","","","","","",null,"","","","","","","",""," ",1,"","","","","","","","","","","","","","",null,"","","","","","",""," ",1,"","","","","","","","","","","","","","",null,"","","","","","",""," ",1,"","","","","","","","","","","","","","","","","","",null,"","","","","","","","",""," ",1,"","","","","","","","","","","","","","","","",null,"","","","","","","","",null,0,0,0,0,0,0,0,0,0,0,0,0,0,0,0,0,0,0]
[{"$nulls":113}," ",1,"","","","","","","","","","","","","","",null,"","","","","","",""," ",1,"","","","","","","","","","","","","","",null,"","","","","","",""," ",1,"","","","","","","","","","","","","","",null,"","","","","","",""," ",1,"","","","","","","","","","","","","","","","","","",null,"","","","","","","","",""," ",1,"","","","","","","","","","","","","","","","",null,"","","","","","","",""," ",1,"","","","","","","","","","","","","","",null,"","","","","","",""," ",1,"","","","","","","","","","","","","","",null,"","","","","","",""," ",1,"","","","","","","","","","","","","","","","","","",null,"","","","","","","","",""," ",1,"","","","","","","","","","","","","","","","",null,"","","","","","","","",null,0,0,0,0,0,0,0,0,0,0,0,0,0,0,0,0,0,0]
[{"$nulls":113}," ",1,"","","","","","","","","","","","","","",null,"","","","","","",""," ",1,"","","","","","","","","","","","","","",null,"","","","","","",""," ",1,"","","","","","","","","","","","","","",null,"","","","","","",""," ",1,"","","","","","","","","","","","","","","","","","",null,"","","","","","","","",""," ",1,"","","","","","","","","","","","","","","","",null,"","","","","","","",""," ",1,"","","","","","","","","","","","","","",null,"","","","","","",""," ",1,"","","","","","","","","","","","","","",null,"","","","","","",""," ",1,"","","","","","","","","","","","","","","","","","",null,"","","","","","","","",""," ",1,"","","","","","","","","","","","","","","","",null,"","","","","","","","",null,0,0,0,0,0,0,0,0,0,0,0,0,0,0,0,0,0,0]
[{"$nulls":113}," ",1,"","","","","","","","","","","","","","",null,"","","","","","",""," ",1,"","","","","","","","","","","","","","",null,"","","","","","",""," ",1,"","","","","","","","","","","","","","",null,"","","","","","",""," ",1,"","","","","","","","","","","","","","","","","","",null,"","","","","","","","",""," ",1,"","","","","","","","","","","","","","","","",null,"","","","","","","",""," ",1,"","","","","","","","","","","","","","",null,"","","","","","",""," ",1,"","","","","","","","","","","","","","",null,"","","","","","",""," ",1,"","","","","","","","","","","","","","","","","","",null,"","","","","","","","",""," ",1,"","","","","","","","","","","","","","","","",null,"","","","","","","","",null,0,0,0,0,0,0,0,0,0,0,0,0,0,0,0,0,0,0]
[{"$nulls":113}," ",1,"","","","","","","","","","","","","","",null,"","","","","","",""," ",1,"","","","","","","","","","","","","","",null,"","","","","","",""," ",1,"","","","","","","","","","","","","","",null,"","","","","","",""," ",1,"","","","","","","","","","","","","","","","","","",null,"","","","","","","","",""," ",1,"","","","","","","","","","","","","","","","",null,"","","","","","","",""," ",1,"","","","","","","","","","","","","","",null,"","","","","","",""," ",1,"","","","","","","","","","","","","","",null,"","","","","","",""," ",1,"","","","","","","","","","","","","","","","","","",null,"","","","","","","","",""," ",1,"","","","","","","","","","","","","","","","",null,"","","","","","","","",null,0,0,0,0,0,0,0,0,0,0,0,0,0,0,0,0,0,0]
[{"$nulls":113}," ",1,"","","","","","","","","","","","","","",null,"","","","","","",""," ",1,"","","","","","","","","","","","","","",null,"","","","","","",""," ",1,"","","","","","","","","","","","","","",null,"","","","","","",""," ",1,"","","","","","","","","","","","","","","","","","",null,"","","","","","","","",""," ",1,"","","","","","","","","","","","","","","","",null,"","","","","","","",""," ",1,"","","","","","","","","","","","","","",null,"","","","","","",""," ",1,"","","","","","","","","","","","","","",null,"","","","","","",""," ",1,"","","","","","","","","","","","","","","","","","",null,"","","","","","","","",""," ",1,"","","","","","","","","","","","","","","","",null,"","","","","","","","",null,0,0,0,0,0,0,0,0,0,0,0,0,0,0,0,0,0,0]
[{"$nulls":113}," ",1,"","","","","","","","","","","","","","",null,"","","","","","",""," ",1,"","","","","","","","","","","","","","",null,"","","","","","",""," ",1,"","","","","","","","","","","","","","",null,"","","","","","",""," ",1,"","","","","","","","","","","","","","","","","","",null,"","","","","","","","",""," ",1,"","","","","","","","","","","","","","","","",null,"","","","","","","",""," ",1,"","","","","","","","","","","","","","",null,"","","","","","",""," ",1,"","","","","","","","","","","","","","",null,"","","","","","",""," ",1,"","","","","","","","","","","","","","","","","","",null,"","","","","","","","",""," ",1,"","","","","","","","","","","","","","","","",null,"","","","","","","","",null,0,0,0,0,0,0,0,0,0,0,0,0,0,0,0,0,0,0]
[{"$nulls":113}," ",1,"","","","","","","","","","","","","","",null,"","","","","","",""," ",1,"","","","","","","","","","","","","","",null,"","","","","","",""," ",1,"","","","","","","","","","","","","","",null,"","","","","","",""," ",1,"","","","","","","","","","","","","","","","","","",null,"","","","","","","","",""," ",1,"","","","","","","","","","","","","","","","",null,"","","","","","","",""," ",1,"","","","","","","","","","","","","","",null,"","","","","","",""," ",1,"","","","","","","","","","","","","","",null,"","","","","","",""," ",1,"","","","","","","","","","","","","","","","","","",null,"","","","","","","","",""," ",1,"","","","","","","","","","","","","","","","",null,"","","","","","","","",null,0,0,0,0,0,0,0,0,0,0,0,0,0,0,0,0,0,0]
[{"$nulls":113}," ",1,"","","","","","","","","","","","","","",null,"","","","","","",""," ",1,"","","","","","","","","","","","","","",null,"","","","","","",""," ",1,"","","","","","","","","","","","","","",null,"","","","","","",""," ",1,"","","","","","","","","","","","","","","","","","",null,"","","","","","","","",""," ",1,"","","","","","","","","","","","","","","","",null,"","","","","","","",""," ",1,"","","","","","","","","","","","","","",null,"","","","","","",""," ",1,"","","","","","","","","","","","","","",null,"","","","","","",""," ",1,"","","","","","","","","","","","","","","","","","",null,"","","","","","","","",""," ",1,"","","","","","","","","","","","","","","","",null,"","","","","","","","",null,0,0,0,0,0,0,0,0,0,0,0,0,0,0,0,0,0,0]
[{"$nulls":113}," ",1,"","","","","","","","","","","","","","",null,"","","","","","",""," ",1,"","","","","","","","","","","","","","",null,"","","","","","",""," ",1,"","","","","","","","","","","","","","",null,"","","","","","",""," ",1,"","","","","","","","","","","","","","","","","","",null,"","","","","","","","",""," ",1,"","","","","","","","","","","","","","","","",null,"","","","","","","",""," ",1,"","","","","","","","","","","","","","",null,"","","","","","",""," ",1,"","","","","","","","","","","","","","",null,"","","","","","",""," ",1,"","","","","","","","","","","","","","","","","","",null,"","","","","","","","",""," ",1,"","","","","","","","","","","","","","","","",null,"","","","","","","","",null,0,0,0,0,0,0,0,0,0,0,0,0,0,0,0,0,0,0]
[{"$nulls":113}," ",1,"","","","","","","","","","","","","","",null,"","","","","","",""," ",1,"","","","","","","","","","","","","","",null,"","","","","","",""," ",1,"","","","","","","","","","","","","","",null,"","","","","","",""," ",1,"","","","","","","","","","","","","","","","","","",null,"","","","","","","","",""," ",1,"","","","","","","","","","","","","","","","",null,"","","","","","","",""," ",1,"","","","","","","","","","","","","","",null,"","","","","","",""," ",1,"","","","","","","","","","","","","","",null,"","","","","","",""," ",1,"","","","","","","","","","","","","","","","","","",null,"","","","","","","","",""," ",1,"","","","","","","","","","","","","","","","",null,"","","","","","","","",null,0,0,0,0,0,0,0,0,0,0,0,0,0,0,0,0,0,0]
[{"$nulls":113}," ",1,"","","","","","","","","","","","","","",null,"","","","","","",""," ",1,"","","","","","","","","","","","","","",null,"","","","","","",""," ",1,"","","","","","","","","","","","","","",null,"","","","","","",""," ",1,"","","","","","","","","","","","","","","","","","",null,"","","","","","","","",""," ",1,"","","","","","","","","","","","","","","","",null,"","","","","","","",""," ",1,"","","","","","","","","","","","","","",null,"","","","","","",""," ",1,"","","","","","","","","","","","","","",null,"","","","","","",""," ",1,"","","","","","","","","","","","","","","","","","",null,"","","","","","","","",""," ",1,"","","","","","","","","","","","","","","","",null,"","","","","","","","",null,0,0,0,0,0,0,0,0,0,0,0,0,0,0,0,0,0,0]
[{"$nulls":113}," ",1,"","","","","","","","","","","","","","",null,"","","","","","",""," ",1,"","","","","","","","","","","","","","",null,"","","","","","",""," ",1,"","","","","","","","","","","","","","",null,"","","","","","",""," ",1,"","","","","","","","","","","","","","","","","","",null,"","","","","","","","",""," ",1,"","","","","","","","","","","","","","","","",null,"","","","","","","",""," ",1,"","","","","","","","","","","","","","",null,"","","","","","",""," ",1,"","","","","","","","","","","","","","",null,"","","","","","",""," ",1,"","","","","","","","","","","","","","","","","","",null,"","","","","","","","",""," ",1,"","","","","","","","","","","","","","","","",null,"","","","","","","","",null,0,0,0,0,0,0,0,0,0,0,0,0,0,0,0,0,0,0]
[{"$nulls":113}," ",1,"","","","","","","","","","","","","","",null,"","","","","","",""," ",1,"","","","","","","","","","","","","","",null,"","","","","","",""," ",1,"","","","","","","","","","","","","","",null,"","","","","","",""," ",1,"","","","","","","","","","","","","","","","","","",null,"","","","","","","","",""," ",1,"","","","","","","","","","","","","","","","",null,"","","","","","","",""," ",1,"","","","","","","","","","","","","","",null,"","","","","","",""," ",1,"","","","","","","","","","","","","","",null,"","","","","","",""," ",1,"","","","","","","","","","","","","","","","","","",null,"","","","","","","","",""," ",1,"","","","","","","","","","","","","","","","",null,"","","","","","","","",null,0,0,0,0,0,0,0,0,0,0,0,0,0,0,0,0,0,0]
[{"$nulls":113}," ",1,"","","","","","","","","","","","","","",null,"","","","","","",""," ",1,"","","","","","","","","","","","","","",null,"","","","","","",""," ",1,"","","","","","","","","","","","","","",null,"","","","","","",""," ",1,"","","","","","","","","","","","","","","","","","",null,"","","","","","","","",""," ",1,"","","","","","","","","","","","","","","","",null,"","","","","","","",""," ",1,"","","","","","","","","","","","","","",null,"","","","","","",""," ",1,"","","","","","","","","","","","","","",null,"","","","","","",""," ",1,"","","","","","","","","","","","","","","","","","",null,"","","","","","","","",""," ",1,"","","","","","","","","","","","","","","","",null,"","","","","","","","",null,0,0,0,0,0,0,0,0,0,0,0,0,0,0,0,0,0,0]
[{"$nulls":113}," ",1,"","","","","","","","","","","","","","",null,"","","","","","",""," ",1,"","","","","","","","","","","","","","",null,"","","","","","",""," ",1,"","","","","","","","","","","","","","",null,"","","","","","",""," ",1,"","","","","","","","","","","","","","","","","","",null,"","","","","","","","",""," ",1,"","","","","","","","","","","","","","","","",null,"","","","","","","",""," ",1,"","","","","","","","","","","","","","",null,"","","","","","",""," ",1,"","","","","","","","","","","","","","",null,"","","","","","",""," ",1,"","","","","","","","","","","","","","","","","","",null,"","","","","","","","",""," ",1,"","","","","","","","","","","","","","","","",null,"","","","","","","","",null,0,0,0,0,0,0,0,0,0,0,0,0,0,0,0,0,0,0]
[{"$nulls":113}," ",1,"","","","","","","","","","","","","","",null,"","","","","","",""," ",1,"","","","","","","","","","","","","","",null,"","","","","","",""," ",1,"","","","","","","","","","","","","","",null,"","","","","","",""," ",1,"","","","","","","","","","","","","","","","","","",null,"","","","","","","","",""," ",1,"","","","","","","","","","","","","","","","",null,"","","","","","","",""," ",1,"","","","","","","","","","","","","","",null,"","","","","","",""," ",1,"","","","","","","","","","","","","","",null,"","","","","","",""," ",1,"","","","","","","","","","","","","","","","","","",null,"","","","","","","","",""," ",1,"","","","","","","","","","","","","","","","",null,"","","","","","","","",null,0,0,0,0,0,0,0,0,0,0,0,0,0,0,0,0,0,0]
[{"$nulls":113}," ",1,"","","","","","","","","","","","","","",null,"","","","","","",""," ",1,"","","","","","","","","","","","","","",null,"","","","","","",""," ",1,"","","","","","","","","","","","","","",null,"","","","","","",""," ",1,"","","","","","","","","","","","","","","","","","",null,"","","","","","","","",""," ",1,"","","","","","","","","","","","","","","","",null,"","","","","","","",""," ",1,"","","","","","","","","","","","","","",null,"","","","","","",""," ",1,"","","","","","","","","","","","","","",null,"","","","","","",""," ",1,"","","","","","","","","","","","","","","","","","",null,"","","","","","","","",""," ",1,"","","","","","","","","","","","","","","","",null,"","","","","","","","",null,0,0,0,0,0,0,0,0,0,0,0,0,0,0,0,0,0,0]
[{"$nulls":113}," ",1,"","","","","","","","","","","","","","",null,"","","","","","",""," ",1,"","","","","","","","","","","","","","",null,"","","","","","",""," ",1,"","","","","","","","","","","","","","",null,"","","","","","",""," ",1,"","","","","","","","","","","","","","","","","","",null,"","","","","","","","",""," ",1,"","","","","","","","","","","","","","","","",null,"","","","","","","",""," ",1,"","","","","","","","","","","","","","",null,"","","","","","",""," ",1,"","","","","","","","","","","","","","",null,"","","","","","",""," ",1,"","","","","","","","","","","","","","","","","","",null,"","","","","","","","",""," ",1,"","","","","","","","","","","","","","","","",null,"","","","","","","","",null,0,0,0,0,0,0,0,0,0,0,0,0,0,0,0,0,0,0]
[{"$nulls":113}," ",1,"","","","","","","","","","","","","","",null,"","","","","","",""," ",1,"","","","","","","","","","","","","","",null,"","","","","","",""," ",1,"","","","","","","","","","","","","","",null,"","","","","","",""," ",1,"","","","","","","","","","","","","","","","","","",null,"","","","","","","","",""," ",1,"","","","","","","","","","","","","","","","",null,"","","","","","","",""," ",1,"","","","","","","","","","","","","","",null,"","","","","","",""," ",1,"","","","","","","","","","","","","","",null,"","","","","","",""," ",1,"","","","","","","","","","","","","","","","","","",null,"","","","","","","","",""," ",1,"","","","","","","","","","","","","","","","",null,"","","","","","","","",null,0,0,0,0,0,0,0,0,0,0,0,0,0,0,0,0,0,0]
[{"$nulls":113}," ",1,"","","","","","","","","","","","","","",null,"","","","","","",""," ",1,"","","","","","","","","","","","","","",null,"","","","","","",""," ",1,"","","","","","","","","","","","","","",null,"","","","","","",""," ",1,"","","","","","","","","","","","","","","","","","",null,"","","","","","","","",""," ",1,"","","","","","","","","","","","","","","","",null,"","","","","","","",""," ",1,"","","","","","","","","","","","","","",null,"","","","","","",""," ",1,"","","","","","","","","","","","","","",null,"","","","","","",""," ",1,"","","","","","","","","","","","","","","","","","",null,"","","","","","","","",""," ",1,"","","","","","","","","","","","","","","","",null,"","","","","","","","",null,0,0,0,0,0,0,0,0,0,0,0,0,0,0,0,0,0,0]
[{"$nulls":113}," ",1,"","","","","","","","","","","","","","",null,"","","","","","",""," ",1,"","","","","","","","","","","","","","",null,"","","","","","",""," ",1,"","","","","","","","","","","","","","",null,"","","","","","",""," ",1,"","","","","","","","","","","","","","","","","","",null,"","","","","","","","",""," ",1,"","","","","","","","","","","","","","","","",null,"","","","","","","",""," ",1,"","","","","","","","","","","","","","",null,"","","","","","",""," ",1,"","","","","","","","","","","","","","",null,"","","","","","",""," ",1,"","","","","","","","","","","","","","","","","","",null,"","","","","","","","",""," ",1,"","","","","","","","","","","","","","","","",null,"","","","","","","","",null,0,0,0,0,0,0,0,0,0,0,0,0,0,0,0,0,0,0]
[{"$nulls":113}," ",1,"","","","","","","","","","","","","","",null,"","","","","","",""," ",1,"","","","","","","","","","","","","","",null,"","","","","","",""," ",1,"","","","","","","","","","","","","","",null,"","","","","","",""," ",1,"","","","","","","","","","","","","","","","","","",null,"","","","","","","","",""," ",1,"","","","","","","","","","","","","","","","",null,"","","","","","","",""," ",1,"","","","","","","","","","","","","","",null,"","","","","","",""," ",1,"","","","","","","","","","","","","","",null,"","","","","","",""," ",1,"","","","","","","","","","","","","","","","","","",null,"","","","","","","","",""," ",1,"","","","","","","","","","","","","","","","",null,"","","","","","","","",null,0,0,0,0,0,0,0,0,0,0,0,0,0,0,0,0,0,0]
[{"$nulls":113}," ",1,"","","","","","","","","","","","","","",null,"","","","","","",""," ",1,"","","","","","","","","","","","","","",null,"","","","","","",""," ",1,"","","","","","","","","","","","","","",null,"","","","","","",""," ",1,"","","","","","","","","","","","","","","","","","",null,"","","","","","","","",""," ",1,"","","","","","","","","","","","","","","","",null,"","","","","","","",""," ",1,"","","","","","","","","","","","","","",null,"","","","","","",""," ",1,"","","","","","","","","","","","","","",null,"","","","","","",""," ",1,"","","","","","","","","","","","","","","","","","",null,"","","","","","","","",""," ",1,"","","","","","","","","","","","","","","","",null,"","","","","","","","",null,0,0,0,0,0,0,0,0,0,0,0,0,0,0,0,0,0,0]
[{"$nulls":113}," ",1,"","","","","","","","","","","","","","",null,"","","","","","",""," ",1,"","","","","","","","","","","","","","",null,"","","","","","",""," ",1,"","","","","","","","","","","","","","",null,"","","","","","",""," ",1,"","","","","","","","","","","","","","","","","","",null,"","","","","","","","",""," ",1,"","","","","","","","","","","","","","","","",null,"","","","","","","",""," ",1,"","","","","","","","","","","","","","",null,"","","","","","",""," ",1,"","","","","","","","","","","","","","",null,"","","","","","",""," ",1,"","","","","","","","","","","","","","","","","","",null,"","","","","","","","",""," ",1,"","","","","","","","","","","","","","","","",null,"","","","","","","","",null,0,0,0,0,0,0,0,0,0,0,0,0,0,0,0,0,0,0]
[{"$nulls":113}," ",1,{"$f":"IF($DK138 = 0,TRIM($DJ138),\"\")","v":""},"",{"$f":"IF($DK138 = 0,TRIM(MID($DL138,LEN($DM138)+1,50)),\"\")","v":""},{"$f":"IF($DK138 = 0,SUBSTITUTE(LEFT($DN138, FIND(\" \",$DN138)-1),\".\",\",\"),\"\")","v":""},{"$f":"IF($DK138 = 0,TRIM(MID($DN138,LEN($DO138)+1,50)),\"\")","v":""},{"$f":"IF($DK138 = 0,SUBSTITUTE(LEFT($DP138, FIND(\" \",$DP138)-1),\".\",\",\"),\"\")","v":""},{"$f":"IF($DK138 = 0,TRIM(MID($DP138,LEN($DQ138)+1,50)),\"\")","v":""},{"$f":"IF($DK138 = 0,SUBSTITUTE(LEFT($DR138, FIND(\" \",$DR138)-1),\".\",\",\"),\"\")","v":""},{"$f":"IF($DK138 = 0,TRIM(MID($DR138,LEN($DS138)+1,50)),\"\")","v":""},{"$f":"IF($DK138 = 0,SUBSTITUTE(LEFT($DT138, FIND(\" \",$DT138)-1),\".\",\",\"),\"\")","v":""},{"$f":"IF($DK138 = 0,TRIM(MID($DT138,LEN($DU138)+1,50)),\"\")","v":""},{"$f":"IF($DK138 = 0,SUBSTITUTE(LEFT($DV138, FIND(\" \",$DV138)-1),\".\",\",\"),\"\")","v":""},{"$f":"IF($DK138 = 0,TRIM(MID($DV138,LEN($DW138)+1,50)),\"\")","v":""},{"$f":"IF($DK138 = 0,SUBSTITUTE($DX138,\".\",\",\"),\"\")","v":""},null,{"$f":"IF($DK138 = 0, VALUE($DM138),\"\")","v":""},{"$f":"IF($DK138 = 0, VALUE($DO138),\"\")","v":""},{"$f":"IF($DK138 = 0, VALUE($DQ138),\"\")","v":""},{"$f":"IF($DK138 = 0, VALUE($DS138),\"\")","v":""},{"$f":"IF($DK138 = 0, VALUE($DU138),\"\")","v":""},{"$f":"IF($DK138 = 0, VALUE($DW138),\"\")","v":""},{"$f":"IF($DK138 = 0, VALUE($DY138),\"\")","v":""}," ",1,"","","","","","","","","","","","","","",null,"","","","","","",""," ",1,"","","","","","","","","","","","","","",null,"","","","","","",""," ",1,{"$f":"IF($GE138 = 0,TRIM($GD138),\"\")","v":""},"",{"$f":"IF($GE138 = 0,TRIM(MID($GF138,LEN($GG138)+1,50)),\"\")","v":""},{"$f":"IF($GE138 = 0,SUBSTITUTE(LEFT($GH138, FIND(\" \",$GH138)-1),\".\",\",\"),\"\")","v":""},{"$f":"IF($GE138 = 0,TRIM(MID($GH138,LEN($GI138)+1,50)),\"\")","v":""},{"$f":"IF($GE138 = 0,SUBSTITUTE(LEFT($GJ138, FIND(\" \",$GJ138)-1),\".\",\",\"),\"\")","v":""},{"$f":"IF($GE138 = 0,TRIM(MID($GJ138,LEN($GK138)+1,50)),\"\")","v":""},{"$f":"IF($GE138 = 0,SUBSTITUTE(LEFT($GL138, FIND(\" \",$GL138)-1),\".\",\",\"),\"\")","v":""},{"$f":"IF($GE138 = 0,TRIM(MID($GL138,LEN($GM138)+1,50)),\"\")","v":""},{"$f":"IF($GE138 = 0,SUBSTITUTE(LEFT($GN138, FIND(\" \",$GN138)-1),\".\",\",\"),\"\")","v":""},{"$f":"IF($GE138 = 0,TRIM(MID($GN138,LEN($GO138)+1,50)),\"\")","v":""},{"$f":"IF($GE138 = 0,SUBSTITUTE(LEFT($GP138, FIND(\" \",$GP138)-1),\".\",\",\"),\"\")","v":""},{"$f":"IF($GE138 = 0,TRIM(MID($GP138,LEN($GQ138)+1,50)),\"\")","v":""},{"$f":"IF($GE138 = 0,SUBSTITUTE(LEFT($GR138, FIND(\" \",$GR138)-1),\".\",\",\"),\"\")","v":""},{"$f":"IF($GE138 = 0,TRIM(MID($GR138,LEN($GS138)+1,50)),\"\")","v":""},{"$f":"IF($GE138 = 0,SUBSTITUTE(LEFT($GT138, FIND(\" \",$GT138)-1),\".\",\",\"),\"\")","v":""},{"$f":"IF($GE138 = 0,TRIM(MID($GT138,LEN($GU138)+1,50)),\"\")","v":""},{"$f":"IF($GE138 = 0,SUBSTITUTE($GV138,\".\",\",\"),\"\")","v":""},null,{"$f":"IF($GE138 = 0, VALUE($GG138),\"\")","v":""},{"$f":"IF($GE138 = 0, VALUE($GI138),\"\")","v":""},{"$f":"IF($GE138 = 0, VALUE($GK138),\"\")","v":""},{"$f":"IF($GE138 = 0, VALUE($GM138),\"\")","v":""},{"$f":"IF($GE138 = 0, VALUE($GO138),\"\")","v":""},{"$f":"IF($GE138 = 0, VALUE($GQ138),\"\")","v":""},{"$f":"IF($GE138 = 0, VALUE($GS138),\"\")","v":""},{"$f":"IF($GE138 = 0, VALUE($GU138),\"\")","v":""},{"$f":"IF($GE138 = 0, VALUE($GW138),\"\")","v":""}," ",1,"","","","","","","","","","","","","","","","",null,"","","","","","","",""," ",1,"","","","","","","","","","","","","","",null,"","","","","","",""," ",1,"","","","","","","","","","","","","","",null,"","","","","","",""," ",1,"","","","","","","","","","","","","","","","","","",null,"","","","","","","","",""," ",1,"","","","","","","","","","","","","","","","",null,"","","","","","","","",null,0,0,0,0,0,0,0,0,0,0,0,0,0,0,0,0,0,0]
[{"$nulls":113}," ",1,"","","","","","","","","","","","","","",null,"","","","","","",""," ",1,"","","","","","","","","","","","","","",null,"","","","","","",""," ",1,"","","","","","","","","","","","","","",null,"","","","","","",""," ",1,"","","","","","","","","","","","","","","","","","",null,"","","","","","","","",""," ",1,"","","","","","","","","","","","","","","","",null,"","","","","","","",""," ",1,"","","","","","","","","","","","","","",null,"","","","","","",""," ",1,"","","","","","","","","","","","","","",null,"","","","","","",""," ",1,"","","","","","","","","","","","","","","","","","",null,"","","","","","","","",""," ",1,"","","","","","","","","","","","","","","","",null,"","","","","","","","",null,0,0,0,0,0,0,0,0,0,0,0,0,0,0,0,0,0,0]
[{"$nulls":113}," ",1,"","","","","","","","","","","","","","",null,"","","","","","",""," ",1,"","","","","","","","","","","","","","",null,"","","","","","",""," ",1,"","","","","","","","","","","","","","",null,"","","","","","",""," ",1,"","","","","","","","","","","","","","","","","","",null,"","","","","","","","",""," ",1,"","","","","","","","","","","","","","","","",null,"","","","","","","",""," ",1,"","","","","","","","","","","","","","",null,"","","","","","",""," ",1,"","","","","","","","","","","","","","",null,"","","","","","",""," ",1,"","","","","","","","","","","","","","","","","","",null,"","","","","","","","",""," ",1,"","","","","","","","","","","","","","","","",null,"","","","","","","","",null,0,0,0,0,0,0,0,0,0,0,0,0,0,0,0,0,0,0]
[{"$nulls":113}," ",1,"","","","","","","","","","","","","","",null,"","","","","","",""," ",1,"","","","","","","","","","","","","","",null,"","","","","","",""," ",1,"","","","","","","","","","","","","","",null,"","","","","","",""," ",1,"","","","","","","","","","","","","","","","","","",null,"","","","","","","","",""," ",1,"","","","","","","","","","","","","","","","",null,"","","","","","","",""," ",1,"","","","","","","","","","","","","","",null,"","","","","","",""," ",1,"","","","","","","","","","","","","","",null,"","","","","","",""," ",1,"","","","","","","","","","","","","","","","","","",null,"","","","","","","","",""," ",1,"","","","","","","","","","","","","","","","",null,"","","","","","","","",null,0,0,0,0,0,0,0,0,0,0,0,0,0,0,0,0,0,0]
[{"$nulls":113}," ",1,"","","","","","","","","","","","","","",null,"","","","","","",""," ",1,"","","","","","","","","","","","","","",null,"","","","","","",""," ",1,"","","","","","","","","","","","","","",null,"","","","","","",""," ",1,"","","","","","","","","","","","","","","","","","",null,"","","","","","","","",""," ",1,"","","","","","","","","","","","","","","","",null,"","","","","","","",""," ",1,"","","","","","","","","","","","","","",null,"","","","","","",""," ",1,"","","","","","","","","","","","","","",null,"","","","","","",""," ",1,"","","","","","","","","","","","","","","","","","",null,"","","","","","","","",""," ",1,"","","","","","","","","","","","","","","","",null,"","","","","","","","",null,0,0,0,0,0,0,0,0,0,0,0,0,0,0,0,0,0,0]
[{"$nulls":113}," ",1,"","","","","","","","","","","","","","",null,"","","","","","",""," ",1,"","","","","","","","","","","","","","",null,"","","","","","",""," ",1,"","","","","","","","","","","","","","",null,"","","","","","",""," ",1,"","","","","","","","","","","","","","","","","","",null,"","","","","","","","",""," ",1,"","","","","","","","","","","","","","","","",null,"","","","","","","",""," ",1,"","","","","","","","","","","","","","",null,"","","","","","",""," ",1,"","","","","","","","","","","","","","",null,"","","","","","",""," ",1,"","","","","","","","","","","","","","","","","","",null,"","","","","","","","",""," ",1,"","","","","","","","","","","","","","","","",null,"","","","","","","","",null,0,0,0,0,0,0,0,0,0,0,0,0,0,0,0,0,0,0]
[{"$nulls":113}," ",1,"","","","","","","","","","","","","","",null,"","","","","","",""," ",1,"","","","","","","","","","","","","","",null,"","","","","","",""," ",1,"","","","","","","","","","","","","","",null,"","","","","","",""," ",1,"","","","","","","","","","","","","","","","","","",null,"","","","","","","","",""," ",1,"","","","","","","","","","","","","","","","",null,"","","","","","","",""," ",1,"","","","","","","","","","","","","","",null,"","","","","","",""," ",1,"","","","","","","","","","","","","","",null,"","","","","","",""," ",1,"","","","","","","","","","","","","","","","","","",null,"","","","","","","","",""," ",1,"","","","","","","","","","","","","","","","",null,"","","","","","","","",null,0,0,0,0,0,0,0,0,0,0,0,0,0,0,0,0,0,0]
[{"$nulls":113}," ",1,"","","","","","","","","","","","","","",null,"","","","","","",""," ",1,"","","","","","","","","","","","","","",null,"","","","","","",""," ",1,"","","","","","","","","","","","","","",null,"","","","","","",""," ",1,"","","","","","","","","","","","","","","","","","",null,"","","","","","","","",""," ",1,"","","","","","","","","","","","","","","","",null,"","","","","","","",""," ",1,"","","","","","","","","","","","","","",null,"","","","","","",""," ",1,"","","","","","","","","","","","","","",null,"","","","","","",""," ",1,"","","","","","","","","","","","","","","","","","",null,"","","","","","","","",""," ",1,"","","","","","","","","","","","","","","","",null,"","","","","","","","",null,0,0,0,0,0,0,0,0,0,0,0,0,0,0,0,0,0,0]
[{"$nulls":113}," ",1,"","","","","","","","","","","","","","",null,"","","","","","",""," ",1,"","","","","","","","","","","","","","",null,"","","","","","",""," ",1,"","","","","","","","","","","","","","",null,"","","","","","",""," ",1,"","","","","","","","","","","","","","","","","","",null,"","","","","","","","",""," ",1,"","","","","","","","","","","","","","","","",null,"","","","","","","",""," ",1,"","","","","","","","","","","","","","",null,"","","","","","",""," ",1,"","","","","","","","","","","","","","",null,"","","","","","",""," ",1,"","","","","","","","","","","","","","","","","","",null,"","","","","","","","",""," ",1,"","","","","","","","","","","","","","","","",null,"","","","","","","","",null,0,0,0,0,0,0,0,0,0,0,0,0,0,0,0,0,0,0]
[{"$nulls":113}," ",1,"","","","","","","","","","","","","","",null,"","","","","","",""," ",1,"","","","","","","","","","","","","","",null,"","","","","","",""," ",1,"","","","","","","","","","","","","","",null,"","","","","","",""," ",1,"","","","","","","","","","","","","","","","","","",null,"","","","","","","","",""," ",1,"","","","","","","","","","","","","","","","",null,"","","","","","","",""," ",1,"","","","","","","","","","","","","","",null,"","","","","","",""," ",1,"","","","","","","","","","","","","","",null,"","","","","","",""," ",1,"","","","","","","","","","","","","","","","","","",null,"","","","","","","","",""," ",1,"","","","","","","","","","","","","","","","",null,"","","","","","","","",null,0,0,0,0,0,0,0,0,0,0,0,0,0,0,0,0,0,0]
[{"$nulls":113}," ",1,"","","","","","","","","","","","","","",null,"","","","","","",""," ",1,"","","","","","","","","","","","","","",null,"","","","","","",""," ",1,"","","","","","","","","","","","","","",null,"","","","","","",""," ",1,"","","","","","","","","","","","","","","","","","",null,"","","","","","","","",""," ",1,"","","","","","","","","","","","","","","","",null,"","","","","","","",""," ",1,"","","","","","","","","","","","","","",null,"","","","","","",""," ",1,"","","","","","","","","","","","","","",null,"","","","","","",""," ",1,"","","","","","","","","","","","","","","","","","",null,"","","","","","","","",""," ",1,"","","","","","","","","","","","","","","","",null,"","","","","","","","",null,0,0,0,0,0,0,0,0,0,0,0,0,0,0,0,0,0,0]
[{"$nulls":113}," ",1,"","","","","","","","","","","","","","",null,"","","","","","",""," ",1,"","","","","","","","","","","","","","",null,"","","","","","",""," ",1,"","","","","","","","","","","","","","",null,"","","","","","",""," ",1,"","","","","","","","","","","","","","","","","","",null,"","","","","","","","",""," ",1,"","","","","","","","","","","","","","","","",null,"","","","","","","",""," ",1,"","","","","","","","","","","","","","",null,"","","","","","",""," ",1,"","","","","","","","","","","","","","",null,"","","","","","",""," ",1,"","","","","","","","","","","","","","","","","","",null,"","","","","","","","",""," ",1,"","","","","","","","","","","","","","","","",null,"","","","","","","","",null,0,0,0,0,0,0,0,0,0,0,0,0,0,0,0,0,0,0]
[{"$nulls":113}," ",1,"","","","","","","","","","","","","","",null,"","","","","","",""," ",1,"","","","","","","","","","","","","","",null,"","","","","","",""," ",1,"","","","","","","","","","","","","","",null,"","","","","","",""," ",1,"","","","","","","","","","","","","","","","","","",null,"","","","","","","","",""," ",1,"","","","","","","","","","","","","","","","",null,"","","","","","","",""," ",1,"","","","","","","","","","","","","","",null,"","","","","","",""," ",1,"","","","","","","","","","","","","","",null,"","","","","","",""," ",1,"","","","","","","","","","","","","","","","","","",null,"","","","","","","","",""," ",1,"","","","","","","","","","","","","","","","",null,"","","","","","","","",null,0,0,0,0,0,0,0,0,0,0,0,0,0,0,0,0,0,0]
[{"$nulls":113}," ",1,"","","","","","","","","","","","","","",null,"","","","","","",""," ",1,"","","","","","","","","","","","","","",null,"","","","","","",""," ",1,"","","","","","","","","","","","","","",null,"","","","","","",""," ",1,"","","","","","","","","","","","","","","","","","",null,"","","","","","","","",""," ",1,"","","","","","","","","","","","","","","","",null,"","","","","","","",""," ",1,"","","","","","","","","","","","","","",null,"","","","","","",""," ",1,"","","","","","","","","","","","","","",null,"","","","","","",""," ",1,"","","","","","","","","","","","","","","","","","",null,"","","","","","","","",""," ",1,"","","","","","","","","","","","","","","","",null,"","","","","","","","",null,0,0,0,0,0,0,0,0,0,0,0,0,0,0,0,0,0,0]
[{"$nulls":113}," ",1,"","","","","","","","","","","","","","",null,"","","","","","",""," ",1,"","","","","","","","","","","","","","",null,"","","","","","",""," ",1,"","","","","","","","","","","","","","",null,"","","","","","",""," ",1,"","","","","","","","","","","","","","","","","","",null,"","","","","","","","",""," ",1,"","","","","","","","","","","","","","","","",null,"","","","","","","",""," ",1,"","","","","","","","","","","","","","",null,"","","","","","",""," ",1,"","","","","","","","","","","","","","",null,"","","","","","",""," ",1,"","","","","","","","","","","","","","","","","","",null,"","","","","","","","",""," ",1,"","","","","","","","","","","","","","","","",null,"","","","","","","","",null,0,0,0,0,0,0,0,0,0,0,0,0,0,0,0,0,0,0]
[{"$nulls":113}," ",1,"","","","","","","","","","","","","","",null,"","","","","","",""," ",1,"","","","","","","","","","","","","","",null,"","","","","","",""," ",1,"","","","","","","","","","","","","","",null,"","","","","","",""," ",1,"","","","","","","","","","","","","","","","","","",null,"","","","","","","","",""," ",1,"","","","","","","","","","","","","","","","",null,"","","","","","","",""," ",1,"","","","","","","","","","","","","","",null,"","","","","","",""," ",1,"","","","","","","","","","","","","","",null,"","","","","","",""," ",1,"","","","","","","","","","","","","","","","","","",null,"","","","","","","","",""," ",1,"","","","","","","","","","","","","","","","",null,"","","","","","","","",null,0,0,0,0,0,0,0,0,0,0,0,0,0,0,0,0,0,0]
[{"$nulls":113}," ",1,"","","","","","","","","","","","","","",null,"","","","","","",""," ",1,"","","","","","","","","","","","","","",null,"","","","","","",""," ",1,"","","","","","","","","","","","","","",null,"","","","","","",""," ",1,"","","","","","","","","","","","","","","","","","",null,"","","","","","","","",""," ",1,"","","","","","","","","","","","","","","","",null,"","","","","","","",""," ",1,"","","","","","","","","","","","","","",null,"","","","","","",""," ",1,"","","","","","","","","","","","","","",null,"","","","","","",""," ",1,"","","","","","","","","","","","","","","","","","",null,"","","","","","","","",""," ",1,"","","","","","","","","","","","","","","","",null,"","","","","","","","",null,0,0,0,0,0,0,0,0,0,0,0,0,0,0,0,0,0,0]
[{"$nulls":113}," ",1,"","","","","","","","","","","","","","",null,"","","","","","",""," ",1,"","","","","","","","","","","","","","",null,"","","","","","",""," ",1,"","","","","","","","","","","","","","",null,"","","","","","",""," ",1,"","","","","","","","","","","","","","","","","","",null,"","","","","","","","",""," ",1,"","","","","","","","","","","","","","","","",null,"","","","","","","",""," ",1,"","","","","","","","","","","","","","",null,"","","","","","",""," ",1,"","","","","","","","","","","","","","",null,"","","","","","",""," ",1,"","","","","","","","","","","","","","","","","","",null,"","","","","","","","",""," ",1,"","","","","","","","","","","","","","","","",null,"","","","","","","","",null,0,0,0,0,0,0,0,0,0,0,0,0,0,0,0,0,0,0]
[{"$nulls":113}," ",1,"","","","","","","","","","","","","","",null,"","","","","","",""," ",1,"","","","","","","","","","","","","","",null,"","","","","","",""," ",1,"","","","","","","","","","","","","","",null,"","","","","","",""," ",1,"","","","","","","","","","","","","","","","","","",null,"","","","","","","","",""," ",1,"","","","","","","","","","","","","","","","",null,"","","","","","","",""," ",1,"","","","","","","","","","","","","","",null,"","","","","","",""," ",1,"","","","","","","","","","","","","","",null,"","","","","","",""," ",1,"","","","","","","","","","","","","","","","","","",null,"","","","","","","","",""," ",1,"","","","","","","","","","","","","","","","",null,"","","","","","","","",null,0,0,0,0,0,0,0,0,0,0,0,0,0,0,0,0,0,0]
[{"$nulls":113}," ",1,"","","","","","","","","","","","","","",null,"","","","","","",""," ",1,"","","","","","","","","","","","","","",null,"","","","","","",""," ",1,"","","","","","","","","","","","","","",null,"","","","","","",""," ",1,"","","","","","","","","","","","","","","","","","",null,"","","","","","","","",""," ",1,"","","","","","","","","","","","","","","","",null,"","","","","","","",""," ",1,"","","","","","","","","","","","","","",null,"","","","","","",""," ",1,"","","","","","","","","","","","","","",null,"","","","","","",""," ",1,"","","","","","","","","","","","","","","","","","",null,"","","","","","","","",""," ",1,"","","","","","","","","","","","","","","","",null,"","","","","","","","",null,0,0,0,0,0,0,0,0,0,0,0,0,0,0,0,0,0,0]
[{"$nulls":113}," ",1,"","","","","","","","","","","","","","",null,"","","","","","",""," ",1,"","","","","","","","","","","","","","",null,"","","","","","",""," ",1,"","","","","","","","","","","","","","",null,"","","","","","",""," ",1,"","","","","","","","","","","","","","","","","","",null,"","","","","","","","",""," ",1,"","","","","","","","","","","","","","","","",null,"","","","","","","",""," ",1,"","","","","","","","","","","","","","",null,"","","","","","",""," ",1,"","","","","","","","","","","","","","",null,"","","","","","",""," ",1,"","","","","","","","","","","","","","","","","","",null,"","","","","","","","",""," ",1,"","","","","","","","","","","","","","","","",null,"","","","","","","","",null,0,0,0,0,0,0,0,0,0,0,0,0,0,0,0,0,0,0]
[{"$nulls":113}," ",1,"","","","","","","","","","","","","","",null,"","","","","","",""," ",1,"","","","","","","","","","","","","","",null,"","","","","","",""," ",1,"","","","","","","","","","","","","","",null,"","","","","","",""," ",1,"","","","","","","","","","","","","","","","","","",null,"","","","","","","","",""," ",1,"","","","","","","","","","","","","","","","",null,"","","","","","","",""," ",1,"","","","","","","","","","","","","","",null,"","","","","","",""," ",1,"","","","","","","","","","","","","","",null,"","","","","","",""," ",1,"","","","","","","","","","","","","","","","","","",null,"","","","","","","","",""," ",1,"","","","","","","","","","","","","","","","",null,"","","","","","","","",null,0,0,0,0,0,0,0,0,0,0,0,0,0,0,0,0,0,0]
[{"$nulls":113}," ",1,"","","","","","","","","","","","","","",null,"","","","","","",""," ",1,"","","","","","","","","","","","","","",null,"","","","","","",""," ",1,"","","","","","","","","","","","","","",null,"","","","","","",""," ",1,"","","","","","","","","","","","","","","","","","",null,"","","","","","","","",""," ",1,"","","","","","","","","","","","","","","","",null,"","","","","","","",""," ",1,"","","","","","","","","","","","","","",null,"","","","","","",""," ",1,"","","","","","","","","","","","","","",null,"","","","","","",""," ",1,"","","","","","","","","","","","","","","","","","",null,"","","","","","","","",""," ",1,"","","","","","","","","","","","","","","","",null,"","","","","","","","",null,0,0,0,0,0,0,0,0,0,0,0,0,0,0,0,0,0,0]
[{"$nulls":113}," ",1,"","","","","","","","","","","","","","",null,"","","","","","",""," ",1,"","","","","","","","","","","","","","",null,"","","","","","",""," ",1,"","","","","","","","","","","","","","",null,"","","","","","",""," ",1,"","","","","","","","","","","","","","","","","","",null,"","","","","","","","",""," ",1,"","","","","","","","","","","","","","","","",null,"","","","","","","",""," ",1,"","","","","","","","","","","","","","",null,"","","","","","",""," ",1,"","","","","","","","","","","","","","",null,"","","","","","",""," ",1,"","","","","","","","","","","","","","","","","","",null,"","","","","","","","",""," ",1,"","","","","","","","","","","","","","","","",null,"","","","","","","","",null,0,0,0,0,0,0,0,0,0,0,0,0,0,0,0,0,0,0]
[{"$nulls":113}," ",1,"","","","","","","","","","","","","","",null,"","","","","","",""," ",1,"","","","","","","","","","","","","","",null,"","","","","","",""," ",1,"","","","","","","","","","","","","","",null,"","","","","","",""," ",1,"","","","","","","","","","","","","","","","","","",null,"","","","","","","","",""," ",1,"","","","","","","","","","","","","","","","",null,"","","","","","","",""," ",1,"","","","","","","","","","","","","","",null,"","","","","","",""," ",1,"","","","","","","","","","","","","","",null,"","","","","","",""," ",1,"","","","","","","","","","","","","","","","","","",null,"","","","","","","","",""," ",1,"","","","","","","","","","","","","","","","",null,"","","","","","","","",null,0,0,0,0,0,0,0,0,0,0,0,0,0,0,0,0,0,0]
[{"$nulls":113}," ",1,"","","","","","","","","","","","","","",null,"","","","","","",""," ",1,"","","","","","","","","","","","","","",null,"","","","","","",""," ",1,"","","","","","","","","","","","","","",null,"","","","","","",""," ",1,"","","","","","","","","","","","","","","","","","",null,"","","","","","","","",""," ",1,"","","","","","","","","","","","","","","","",null,"","","","","","","",""," ",1,"","","","","","","","","","","","","","",null,"","","","","","",""," ",1,"","","","","","","","","","","","","","",null,"","","","","","",""," ",1,"","","","","","","","","","","","","","","","","","",null,"","","","","","","","",""," ",1,"","","","","","","","","","","","","","","","",null,"","","","","","","","",null,0,0,0,0,0,0,0,0,0,0,0,0,0,0,0,0,0,0]
[{"$nulls":113}," ",1,"","","","","","","","","","","","","","",null,"","","","","","",""," ",1,"","","","","","","","","","","","","","",null,"","","","","","",""," ",1,"","","","","","","","","","","","","","",null,"","","","","","",""," ",1,"","","","","","","","","","","","","","","","","","",null,"","","","","","","","",""," ",1,"","","","","","","","","","","","","","","","",null,"","","","","","","",""," ",1,"","","","","","","","","","","","","","",null,"","","","","","",""," ",1,"","","","","","","","","","","","","","",null,"","","","","","",""," ",1,"","","","","","","","","","","","","","","","","","",null,"","","","","","","","",""," ",1,"","","","","","","","","","","","","","","","",null,"","","","","","","","",null,0,0,0,0,0,0,0,0,0,0,0,0,0,0,0,0,0,0]
[{"$nulls":113}," ",1,"","","","","","","","","","","","","","",null,"","","","","","",""," ",1,"","","","","","","","","","","","","","",null,"","","","","","",""," ",1,"","","","","","","","","","","","","","",null,"","","","","","",""," ",1,"","","","","","","","","","","","","","","","","","",null,"","","","","","","","",""," ",1,"","","","","","","","","","","","","","","","",null,"","","","","","","",""," ",1,"","","","","","","","","","","","","","",null,"","","","","","",""," ",1,"","","","","","","","","","","","","","",null,"","","","","","",""," ",1,"","","","","","","","","","","","","","","","","","",null,"","","","","","","","",""," ",1,"","","","","","","","","","","","","","","","",null,"","","","","","","","",null,0,0,0,0,0,0,0,0,0,0,0,0,0,0,0,0,0,0]
[{"$nulls":113}," ",1,"","","","","","","","","","","","","","",null,"","","","","","",""," ",1,"","","","","","","","","","","","","","",null,"","","","","","",""," ",1,"","","","","","","","","","","","","","",null,"","","","","","",""," ",1,"","","","","","","","","","","","","","","","","","",null,"","","","","","","","",""," ",1,"","","","","","","","","","","","","","","","",null,"","","","","","","",""," ",1,"","","","","","","","","","","","","","",null,"","","","","","",""," ",1,"","","","","","","","","","","","","","",null,"","","","","","",""," ",1,"","","","","","","","","","","","","","","","","","",null,"","","","","","","","",""," ",1,"","","","","","","","","","","","","","","","",null,"","","","","","","","",null,0,0,0,0,0,0,0,0,0,0,0,0,0,0,0,0,0,0]
[{"$nulls":113}," ",1,"","","","","","","","","","","","","","",null,"","","","","","",""," ",1,"","","","","","","","","","","","","","",null,"","","","","","",""," ",1,"","","","","","","","","","","","","","",null,"","","","","","",""," ",1,"","","","","","","","","","","","","","","","","","",null,"","","","","","","","",""," ",1,"","","","","","","","","","","","","","","","",null,"","","","","","","",""," ",1,"","","","","","","","","","","","","","",null,"","","","","","",""," ",1,"","","","","","","","","","","","","","",null,"","","","","","",""," ",1,"","","","","","","","","","","","","","","","","","",null,"","","","","","","","",""," ",1,"","","","","","","","","","","","","","","","",null,"","","","","","","","",null,0,0,0,0,0,0,0,0,0,0,0,0,0,0,0,0,0,0]
[{"$nulls":113}," ",1,"","","","","","","","","","","","","","",null,"","","","","","",""," ",1,"","","","","","","","","","","","","","",null,"","","","","","",""," ",1,"","","","","","","","","","","","","","",null,"","","","","","",""," ",1,"","","","","","","","","","","","","","","","","","",null,"","","","","","","","",""," ",1,"","","","","","","","","","","","","","","","",null,"","","","","","","",""," ",1,"","","","","","","","","","","","","","",null,"","","","","","",""," ",1,"","","","","","","","","","","","","","",null,"","","","","","",""," ",1,"","","","","","","","","","","","","","","","","","",null,"","","","","","","","",""," ",1,"","","","","","","","","","","","","","","","",null,"","","","","","","","",null,0,0,0,0,0,0,0,0,0,0,0,0,0,0,0,0,0,0]
[{"$nulls":113}," ",1,"","","","","","","","","","","","","","",null,"","","","","","",""," ",1,"","","","","","","","","","","","","","",null,"","","","","","",""," ",1,"","","","","","","","","","","","","","",null,"","","","","","",""," ",1,"","","","","","","","","","","","","","","","","","",null,"","","","","","","","",""," ",1,"","","","","","","","","","","","","","","","",null,"","","","","","","",""," ",1,"","","","","","","","","","","","","","",null,"","","","","","",""," ",1,"","","","","","","","","","","","","","",null,"","","","","","",""," ",1,"","","","","","","","","","","","","","","","","","",null,"","","","","","","","",""," ",1,"","","","","","","","","","","","","","","","",null,"","","","","","","","",null,0,0,0,0,0,0,0,0,0,0,0,0,0,0,0,0,0,0]
[{"$nulls":113}," ",1,"","","","","","","","","","","","","","",null,"","","","","","",""," ",1,"","","","","","","","","","","","","","",null,"","","","","","",""," ",1,"","","","","","","","","","","","","","",null,"","","","","","",""," ",1,"","","","","","","","","","","","","","","","","","",null,"","","","","","","","",""," ",1,"","","","","","","","","","","","","","","","",null,"","","","","","","",""," ",1,"","","","","","","","","","","","","","",null,"","","","","","",""," ",1,"","","","","","","","","","","","","","",null,"","","","","","",""," ",1,"","","","","","","","","","","","","","","","","","",null,"","","","","","","","",""," ",1,"","","","","","","","","","","","","","","","",null,"","","","","","","","",null,0,0,0,0,0,0,0,0,0,0,0,0,0,0,0,0,0,0]
[{"$nulls":113}," ",1,"","","","","","","","","","","","","","",null,"","","","","","",""," ",1,"","","","","","","","","","","","","","",null,"","","","","","",""," ",1,"","","","","","","","","","","","","","",null,"","","","","","",""," ",1,"","","","","","","","","","","","","","","","","","",null,"","","","","","","","",""," ",1,"","","","","","","","","","","","","","","","",null,"","","","","","","",""," ",1,"","","","","","","","","","","","","","",null,"","","","","","",""," ",1,"","","","","","","","","","","","","","",null,"","","","","","",""," ",1,"","","","","","","","","","","","","","","","","","",null,"","","","","","","","",""," ",1,"","","","","","","","","","","","","","","","",null,"","","","","","","","",null,0,0,0,0,0,0,0,0,0,0,0,0,0,0,0,0,0,0]
[{"$nulls":113}," ",1,"","","","","","","","","","","","","","",null,"","","","","","",""," ",1,"","","","","","","","","","","","","","",null,"","","","","","",""," ",1,"","","","","","","","","","","","","","",null,"","","","","","",""," ",1,"","","","","","","","","","","","","","","","","","",null,"","","","","","","","",""," ",1,"","","","","","","","","","","","","","","","",null,"","","","","","","",""," ",1,"","","","","","","","","","","","","","",null,"","","","","","",""," ",1,"","","","","","","","","","","","","","",null,"","","","","","",""," ",1,"","","","","","","","","","","","","","","","","","",null,"","","","","","","","",""," ",1,"","","","","","","","","","","","","","","","",null,"","","","","","","","",null,0,0,0,0,0,0,0,0,0,0,0,0,0,0,0,0,0,0]
[{"$nulls":113}," ",1,"","","","","","","","","","","","","","",null,"","","","","","",""," ",1,"","","","","","","","","","","","","","",null,"","","","","","",""," ",1,"","","","","","","","","","","","","","",null,"","","","","","",""," ",1,"","","","","","","","","","","","","","","","","","",null,"","","","","","","","",""," ",1,"","","","","","","","","","","","","","","","",null,"","","","","","","",""," ",1,"","","","","","","","","","","","","","",null,"","","","","","",""," ",1,"","","","","","","","","","","","","","",null,"","","","","","",""," ",1,"","","","","","","","","","","","","","","","","","",null,"","","","","","","","",""," ",1,"","","","","","","","","","","","","","","","",null,"","","","","","","","",null,0,0,0,0,0,0,0,0,0,0,0,0,0,0,0,0,0,0]
[{"$nulls":113}," ",1,"","","","","","","","","","","","","","",null,"","","","","","",""," ",1,"","","","","","","","","","","","","","",null,"","","","","","",""," ",1,"","","","","","","","","","","","","","",null,"","","","","","",""," ",1,"","","","","","","","","","","","","","","","","","",null,"","","","","","","","",""," ",1,"","","","","","","","","","","","","","","","",null,"","","","","","","",""," ",1,"","","","","","","","","","","","","","",null,"","","","","","",""," ",1,"","","","","","","","","","","","","","",null,"","","","","","",""," ",1,"","","","","","","","","","","","","","","","","","",null,"","","","","","","","",""," ",1,"","","","","","","","","","","","","","","","",null,"","","","","","","","",null,0,0,0,0,0,0,0,0,0,0,0,0,0,0,0,0,0,0]
[{"$nulls":113}," ",1,"","","","","","","","","","","","","","",null,"","","","","","",""," ",1,"","","","","","","","","","","","","","",null,"","","","","","",""," ",1,"","","","","","","","","","","","","","",null,"","","","","","",""," ",1,"","","","","","","","","","","","","","","","","","",null,"","","","","","","","",""," ",1,"","","","","","","","","","","","","","","","",null,"","","","","","","",""," ",1,"","","","","","","","","","","","","","",null,"","","","","","",""," ",1,"","","","","","","","","","","","","","",null,"","","","","","",""," ",1,"","","","","","","","","","","","","","","","","","",null,"","","","","","","","",""," ",1,"","","","","","","","","","","","","","","","",null,"","","","","","","","",null,0,0,0,0,0,0,0,0,0,0,0,0,0,0,0,0,0,0]
[{"$nulls":113}," ",1,"","","","","","","","","","","","","","",null,"","","","","","",""," ",1,"","","","","","","","","","","","","","",null,"","","","","","",""," ",1,"","","","","","","","","","","","","","",null,"","","","","","",""," ",1,"","","","","","","","","","","","","","","","","","",null,"","","","","","","","",""," ",1,"","","","","","","","","","","","","","","","",null,"","","","","","","",""," ",1,"","","","","","","","","","","","","","",null,"","","","","","",""," ",1,"","","","","","","","","","","","","","",null,"","","","","","",""," ",1,"","","","","","","","","","","","","","","","","","",null,"","","","","","","","",""," ",1,"","","","","","","","","","","","","","","","",null,"","","","","","","","",null,0,0,0,0,0,0,0,0,0,0,0,0,0,0,0,0,0,0]
[{"$nulls":113}," ",1,"","","","","","","","","","","","","","",null,"","","","","","",""," ",1,"","","","","","","","","","","","","","",null,"","","","","","",""," ",1,"","","","","","","","","","","","","","",null,"","","","","","",""," ",1,"","","","","","","","","","","","","","","","","","",null,"","","","","","","","",""," ",1,"","","","","","","","","","","","","","","","",null,"","","","","","","",""," ",1,"","","","","","","","","","","","","","",null,"","","","","","",""," ",1,"","","","","","","","","","","","","","",null,"","","","","","",""," ",1,"","","","","","","","","","","","","","","","","","",null,"","","","","","","","",""," ",1,"","","","","","","","","","","","","","","","",null,"","","","","","","","",null,0,0,0,0,0,0,0,0,0,0,0,0,0,0,0,0,0,0]
[{"$nulls":113}," ",1,"","","","","","","","","","","","","","",null,"","","","","","",""," ",1,"","","","","","","","","","","","","","",null,"","","","","","",""," ",1,"","","","","","","","","","","","","","",null,"","","","","","",""," ",1,"","","","","","","","","","","","","","","","","","",null,"","","","","","","","",""," ",1,"","","","","","","","","","","","","","","","",null,"","","","","","","",""," ",1,"","","","","","","","","","","","","","",null,"","","","","","",""," ",1,"","","","","","","","","","","","","","",null,"","","","","","",""," ",1,"","","","","","","","","","","","","","","","","","",null,"","","","","","","","",""," ",1,"","","","","","","","","","","","","","","","",null,"","","","","","","","",null,0,0,0,0,0,0,0,0,0,0,0,0,0,0,0,0,0,0]
[{"$nulls":113}," ",1,"","","","","","","","","","","","","","",null,"","","","","","",""," ",1,"","","","","","","","","","","","","","",null,"","","","","","",""," ",1,"","","","","","","","","","","","","","",null,"","","","","","",""," ",1,"","","","","","","","","","","","","","","","","","",null,"","","","","","","","",""," ",1,"","","","","","","","","","","","","","","","",null,"","","","","","","",""," ",1,"","","","","","","","","","","","","","",null,"","","","","","",""," ",1,"","","","","","","","","","","","","","",null,"","","","","","",""," ",1,"","","","","","","","","","","","","","","","","","",null,"","","","","","","","",""," ",1,"","","","","","","","","","","","","","","","",null,"","","","","","","","",null,0,0,0,0,0,0,0,0,0,0,0,0,0,0,0,0,0,0]
[{"$nulls":113}," ",1,"","","","","","","","","","","","","","",null,"","","","","","",""," ",1,"","","","","","","","","","","","","","",null,"","","","","","",""," ",1,"","","","","","","","","","","","","","",null,"","","","","","",""," ",1,"","","","","","","","","","","","","","","","","","",null,"","","","","","","","",""," ",1,"","","","","","","","","","","","","","","","",null,"","","","","","","",""," ",1,"","","","","","","","","","","","","","",null,"","","","","","",""," ",1,"","","","","","","","","","","","","","",null,"","","","","","",""," ",1,"","","","","","","","","","","","","","","","","","",null,"","","","","","","","",""," ",1,"","","","","","","","","","","","","","","","",null,"","","","","","","","",null,0,0,0,0,0,0,0,0,0,0,0,0,0,0,0,0,0,0]
[{"$nulls":113}," ",1,"","","","","","","","","","","","","","",null,"","","","","","",""," ",1,"","","","","","","","","","","","","","",null,"","","","","","",""," ",1,"","","","","","","","","","","","","","",null,"","","","","","",""," ",1,"","","","","","","","","","","","","","","","","","",null,"","","","","","","","",""," ",1,"","","","","","","","","","","","","","","","",null,"","","","","","","",""," ",1,"","","","","","","","","","","","","","",null,"","","","","","",""," ",1,"","","","","","","","","","","","","","",null,"","","","","","",""," ",1,"","","","","","","","","","","","","","","","","","",null,"","","","","","","","",""," ",1,"","","","","","","","","","","","","","","","",null,"","","","","","","","",null,0,0,0,0,0,0,0,0,0,0,0,0,0,0,0,0,0,0]
[{"$nulls":113}," ",1,"","","","","","","","","","","","","","",null,"","","","","","",""," ",1,"","","","","","","","","","","","","","",null,"","","","","","",""," ",1,"","","","","","","","","","","","","","",null,"","","","","","",""," ",1,"","","","","","","","","","","","","","","","","","",null,"","","","","","","","",""," ",1,"","","","","","","","","","","","","","","","",null,"","","","","","","",""," ",1,"","","","","","","","","","","","","","",null,"","","","","","",""," ",1,"","","","","","","","","","","","","","",null,"","","","","","",""," ",1,"","","","","","","","","","","","","","","","","","",null,"","","","","","","","",""," ",1,"","","","","","","","","","","","","","","","",null,"","","","","","","","",null,0,0,0,0,0,0,0,0,0,0,0,0,0,0,0,0,0,0]
[{"$nulls":113}," ",1,"","","","","","","","","","","","","","",null,"","","","","","",""," ",1,"","","","","","","","","","","","","","",null,"","","","","","",""," ",1,"","","","","","","","","","","","","","",null,"","","","","","",""," ",1,"","","","","","","","","","","","","","","","","","",null,"","","","","","","","",""," ",1,"","","","","","","","","","","","","","","","",null,"","","","","","","",""," ",1,"","","","","","","","","","","","","","",null,"","","","","","",""," ",1,"","","","","","","","","","","","","","",null,"","","","","","",""," ",1,"","","","","","","","","","","","","","","","","","",null,"","","","","","","","",""," ",1,"","","","","","","","","","","","","","","","",null,"","","","","","","","",null,0,0,0,0,0,0,0,0,0,0,0,0,0,0,0,0,0,0]
[{"$nulls":113}," ",1,{"$f":"IF($DK266 = 0,TRIM($DJ266),\"\")","v":""},"",{"$f":"IF($DK266 = 0,TRIM(MID($DL266,LEN($DM266)+1,50)),\"\")","v":""},{"$f":"IF($DK266 = 0,SUBSTITUTE(LEFT($DN266, FIND(\" \",$DN266)-1),\".\",\",\"),\"\")","v":""},{"$f":"IF($DK266 = 0,TRIM(MID($DN266,LEN($DO266)+1,50)),\"\")","v":""},{"$f":"IF($DK266 = 0,SUBSTITUTE(LEFT($DP266, FIND(\" \",$DP266)-1),\".\",\",\"),\"\")","v":""},{"$f":"IF($DK266 = 0,TRIM(MID($DP266,LEN($DQ266)+1,50)),\"\")","v":""},{"$f":"IF($DK266 = 0,SUBSTITUTE(LEFT($DR266, FIND(\" \",$DR266)-1),\".\",\",\"),\"\")","v":""},{"$f":"IF($DK266 = 0,TRIM(MID($DR266,LEN($DS266)+1,50)),\"\")","v":""},{"$f":"IF($DK266 = 0,SUBSTITUTE(LEFT($DT266, FIND(\" \",$DT266)-1),\".\",\",\"),\"\")","v":""},{"$f":"IF($DK266 = 0,TRIM(MID($DT266,LEN($DU266)+1,50)),\"\")","v":""},{"$f":"IF($DK266 = 0,SUBSTITUTE(LEFT($DV266, FIND(\" \",$DV266)-1),\".\",\",\"),\"\")","v":""},{"$f":"IF($DK266 = 0,TRIM(MID($DV266,LEN($DW266)+1,50)),\"\")","v":""},{"$f":"IF($DK266 = 0,SUBSTITUTE($DX266,\".\",\",\"),\"\")","v":""},null,{"$f":"IF($DK266 = 0, VALUE($DM266),\"\")","v":""},{"$f":"IF($DK266 = 0, VALUE($DO266),\"\")","v":""},{"$f":"IF($DK266 = 0, VALUE($DQ266),\"\")","v":""},{"$f":"IF($DK266 = 0, VALUE($DS266),\"\")","v":""},{"$f":"IF($DK266 = 0, VALUE($DU266),\"\")","v":""},{"$f":"IF($DK266 = 0, VALUE($DW266),\"\")","v":""},{"$f":"IF($DK266 = 0, VALUE($DY266),\"\")","v":""}," ",1,"","","","","","","","","","","","","","",null,"","","","","","",""," ",1,"","","","","","","","","","","","","","",null,"","","","","","",""," ",1,{"$f":"IF($GE266 = 0,TRIM($GD266),\"\")","v":""},"",{"$f":"IF($GE266 = 0,TRIM(MID($GF266,LEN($GG266)+1,50)),\"\")","v":""},{"$f":"IF($GE266 = 0,SUBSTITUTE(LEFT($GH266, FIND(\" \",$GH266)-1),\".\",\",\"),\"\")","v":""},{"$f":"IF($GE266 = 0,TRIM(MID($GH266,LEN($GI266)+1,50)),\"\")","v":""},{"$f":"IF($GE266 = 0,SUBSTITUTE(LEFT($GJ266, FIND(\" \",$GJ266)-1),\".\",\",\"),\"\")","v":""},{"$f":"IF($GE266 = 0,TRIM(MID($GJ266,LEN($GK266)+1,50)),\"\")","v":""},{"$f":"IF($GE266 = 0,SUBSTITUTE(LEFT($GL266, FIND(\" \",$GL266)-1),\".\",\",\"),\"\")","v":""},{"$f":"IF($GE266 = 0,TRIM(MID($GL266,LEN($GM266)+1,50)),\"\")","v":""},{"$f":"IF($GE266 = 0,SUBSTITUTE(LEFT($GN266, FIND(\" \",$GN266)-1),\".\",\",\"),\"\")","v":""},{"$f":"IF($GE266 = 0,TRIM(MID($GN266,LEN($GO266)+1,50)),\"\")","v":""},{"$f":"IF($GE266 = 0,SUBSTITUTE(LEFT($GP266, FIND(\" \",$GP266)-1),\".\",\",\"),\"\")","v":""},{"$f":"IF($GE266 = 0,TRIM(MID($GP266,LEN($GQ266)+1,50)),\"\")","v":""},{"$f":"IF($GE266 = 0,SUBSTITUTE(LEFT($GR266, FIND(\" \",$GR266)-1),\".\",\",\"),\"\")","v":""},{"$f":"IF($GE266 = 0,TRIM(MID($GR266,LEN($GS266)+1,50)),\"\")","v":""},{"$f":"IF($GE266 = 0,SUBSTITUTE(LEFT($GT266, FIND(\" \",$GT266)-1),\".\",\",\"),\"\")","v":""},{"$f":"IF($GE266 = 0,TRIM(MID($GT266,LEN($GU266)+1,50)),\"\")","v":""},{"$f":"IF($GE266 = 0,SUBSTITUTE($GV266,\".\",\",\"),\"\")","v":""},null,{"$f":"IF($GE266 = 0, VALUE($GG266),\"\")","v":""},{"$f":"IF($GE266 = 0, VALUE($GI266),\"\")","v":""},{"$f":"IF($GE266 = 0, VALUE($GK266),\"\")","v":""},{"$f":"IF($GE266 = 0, VALUE($GM266),\"\")","v":""},{"$f":"IF($GE266 = 0, VALUE($GO266),\"\")","v":""},{"$f":"IF($GE266 = 0, VALUE($GQ266),\"\")","v":""},{"$f":"IF($GE266 = 0, VALUE($GS266),\"\")","v":""},{"$f":"IF($GE266 = 0, VALUE($GU266),\"\")","v":""},{"$f":"IF($GE266 = 0, VALUE($GW266),\"\")","v":""}," ",1,"","","","","","","","","","","","","","","","",null,"","","","","","","",""," ",1,"","","","","","","","","","","","","","",null,"","","","","","",""," ",1,"","","","","","","","","","","","","","",null,"","","","","","",""," ",1,"","","","","","","","","","","","","","","","","","",null,"","","","","","","","",""," ",1,"","","","","","","","","","","","","","","","",null,"","","","","","","","",null,0,0,0,0,0,0,0,0,0,0,0,0,0,0,0,0,0,0]
[{"$nulls":113}," ",1,"","","","","","","","","","","","","","",null,"","","","","","",""," ",1,"","","","","","","","","","","","","","",null,"","","","","","",""," ",1,"","","","","","","","","","","","","","",null,"","","","","","",""," ",1,"","","","","","","","","","","","","","","","","","",null,"","","","","","","","",""," ",1,"","","","","","","","","","","","","","","","",null,"","","","","","","",""," ",1,"","","","","","","","","","","","","","",null,"","","","","","",""," ",1,"","","","","","","","","","","","","","",null,"","","","","","",""," ",1,"","","","","","","","","","","","","","","","","","",null,"","","","","","","","",""," ",1,"","","","","","","","","","","","","","","","",null,"","","","","","","","",null,0,0,0,0,0,0,0,0,0,0,0,0,0,0,0,0,0,0]
[{"$nulls":113}," ",1,"","","","","","","","","","","","","","",null,"","","","","","",""," ",1,"","","","","","","","","","","","","","",null,"","","","","","",""," ",1,"","","","","","","","","","","","","","",null,"","","","","","",""," ",1,"","","","","","","","","","","","","","","","","","",null,"","","","","","","","",""," ",1,"","","","","","","","","","","","","","","","",null,"","","","","","","",""," ",1,"","","","","","","","","","","","","","",null,"","","","","","",""," ",1,"","","","","","","","","","","","","","",null,"","","","","","",""," ",1,"","","","","","","","","","","","","","","","","","",null,"","","","","","","","",""," ",1,"","","","","","","","","","","","","","","","",null,"","","","","","","","",null,0,0,0,0,0,0,0,0,0,0,0,0,0,0,0,0,0,0]
[{"$nulls":113}," ",1,"","","","","","","","","","","","","","",null,"","","","","","",""," ",1,"","","","","","","","","","","","","","",null,"","","","","","",""," ",1,"","","","","","","","","","","","","","",null,"","","","","","",""," ",1,"","","","","","","","","","","","","","","","","","",null,"","","","","","","","",""," ",1,"","","","","","","","","","","","","","","","",null,"","","","","","","",""," ",1,"","","","","","","","","","","","","","",null,"","","","","","",""," ",1,"","","","","","","","","","","","","","",null,"","","","","","",""," ",1,"","","","","","","","","","","","","","","","","","",null,"","","","","","","","",""," ",1,"","","","","","","","","","","","","","","","",null,"","","","","","","","",null,0,0,0,0,0,0,0,0,0,0,0,0,0,0,0,0,0,0]
[{"$nulls":113}," ",1,"","","","","","","","","","","","","","",null,"","","","","","",""," ",1,"","","","","","","","","","","","","","",null,"","","","","","",""," ",1,"","","","","","","","","","","","","","",null,"","","","","","",""," ",1,"","","","","","","","","","","","","","","","","","",null,"","","","","","","","",""," ",1,"","","","","","","","","","","","","","","","",null,"","","","","","","",""," ",1,"","","","","","","","","","","","","","",null,"","","","","","",""," ",1,"","","","","","","","","","","","","","",null,"","","","","","",""," ",1,"","","","","","","","","","","","","","","","","","",null,"","","","","","","","",""," ",1,"","","","","","","","","","","","","","","","",null,"","","","","","","","",null,0,0,0,0,0,0,0,0,0,0,0,0,0,0,0,0,0,0]
[{"$nulls":113}," ",1,"","","","","","","","","","","","","","",null,"","","","","","",""," ",1,"","","","","","","","","","","","","","",null,"","","","","","",""," ",1,"","","","","","","","","","","","","","",null,"","","","","","",""," ",1,"","","","","","","","","","","","","","","","","","",null,"","","","","","","","",""," ",1,"","","","","","","","","","","","","","","","",null,"","","","","","","",""," ",1,"","","","","","","","","","","","","","",null,"","","","","","",""," ",1,"","","","","","","","","","","","","","",null,"","","","","","",""," ",1,"","","","","","","","","","","","","","","","","","",null,"","","","","","","","",""," ",1,"","","","","","","","","","","","","","","","",null,"","","","","","","","",null,0,0,0,0,0,0,0,0,0,0,0,0,0,0,0,0,0,0]
[{"$nulls":113}," ",1,"","","","","","","","","","","","","","",null,"","","","","","",""," ",1,"","","","","","","","","","","","","","",null,"","","","","","",""," ",1,"","","","","","","","","","","","","","",null,"","","","","","",""," ",1,"","","","","","","","","","","","","","","","","","",null,"","","","","","","","",""," ",1,"","","","","","","","","","","","","","","","",null,"","","","","","","",""," ",1,"","","","","","","","","","","","","","",null,"","","","","","",""," ",1,"","","","","","","","","","","","","","",null,"","","","","","",""," ",1,"","","","","","","","","","","","","","","","","","",null,"","","","","","","","",""," ",1,"","","","","","","","","","","","","","","","",null,"","","","","","","","",null,0,0,0,0,0,0,0,0,0,0,0,0,0,0,0,0,0,0]
[{"$nulls":113}," ",1,"","","","","","","","","","","","","","",null,"","","","","","",""," ",1,"","","","","","","","","","","","","","",null,"","","","","","",""," ",1,"","","","","","","","","","","","","","",null,"","","","","","",""," ",1,"","","","","","","","","","","","","","","","","","",null,"","","","","","","","",""," ",1,"","","","","","","","","","","","","","","","",null,"","","","","","","",""," ",1,"","","","","","","","","","","","","","",null,"","","","","","",""," ",1,"","","","","","","","","","","","","","",null,"","","","","","",""," ",1,"","","","","","","","","","","","","","","","","","",null,"","","","","","","","",""," ",1,"","","","","","","","","","","","","","","","",null,"","","","","","","","",null,0,0,0,0,0,0,0,0,0,0,0,0,0,0,0,0,0,0]
[{"$nulls":113}," ",1,"","","","","","","","","","","","","","",null,"","","","","","",""," ",1,"","","","","","","","","","","","","","",null,"","","","","","",""," ",1,"","","","","","","","","","","","","","",null,"","","","","","",""," ",1,"","","","","","","","","","","","","","","","","","",null,"","","","","","","","",""," ",1,"","","","","","","","","","","","","","","","",null,"","","","","","","",""," ",1,"","","","","","","","","","","","","","",null,"","","","","","",""," ",1,"","","","","","","","","","","","","","",null,"","","","","","",""," ",1,"","","","","","","","","","","","","","","","","","",null,"","","","","","","","",""," ",1,"","","","","","","","","","","","","","","","",null,"","","","","","","","",null,0,0,0,0,0,0,0,0,0,0,0,0,0,0,0,0,0,0]
[{"$nulls":113}," ",1,"","","","","","","","","","","","","","",null,"","","","","","",""," ",1,"","","","","","","","","","","","","","",null,"","","","","","",""," ",1,"","","","","","","","","","","","","","",null,"","","","","","",""," ",1,"","","","","","","","","","","","","","","","","","",null,"","","","","","","","",""," ",1,"","","","","","","","","","","","","","","","",null,"","","","","","","",""," ",1,"","","","","","","","","","","","","","",null,"","","","","","",""," ",1,"","","","","","","","","","","","","","",null,"","","","","","",""," ",1,"","","","","","","","","","","","","","","","","","",null,"","","","","","","","",""," ",1,"","","","","","","","","","","","","","","","",null,"","","","","","","","",null,0,0,0,0,0,0,0,0,0,0,0,0,0,0,0,0,0,0]
[{"$nulls":113}," ",1,"","","","","","","","","","","","","","",null,"","","","","","",""," ",1,"","","","","","","","","","","","","","",null,"","","","","","",""," ",1,"","","","","","","","","","","","","","",null,"","","","","","",""," ",1,"","","","","","","","","","","","","","","","","","",null,"","","","","","","","",""," ",1,"","","","","","","","","","","","","","","","",null,"","","","","","","",""," ",1,"","","","","","","","","","","","","","",null,"","","","","","",""," ",1,"","","","","","","","","","","","","","",null,"","","","","","",""," ",1,"","","","","","","","","","","","","","","","","","",null,"","","","","","","","",""," ",1,"","","","","","","","","","","","","","","","",null,"","","","","","","","",null,0,0,0,0,0,0,0,0,0,0,0,0,0,0,0,0,0,0]
[{"$nulls":113}," ",1,"","","","","","","","","","","","","","",null,"","","","","","",""," ",1,"","","","","","","","","","","","","","",null,"","","","","","",""," ",1,"","","","","","","","","","","","","","",null,"","","","","","",""," ",1,"","","","","","","","","","","","","","","","","","",null,"","","","","","","","",""," ",1,"","","","","","","","","","","","","","","","",null,"","","","","","","",""," ",1,"","","","","","","","","","","","","","",null,"","","","","","",""," ",1,"","","","","","","","","","","","","","",null,"","","","","","",""," ",1,"","","","","","","","","","","","","","","","","","",null,"","","","","","","","",""," ",1,"","","","","","","","","","","","","","","","",null,"","","","","","","","",null,0,0,0,0,0,0,0,0,0,0,0,0,0,0,0,0,0,0]
[{"$nulls":113}," ",1,"","","","","","","","","","","","","","",null,"","","","","","",""," ",1,"","","","","","","","","","","","","","",null,"","","","","","",""," ",1,"","","","","","","","","","","","","","",null,"","","","","","",""," ",1,"","","","","","","","","","","","","","","","","","",null,"","","","","","","","",""," ",1,"","","","","","","","","","","","","","","","",null,"","","","","","","",""," ",1,"","","","","","","","","","","","","","",null,"","","","","","",""," ",1,"","","","","","","","","","","","","","",null,"","","","","","",""," ",1,"","","","","","","","","","","","","","","","","","",null,"","","","","","","","",""," ",1,"","","","","","","","","","","","","","","","",null,"","","","","","","","",null,0,0,0,0,0,0,0,0,0,0,0,0,0,0,0,0,0,0]
[{"$nulls":113}," ",1,"","","","","","","","","","","","","","",null,"","","","","","",""," ",1,"","","","","","","","","","","","","","",null,"","","","","","",""," ",1,"","","","","","","","","","","","","","",null,"","","","","","",""," ",1,"","","","","","","","","","","","","","","","","","",null,"","","","","","","","",""," ",1,"","","","","","","","","","","","","","","","",null,"","","","","","","",""," ",1,"","","","","","","","","","","","","","",null,"","","","","","",""," ",1,"","","","","","","","","","","","","","",null,"","","","","","",""," ",1,"","","","","","","","","","","","","","","","","","",null,"","","","","","","","",""," ",1,"","","","","","","","","","","","","","","","",null,"","","","","","","","",null,0,0,0,0,0,0,0,0,0,0,0,0,0,0,0,0,0,0]
[{"$nulls":113}," ",1,"","","","","","","","","","","","","","",null,"","","","","","",""," ",1,"","","","","","","","","","","","","","",null,"","","","","","",""," ",1,"","","","","","","","","","","","","","",null,"","","","","","",""," ",1,"","","","","","","","","","","","","","","","","","",null,"","","","","","","","",""," ",1,"","","","","","","","","","","","","","","","",null,"","","","","","","",""," ",1,"","","","","","","","","","","","","","",null,"","","","","","",""," ",1,"","","","","","","","","","","","","","",null,"","","","","","",""," ",1,"","","","","","","","","","","","","","","","","","",null,"","","","","","","","",""," ",1,"","","","","","","","","","","","","","","","",null,"","","","","","","","",null,0,0,0,0,0,0,0,0,0,0,0,0,0,0,0,0,0,0]
[{"$nulls":113}," ",1,"","","","","","","","","","","","","","",null,"","","","","","",""," ",1,"","","","","","","","","","","","","","",null,"","","","","","",""," ",1,"","","","","","","","","","","","","","",null,"","","","","","",""," ",1,"","","","","","","","","","","","","","","","","","",null,"","","","","","","","",""," ",1,"","","","","","","","","","","","","","","","",null,"","","","","","","",""," ",1,"","","","","","","","","","","","","","",null,"","","","","","",""," ",1,"","","","","","","","","","","","","","",null,"","","","","","",""," ",1,"","","","","","","","","","","","","","","","","","",null,"","","","","","","","",""," ",1,"","","","","","","","","","","","","","","","",null,"","","","","","","","",null,0,0,0,0,0,0,0,0,0,0,0,0,0,0,0,0,0,0]
[{"$nulls":113}," ",1,"","","","","","","","","","","","","","",null,"","","","","","",""," ",1,"","","","","","","","","","","","","","",null,"","","","","","",""," ",1,"","","","","","","","","","","","","","",null,"","","","","","",""," ",1,"","","","","","","","","","","","","","","","","","",null,"","","","","","","","",""," ",1,"","","","","","","","","","","","","","","","",null,"","","","","","","",""," ",1,"","","","","","","","","","","","","","",null,"","","","","","",""," ",1,"","","","","","","","","","","","","","",null,"","","","","","",""," ",1,"","","","","","","","","","","","","","","","","","",null,"","","","","","","","",""," ",1,"","","","","","","","","","","","","","","","",null,"","","","","","","","",null,0,0,0,0,0,0,0,0,0,0,0,0,0,0,0,0,0,0]
[{"$nulls":113}," ",1,"","","","","","","","","","","","","","",null,"","","","","","",""," ",1,"","","","","","","","","","","","","","",null,"","","","","","",""," ",1,"","","","","","","","","","","","","","",null,"","","","","","",""," ",1,"","","","","","","","","","","","","","","","","","",null,"","","","","","","","",""," ",1,"","","","","","","","","","","","","","","","",null,"","","","","","","",""," ",1,"","","","","","","","","","","","","","",null,"","","","","","",""," ",1,"","","","","","","","","","","","","","",null,"","","","","","",""," ",1,"","","","","","","","","","","","","","","","","","",null,"","","","","","","","",""," ",1,"","","","","","","","","","","","","","","","",null,"","","","","","","","",null,0,0,0,0,0,0,0,0,0,0,0,0,0,0,0,0,0,0]
[{"$nulls":113}," ",1,"","","","","","","","","","","","","","",null,"","","","","","",""," ",1,"","","","","","","","","","","","","","",null,"","","","","","",""," ",1,"","","","","","","","","","","","","","",null,"","","","","","",""," ",1,"","","","","","","","","","","","","","","","","","",null,"","","","","","","","",""," ",1,"","","","","","","","","","","","","","","","",null,"","","","","","","",""," ",1,"","","","","","","","","","","","","","",null,"","","","","","",""," ",1,"","","","","","","","","","","","","","",null,"","","","","","",""," ",1,"","","","","","","","","","","","","","","","","","",null,"","","","","","","","",""," ",1,"","","","","","","","","","","","","","","","",null,"","","","","","","","",null,0,0,0,0,0,0,0,0,0,0,0,0,0,0,0,0,0,0]
[{"$nulls":113}," ",1,"","","","","","","","","","","","","","",null,"","","","","","",""," ",1,"","","","","","","","","","","","","","",null,"","","","","","",""," ",1,"","","","","","","","","","","","","","",null,"","","","","","",""," ",1,"","","","","","","","","","","","","","","","","","",null,"","","","","","","","",""," ",1,"","","","","","","","","","","","","","","","",null,"","","","","","","",""," ",1,"","","","","","","","","","","","","","",null,"","","","","","",""," ",1,"","","","","","","","","","","","","","",null,"","","","","","",""," ",1,"","","","","","","","","","","","","","","","","","",null,"","","","","","","","",""," ",1,"","","","","","","","","","","","","","","","",null,"","","","","","","","",null,0,0,0,0,0,0,0,0,0,0,0,0,0,0,0,0,0,0]
[{"$nulls":113}," ",1,"","","","","","","","","","","","","","",null,"","","","","","",""," ",1,"","","","","","","","","","","","","","",null,"","","","","","",""," ",1,"","","","","","","","","","","","","","",null,"","","","","","",""," ",1,"","","","","","","","","","","","","","","","","","",null,"","","","","","","","",""," ",1,"","","","","","","","","","","","","","","","",null,"","","","","","","",""," ",1,"","","","","","","","","","","","","","",null,"","","","","","",""," ",1,"","","","","","","","","","","","","","",null,"","","","","","",""," ",1,"","","","","","","","","","","","","","","","","","",null,"","","","","","","","",""," ",1,"","","","","","","","","","","","","","","","",null,"","","","","","","","",null,0,0,0,0,0,0,0,0,0,0,0,0,0,0,0,0,0,0]
[{"$nulls":113}," ",1,"","","","","","","","","","","","","","",null,"","","","","","",""," ",1,"","","","","","","","","","","","","","",null,"","","","","","",""," ",1,"","","","","","","","","","","","","","",null,"","","","","","",""," ",1,"","","","","","","","","","","","","","","","","","",null,"","","","","","","","",""," ",1,"","","","","","","","","","","","","","","","",null,"","","","","","","",""," ",1,"","","","","","","","","","","","","","",null,"","","","","","",""," ",1,"","","","","","","","","","","","","","",null,"","","","","","",""," ",1,"","","","","","","","","","","","","","","","","","",null,"","","","","","","","",""," ",1,"","","","","","","","","","","","","","","","",null,"","","","","","","","",null,0,0,0,0,0,0,0,0,0,0,0,0,0,0,0,0,0,0]
[{"$nulls":113}," ",1,"","","","","","","","","","","","","","",null,"","","","","","",""," ",1,"","","","","","","","","","","","","","",null,"","","","","","",""," ",1,"","","","","","","","","","","","","","",null,"","","","","","",""," ",1,"","","","","","","","","","","","","","","","","","",null,"","","","","","","","",""," ",1,"","","","","","","","","","","","","","","","",null,"","","","","","","",""," ",1,"","","","","","","","","","","","","","",null,"","","","","","",""," ",1,"","","","","","","","","","","","","","",null,"","","","","","",""," ",1,"","","","","","","","","","","","","","","","","","",null,"","","","","","","","",""," ",1,"","","","","","","","","","","","","","","","",null,"","","","","","","","",null,0,0,0,0,0,0,0,0,0,0,0,0,0,0,0,0,0,0]
[{"$nulls":113}," ",1,{"$f":"IF($DK330 = 0,TRIM($DJ330),\"\")","v":""},"",{"$f":"IF($DK330 = 0,TRIM(MID($DL330,LEN($DM330)+1,50)),\"\")","v":""},{"$f":"IF($DK330 = 0,SUBSTITUTE(LEFT($DN330, FIND(\" \",$DN330)-1),\".\",\",\"),\"\")","v":""},{"$f":"IF($DK330 = 0,TRIM(MID($DN330,LEN($DO330)+1,50)),\"\")","v":""},{"$f":"IF($DK330 = 0,SUBSTITUTE(LEFT($DP330, FIND(\" \",$DP330)-1),\".\",\",\"),\"\")","v":""},{"$f":"IF($DK330 = 0,TRIM(MID($DP330,LEN($DQ330)+1,50)),\"\")","v":""},{"$f":"IF($DK330 = 0,SUBSTITUTE(LEFT($DR330, FIND(\" \",$DR330)-1),\".\",\",\"),\"\")","v":""},{"$f":"IF($DK330 = 0,TRIM(MID($DR330,LEN($DS330)+1,50)),\"\")","v":""},{"$f":"IF($DK330 = 0,SUBSTITUTE(LEFT($DT330, FIND(\" \",$DT330)-1),\".\",\",\"),\"\")","v":""},{"$f":"IF($DK330 = 0,TRIM(MID($DT330,LEN($DU330)+1,50)),\"\")","v":""},{"$f":"IF($DK330 = 0,SUBSTITUTE(LEFT($DV330, FIND(\" \",$DV330)-1),\".\",\",\"),\"\")","v":""},{"$f":"IF($DK330 = 0,TRIM(MID($DV330,LEN($DW330)+1,50)),\"\")","v":""},{"$f":"IF($DK330 = 0,SUBSTITUTE($DX330,\".\",\",\"),\"\")","v":""},null,{"$f":"IF($DK330 = 0, VALUE($DM330),\"\")","v":""},{"$f":"IF($DK330 = 0, VALUE($DO330),\"\")","v":""},{"$f":"IF($DK330 = 0, VALUE($DQ330),\"\")","v":""},{"$f":"IF($DK330 = 0, VALUE($DS330),\"\")","v":""},{"$f":"IF($DK330 = 0, VALUE($DU330),\"\")","v":""},{"$f":"IF($DK330 = 0, VALUE($DW330),\"\")","v":""},{"$f":"IF($DK330 = 0, VALUE($DY330),\"\")","v":""}," ",1,"","","","","","","","","","","","","","",null,"","","","","","",""," ",1,"","","","","","","","","","","","","","",null,"","","","","","",""," ",1,{"$f":"IF($GE330 = 0,TRIM($GD330),\"\")","v":""},"",{"$f":"IF($GE330 = 0,TRIM(MID($GF330,LEN($GG330)+1,50)),\"\")","v":""},{"$f":"IF($GE330 = 0,SUBSTITUTE(LEFT($GH330, FIND(\" \",$GH330)-1),\".\",\",\"),\"\")","v":""},{"$f":"IF($GE330 = 0,TRIM(MID($GH330,LEN($GI330)+1,50)),\"\")","v":""},{"$f":"IF($GE330 = 0,SUBSTITUTE(LEFT($GJ330, FIND(\" \",$GJ330)-1),\".\",\",\"),\"\")","v":""},{"$f":"IF($GE330 = 0,TRIM(MID($GJ330,LEN($GK330)+1,50)),\"\")","v":""},{"$f":"IF($GE330 = 0,SUBSTITUTE(LEFT($GL330, FIND(\" \",$GL330)-1),\".\",\",\"),\"\")","v":""},{"$f":"IF($GE330 = 0,TRIM(MID($GL330,LEN($GM330)+1,50)),\"\")","v":""},{"$f":"IF($GE330 = 0,SUBSTITUTE(LEFT($GN330, FIND(\" \",$GN330)-1),\".\",\",\"),\"\")","v":""},{"$f":"IF($GE330 = 0,TRIM(MID($GN330,LEN($GO330)+1,50)),\"\")","v":""},{"$f":"IF($GE330 = 0,SUBSTITUTE(LEFT($GP330, FIND(\" \",$GP330)-1),\".\",\",\"),\"\")","v":""},{"$f":"IF($GE330 = 0,TRIM(MID($GP330,LEN($GQ330)+1,50)),\"\")","v":""},{"$f":"IF($GE330 = 0,SUBSTITUTE(LEFT($GR330, FIND(\" \",$GR330)-1),\".\",\",\"),\"\")","v":""},{"$f":"IF($GE330 = 0,TRIM(MID($GR330,LEN($GS330)+1,50)),\"\")","v":""},{"$f":"IF($GE330 = 0,SUBSTITUTE(LEFT($GT330, FIND(\" \",$GT330)-1),\".\",\",\"),\"\")","v":""},{"$f":"IF($GE330 = 0,TRIM(MID($GT330,LEN($GU330)+1,50)),\"\")","v":""},{"$f":"IF($GE330 = 0,SUBSTITUTE($GV330,\".\",\",\"),\"\")","v":""},null,{"$f":"IF($GE330 = 0, VALUE($GG330),\"\")","v":""},{"$f":"IF($GE330 = 0, VALUE($GI330),\"\")","v":""},{"$f":"IF($GE330 = 0, VALUE($GK330),\"\")","v":""},{"$f":"IF($GE330 = 0, VALUE($GM330),\"\")","v":""},{"$f":"IF($GE330 = 0, VALUE($GO330),\"\")","v":""},{"$f":"IF($GE330 = 0, VALUE($GQ330),\"\")","v":""},{"$f":"IF($GE330 = 0, VALUE($GS330),\"\")","v":""},{"$f":"IF($GE330 = 0, VALUE($GU330),\"\")","v":""},{"$f":"IF($GE330 = 0, VALUE($GW330),\"\")","v":""}," ",1,"","","","","","","","","","","","","","","","",null,"","","","","","","",""," ",1,"","","","","","","","","","","","","","",null,"","","","","","",""," ",1,"","","","","","","","","","","","","","",null,"","","","","","",""," ",1,"","","","","","","","","","","","","","","","","","",null,"","","","","","","","",""," ",1,"","","","","","","","","","","","","","","","",null,"","","","","","","","",null,0,0,0,0,0,0,0,0,0,0,0,0,0,0,0,0,0,0]
[{"$nulls":113}," ",1,"","","","","","","","","","","","","","",null,"","","","","","",""," ",1,"","","","","","","","","","","","","","",null,"","","","","","",""," ",1,"","","","","","","","","","","","","","",null,"","","","","","",""," ",1,"","","","","","","","","","","","","","","","","","",null,"","","","","","","","",""," ",1,"","","","","","","","","","","","","","","","",null,"","","","","","","",""," ",1,"","","","","","","","","","","","","","",null,"","","","","","",""," ",1,"","","","","","","","","","","","","","",null,"","","","","","",""," ",1,"","","","","","","","","","","","","","","","","","",null,"","","","","","","","",""," ",1,"","","","","","","","","","","","","","","","",null,"","","","","","","","",null,0,0,0,0,0,0,0,0,0,0,0,0,0,0,0,0,0,0]
[{"$nulls":113}," ",1,"","","","","","","","","","","","","","",null,"","","","","","",""," ",1,"","","","","","","","","","","","","","",null,"","","","","","",""," ",1,"","","","","","","","","","","","","","",null,"","","","","","",""," ",1,"","","","","","","","","","","","","","","","","","",null,"","","","","","","","",""," ",1,"","","","","","","","","","","","","","","","",null,"","","","","","","",""," ",1,"","","","","","","","","","","","","","",null,"","","","","","",""," ",1,"","","","","","","","","","","","","","",null,"","","","","","",""," ",1,"","","","","","","","","","","","","","","","","","",null,"","","","","","","","",""," ",1,"","","","","","","","","","","","","","","","",null,"","","","","","","","",null,0,0,0,0,0,0,0,0,0,0,0,0,0,0,0,0,0,0]
[{"$nulls":113}," ",1,"","","","","","","","","","","","","","",null,"","","","","","",""," ",1,"","","","","","","","","","","","","","",null,"","","","","","",""," ",1,"","","","","","","","","","","","","","",null,"","","","","","",""," ",1,"","","","","","","","","","","","","","","","","","",null,"","","","","","","","",""," ",1,"","","","","","","","","","","","","","","","",null,"","","","","","","",""," ",1,"","","","","","","","","","","","","","",null,"","","","","","",""," ",1,"","","","","","","","","","","","","","",null,"","","","","","",""," ",1,"","","","","","","","","","","","","","","","","","",null,"","","","","","","","",""," ",1,"","","","","","","","","","","","","","","","",null,"","","","","","","","",null,0,0,0,0,0,0,0,0,0,0,0,0,0,0,0,0,0,0]
[{"$nulls":113}," ",1,"","","","","","","","","","","","","","",null,"","","","","","",""," ",1,"","","","","","","","","","","","","","",null,"","","","","","",""," ",1,"","","","","","","","","","","","","","",null,"","","","","","",""," ",1,"","","","","","","","","","","","","","","","","","",null,"","","","","","","","",""," ",1,"","","","","","","","","","","","","","","","",null,"","","","","","","",""," ",1,"","","","","","","","","","","","","","",null,"","","","","","",""," ",1,"","","","","","","","","","","","","","",null,"","","","","","",""," ",1,"","","","","","","","","","","","","","","","","","",null,"","","","","","","","",""," ",1,"","","","","","","","","","","","","","","","",null,"","","","","","","","",null,0,0,0,0,0,0,0,0,0,0,0,0,0,0,0,0,0,0]
[{"$nulls":113}," ",1,"","","","","","","","","","","","","","",null,"","","","","","",""," ",1,"","","","","","","","","","","","","","",null,"","","","","","",""," ",1,"","","","","","","","","","","","","","",null,"","","","","","",""," ",1,"","","","","","","","","","","","","","","","","","",null,"","","","","","","","",""," ",1,"","","","","","","","","","","","","","","","",null,"","","","","","","",""," ",1,"","","","","","","","","","","","","","",null,"","","","","","",""," ",1,"","","","","","","","","","","","","","",null,"","","","","","",""," ",1,"","","","","","","","","","","","","","","","","","",null,"","","","","","","","",""," ",1,"","","","","","","","","","","","","","","","",null,"","","","","","","","",null,0,0,0,0,0,0,0,0,0,0,0,0,0,0,0,0,0,0]
[{"$nulls":113}," ",1,"","","","","","","","","","","","","","",null,"","","","","","",""," ",1,"","","","","","","","","","","","","","",null,"","","","","","",""," ",1,"","","","","","","","","","","","","","",null,"","","","","","",""," ",1,"","","","","","","","","","","","","","","","","","",null,"","","","","","","","",""," ",1,"","","","","","","","","","","","","","","","",null,"","","","","","","",""," ",1,"","","","","","","","","","","","","","",null,"","","","","","",""," ",1,"","","","","","","","","","","","","","",null,"","","","","","",""," ",1,"","","","","","","","","","","","","","","","","","",null,"","","","","","","","",""," ",1,"","","","","","","","","","","","","","","","",null,"","","","","","","","",null,0,0,0,0,0,0,0,0,0,0,0,0,0,0,0,0,0,0]
[{"$nulls":113}," ",1,"","","","","","","","","","","","","","",null,"","","","","","",""," ",1,"","","","","","","","","","","","","","",null,"","","","","","",""," ",1,"","","","","","","","","","","","","","",null,"","","","","","",""," ",1,"","","","","","","","","","","","","","","","","","",null,"","","","","","","","",""," ",1,"","","","","","","","","","","","","","","","",null,"","","","","","","",""," ",1,"","","","","","","","","","","","","","",null,"","","","","","",""," ",1,"","","","","","","","","","","","","","",null,"","","","","","",""," ",1,"","","","","","","","","","","","","","","","","","",null,"","","","","","","","",""," ",1,"","","","","","","","","","","","","","","","",null,"","","","","","","","",null,0,0,0,0,0,0,0,0,0,0,0,0,0,0,0,0,0,0]
[{"$nulls":113}," ",1,"","","","","","","","","","","","","","",null,"","","","","","",""," ",1,"","","","","","","","","","","","","","",null,"","","","","","",""," ",1,"","","","","","","","","","","","","","",null,"","","","","","",""," ",1,"","","","","","","","","","","","","","","","","","",null,"","","","","","","","",""," ",1,"","","","","","","","","","","","","","","","",null,"","","","","","","",""," ",1,"","","","","","","","","","","","","","",null,"","","","","","",""," ",1,"","","","","","","","","","","","","","",null,"","","","","","",""," ",1,"","","","","","","","","","","","","","","","","","",null,"","","","","","","","",""," ",1,"","","","","","","","","","","","","","","","",null,"","","","","","","","",null,0,0,0,0,0,0,0,0,0,0,0,0,0,0,0,0,0,0]
[{"$nulls":113}," ",1,"","","","","","","","","","","","","","",null,"","","","","","",""," ",1,"","","","","","","","","","","","","","",null,"","","","","","",""," ",1,"","","","","","","","","","","","","","",null,"","","","","","",""," ",1,"","","","","","","","","","","","","","","","","","",null,"","","","","","","","",""," ",1,"","","","","","","","","","","","","","","","",null,"","","","","","","",""," ",1,"","","","","","","","","","","","","","",null,"","","","","","",""," ",1,"","","","","","","","","","","","","","",null,"","","","","","",""," ",1,"","","","","","","","","","","","","","","","","","",null,"","","","","","","","",""," ",1,"","","","","","","","","","","","","","","","",null,"","","","","","","","",null,0,0,0,0,0,0,0,0,0,0,0,0,0,0,0,0,0,0]
[{"$nulls":113}," ",1,"","","","","","","","","","","","","","",null,"","","","","","",""," ",1,"","","","","","","","","","","","","","",null,"","","","","","",""," ",1,"","","","","","","","","","","","","","",null,"","","","","","",""," ",1,"","","","","","","","","","","","","","","","","","",null,"","","","","","","","",""," ",1,"","","","","","","","","","","","","","","","",null,"","","","","","","",""," ",1,"","","","","","","","","","","","","","",null,"","","","","","",""," ",1,"","","","","","","","","","","","","","",null,"","","","","","",""," ",1,"","","","","","","","","","","","","","","","","","",null,"","","","","","","","",""," ",1,"","","","","","","","","","","","","","","","",null,"","","","","","","","",null,0,0,0,0,0,0,0,0,0,0,0,0,0,0,0,0,0,0]
[{"$nulls":113}," ",1,"","","","","","","","","","","","","","",null,"","","","","","",""," ",1,"","","","","","","","","","","","","","",null,"","","","","","",""," ",1,"","","","","","","","","","","","","","",null,"","","","","","",""," ",1,"","","","","","","","","","","","","","","","","","",null,"","","","","","","","",""," ",1,"","","","","","","","","","","","","","","","",null,"","","","","","","",""," ",1,"","","","","","","","","","","","","","",null,"","","","","","",""," ",1,"","","","","","","","","","","","","","",null,"","","","","","",""," ",1,"","","","","","","","","","","","","","","","","","",null,"","","","","","","","",""," ",1,"","","","","","","","","","","","","","","","",null,"","","","","","","","",null,0,0,0,0,0,0,0,0,0,0,0,0,0,0,0,0,0,0]
[{"$nulls":113}," ",1,"","","","","","","","","","","","","","",null,"","","","","","",""," ",1,"","","","","","","","","","","","","","",null,"","","","","","",""," ",1,"","","","","","","","","","","","","","",null,"","","","","","",""," ",1,"","","","","","","","","","","","","","","","","","",null,"","","","","","","","",""," ",1,"","","","","","","","","","","","","","","","",null,"","","","","","","",""," ",1,"","","","","","","","","","","","","","",null,"","","","","","",""," ",1,"","","","","","","","","","","","","","",null,"","","","","","",""," ",1,"","","","","","","","","","","","","","","","","","",null,"","","","","","","","",""," ",1,"","","","","","","","","","","","","","","","",null,"","","","","","","","",null,0,0,0,0,0,0,0,0,0,0,0,0,0,0,0,0,0,0]
[{"$nulls":113}," ",1,"","","","","","","","","","","","","","",null,"","","","","","",""," ",1,"","","","","","","","","","","","","","",null,"","","","","","",""," ",1,"","","","","","","","","","","","","","",null,"","","","","","",""," ",1,"","","","","","","","","","","","","","","","","","",null,"","","","","","","","",""," ",1,"","","","","","","","","","","","","","","","",null,"","","","","","","",""," ",1,"","","","","","","","","","","","","","",null,"","","","","","",""," ",1,"","","","","","","","","","","","","","",null,"","","","","","",""," ",1,"","","","","","","","","","","","","","","","","","",null,"","","","","","","","",""," ",1,"","","","","","","","","","","","","","","","",null,"","","","","","","","",null,0,0,0,0,0,0,0,0,0,0,0,0,0,0,0,0,0,0]
[{"$nulls":113}," ",1,"","","","","","","","","","","","","","",null,"","","","","","",""," ",1,"","","","","","","","","","","","","","",null,"","","","","","",""," ",1,"","","","","","","","","","","","","","",null,"","","","","","",""," ",1,"","","","","","","","","","","","","","","","","","",null,"","","","","","","","",""," ",1,"","","","","","","","","","","","","","","","",null,"","","","","","","",""," ",1,"","","","","","","","","","","","","","",null,"","","","","","",""," ",1,"","","","","","","","","","","","","","",null,"","","","","","",""," ",1,"","","","","","","","","","","","","","","","","","",null,"","","","","","","","",""," ",1,"","","","","","","","","","","","","","","","",null,"","","","","","","","",null,0,0,0,0,0,0,0,0,0,0,0,0,0,0,0,0,0,0]
[{"$nulls":113}," ",1,"","","","","","","","","","","","","","",null,"","","","","","",""," ",1,"","","","","","","","","","","","","","",null,"","","","","","",""," ",1,"","","","","","","","","","","","","","",null,"","","","","","",""," ",1,"","","","","","","","","","","","","","","","","","",null,"","","","","","","","",""," ",1,"","","","","","","","","","","","","","","","",null,"","","","","","","",""," ",1,"","","","","","","","","","","","","","",null,"","","","","","",""," ",1,"","","","","","","","","","","","","","",null,"","","","","","",""," ",1,"","","","","","","","","","","","","","","","","","",null,"","","","","","","","",""," ",1,"","","","","","","","","","","","","","","","",null,"","","","","","","","",null,0,0,0,0,0,0,0,0,0,0,0,0,0,0,0,0,0,0]
[{"$nulls":113}," ",1,"","","","","","","","","","","","","","",null,"","","","","","",""," ",1,"","","","","","","","","","","","","","",null,"","","","","","",""," ",1,"","","","","","","","","","","","","","",null,"","","","","","",""," ",1,"","","","","","","","","","","","","","","","","","",null,"","","","","","","","",""," ",1,"","","","","","","","","","","","","","","","",null,"","","","","","","",""," ",1,"","","","","","","","","","","","","","",null,"","","","","","",""," ",1,"","","","","","","","","","","","","","",null,"","","","","","",""," ",1,"","","","","","","","","","","","","","","","","","",null,"","","","","","","","",""," ",1,"","","","","","","","","","","","","","","","",null,"","","","","","","","",null,0,0,0,0,0,0,0,0,0,0,0,0,0,0,0,0,0,0]
[{"$nulls":113}," ",1,"","","","","","","","","","","","","","",null,"","","","","","",""," ",1,"","","","","","","","","","","","","","",null,"","","","","","",""," ",1,"","","","","","","","","","","","","","",null,"","","","","","",""," ",1,"","","","","","","","","","","","","","","","","","",null,"","","","","","","","",""," ",1,"","","","","","","","","","","","","","","","",null,"","","","","","","",""," ",1,"","","","","","","","","","","","","","",null,"","","","","","",""," ",1,"","","","","","","","","","","","","","",null,"","","","","","",""," ",1,"","","","","","","","","","","","","","","","","","",null,"","","","","","","","",""," ",1,"","","","","","","","","","","","","","","","",null,"","","","","","","","",null,0,0,0,0,0,0,0,0,0,0,0,0,0,0,0,0,0,0]
[{"$nulls":113}," ",1,"","","","","","","","","","","","","","",null,"","","","","","",""," ",1,"","","","","","","","","","","","","","",null,"","","","","","",""," ",1,"","","","","","","","","","","","","","",null,"","","","","","",""," ",1,"","","","","","","","","","","","","","","","","","",null,"","","","","","","","",""," ",1,"","","","","","","","","","","","","","","","",null,"","","","","","","",""," ",1,"","","","","","","","","","","","","","",null,"","","","","","",""," ",1,"","","","","","","","","","","","","","",null,"","","","","","",""," ",1,"","","","","","","","","","","","","","","","","","",null,"","","","","","","","",""," ",1,"","","","","","","","","","","","","","","","",null,"","","","","","","","",null,0,0,0,0,0,0,0,0,0,0,0,0,0,0,0,0,0,0]
[{"$nulls":113}," ",1,"","","","","","","","","","","","","","",null,"","","","","","",""," ",1,"","","","","","","","","","","","","","",null,"","","","","","",""," ",1,"","","","","","","","","","","","","","",null,"","","","","","",""," ",1,"","","","","","","","","","","","","","","","","","",null,"","","","","","","","",""," ",1,"","","","","","","","","","","","","","","","",null,"","","","","","","",""," ",1,"","","","","","","","","","","","","","",null,"","","","","","",""," ",1,"","","","","","","","","","","","","","",null,"","","","","","",""," ",1,"","","","","","","","","","","","","","","","","","",null,"","","","","","","","",""," ",1,"","","","","","","","","","","","","","","","",null,"","","","","","","","",null,0,0,0,0,0,0,0,0,0,0,0,0,0,0,0,0,0,0]
[{"$nulls":113}," ",1,"","","","","","","","","","","","","","",null,"","","","","","",""," ",1,"","","","","","","","","","","","","","",null,"","","","","","",""," ",1,"","","","","","","","","","","","","","",null,"","","","","","",""," ",1,"","","","","","","","","","","","","","","","","","",null,"","","","","","","","",""," ",1,"","","","","","","","","","","","","","","","",null,"","","","","","","",""," ",1,"","","","","","","","","","","","","","",null,"","","","","","",""," ",1,"","","","","","","","","","","","","","",null,"","","","","","",""," ",1,"","","","","","","","","","","","","","","","","","",null,"","","","","","","","",""," ",1,"","","","","","","","","","","","","","","","",null,"","","","","","","","",null,0,0,0,0,0,0,0,0,0,0,0,0,0,0,0,0,0,0]
[{"$nulls":113}," ",1,"","","","","","","","","","","","","","",null,"","","","","","",""," ",1,"","","","","","","","","","","","","","",null,"","","","","","",""," ",1,"","","","","","","","","","","","","","",null,"","","","","","",""," ",1,"","","","","","","","","","","","","","","","","","",null,"","","","","","","","",""," ",1,"","","","","","","","","","","","","","","","",null,"","","","","","","",""," ",1,"","","","","","","","","","","","","","",null,"","","","","","",""," ",1,"","","","","","","","","","","","","","",null,"","","","","","",""," ",1,"","","","","","","","","","","","","","","","","","",null,"","","","","","","","",""," ",1,"","","","","","","","","","","","","","","","",null,"","","","","","","","",null,0,0,0,0,0,0,0,0,0,0,0,0,0,0,0,0,0,0]
[{"$nulls":113}," ",1,"","","","","","","","","","","","","","",null,"","","","","","",""," ",1,"","","","","","","","","","","","","","",null,"","","","","","",""," ",1,"","","","","","","","","","","","","","",null,"","","","","","",""," ",1,"","","","","","","","","","","","","","","","","","",null,"","","","","","","","",""," ",1,"","","","","","","","","","","","","","","","",null,"","","","","","","",""," ",1,"","","","","","","","","","","","","","",null,"","","","","","",""," ",1,"","","","","","","","","","","","","","",null,"","","","","","",""," ",1,"","","","","","","","","","","","","","","","","","",null,"","","","","","","","",""," ",1,"","","","","","","","","","","","","","","","",null,"","","","","","","","",null,0,0,0,0,0,0,0,0,0,0,0,0,0,0,0,0,0,0]
[{"$nulls":113}," ",1,{"$f":"IF($DK394 = 0,TRIM($DJ394),\"\")","v":""},"",{"$f":"IF($DK394 = 0,TRIM(MID($DL394,LEN($DM394)+1,50)),\"\")","v":""},{"$f":"IF($DK394 = 0,SUBSTITUTE(LEFT($DN394, FIND(\" \",$DN394)-1),\".\",\",\"),\"\")","v":""},{"$f":"IF($DK394 = 0,TRIM(MID($DN394,LEN($DO394)+1,50)),\"\")","v":""},{"$f":"IF($DK394 = 0,SUBSTITUTE(LEFT($DP394, FIND(\" \",$DP394)-1),\".\",\",\"),\"\")","v":""},{"$f":"IF($DK394 = 0,TRIM(MID($DP394,LEN($DQ394)+1,50)),\"\")","v":""},{"$f":"IF($DK394 = 0,SUBSTITUTE(LEFT($DR394, FIND(\" \",$DR394)-1),\".\",\",\"),\"\")","v":""},{"$f":"IF($DK394 = 0,TRIM(MID($DR394,LEN($DS394)+1,50)),\"\")","v":""},{"$f":"IF($DK394 = 0,SUBSTITUTE(LEFT($DT394, FIND(\" \",$DT394)-1),\".\",\",\"),\"\")","v":""},{"$f":"IF($DK394 = 0,TRIM(MID($DT394,LEN($DU394)+1,50)),\"\")","v":""},{"$f":"IF($DK394 = 0,SUBSTITUTE(LEFT($DV394, FIND(\" \",$DV394)-1),\".\",\",\"),\"\")","v":""},{"$f":"IF($DK394 = 0,TRIM(MID($DV394,LEN($DW394)+1,50)),\"\")","v":""},{"$f":"IF($DK394 = 0,SUBSTITUTE($DX394,\".\",\",\"),\"\")","v":""},null,{"$f":"IF($DK394 = 0, VALUE($DM394),\"\")","v":""},{"$f":"IF($DK394 = 0, VALUE($DO394),\"\")","v":""},{"$f":"IF($DK394 = 0, VALUE($DQ394),\"\")","v":""},{"$f":"IF($DK394 = 0, VALUE($DS394),\"\")","v":""},{"$f":"IF($DK394 = 0, VALUE($DU394),\"\")","v":""},{"$f":"IF($DK394 = 0, VALUE($DW394),\"\")","v":""},{"$f":"IF($DK394 = 0, VALUE($DY394),\"\")","v":""}," ",1,"","","","","","","","","","","","","","",null,"","","","","","",""," ",1,"","","","","","","","","","","","","","",null,"","","","","","",""," ",1,{"$f":"IF($GE394 = 0,TRIM($GD394),\"\")","v":""},"",{"$f":"IF($GE394 = 0,TRIM(MID($GF394,LEN($GG394)+1,50)),\"\")","v":""},{"$f":"IF($GE394 = 0,SUBSTITUTE(LEFT($GH394, FIND(\" \",$GH394)-1),\".\",\",\"),\"\")","v":""},{"$f":"IF($GE394 = 0,TRIM(MID($GH394,LEN($GI394)+1,50)),\"\")","v":""},{"$f":"IF($GE394 = 0,SUBSTITUTE(LEFT($GJ394, FIND(\" \",$GJ394)-1),\".\",\",\"),\"\")","v":""},{"$f":"IF($GE394 = 0,TRIM(MID($GJ394,LEN($GK394)+1,50)),\"\")","v":""},{"$f":"IF($GE394 = 0,SUBSTITUTE(LEFT($GL394, FIND(\" \",$GL394)-1),\".\",\",\"),\"\")","v":""},{"$f":"IF($GE394 = 0,TRIM(MID($GL394,LEN($GM394)+1,50)),\"\")","v":""},{"$f":"IF($GE394 = 0,SUBSTITUTE(LEFT($GN394, FIND(\" \",$GN394)-1),\".\",\",\"),\"\")","v":""},{"$f":"IF($GE394 = 0,TRIM(MID($GN394,LEN($GO394)+1,50)),\"\")","v":""},{"$f":"IF($GE394 = 0,SUBSTITUTE(LEFT($GP394, FIND(\" \",$GP394)-1),\".\",\",\"),\"\")","v":""},{"$f":"IF($GE394 = 0,TRIM(MID($GP394,LEN($GQ394)+1,50)),\"\")","v":""},{"$f":"IF($GE394 = 0,SUBSTITUTE(LEFT($GR394, FIND(\" \",$GR394)-1),\".\",\",\"),\"\")","v":""},{"$f":"IF($GE394 = 0,TRIM(MID($GR394,LEN($GS394)+1,50)),\"\")","v":""},{"$f":"IF($GE394 = 0,SUBSTITUTE(LEFT($GT394, FIND(\" \",$GT394)-1),\".\",\",\"),\"\")","v":""},{"$f":"IF($GE394 = 0,TRIM(MID($GT394,LEN($GU394)+1,50)),\"\")","v":""},{"$f":"IF($GE394 = 0,SUBSTITUTE($GV394,\".\",\",\"),\"\")","v":""},null,{"$f":"IF($GE394 = 0, VALUE($GG394),\"\")","v":""},{"$f":"IF($GE394 = 0, VALUE($GI394),\"\")","v":""},{"$f":"IF($GE394 = 0, VALUE($GK394),\"\")","v":""},{"$f":"IF($GE394 = 0, VALUE($GM394),\"\")","v":""},{"$f":"IF($GE394 = 0, VALUE($GO394),\"\")","v":""},{"$f":"IF($GE394 = 0, VALUE($GQ394),\"\")","v":""},{"$f":"IF($GE394 = 0, VALUE($GS394),\"\")","v":""},{"$f":"IF($GE394 = 0, VALUE($GU394),\"\")","v":""},{"$f":"IF($GE394 = 0, VALUE($GW394),\"\")","v":""}," ",1,"","","","","","","","","","","","","","","","",null,"","","","","","","",""," ",1,"","","","","","","","","","","","","","",null,"","","","","","",""," ",1,"","","","","","","","","","","","","","",null,"","","","","","",""," ",1,"","","","","","","","","","","","","","","","","","",null,"","","","","","","","",""," ",1,"","","","","","","","","","","","","","","","",null,"","","","","","","","",null,0,0,0,0,0,0,0,0,0,0,0,0,0,0,0,0,0,0]
[{"$nulls":113}," ",1,"","","","","","","","","","","","","","",null,"","","","","","",""," ",1,"","","","","","","","","","","","","","",null,"","","","","","",""," ",1,"","","","","","","","","","","","","","",null,"","","","","","",""," ",1,"","","","","","","","","","","","","","","","","","",null,"","","","","","","","",""," ",1,"","","","","","","","","","","","","","","","",null,"","","","","","","",""," ",1,"","","","","","","","","","","","","","",null,"","","","","","",""," ",1,"","","","","","","","","","","","","","",null,"","","","","","",""," ",1,"","","","","","","","","","","","","","","","","","",null,"","","","","","","","",""," ",1,"","","","","","","","","","","","","","","","",null,"","","","","","","","",null,0,0,0,0,0,0,0,0,0,0,0,0,0,0,0,0,0,0]
[{"$nulls":113}," ",1,"","","","","","","","","","","","","","",null,"","","","","","",""," ",1,"","","","","","","","","","","","","","",null,"","","","","","",""," ",1,"","","","","","","","","","","","","","",null,"","","","","","",""," ",1,"","","","","","","","","","","","","","","","","","",null,"","","","","","","","",""," ",1,"","","","","","","","","","","","","","","","",null,"","","","","","","",""," ",1,"","","","","","","","","","","","","","",null,"","","","","","",""," ",1,"","","","","","","","","","","","","","",null,"","","","","","",""," ",1,"","","","","","","","","","","","","","","","","","",null,"","","","","","","","",""," ",1,"","","","","","","","","","","","","","","","",null,"","","","","","","","",null,0,0,0,0,0,0,0,0,0,0,0,0,0,0,0,0,0,0]
[{"$nulls":113}," ",1,"","","","","","","","","","","","","","",null,"","","","","","",""," ",1,"","","","","","","","","","","","","","",null,"","","","","","",""," ",1,"","","","","","","","","","","","","","",null,"","","","","","",""," ",1,"","","","","","","","","","","","","","","","","","",null,"","","","","","","","",""," ",1,"","","","","","","","","","","","","","","","",null,"","","","","","","",""," ",1,"","","","","","","","","","","","","","",null,"","","","","","",""," ",1,"","","","","","","","","","","","","","",null,"","","","","","",""," ",1,"","","","","","","","","","","","","","","","","","",null,"","","","","","","","",""," ",1,"","","","","","","","","","","","","","","","",null,"","","","","","","","",null,0,0,0,0,0,0,0,0,0,0,0,0,0,0,0,0,0,0]
[{"$nulls":113}," ",1,"","","","","","","","","","","","","","",null,"","","","","","",""," ",1,"","","","","","","","","","","","","","",null,"","","","","","",""," ",1,"","","","","","","","","","","","","","",null,"","","","","","",""," ",1,"","","","","","","","","","","","","","","","","","",null,"","","","","","","","",""," ",1,"","","","","","","","","","","","","","","","",null,"","","","","","","",""," ",1,"","","","","","","","","","","","","","",null,"","","","","","",""," ",1,"","","","","","","","","","","","","","",null,"","","","","","",""," ",1,"","","","","","","","","","","","","","","","","","",null,"","","","","","","","",""," ",1,"","","","","","","","","","","","","","","","",null,"","","","","","","","",null,0,0,0,0,0,0,0,0,0,0,0,0,0,0,0,0,0,0]
[{"$nulls":113}," ",1,"","","","","","","","","","","","","","",null,"","","","","","",""," ",1,"","","","","","","","","","","","","","",null,"","","","","","",""," ",1,"","","","","","","","","","","","","","",null,"","","","","","",""," ",1,"","","","","","","","","","","","","","","","","","",null,"","","","","","","","",""," ",1,"","","","","","","","","","","","","","","","",null,"","","","","","","",""," ",1,"","","","","","","","","","","","","","",null,"","","","","","",""," ",1,"","","","","","","","","","","","","","",null,"","","","","","",""," ",1,"","","","","","","","","","","","","","","","","","",null,"","","","","","","","",""," ",1,"","","","","","","","","","","","","","","","",null,"","","","","","","","",null,0,0,0,0,0,0,0,0,0,0,0,0,0,0,0,0,0,0]
[{"$nulls":113}," ",1,"","","","","","","","","","","","","","",null,"","","","","","",""," ",1,"","","","","","","","","","","","","","",null,"","","","","","",""," ",1,"","","","","","","","","","","","","","",null,"","","","","","",""," ",1,"","","","","","","","","","","","","","","","","","",null,"","","","","","","","",""," ",1,"","","","","","","","","","","","","","","","",null,"","","","","","","",""," ",1,"","","","","","","","","","","","","","",null,"","","","","","",""," ",1,"","","","","","","","","","","","","","",null,"","","","","","",""," ",1,"","","","","","","","","","","","","","","","","","",null,"","","","","","","","",""," ",1,"","","","","","","","","","","","","","","","",null,"","","","","","","","",null,0,0,0,0,0,0,0,0,0,0,0,0,0,0,0,0,0,0]
[{"$nulls":113}," ",1,"","","","","","","","","","","","","","",null,"","","","","","",""," ",1,"","","","","","","","","","","","","","",null,"","","","","","",""," ",1,"","","","","","","","","","","","","","",null,"","","","","","",""," ",1,"","","","","","","","","","","","","","","","","","",null,"","","","","","","","",""," ",1,"","","","","","","","","","","","","","","","",null,"","","","","","","",""," ",1,"","","","","","","","","","","","","","",null,"","","","","","",""," ",1,"","","","","","","","","","","","","","",null,"","","","","","",""," ",1,"","","","","","","","","","","","","","","","","","",null,"","","","","","","","",""," ",1,"","","","","","","","","","","","","","","","",null,"","","","","","","","",null,0,0,0,0,0,0,0,0,0,0,0,0,0,0,0,0,0,0]
[{"$nulls":113}," ",1,"","","","","","","","","","","","","","",null,"","","","","","",""," ",1,"","","","","","","","","","","","","","",null,"","","","","","",""," ",1,"","","","","","","","","","","","","","",null,"","","","","","",""," ",1,"","","","","","","","","","","","","","","","","","",null,"","","","","","","","",""," ",1,"","","","","","","","","","","","","","","","",null,"","","","","","","",""," ",1,"","","","","","","","","","","","","","",null,"","","","","","",""," ",1,"","","","","","","","","","","","","","",null,"","","","","","",""," ",1,"","","","","","","","","","","","","","","","","","",null,"","","","","","","","",""," ",1,"","","","","","","","","","","","","","","","",null,"","","","","","","","",null,0,0,0,0,0,0,0,0,0,0,0,0,0,0,0,0,0,0]
[{"$nulls":113}," ",1,"","","","","","","","","","","","","","",null,"","","","","","",""," ",1,"","","","","","","","","","","","","","",null,"","","","","","",""," ",1,"","","","","","","","","","","","","","",null,"","","","","","",""," ",1,"","","","","","","","","","","","","","","","","","",null,"","","","","","","","",""," ",1,"","","","","","","","","","","","","","","","",null,"","","","","","","",""," ",1,"","","","","","","","","","","","","","",null,"","","","","","",""," ",1,"","","","","","","","","","","","","","",null,"","","","","","",""," ",1,"","","","","","","","","","","","","","","","","","",null,"","","","","","","","",""," ",1,"","","","","","","","","","","","","","","","",null,"","","","","","","","",null,0,0,0,0,0,0,0,0,0,0,0,0,0,0,0,0,0,0]
[{"$nulls":113}," ",1,"","","","","","","","","","","","","","",null,"","","","","","",""," ",1,"","","","","","","","","","","","","","",null,"","","","","","",""," ",1,"","","","","","","","","","","","","","",null,"","","","","","",""," ",1,"","","","","","","","","","","","","","","","","","",null,"","","","","","","","",""," ",1,"","","","","","","","","","","","","","","","",null,"","","","","","","",""," ",1,"","","","","","","","","","","","","","",null,"","","","","","",""," ",1,"","","","","","","","","","","","","","",null,"","","","","","",""," ",1,"","","","","","","","","","","","","","","","","","",null,"","","","","","","","",""," ",1,"","","","","","","","","","","","","","","","",null,"","","","","","","","",null,0,0,0,0,0,0,0,0,0,0,0,0,0,0,0,0,0,0]
[{"$nulls":113}," ",1,"","","","","","","","","","","","","","",null,"","","","","","",""," ",1,"","","","","","","","","","","","","","",null,"","","","","","",""," ",1,"","","","","","","","","","","","","","",null,"","","","","","",""," ",1,"","","","","","","","","","","","","","","","","","",null,"","","","","","","","",""," ",1,"","","","","","","","","","","","","","","","",null,"","","","","","","",""," ",1,"","","","","","","","","","","","","","",null,"","","","","","",""," ",1,"","","","","","","","","","","","","","",null,"","","","","","",""," ",1,"","","","","","","","","","","","","","","","","","",null,"","","","","","","","",""," ",1,"","","","","","","","","","","","","","","","",null,"","","","","","","","",null,0,0,0,0,0,0,0,0,0,0,0,0,0,0,0,0,0,0]
[{"$nulls":113}," ",1,"","","","","","","","","","","","","","",null,"","","","","","",""," ",1,"","","","","","","","","","","","","","",null,"","","","","","",""," ",1,"","","","","","","","","","","","","","",null,"","","","","","",""," ",1,"","","","","","","","","","","","","","","","","","",null,"","","","","","","","",""," ",1,"","","","","","","","","","","","","","","","",null,"","","","","","","",""," ",1,"","","","","","","","","","","","","","",null,"","","","","","",""," ",1,"","","","","","","","","","","","","","",null,"","","","","","",""," ",1,"","","","","","","","","","","","","","","","","","",null,"","","","","","","","",""," ",1,"","","","","","","","","","","","","","","","",null,"","","","","","","","",null,0,0,0,0,0,0,0,0,0,0,0,0,0,0,0,0,0,0]
[{"$nulls":113}," ",1,"","","","","","","","","","","","","","",null,"","","","","","",""," ",1,"","","","","","","","","","","","","","",null,"","","","","","",""," ",1,"","","","","","","","","","","","","","",null,"","","","","","",""," ",1,"","","","","","","","","","","","","","","","","","",null,"","","","","","","","",""," ",1,"","","","","","","","","","","","","","","","",null,"","","","","","","",""," ",1,"","","","","","","","","","","","","","",null,"","","","","","",""," ",1,"","","","","","","","","","","","","","",null,"","","","","","",""," ",1,"","","","","","","","","","","","","","","","","","",null,"","","","","","","","",""," ",1,"","","","","","","","","","","","","","","","",null,"","","","","","","","",null,0,0,0,0,0,0,0,0,0,0,0,0,0,0,0,0,0,0]
[{"$nulls":113}," ",1,"","","","","","","","","","","","","","",null,"","","","","","",""," ",1,"","","","","","","","","","","","","","",null,"","","","","","",""," ",1,"","","","","","","","","","","","","","",null,"","","","","","",""," ",1,"","","","","","","","","","","","","","","","","","",null,"","","","","","","","",""," ",1,"","","","","","","","","","","","","","","","",null,"","","","","","","",""," ",1,"","","","","","","","","","","","","","",null,"","","","","","",""," ",1,"","","","","","","","","","","","","","",null,"","","","","","",""," ",1,"","","","","","","","","","","","","","","","","","",null,"","","","","","","","",""," ",1,"","","","","","","","","","","","","","","","",null,"","","","","","","","",null,0,0,0,0,0,0,0,0,0,0,0,0,0,0,0,0,0,0]
[{"$nulls":113}," ",1,"","","","","","","","","","","","","","",null,"","","","","","",""," ",1,"","","","","","","","","","","","","","",null,"","","","","","",""," ",1,"","","","","","","","","","","","","","",null,"","","","","","",""," ",1,"","","","","","","","","","","","","","","","","","",null,"","","","","","","","",""," ",1,"","","","","","","","","","","","","","","","",null,"","","","","","","",""," ",1,"","","","","","","","","","","","","","",null,"","","","","","",""," ",1,"","","","","","","","","","","","","","",null,"","","","","","",""," ",1,"","","","","","","","","","","","","","","","","","",null,"","","","","","","","",""," ",1,"","","","","","","","","","","","","","","","",null,"","","","","","","","",null,0,0,0,0,0,0,0,0,0,0,0,0,0,0,0,0,0,0]
[{"$nulls":113}," ",1,"","","","","","","","","","","","","","",null,"","","","","","",""," ",1,"","","","","","","","","","","","","","",null,"","","","","","",""," ",1,"","","","","","","","","","","","","","",null,"","","","","","",""," ",1,"","","","","","","","","","","","","","","","","","",null,"","","","","","","","",""," ",1,"","","","","","","","","","","","","","","","",null,"","","","","","","",""," ",1,"","","","","","","","","","","","","","",null,"","","","","","",""," ",1,"","","","","","","","","","","","","","",null,"","","","","","",""," ",1,"","","","","","","","","","","","","","","","","","",null,"","","","","","","","",""," ",1,"","","","","","","","","","","","","","","","",null,"","","","","","","","",null,0,0,0,0,0,0,0,0,0,0,0,0,0,0,0,0,0,0]
[{"$nulls":113}," ",1,"","","","","","","","","","","","","","",null,"","","","","","",""," ",1,"","","","","","","","","","","","","","",null,"","","","","","",""," ",1,"","","","","","","","","","","","","","",null,"","","","","","",""," ",1,"","","","","","","","","","","","","","","","","","",null,"","","","","","","","",""," ",1,"","","","","","","","","","","","","","","","",null,"","","","","","","",""," ",1,"","","","","","","","","","","","","","",null,"","","","","","",""," ",1,"","","","","","","","","","","","","","",null,"","","","","","",""," ",1,"","","","","","","","","","","","","","","","","","",null,"","","","","","","","",""," ",1,"","","","","","","","","","","","","","","","",null,"","","","","","","","",null,0,0,0,0,0,0,0,0,0,0,0,0,0,0,0,0,0,0]
[{"$nulls":113}," ",1,"","","","","","","","","","","","","","",null,"","","","","","",""," ",1,"","","","","","","","","","","","","","",null,"","","","","","",""," ",1,"","","","","","","","","","","","","","",null,"","","","","","",""," ",1,"","","","","","","","","","","","","","","","","","",null,"","","","","","","","",""," ",1,"","","","","","","","","","","","","","","","",null,"","","","","","","",""," ",1,"","","","","","","","","","","","","","",null,"","","","","","",""," ",1,"","","","","","","","","","","","","","",null,"","","","","","",""," ",1,"","","","","","","","","","","","","","","","","","",null,"","","","","","","","",""," ",1,"","","","","","","","","","","","","","","","",null,"","","","","","","","",null,0,0,0,0,0,0,0,0,0,0,0,0,0,0,0,0,0,0]
[{"$nulls":113}," ",1,"","","","","","","","","","","","","","",null,"","","","","","",""," ",1,"","","","","","","","","","","","","","",null,"","","","","","",""," ",1,"","","","","","","","","","","","","","",null,"","","","","","",""," ",1,"","","","","","","","","","","","","","","","","","",null,"","","","","","","","",""," ",1,"","","","","","","","","","","","","","","","",null,"","","","","","","",""," ",1,"","","","","","","","","","","","","","",null,"","","","","","",""," ",1,"","","","","","","","","","","","","","",null,"","","","","","",""," ",1,"","","","","","","","","","","","","","","","","","",null,"","","","","","","","",""," ",1,"","","","","","","","","","","","","","","","",null,"","","","","","","","",null,0,0,0,0,0,0,0,0,0,0,0,0,0,0,0,0,0,0]
[{"$nulls":113}," ",1,"","","","","","","","","","","","","","",null,"","","","","","",""," ",1,"","","","","","","","","","","","","","",null,"","","","","","",""," ",1,"","","","","","","","","","","","","","",null,"","","","","","",""," ",1,"","","","","","","","","","","","","","","","","","",null,"","","","","","","","",""," ",1,"","","","","","","","","","","","","","","","",null,"","","","","","","",""," ",1,"","","","","","","","","","","","","","",null,"","","","","","",""," ",1,"","","","","","","","","","","","","","",null,"","","","","","",""," ",1,"","","","","","","","","","","","","","","","","","",null,"","","","","","","","",""," ",1,"","","","","","","","","","","","","","","","",null,"","","","","","","","",null,0,0,0,0,0,0,0,0,0,0,0,0,0,0,0,0,0,0]
[{"$nulls":113}," ",1,"","","","","","","","","","","","","","",null,"","","","","","",""," ",1,"","","","","","","","","","","","","","",null,"","","","","","",""," ",1,"","","","","","","","","","","","","","",null,"","","","","","",""," ",1,"","","","","","","","","","","","","","","","","","",null,"","","","","","","","",""," ",1,"","","","","","","","","","","","","","","","",null,"","","","","","","",""," ",1,"","","","","","","","","","","","","","",null,"","","","","","",""," ",1,"","","","","","","","","","","","","","",null,"","","","","","",""," ",1,"","","","","","","","","","","","","","","","","","",null,"","","","","","","","",""," ",1,"","","","","","","","","","","","","","","","",null,"","","","","","","","",null,0,0,0,0,0,0,0,0,0,0,0,0,0,0,0,0,0,0]
[{"$nulls":113}," ",1,"","","","","","","","","","","","","","",null,"","","","","","",""," ",1,"","","","","","","","","","","","","","",null,"","","","","","",""," ",1,"","","","","","","","","","","","","","",null,"","","","","","",""," ",1,"","","","","","","","","","","","","","","","","","",null,"","","","","","","","",""," ",1,"","","","","","","","","","","","","","","","",null,"","","","","","","",""," ",1,"","","","","","","","","","","","","","",null,"","","","","","",""," ",1,"","","","","","","","","","","","","","",null,"","","","","","",""," ",1,"","","","","","","","","","","","","","","","","","",null,"","","","","","","","",""," ",1,"","","","","","","","","","","","","","","","",null,"","","","","","","","",null,0,0,0,0,0,0,0,0,0,0,0,0,0,0,0,0,0,0]
[{"$nulls":113}," ",1,{"$f":"IF($DK458 = 0,TRIM($DJ458),\"\")","v":""},"",{"$f":"IF($DK458 = 0,TRIM(MID($DL458,LEN($DM458)+1,50)),\"\")","v":""},{"$f":"IF($DK458 = 0,SUBSTITUTE(LEFT($DN458, FIND(\" \",$DN458)-1),\".\",\",\"),\"\")","v":""},{"$f":"IF($DK458 = 0,TRIM(MID($DN458,LEN($DO458)+1,50)),\"\")","v":""},{"$f":"IF($DK458 = 0,SUBSTITUTE(LEFT($DP458, FIND(\" \",$DP458)-1),\".\",\",\"),\"\")","v":""},{"$f":"IF($DK458 = 0,TRIM(MID($DP458,LEN($DQ458)+1,50)),\"\")","v":""},{"$f":"IF($DK458 = 0,SUBSTITUTE(LEFT($DR458, FIND(\" \",$DR458)-1),\".\",\",\"),\"\")","v":""},{"$f":"IF($DK458 = 0,TRIM(MID($DR458,LEN($DS458)+1,50)),\"\")","v":""},{"$f":"IF($DK458 = 0,SUBSTITUTE(LEFT($DT458, FIND(\" \",$DT458)-1),\".\",\",\"),\"\")","v":""},{"$f":"IF($DK458 = 0,TRIM(MID($DT458,LEN($DU458)+1,50)),\"\")","v":""},{"$f":"IF($DK458 = 0,SUBSTITUTE(LEFT($DV458, FIND(\" \",$DV458)-1),\".\",\",\"),\"\")","v":""},{"$f":"IF($DK458 = 0,TRIM(MID($DV458,LEN($DW458)+1,50)),\"\")","v":""},{"$f":"IF($DK458 = 0,SUBSTITUTE($DX458,\".\",\",\"),\"\")","v":""},null,{"$f":"IF($DK458 = 0, VALUE($DM458),\"\")","v":""},{"$f":"IF($DK458 = 0, VALUE($DO458),\"\")","v":""},{"$f":"IF($DK458 = 0, VALUE($DQ458),\"\")","v":""},{"$f":"IF($DK458 = 0, VALUE($DS458),\"\")","v":""},{"$f":"IF($DK458 = 0, VALUE($DU458),\"\")","v":""},{"$f":"IF($DK458 = 0, VALUE($DW458),\"\")","v":""},{"$f":"IF($DK458 = 0, VALUE($DY458),\"\")","v":""}," ",1,"","","","","","","","","","","","","","",null,"","","","","","",""," ",1,"","","","","","","","","","","","","","",null,"","","","","","",""," ",1,{"$f":"IF($GE458 = 0,TRIM($GD458),\"\")","v":""},"",{"$f":"IF($GE458 = 0,TRIM(MID($GF458,LEN($GG458)+1,50)),\"\")","v":""},{"$f":"IF($GE458 = 0,SUBSTITUTE(LEFT($GH458, FIND(\" \",$GH458)-1),\".\",\",\"),\"\")","v":""},{"$f":"IF($GE458 = 0,TRIM(MID($GH458,LEN($GI458)+1,50)),\"\")","v":""},{"$f":"IF($GE458 = 0,SUBSTITUTE(LEFT($GJ458, FIND(\" \",$GJ458)-1),\".\",\",\"),\"\")","v":""},{"$f":"IF($GE458 = 0,TRIM(MID($GJ458,LEN($GK458)+1,50)),\"\")","v":""},{"$f":"IF($GE458 = 0,SUBSTITUTE(LEFT($GL458, FIND(\" \",$GL458)-1),\".\",\",\"),\"\")","v":""},{"$f":"IF($GE458 = 0,TRIM(MID($GL458,LEN($GM458)+1,50)),\"\")","v":""},{"$f":"IF($GE458 = 0,SUBSTITUTE(LEFT($GN458, FIND(\" \",$GN458)-1),\".\",\",\"),\"\")","v":""},{"$f":"IF($GE458 = 0,TRIM(MID($GN458,LEN($GO458)+1,50)),\"\")","v":""},{"$f":"IF($GE458 = 0,SUBSTITUTE(LEFT($GP458, FIND(\" \",$GP458)-1),\".\",\",\"),\"\")","v":""},{"$f":"IF($GE458 = 0,TRIM(MID($GP458,LEN($GQ458)+1,50)),\"\")","v":""},{"$f":"IF($GE458 = 0,SUBSTITUTE(LEFT($GR458, FIND(\" \",$GR458)-1),\".\",\",\"),\"\")","v":""},{"$f":"IF($GE458 = 0,TRIM(MID($GR458,LEN($GS458)+1,50)),\"\")","v":""},{"$f":"IF($GE458 = 0,SUBSTITUTE(LEFT($GT458, FIND(\" \",$GT458)-1),\".\",\",\"),\"\")","v":""},{"$f":"IF($GE458 = 0,TRIM(MID($GT458,LEN($GU458)+1,50)),\"\")","v":""},{"$f":"IF($GE458 = 0,SUBSTITUTE($GV458,\".\",\",\"),\"\")","v":""},null,{"$f":"IF($GE458 = 0, VALUE($GG458),\"\")","v":""},{"$f":"IF($GE458 = 0, VALUE($GI458),\"\")","v":""},{"$f":"IF($GE458 = 0, VALUE($GK458),\"\")","v":""},{"$f":"IF($GE458 = 0, VALUE($GM458),\"\")","v":""},{"$f":"IF($GE458 = 0, VALUE($GO458),\"\")","v":""},{"$f":"IF($GE458 = 0, VALUE($GQ458),\"\")","v":""},{"$f":"IF($GE458 = 0, VALUE($GS458),\"\")","v":""},{"$f":"IF($GE458 = 0, VALUE($GU458),\"\")","v":""},{"$f":"IF($GE458 = 0, VALUE($GW458),\"\")","v":""}," ",1,"","","","","","","","","","","","","","","","",null,"","","","","","","",""," ",1,"","","","","","","","","","","","","","",null,"","","","","","",""," ",1,"","","","","","","","","","","","","","",null,"","","","","","",""," ",1,"","","","","","","","","","","","","","","","","","",null,"","","","","","","","",""," ",1,"","","","","","","","","","","","","","","","",null,"","","","","","","","",null,0,0,0,0,0,0,0,0,0,0,0,0,0,0,0,0,0,0]
[{"$nulls":113}," ",1,"","","","","","","","","","","","","","",null,"","","","","","",""," ",1,"","","","","","","","","","","","","","",null,"","","","","","",""," ",1,"","","","","","","","","","","","","","",null,"","","","","","",""," ",1,"","","","","","","","","","","","","","","","","","",null,"","","","","","","","",""," ",1,"","","","","","","","","","","","","","","","",null,"","","","","","","",""," ",1,"","","","","","","","","","","","","","",null,"","","","","","",""," ",1,"","","","","","","","","","","","","","",null,"","","","","","",""," ",1,"","","","","","","","","","","","","","","","","","",null,"","","","","","","","",""," ",1,"","","","","","","","","","","","","","","","",null,"","","","","","","","",null,0,0,0,0,0,0,0,0,0,0,0,0,0,0,0,0,0,0]
[{"$nulls":113}," ",1,"","","","","","","","","","","","","","",null,"","","","","","",""," ",1,"","","","","","","","","","","","","","",null,"","","","","","",""," ",1,"","","","","","","","","","","","","","",null,"","","","","","",""," ",1,"","","","","","","","","","","","","","","","","","",null,"","","","","","","","",""," ",1,"","","","","","","","","","","","","","","","",null,"","","","","","","",""," ",1,"","","","","","","","","","","","","","",null,"","","","","","",""," ",1,"","","","","","","","","","","","","","",null,"","","","","","",""," ",1,"","","","","","","","","","","","","","","","","","",null,"","","","","","","","",""," ",1,"","","","","","","","","","","","","","","","",null,"","","","","","","","",null,0,0,0,0,0,0,0,0,0,0,0,0,0,0,0,0,0,0]
[{"$nulls":113}," ",1,"","","","","","","","","","","","","","",null,"","","","","","",""," ",1,"","","","","","","","","","","","","","",null,"","","","","","",""," ",1,"","","","","","","","","","","","","","",null,"","","","","","",""," ",1,"","","","","","","","","","","","","","","","","","",null,"","","","","","","","",""," ",1,"","","","","","","","","","","","","","","","",null,"","","","","","","",""," ",1,"","","","","","","","","","","","","","",null,"","","","","","",""," ",1,"","","","","","","","","","","","","","",null,"","","","","","",""," ",1,"","","","","","","","","","","","","","","","","","",null,"","","","","","","","",""," ",1,"","","","","","","","","","","","","","","","",null,"","","","","","","","",null,0,0,0,0,0,0,0,0,0,0,0,0,0,0,0,0,0,0]
[{"$nulls":113}," ",1,"","","","","","","","","","","","","","",null,"","","","","","",""," ",1,"","","","","","","","","","","","","","",null,"","","","","","",""," ",1,"","","","","","","","","","","","","","",null,"","","","","","",""," ",1,"","","","","","","","","","","","","","","","","","",null,"","","","","","","","",""," ",1,"","","","","","","","","","","","","","","","",null,"","","","","","","",""," ",1,"","","","","","","","","","","","","","",null,"","","","","","",""," ",1,"","","","","","","","","","","","","","",null,"","","","","","",""," ",1,"","","","","","","","","","","","","","","","","","",null,"","","","","","","","",""," ",1,"","","","","","","","","","","","","","","","",null,"","","","","","","","",null,0,0,0,0,0,0,0,0,0,0,0,0,0,0,0,0,0,0]
[{"$nulls":113}," ",1,"","","","","","","","","","","","","","",null,"","","","","","",""," ",1,"","","","","","","","","","","","","","",null,"","","","","","",""," ",1,"","","","","","","","","","","","","","",null,"","","","","","",""," ",1,"","","","","","","","","","","","","","","","","","",null,"","","","","","","","",""," ",1,"","","","","","","","","","","","","","","","",null,"","","","","","","",""," ",1,"","","","","","","","","","","","","","",null,"","","","","","",""," ",1,"","","","","","","","","","","","","","",null,"","","","","","",""," ",1,"","","","","","","","","","","","","","","","","","",null,"","","","","","","","",""," ",1,"","","","","","","","","","","","","","","","",null,"","","","","","","","",null,0,0,0,0,0,0,0,0,0,0,0,0,0,0,0,0,0,0]
[{"$nulls":113}," ",1,"","","","","","","","","","","","","","",null,"","","","","","",""," ",1,"","","","","","","","","","","","","","",null,"","","","","","",""," ",1,"","","","","","","","","","","","","","",null,"","","","","","",""," ",1,"","","","","","","","","","","","","","","","","","",null,"","","","","","","","",""," ",1,"","","","","","","","","","","","","","","","",null,"","","","","","","",""," ",1,"","","","","","","","","","","","","","",null,"","","","","","",""," ",1,"","","","","","","","","","","","","","",null,"","","","","","",""," ",1,"","","","","","","","","","","","","","","","","","",null,"","","","","","","","",""," ",1,"","","","","","","","","","","","","","","","",null,"","","","","","","","",null,0,0,0,0,0,0,0,0,0,0,0,0,0,0,0,0,0,0]
[{"$nulls":113}," ",1,"","","","","","","","","","","","","","",null,"","","","","","",""," ",1,"","","","","","","","","","","","","","",null,"","","","","","",""," ",1,"","","","","","","","","","","","","","",null,"","","","","","",""," ",1,"","","","","","","","","","","","","","","","","","",null,"","","","","","","","",""," ",1,"","","","","","","","","","","","","","","","",null,"","","","","","","",""," ",1,"","","","","","","","","","","","","","",null,"","","","","","",""," ",1,"","","","","","","","","","","","","","",null,"","","","","","",""," ",1,"","","","","","","","","","","","","","","","","","",null,"","","","","","","","",""," ",1,"","","","","","","","","","","","","","","","",null,"","","","","","","","",null,0,0,0,0,0,0,0,0,0,0,0,0,0,0,0,0,0,0]
[{"$nulls":113}," ",1,"","","","","","","","","","","","","","",null,"","","","","","",""," ",1,"","","","","","","","","","","","","","",null,"","","","","","",""," ",1,"","","","","","","","","","","","","","",null,"","","","","","",""," ",1,"","","","","","","","","","","","","","","","","","",null,"","","","","","","","",""," ",1,"","","","","","","","","","","","","","","","",null,"","","","","","","",""," ",1,"","","","","","","","","","","","","","",null,"","","","","","",""," ",1,"","","","","","","","","","","","","","",null,"","","","","","",""," ",1,"","","","","","","","","","","","","","","","","","",null,"","","","","","","","",""," ",1,"","","","","","","","","","","","","","","","",null,"","","","","","","","",null,0,0,0,0,0,0,0,0,0,0,0,0,0,0,0,0,0,0]
[{"$nulls":113}," ",1,"","","","","","","","","","","","","","",null,"","","","","","",""," ",1,"","","","","","","","","","","","","","",null,"","","","","","",""," ",1,"","","","","","","","","","","","","","",null,"","","","","","",""," ",1,"","","","","","","","","","","","","","","","","","",null,"","","","","","","","",""," ",1,"","","","","","","","","","","","","","","","",null,"","","","","","","",""," ",1,"","","","","","","","","","","","","","",null,"","","","","","",""," ",1,"","","","","","","","","","","","","","",null,"","","","","","",""," ",1,"","","","","","","","","","","","","","","","","","",null,"","","","","","","","",""," ",1,"","","","","","","","","","","","","","","","",null,"","","","","","","","",null,0,0,0,0,0,0,0,0,0,0,0,0,0,0,0,0,0,0]
[{"$nulls":113}," ",1,"","","","","","","","","","","","","","",null,"","","","","","",""," ",1,"","","","","","","","","","","","","","",null,"","","","","","",""," ",1,"","","","","","","","","","","","","","",null,"","","","","","",""," ",1,"","","","","","","","","","","","","","","","","","",null,"","","","","","","","",""," ",1,"","","","","","","","","","","","","","","","",null,"","","","","","","",""," ",1,"","","","","","","","","","","","","","",null,"","","","","","",""," ",1,"","","","","","","","","","","","","","",null,"","","","","","",""," ",1,"","","","","","","","","","","","","","","","","","",null,"","","","","","","","",""," ",1,"","","","","","","","","","","","","","","","",null,"","","","","","","","",null,0,0,0,0,0,0,0,0,0,0,0,0,0,0,0,0,0,0]
[{"$nulls":113}," ",1,"","","","","","","","","","","","","","",null,"","","","","","",""," ",1,"","","","","","","","","","","","","","",null,"","","","","","",""," ",1,"","","","","","","","","","","","","","",null,"","","","","","",""," ",1,"","","","","","","","","","","","","","","","","","",null,"","","","","","","","",""," ",1,"","","","","","","","","","","","","","","","",null,"","","","","","","",""," ",1,"","","","","","","","","","","","","","",null,"","","","","","",""," ",1,"","","","","","","","","","","","","","",null,"","","","","","",""," ",1,"","","","","","","","","","","","","","","","","","",null,"","","","","","","","",""," ",1,"","","","","","","","","","","","","","","","",null,"","","","","","","","",null,0,0,0,0,0,0,0,0,0,0,0,0,0,0,0,0,0,0]
[{"$nulls":113}," ",1,"","","","","","","","","","","","","","",null,"","","","","","",""," ",1,"","","","","","","","","","","","","","",null,"","","","","","",""," ",1,"","","","","","","","","","","","","","",null,"","","","","","",""," ",1,"","","","","","","","","","","","","","","","","","",null,"","","","","","","","",""," ",1,"","","","","","","","","","","","","","","","",null,"","","","","","","",""," ",1,"","","","","","","","","","","","","","",null,"","","","","","",""," ",1,"","","","","","","","","","","","","","",null,"","","","","","",""," ",1,"","","","","","","","","","","","","","","","","","",null,"","","","","","","","",""," ",1,"","","","","","","","","","","","","","","","",null,"","","","","","","","",null,0,0,0,0,0,0,0,0,0,0,0,0,0,0,0,0,0,0]
[{"$nulls":113}," ",1,"","","","","","","","","","","","","","",null,"","","","","","",""," ",1,"","","","","","","","","","","","","","",null,"","","","","","",""," ",1,"","","","","","","","","","","","","","",null,"","","","","","",""," ",1,"","","","","","","","","","","","","","","","","","",null,"","","","","","","","",""," ",1,"","","","","","","","","","","","","","","","",null,"","","","","","","",""," ",1,"","","","","","","","","","","","","","",null,"","","","","","",""," ",1,"","","","","","","","","","","","","","",null,"","","","","","",""," ",1,"","","","","","","","","","","","","","","","","","",null,"","","","","","","","",""," ",1,"","","","","","","","","","","","","","","","",null,"","","","","","","","",null,0,0,0,0,0,0,0,0,0,0,0,0,0,0,0,0,0,0]
[{"$nulls":113}," ",1,"","","","","","","","","","","","","","",null,"","","","","","",""," ",1,"","","","","","","","","","","","","","",null,"","","","","","",""," ",1,"","","","","","","","","","","","","","",null,"","","","","","",""," ",1,"","","","","","","","","","","","","","","","","","",null,"","","","","","","","",""," ",1,"","","","","","","","","","","","","","","","",null,"","","","","","","",""," ",1,"","","","","","","","","","","","","","",null,"","","","","","",""," ",1,"","","","","","","","","","","","","","",null,"","","","","","",""," ",1,"","","","","","","","","","","","","","","","","","",null,"","","","","","","","",""," ",1,"","","","","","","","","","","","","","","","",null,"","","","","","","","",null,0,0,0,0,0,0,0,0,0,0,0,0,0,0,0,0,0,0]
[{"$nulls":113}," ",1,"","","","","","","","","","","","","","",null,"","","","","","",""," ",1,"","","","","","","","","","","","","","",null,"","","","","","",""," ",1,"","","","","","","","","","","","","","",null,"","","","","","",""," ",1,"","","","","","","","","","","","","","","","","","",null,"","","","","","","","",""," ",1,"","","","","","","","","","","","","","","","",null,"","","","","","","",""," ",1,"","","","","","","","","","","","","","",null,"","","","","","",""," ",1,"","","","","","","","","","","","","","",null,"","","","","","",""," ",1,"","","","","","","","","","","","","","","","","","",null,"","","","","","","","",""," ",1,"","","","","","","","","","","","","","","","",null,"","","","","","","","",null,0,0,0,0,0,0,0,0,0,0,0,0,0,0,0,0,0,0]
[{"$nulls":113}," ",1,"","","","","","","","","","","","","","",null,"","","","","","",""," ",1,"","","","","","","","","","","","","","",null,"","","","","","",""," ",1,"","","","","","","","","","","","","","",null,"","","","","","",""," ",1,"","","","","","","","","","","","","","","","","","",null,"","","","","","","","",""," ",1,"","","","","","","","","","","","","","","","",null,"","","","","","","",""," ",1,"","","","","","","","","","","","","","",null,"","","","","","",""," ",1,"","","","","","","","","","","","","","",null,"","","","","","",""," ",1,"","","","","","","","","","","","","","","","","","",null,"","","","","","","","",""," ",1,"","","","","","","","","","","","","","","","",null,"","","","","","","","",null,0,0,0,0,0,0,0,0,0,0,0,0,0,0,0,0,0,0]
[{"$nulls":113}," ",1,"","","","","","","","","","","","","","",null,"","","","","","",""," ",1,"","","","","","","","","","","","","","",null,"","","","","","",""," ",1,"","","","","","","","","","","","","","",null,"","","","","","",""," ",1,"","","","","","","","","","","","","","","","","","",null,"","","","","","","","",""," ",1,"","","","","","","","","","","","","","","","",null,"","","","","","","",""," ",1,"","","","","","","","","","","","","","",null,"","","","","","",""," ",1,"","","","","","","","","","","","","","",null,"","","","","","",""," ",1,"","","","","","","","","","","","","","","","","","",null,"","","","","","","","",""," ",1,"","","","","","","","","","","","","","","","",null,"","","","","","","","",null,0,0,0,0,0,0,0,0,0,0,0,0,0,0,0,0,0,0]
[{"$nulls":113}," ",1,"","","","","","","","","","","","","","",null,"","","","","","",""," ",1,"","","","","","","","","","","","","","",null,"","","","","","",""," ",1,"","","","","","","","","","","","","","",null,"","","","","","",""," ",1,"","","","","","","","","","","","","","","","","","",null,"","","","","","","","",""," ",1,"","","","","","","","","","","","","","","","",null,"","","","","","","",""," ",1,"","","","","","","","","","","","","","",null,"","","","","","",""," ",1,"","","","","","","","","","","","","","",null,"","","","","","",""," ",1,"","","","","","","","","","","","","","","","","","",null,"","","","","","","","",""," ",1,"","","","","","","","","","","","","","","","",null,"","","","","","","","",null,0,0,0,0,0,0,0,0,0,0,0,0,0,0,0,0,0,0]
[{"$nulls":113}," ",1,"","","","","","","","","","","","","","",null,"","","","","","",""," ",1,"","","","","","","","","","","","","","",null,"","","","","","",""," ",1,"","","","","","","","","","","","","","",null,"","","","","","",""," ",1,"","","","","","","","","","","","","","","","","","",null,"","","","","","","","",""," ",1,"","","","","","","","","","","","","","","","",null,"","","","","","","",""," ",1,"","","","","","","","","","","","","","",null,"","","","","","",""," ",1,"","","","","","","","","","","","","","",null,"","","","","","",""," ",1,"","","","","","","","","","","","","","","","","","",null,"","","","","","","","",""," ",1,"","","","","","","","","","","","","","","","",null,"","","","","","","","",null,0,0,0,0,0,0,0,0,0,0,0,0,0,0,0,0,0,0]
[{"$nulls":113}," ",1,"","","","","","","","","","","","","","",null,"","","","","","",""," ",1,"","","","","","","","","","","","","","",null,"","","","","","",""," ",1,"","","","","","","","","","","","","","",null,"","","","","","",""," ",1,"","","","","","","","","","","","","","","","","","",null,"","","","","","","","",""," ",1,"","","","","","","","","","","","","","","","",null,"","","","","","","",""," ",1,"","","","","","","","","","","","","","",null,"","","","","","",""," ",1,"","","","","","","","","","","","","","",null,"","","","","","",""," ",1,"","","","","","","","","","","","","","","","","","",null,"","","","","","","","",""," ",1,"","","","","","","","","","","","","","","","",null,"","","","","","","","",null,0,0,0,0,0,0,0,0,0,0,0,0,0,0,0,0,0,0]
[{"$nulls":113}," ",1,"","","","","","","","","","","","","","",null,"","","","","","",""," ",1,"","","","","","","","","","","","","","",null,"","","","","","",""," ",1,"","","","","","","","","","","","","","",null,"","","","","","",""," ",1,"","","","","","","","","","","","","","","","","","",null,"","","","","","","","",""," ",1,"","","","","","","","","","","","","","","","",null,"","","","","","","",""," ",1,"","","","","","","","","","","","","","",null,"","","","","","",""," ",1,"","","","","","","","","","","","","","",null,"","","","","","",""," ",1,"","","","","","","","","","","","","","","","","","",null,"","","","","","","","",""," ",1,"","","","","","","","","","","","","","","","",null,"","","","","","","","",null,0,0,0,0,0,0,0,0,0,0,0,0,0,0,0,0,0,0]
[{"$nulls":113}," ",1,"","","","","","","","","","","","","","",null,"","","","","","",""," ",1,"","","","","","","","","","","","","","",null,"","","","","","",""," ",1,"","","","","","","","","","","","","","",null,"","","","","","",""," ",1,"","","","","","","","","","","","","","","","","","",null,"","","","","","","","",""," ",1,"","","","","","","","","","","","","","","","",null,"","","","","","","",""," ",1,"","","","","","","","","","","","","","",null,"","","","","","",""," ",1,"","","","","","","","","","","","","","",null,"","","","","","",""," ",1,"","","","","","","","","","","","","","","","","","",null,"","","","","","","","",""," ",1,"","","","","","","","","","","","","","","","",null,"","","","","","","","",null,0,0,0,0,0,0,0,0,0,0,0,0,0,0,0,0,0,0]
[{"$nulls":113}," ",1,"","","","","","","","","","","","","","",null,"","","","","","",""," ",1,"","","","","","","","","","","","","","",null,"","","","","","",""," ",1,"","","","","","","","","","","","","","",null,"","","","","","",""," ",1,"","","","","","","","","","","","","","","","","","",null,"","","","","","","","",""," ",1,"","","","","","","","","","","","","","","","",null,"","","","","","","",""," ",1,"","","","","","","","","","","","","","",null,"","","","","","",""," ",1,"","","","","","","","","","","","","","",null,"","","","","","",""," ",1,"","","","","","","","","","","","","","","","","","",null,"","","","","","","","",""," ",1,"","","","","","","","","","","","","","","","",null,"","","","","","","","",null,0,0,0,0,0,0,0,0,0,0,0,0,0,0,0,0,0,0]
[{"$nulls":113}," ",1,"","","","","","","","","","","","","","",null,"","","","","","",""," ",1,"","","","","","","","","","","","","","",null,"","","","","","",""," ",1,"","","","","","","","","","","","","","",null,"","","","","","",""," ",1,"","","","","","","","","","","","","","","","","","",null,"","","","","","","","",""," ",1,"","","","","","","","","","","","","","","","",null,"","","","","","","",""," ",1,"","","","","","","","","","","","","","",null,"","","","","","",""," ",1,"","","","","","","","","","","","","","",null,"","","","","","",""," ",1,"","","","","","","","","","","","","","","","","","",null,"","","","","","","","",""," ",1,"","","","","","","","","","","","","","","","",null,"","","","","","","","",null,0,0,0,0,0,0,0,0,0,0,0,0,0,0,0,0,0,0]
[{"$nulls":113}," ",1,"","","","","","","","","","","","","","",null,"","","","","","",""," ",1,"","","","","","","","","","","","","","",null,"","","","","","",""," ",1,"","","","","","","","","","","","","","",null,"","","","","","",""," ",1,"","","","","","","","","","","","","","","","","","",null,"","","","","","","","",""," ",1,"","","","","","","","","","","","","","","","",null,"","","","","","","",""," ",1,"","","","","","","","","","","","","","",null,"","","","","","",""," ",1,"","","","","","","","","","","","","","",null,"","","","","","",""," ",1,"","","","","","","","","","","","","","","","","","",null,"","","","","","","","",""," ",1,"","","","","","","","","","","","","","","","",null,"","","","","","","","",null,0,0,0,0,0,0,0,0,0,0,0,0,0,0,0,0,0,0]
[{"$nulls":113}," ",1,"","","","","","","","","","","","","","",null,"","","","","","",""," ",1,"","","","","","","","","","","","","","",null,"","","","","","",""," ",1,"","","","","","","","","","","","","","",null,"","","","","","",""," ",1,"","","","","","","","","","","","","","","","","","",null,"","","","","","","","",""," ",1,"","","","","","","","","","","","","","","","",null,"","","","","","","",""," ",1,"","","","","","","","","","","","","","",null,"","","","","","",""," ",1,"","","","","","","","","","","","","","",null,"","","","","","",""," ",1,"","","","","","","","","","","","","","","","","","",null,"","","","","","","","",""," ",1,"","","","","","","","","","","","","","","","",null,"","","","","","","","",null,0,0,0,0,0,0,0,0,0,0,0,0,0,0,0,0,0,0]
[{"$nulls":113}," ",1,"","","","","","","","","","","","","","",null,"","","","","","",""," ",1,"","","","","","","","","","","","","","",null,"","","","","","",""," ",1,"","","","","","","","","","","","","","",null,"","","","","","",""," ",1,"","","","","","","","","","","","","","","","","","",null,"","","","","","","","",""," ",1,"","","","","","","","","","","","","","","","",null,"","","","","","","",""," ",1,"","","","","","","","","","","","","","",null,"","","","","","",""," ",1,"","","","","","","","","","","","","","",null,"","","","","","",""," ",1,"","","","","","","","","","","","","","","","","","",null,"","","","","","","","",""," ",1,"","","","","","","","","","","","","","","","",null,"","","","","","","","",null,0,0,0,0,0,0,0,0,0,0,0,0,0,0,0,0,0,0]
[{"$nulls":113}," ",1,"","","","","","","","","","","","","","",null,"","","","","","",""," ",1,"","","","","","","","","","","","","","",null,"","","","","","",""," ",1,"","","","","","","","","","","","","","",null,"","","","","","",""," ",1,"","","","","","","","","","","","","","","","","","",null,"","","","","","","","",""," ",1,"","","","","","","","","","","","","","","","",null,"","","","","","","",""," ",1,"","","","","","","","","","","","","","",null,"","","","","","",""," ",1,"","","","","","","","","","","","","","",null,"","","","","","",""," ",1,"","","","","","","","","","","","","","","","","","",null,"","","","","","","","",""," ",1,"","","","","","","","","","","","","","","","",null,"","","","","","","","",null,0,0,0,0,0,0,0,0,0,0,0,0,0,0,0,0,0,0]
[{"$nulls":113}," ",1,"","","","","","","","","","","","","","",null,"","","","","","",""," ",1,"","","","","","","","","","","","","","",null,"","","","","","",""," ",1,"","","","","","","","","","","","","","",null,"","","","","","",""," ",1,"","","","","","","","","","","","","","","","","","",null,"","","","","","","","",""," ",1,"","","","","","","","","","","","","","","","",null,"","","","","","","",""," ",1,"","","","","","","","","","","","","","",null,"","","","","","",""," ",1,"","","","","","","","","","","","","","",null,"","","","","","",""," ",1,"","","","","","","","","","","","","","","","","","",null,"","","","","","","","",""," ",1,"","","","","","","","","","","","","","","","",null,"","","","","","","","",null,0,0,0,0,0,0,0,0,0,0,0,0,0,0,0,0,0,0]
[{"$nulls":113}," ",1,"","","","","","","","","","","","","","",null,"","","","","","",""," ",1,"","","","","","","","","","","","","","",null,"","","","","","",""," ",1,"","","","","","","","","","","","","","",null,"","","","","","",""," ",1,"","","","","","","","","","","","","","","","","","",null,"","","","","","","","",""," ",1,"","","","","","","","","","","","","","","","",null,"","","","","","","",""," ",1,"","","","","","","","","","","","","","",null,"","","","","","",""," ",1,"","","","","","","","","","","","","","",null,"","","","","","",""," ",1,"","","","","","","","","","","","","","","","","","",null,"","","","","","","","",""," ",1,"","","","","","","","","","","","","","","","",null,"","","","","","","","",null,0,0,0,0,0,0,0,0,0,0,0,0,0,0,0,0,0,0]
[{"$nulls":113}," ",1,"","","","","","","","","","","","","","",null,"","","","","","",""," ",1,"","","","","","","","","","","","","","",null,"","","","","","",""," ",1,"","","","","","","","","","","","","","",null,"","","","","","",""," ",1,"","","","","","","","","","","","","","","","","","",null,"","","","","","","","",""," ",1,"","","","","","","","","","","","","","","","",null,"","","","","","","",""," ",1,"","","","","","","","","","","","","","",null,"","","","","","",""," ",1,"","","","","","","","","","","","","","",null,"","","","","","",""," ",1,"","","","","","","","","","","","","","","","","","",null,"","","","","","","","",""," ",1,"","","","","","","","","","","","","","","","",null,"","","","","","","","",null,0,0,0,0,0,0,0,0,0,0,0,0,0,0,0,0,0,0]
[{"$nulls":113}," ",1,"","","","","","","","","","","","","","",null,"","","","","","",""," ",1,"","","","","","","","","","","","","","",null,"","","","","","",""," ",1,"","","","","","","","","","","","","","",null,"","","","","","",""," ",1,"","","","","","","","","","","","","","","","","","",null,"","","","","","","","",""," ",1,"","","","","","","","","","","","","","","","",null,"","","","","","","",""," ",1,"","","","","","","","","","","","","","",null,"","","","","","",""," ",1,"","","","","","","","","","","","","","",null,"","","","","","",""," ",1,"","","","","","","","","","","","","","","","","","",null,"","","","","","","","",""," ",1,"","","","","","","","","","","","","","","","",null,"","","","","","","","",null,0,0,0,0,0,0,0,0,0,0,0,0,0,0,0,0,0,0]
[{"$nulls":113}," ",1,"","","","","","","","","","","","","","",null,"","","","","","",""," ",1,"","","","","","","","","","","","","","",null,"","","","","","",""," ",1,"","","","","","","","","","","","","","",null,"","","","","","",""," ",1,"","","","","","","","","","","","","","","","","","",null,"","","","","","","","",""," ",1,"","","","","","","","","","","","","","","","",null,"","","","","","","",""," ",1,"","","","","","","","","","","","","","",null,"","","","","","",""," ",1,"","","","","","","","","","","","","","",null,"","","","","","",""," ",1,"","","","","","","","","","","","","","","","","","",null,"","","","","","","","",""," ",1,"","","","","","","","","","","","","","","","",null,"","","","","","","","",null,0,0,0,0,0,0,0,0,0,0,0,0,0,0,0,0,0,0]
[{"$nulls":113}," ",1,"","","","","","","","","","","","","","",null,"","","","","","",""," ",1,"","","","","","","","","","","","","","",null,"","","","","","",""," ",1,"","","","","","","","","","","","","","",null,"","","","","","",""," ",1,"","","","","","","","","","","","","","","","","","",null,"","","","","","","","",""," ",1,"","","","","","","","","","","","","","","","",null,"","","","","","","",""," ",1,"","","","","","","","","","","","","","",null,"","","","","","",""," ",1,"","","","","","","","","","","","","","",null,"","","","","","",""," ",1,"","","","","","","","","","","","","","","","","","",null,"","","","","","","","",""," ",1,"","","","","","","","","","","","","","","","",null,"","","","","","","","",null,0,0,0,0,0,0,0,0,0,0,0,0,0,0,0,0,0,0]
[{"$nulls":113}," ",1,"","","","","","","","","","","","","","",null,"","","","","","",""," ",1,"","","","","","","","","","","","","","",null,"","","","","","",""," ",1,"","","","","","","","","","","","","","",null,"","","","","","",""," ",1,"","","","","","","","","","","","","","","","","","",null,"","","","","","","","",""," ",1,"","","","","","","","","","","","","","","","",null,"","","","","","","",""," ",1,"","","","","","","","","","","","","","",null,"","","","","","",""," ",1,"","","","","","","","","","","","","","",null,"","","","","","",""," ",1,"","","","","","","","","","","","","","","","","","",null,"","","","","","","","",""," ",1,"","","","","","","","","","","","","","","","",null,"","","","","","","","",null,0,0,0,0,0,0,0,0,0,0,0,0,0,0,0,0,0,0]
[{"$nulls":113}," ",1,"","","","","","","","","","","","","","",null,"","","","","","",""," ",1,"","","","","","","","","","","","","","",null,"","","","","","",""," ",1,"","","","","","","","","","","","","","",null,"","","","","","",""," ",1,"","","","","","","","","","","","","","","","","","",null,"","","","","","","","",""," ",1,"","","","","","","","","","","","","","","","",null,"","","","","","","",""," ",1,"","","","","","","","","","","","","","",null,"","","","","","",""," ",1,"","","","","","","","","","","","","","",null,"","","","","","",""," ",1,"","","","","","","","","","","","","","","","","","",null,"","","","","","","","",""," ",1,"","","","","","","","","","","","","","","","",null,"","","","","","","","",null,0,0,0,0,0,0,0,0,0,0,0,0,0,0,0,0,0,0]

{"sheet":"TABLES","index":2,"n_rows":504,"n_cols":82,"rows_kept":504,"merged":[[0,1,1,44],[0,46,1,81],[2,1,3,25],[2,27,3,44],[2,46,3,62],[2,64,3,81],[4,0,7,0],[4,1,5,8],[4,10,5,17],[4,19,5,25],[4,27,5,35],[4,37,5,44],[4,46,5,53],[4,55,5,62],[4,64,5,72],[4,74,5,81],[6,1,7,1],[6,2,7,2],[6,3,7,3],[6,4,7,4],[6,5,7,5],[6,6,7,6],[6,7,7,7],[6,8,7,8],[6,10,7,10],[6,11,7,11],[6,12,7,12],[6,13,7,13],[6,14,7,14],[6,15,7,15],[6,16,7,16],[6,17,7,17],[6,19,7,19],[6,20,7,20],[6,21,7,21],[6,22,7,22],[6,23,7,23],[6,24,7,24],[6,25,7,25],[6,27,7,27],[6,28,7,28],[6,29,7,29],[6,30,7,30],[6,31,7,31],[6,32,7,32],[6,33,7,33],[6,34,7,34],[6,35,7,35],[6,37,7,37],[6,38,6,40],[6,41,7,41],[6,42,7,42],[6,43,7,43],[6,44,7,44],[6,46,7,46],[6,47,7,47],[6,48,7,48],[6,49,7,49],[6,50,7,50],[6,51,7,51],[6,52,7,52],[6,53,7,53],[6,55,7,55],[6,56,7,56],[6,57,7,57],[6,58,7,58],[6,59,7,59],[6,60,7,60],[6,61,7,61],[6,62,7,62],[6,64,7,64],[6,65,7,65],[6,66,7,66],[6,67,7,67],[6,68,7,68],[6,69,7,69],[6,70,7,70],[6,71,7,71],[6,72,7,72],[6,74,7,74],[6,75,6,77],[6,78,7,78],[6,79,7,79],[6,80,7,80],[6,81,7,81]]}
[null,"FRONT",{"$nulls":44},"REAR"]
[]
[null,"INCREMENTAL GEOMETRY VALUES",{"$nulls":25},"INCREMENTAL SUSPENSION PARAMETER VALUES",{"$nulls":18},"INCREMENTAL GEOMETRY VALUES",{"$nulls":17},"INCREMENTAL SUSPENSION PARAMETER VALUES"]
[]
[null,"3D BUMP",{"$nulls":8},"3D ROLL",{"$nulls":8},"3D STEER",{"$nulls":7},"3D BUMP",{"$nulls":9},"3D ROLL",{"$nulls":8},"3D BUMP",{"$nulls":8},"3D ROLL",{"$nulls":8},"3D BUMP",{"$nulls":9},"3D ROLL"]
[]
[null," BUMP TRAVEL"," CAMBER ANGLE"," TOE ANGLE"," CASTOR ANGLE"," KINGPIN ANGLE"," DAMPER RATIO"," SPRING RATIO","INSTALLATION RATIO",null,"ROLL ANGLE"," CAMBER ANGLE"," TOE ANGLE"," CASTOR ANGLE"," KINGPIN ANGLE"," DAMPER RATIO"," SPRING RATIO","INSTALLATION RATIO",null," RACK TRAVEL","TOE ANGLE RHS"," TOE ANGLE LHS"," CAMBER ANGLE RHS","CAMBER ANGLE LHS","ACKERMANN","TURNING CIRCLE RADIUS",null," BUMP TRAVEL"," ANTI DIVE"," ANTI SQUAT"," ROLL CENTRE HEIGHT TO BODY"," ROLL CENTRE HEIGHT TO GRND"," HALF TRACK CHANGE"," WHEELBASE CHANGE"," DAMPER TRAVEL"," SPRING TRAVEL",null,"ROLL ANGLE","ROLL CENTRE POSITION",null,null," HALF TRACK CHANGE"," WHEELBASE CHANGE"," DAMPER TRAVEL"," SPRING TRAVEL",null," BUMP TRAVEL"," CAMBER ANGLE"," TOE ANGLE"," CASTOR ANGLE"," KINGPIN ANGLE"," DAMPER RATIO"," SPRING RATIO","INSTALLATION RATIO",null,"ROLL ANGLE"," CAMBER ANGLE"," TOE ANGLE"," CASTOR ANGLE"," KINGPIN ANGLE"," DAMPER RATIO"," SPRING RATIO","INSTALLATION RATIO",null," BUMP TRAVEL"," ANTI DIVE"," ANTI SQUAT"," ROLL CENTRE HEIGHT TO BODY"," ROLL CENTRE HEIGHT TO GRND"," HALF TRACK CHANGE"," WHEELBASE CHANGE"," DAMPER TRAVEL"," SPRING TRAVEL",null,"ROLL ANGLE","ROLL CENTRE POSITION",null,null," HALF TRACK CHANGE"," WHEELBASE CHANGE"," DAMPER TRAVEL"," SPRING TRAVEL"]
[{"$nulls":38},"X","Y","Z",{"$nulls":34},"X","Y","Z"]
["UNTIÀ DI MISURA","mm","deg","deg","deg","deg","-","-","-",null,"deg","deg","deg","deg","deg","-","-","-",null,"mm","deg","deg","deg","deg","%","mm",null,"mm","%","%","mm","mm","mm","mm","mm","mm",null,"deg","mm","mm","mm","mm","mm","mm","mm",null,"mm","deg","deg","deg","deg","-","-","-",null,"deg","deg","deg","deg","deg","-","-","-",null,"mm","%","%","mm","mm","mm","mm","mm","mm",null,"deg","mm","mm","mm","mm","mm","mm","mm"]
[null,{"$f":"INPUT!EA10","v":{"v":-17,"d":"-17.00"}},{"$f":"INPUT!EB10","v":{"v":-0.2605,"d":"-0.26"}},{"$f":"INPUT!EC10","v":{"v":-1.6856,"d":"-1.69"}},{"$f":"INPUT!ED10","v":{"v":3.0584,"d":"3.06"}},{"$f":"INPUT!EE10","v":{"v":11.2743,"d":"11.27"}},{"$f":"INPUT!EF10","v":{"v":1.138,"d":"1.14"}},{"$f":"INPUT!EG10","v":{"v":1.138,"d":"1.14"}},{"$f":"IF(ISNUMBER($H10),1/$H10,\"\")","v":{"v":0.8787346221441126,"d":"0.88"}},null,{"$f":"INPUT!EY10","v":{"v":-1.5,"d":"-1.50"}},{"$f":"INPUT!EZ10","v":{"v":0.3763,"d":"0.38"}},{"$f":"INPUT!FA10","v":{"v":-1.4833,"d":"-1.48"}},{"$f":"INPUT!FB10","v":{"v":3.7532,"d":"3.75"}},{"$f":"INPUT!FC10","v":{"v":10.6516,"d":"10.65"}},{"$f":"INPUT!FD10","v":{"v":1.083,"d":"1.08"}},{"$f":"INPUT!FE10","v":{"v":1.083,"d":"1.08"}},{"$f":"IF(ISNUMBER($Q10),1/$Q10,\"\")","v":{"v":0.9233610341643583,"d":"0.92"}},null,{"$f":"INPUT!FW10","v":{"v":-26,"d":"-26.00"}},{"$f":"INPUT!FX10","v":20.08},{"$f":"INPUT!FY10","v":-25.84},{"$f":"INPUT!FZ10","v":-1.33},{"$f":"INPUT!GA10","v":2.08},{"$f":"INPUT!GB10","v":80.54},{"$f":"INPUT!GC10","v":3698.01},null,{"$f":"INPUT!GY10","v":{"v":-17,"d":"-17.00"}},{"$f":"INPUT!GZ10","v":17.89},{"$f":"INPUT!HA10","v":{"v":0,"d":"0.00"}},{"$f":"INPUT!HB10","v":48.22},{"$f":"INPUT!HC10","v":65.22},{"$f":"INPUT!HD10","v":-1.33},{"$f":"INPUT!HE10","v":0.02},{"$f":"INPUT!HF10","v":15.17},{"$f":"INPUT!HG10","v":15.17},null,{"$f":"INPUT!IA10","v":{"v":-1.5,"d":"-1.50"}},{"$f":"INPUT!IB10","v":542.27},{"$f":"INPUT!IC10","v":-177.35},{"$f":"INPUT!ID10","v":34.64},{"$f":"INPUT!IE10","v":-0.17},{"$f":"INPUT!IF10","v":-0.14},{"$f":"INPUT!IG10","v":-15.27},{"$f":"INPUT!IH10","v":-15.27},null,{"$f":"INPUT!IZ10","v":{"v":-17,"d":"-17.00"}},{"$f":"INPUT!JA10","v":{"v":-0.4313,"d":"-0.43"}},{"$f":"INPUT!JB10","v":{"v":0.8519,"d":"0.85"}},{"$f":"INPUT!JC10","v":{"v":7.2088,"d":"7.21"}},{"$f":"INPUT!JD10","v":{"v":2.2255,"d":"2.23"}},{"$f":"INPUT!JE10","v":{"v":1.247,"d":"1.25"}},{"$f":"INPUT!JF10","v":{"v":1.247,"d":"1.25"}},{"$f":"IF(ISNUMBER($BA10),1/$BA10,\"\")","v":{"v":0.8019246190858058,"d":"0.80"}},null,{"$f":"INPUT!JX10","v":{"v":-1.5,"d":"-1.50"}},{"$f":"INPUT!JY10","v":{"v":-0.0878,"d":"-0.09"}},{"$f":"INPUT!JZ10","v":{"v":0.8485,"d":"0.85"}},{"$f":"INPUT!KA10","v":{"v":6.9997,"d":"7.00"}},{"$f":"INPUT!KB10","v":{"v":1.8847,"d":"1.88"}},{"$f":"INPUT!KC10","v":{"v":1.087,"d":"1.09"}},{"$f":"INPUT!KD10","v":{"v":1.087,"d":"1.09"}},{"$f":"IF(ISNUMBER($BJ10),1/$BJ10,\"\")","v":{"v":0.9199632014719411,"d":"0.92"}},null,{"$f":"INPUT!KZ10","v":{"v":-17,"d":"-17.00"}},{"$f":"INPUT!LA10","v":16.16},{"$f":"INPUT!LB10","v":25.88},{"$f":"INPUT!LC10","v":{"v":81.8,"d":"81.80"}},{"$f":"INPUT!LD10","v":{"v":98.8,"d":"98.80"}},{"$f":"INPUT!LE10","v":-2.23},{"$f":"INPUT!LF10","v":-0.85},{"$f":"INPUT!LG10","v":14.11},{"$f":"INPUT!LH10","v":14.11},null,{"$f":"INPUT!MB10","v":{"v":-1.5,"d":"-1.50"}},{"$f":"INPUT!MC10","v":{"v":2083.1,"d":"2083.10"}},{"$f":"INPUT!MD10","v":-170.96},{"$f":"INPUT!ME10","v":58.24},{"$f":"INPUT!MF10","v":-0.24},{"$f":"INPUT!MG10","v":{"v":1,"d":"1.00"}},{"$f":"INPUT!MH10","v":-14.34},{"$f":"INPUT!MI10","v":-14.34}]
[null,{"$f":"INPUT!EA11","v":{"v":-16,"d":"-16.00"}},{"$f":"INPUT!EB11","v":{"v":-0.285,"d":"-0.29"}},{"$f":"INPUT!EC11","v":{"v":-1.6796,"d":"-1.68"}},{"$f":"INPUT!ED11","v":{"v":3.0797,"d":"3.08"}},{"$f":"INPUT!EE11","v":{"v":11.2993,"d":"11.30"}},{"$f":"INPUT!EF11","v":{"v":1.136,"d":"1.14"}},{"$f":"INPUT!EG11","v":{"v":1.136,"d":"1.14"}},{"$f":"IF(ISNUMBER($H11),1/$H11,\"\")","v":{"v":0.8802816901408451,"d":"0.88"}},null,{"$f":"INPUT!EY11","v":{"v":-1.4,"d":"-1.40"}},{"$f":"INPUT!EZ11","v":{"v":0.3061,"d":"0.31"}},{"$f":"INPUT!FA11","v":-1.49},{"$f":"INPUT!FB11","v":{"v":3.7311,"d":"3.73"}},{"$f":"INPUT!FC11","v":{"v":10.7215,"d":"10.72"}},{"$f":"INPUT!FD11","v":{"v":1.084,"d":"1.08"}},{"$f":"INPUT!FE11","v":{"v":1.084,"d":"1.08"}},{"$f":"IF(ISNUMBER($Q11),1/$Q11,\"\")","v":{"v":0.9225092250922509,"d":"0.92"}},null,{"$f":"INPUT!FW11","v":{"v":-25,"d":"-25.00"}},{"$f":"INPUT!FX11","v":19.26},{"$f":"INPUT!FY11","v":{"v":-24.8,"d":"-24.80"}},{"$f":"INPUT!FZ11","v":-1.34},{"$f":"INPUT!GA11","v":{"v":1.9,"d":"1.90"}},{"$f":"INPUT!GB11","v":84.01},{"$f":"INPUT!GC11","v":3872.64},null,{"$f":"INPUT!GY11","v":{"v":-16,"d":"-16.00"}},{"$f":"INPUT!GZ11","v":17.95},{"$f":"INPUT!HA11","v":{"v":0,"d":"0.00"}},{"$f":"INPUT!HB11","v":47.59},{"$f":"INPUT!HC11","v":63.59},{"$f":"INPUT!HD11","v":-1.24},{"$f":"INPUT!HE11","v":0.02},{"$f":"INPUT!HF11","v":14.29},{"$f":"INPUT!HG11","v":14.29},null,{"$f":"INPUT!IA11","v":{"v":-1.4,"d":"-1.40"}},{"$f":"INPUT!IB11","v":542.27},{"$f":"INPUT!IC11","v":-165.57},{"$f":"INPUT!ID11","v":{"v":35,"d":"35.00"}},{"$f":"INPUT!IE11","v":-0.15},{"$f":"INPUT!IF11","v":-0.13},{"$f":"INPUT!IG11","v":-14.24},{"$f":"INPUT!IH11","v":-14.24},null,{"$f":"INPUT!IZ11","v":{"v":-16,"d":"-16.00"}},{"$f":"INPUT!JA11","v":{"v":-0.4659,"d":"-0.47"}},{"$f":"INPUT!JB11","v":{"v":0.8514,"d":"0.85"}},{"$f":"INPUT!JC11","v":{"v":7.2028,"d":"7.20"}},{"$f":"INPUT!JD11","v":{"v":2.2602,"d":"2.26"}},{"$f":"INPUT!JE11","v":{"v":1.242,"d":"1.24"}},{"$f":"INPUT!JF11","v":{"v":1.242,"d":"1.24"}},{"$f":"IF(ISNUMBER($BA11),1/$BA11,\"\")","v":{"v":0.8051529790660226,"d":"0.81"}},null,{"$f":"INPUT!JX11","v":{"v":-1.4,"d":"-1.40"}},{"$f":"INPUT!JY11","v":{"v":-0.1497,"d":"-0.15"}},{"$f":"INPUT!JZ11","v":{"v":0.8483,"d":"0.85"}},{"$f":"INPUT!KA11","v":{"v":7.0068,"d":"7.01"}},{"$f":"INPUT!KB11","v":{"v":1.9466,"d":"1.95"}},{"$f":"INPUT!KC11","v":{"v":1.092,"d":"1.09"}},{"$f":"INPUT!KD11","v":{"v":1.092,"d":"1.09"}},{"$f":"IF(ISNUMBER($BJ11),1/$BJ11,\"\")","v":{"v":0.9157509157509157,"d":"0.92"}},null,{"$f":"INPUT!KZ11","v":{"v":-16,"d":"-16.00"}},{"$f":"INPUT!LA11","v":16.09},{"$f":"INPUT!LB11","v":{"v":25.7,"d":"25.70"}},{"$f":"INPUT!LC11","v":80.68},{"$f":"INPUT!LD11","v":96.68},{"$f":"INPUT!LE11","v":-2.07},{"$f":"INPUT!LF11","v":-0.79},{"$f":"INPUT!LG11","v":13.31},{"$f":"INPUT!LH11","v":13.31},null,{"$f":"INPUT!MB11","v":{"v":-1.4,"d":"-1.40"}},{"$f":"INPUT!MC11","v":{"v":2083.1,"d":"2083.10"}},{"$f":"INPUT!MD11","v":-159.62},{"$f":"INPUT!ME11","v":58.85},{"$f":"INPUT!MF11","v":-0.21},{"$f":"INPUT!MG11","v":0.94},{"$f":"INPUT!MH11","v":-13.35},{"$f":"INPUT!MI11","v":-13.35}]
[null,{"$f":"INPUT!EA12","v":{"v":-15,"d":"-15.00"}},{"$f":"INPUT!EB12","v":{"v":-0.3097,"d":"-0.31"}},{"$f":"INPUT!EC12","v":{"v":-1.6736,"d":"-1.67"}},{"$f":"INPUT!ED12","v":{"v":3.101,"d":"3.10"}},{"$f":"INPUT!EE12","v":{"v":11.3244,"d":"11.32"}},{"$f":"INPUT!EF12","v":{"v":1.134,"d":"1.13"}},{"$f":"INPUT!EG12","v":{"v":1.134,"d":"1.13"}},{"v":0.8818342151675486,"d":"0.88"},null,{"$f":"INPUT!EY12","v":{"v":-1.3,"d":"-1.30"}},{"$f":"INPUT!EZ12","v":{"v":0.2358,"d":"0.24"}},{"$f":"INPUT!FA12","v":{"v":-1.4967,"d":"-1.50"}},{"$f":"INPUT!FB12","v":{"v":3.709,"d":"3.71"}},{"$f":"INPUT!FC12","v":{"v":10.7914,"d":"10.79"}},{"$f":"INPUT!FD12","v":{"v":1.085,"d":"1.09"}},{"$f":"INPUT!FE12","v":{"v":1.085,"d":"1.09"}},{"v":0.9216589861751152,"d":"0.92"},null,{"$f":"INPUT!FW12","v":{"v":-24,"d":"-24.00"}},{"$f":"INPUT!FX12","v":18.43},{"$f":"INPUT!FY12","v":-23.77},{"$f":"INPUT!FZ12","v":-1.34},{"$f":"INPUT!GA12","v":1.73},{"$f":"INPUT!GB12","v":87.97},{"$f":"INPUT!GC12","v":4060.83},null,{"$f":"INPUT!GY12","v":{"v":-15,"d":"-15.00"}},{"$f":"INPUT!GZ12","v":18.01},{"$f":"INPUT!HA12","v":{"v":0,"d":"0.00"}},{"$f":"INPUT!HB12","v":46.95},{"$f":"INPUT!HC12","v":61.95},{"$f":"INPUT!HD12","v":-1.14},{"$f":"INPUT!HE12","v":0.02},{"$f":"INPUT!HF12","v":13.41},{"$f":"INPUT!HG12","v":13.41},null,{"$f":"INPUT!IA12","v":{"v":-1.3,"d":"-1.30"}},{"$f":"INPUT!IB12","v":542.27},{"$f":"INPUT!IC12","v":-153.78},{"$f":"INPUT!ID12","v":35.35},{"$f":"INPUT!IE12","v":-0.13},{"$f":"INPUT!IF12","v":-0.12},{"$f":"INPUT!IG12","v":-13.22},{"$f":"INPUT!IH12","v":-13.22},null,{"$f":"INPUT!IZ12","v":{"v":-15,"d":"-15.00"}},{"$f":"INPUT!JA12","v":{"v":-0.5005,"d":"-0.50"}},{"$f":"INPUT!JB12","v":{"v":0.8511,"d":"0.85"}},{"$f":"INPUT!JC12","v":{"v":7.1968,"d":"7.20"}},{"$f":"INPUT!JD12","v":{"v":2.295,"d":"2.30"}},{"$f":"INPUT!JE12","v":{"v":1.237,"d":"1.24"}},{"$f":"INPUT!JF12","v":{"v":1.237,"d":"1.24"}},{"v":0.8084074373484236,"d":"0.81"},null,{"$f":"INPUT!JX12","v":{"v":-1.3,"d":"-1.30"}},{"$f":"INPUT!JY12","v":{"v":-0.2117,"d":"-0.21"}},{"$f":"INPUT!JZ12","v":{"v":0.8482,"d":"0.85"}},{"$f":"INPUT!KA12","v":{"v":7.0139,"d":"7.01"}},{"$f":"INPUT!KB12","v":{"v":2.0085,"d":"2.01"}},{"$f":"INPUT!KC12","v":{"v":1.096,"d":"1.10"}},{"$f":"INPUT!KD12","v":{"v":1.096,"d":"1.10"}},{"v":0.9124087591240875,"d":"0.91"},null,{"$f":"INPUT!KZ12","v":{"v":-15,"d":"-15.00"}},{"$f":"INPUT!LA12","v":16.03},{"$f":"INPUT!LB12","v":25.53},{"$f":"INPUT!LC12","v":79.56},{"$f":"INPUT!LD12","v":94.56},{"$f":"INPUT!LE12","v":-1.92},{"$f":"INPUT!LF12","v":-0.74},{"$f":"INPUT!LG12","v":{"v":12.5,"d":"12.50"}},{"$f":"INPUT!LH12","v":{"v":12.5,"d":"12.50"}},null,{"$f":"INPUT!MB12","v":{"v":-1.3,"d":"-1.30"}},{"$f":"INPUT!MC12","v":{"v":2083.1,"d":"2083.10"}},{"$f":"INPUT!MD12","v":-148.28},{"$f":"INPUT!ME12","v":59.42},{"$f":"INPUT!MF12","v":-0.18},{"$f":"INPUT!MG12","v":0.88},{"$f":"INPUT!MH12","v":-12.37},{"$f":"INPUT!MI12","v":-12.37}]
[null,{"$f":"INPUT!EA13","v":{"v":-14,"d":"-14.00"}},{"$f":"INPUT!EB13","v":{"v":-0.3343,"d":"-0.33"}},{"$f":"INPUT!EC13","v":{"v":-1.6676,"d":"-1.67"}},{"$f":"INPUT!ED13","v":{"v":3.1224,"d":"3.12"}},{"$f":"INPUT!EE13","v":{"v":11.3496,"d":"11.35"}},{"$f":"INPUT!EF13","v":{"v":1.132,"d":"1.13"}},{"$f":"INPUT!EG13","v":{"v":1.132,"d":"1.13"}},{"v":0.88339222614841,"d":"0.88"},null,{"$f":"INPUT!EY13","v":{"v":-1.2,"d":"-1.20"}},{"$f":"INPUT!EZ13","v":{"v":0.1654,"d":"0.17"}},{"$f":"INPUT!FA13","v":{"v":-1.5033,"d":"-1.50"}},{"$f":"INPUT!FB13","v":{"v":3.6869,"d":"3.69"}},{"$f":"INPUT!FC13","v":{"v":10.8613,"d":"10.86"}},{"$f":"INPUT!FD13","v":{"v":1.086,"d":"1.09"}},{"$f":"INPUT!FE13","v":{"v":1.086,"d":"1.09"}},{"v":0.9208103130755064,"d":"0.92"},null,{"$f":"INPUT!FW13","v":{"v":-23,"d":"-23.00"}},{"$f":"INPUT!FX13","v":17.61},{"$f":"INPUT!FY13","v":-22.75},{"$f":"INPUT!FZ13","v":-1.34},{"$f":"INPUT!GA13","v":1.57},{"$f":"INPUT!GB13","v":{"v":92.5,"d":"92.50"}},{"$f":"INPUT!GC13","v":4264.45},null,{"$f":"INPUT!GY13","v":{"v":-14,"d":"-14.00"}},{"$f":"INPUT!GZ13","v":18.07},{"$f":"INPUT!HA13","v":{"v":0,"d":"0.00"}},{"$f":"INPUT!HB13","v":46.32},{"$f":"INPUT!HC13","v":60.32},{"$f":"INPUT!HD13","v":-1.05},{"$f":"INPUT!HE13","v":0.02},{"$f":"INPUT!HF13","v":12.52},{"$f":"INPUT!HG13","v":12.52},null,{"$f":"INPUT!IA13","v":{"v":-1.2,"d":"-1.20"}},{"$f":"INPUT!IB13","v":542.27},{"$f":"INPUT!IC13","v":-141.98},{"$f":"INPUT!ID13","v":35.66},{"$f":"INPUT!IE13","v":-0.11},{"$f":"INPUT!IF13","v":-0.11},{"$f":"INPUT!IG13","v":-12.19},{"$f":"INPUT!IH13","v":-12.19},null,{"$f":"INPUT!IZ13","v":{"v":-14,"d":"-14.00"}},{"$f":"INPUT!JA13","v":{"v":-0.5351,"d":"-0.54"}},{"$f":"INPUT!JB13","v":{"v":0.8507,"d":"0.85"}},{"$f":"INPUT!JC13","v":{"v":7.1908,"d":"7.19"}},{"$f":"INPUT!JD13","v":{"v":2.3297,"d":"2.33"}},{"$f":"INPUT!JE13","v":{"v":1.233,"d":"1.23"}},{"$f":"INPUT!JF13","v":{"v":1.233,"d":"1.23"}},{"v":0.8110300081103,"d":"0.81"},null,{"$f":"INPUT!JX13","v":{"v":-1.2,"d":"-1.20"}},{"$f":"INPUT!JY13","v":{"v":-0.2737,"d":"-0.27"}},{"$f":"INPUT!JZ13","v":{"v":0.8481,"d":"0.85"}},{"$f":"INPUT!KA13","v":{"v":7.021,"d":"7.02"}},{"$f":"INPUT!KB13","v":{"v":2.0704,"d":"2.07"}},{"$f":"INPUT!KC13","v":{"v":1.101,"d":"1.10"}},{"$f":"INPUT!KD13","v":{"v":1.101,"d":"1.10"}},{"v":0.9082652134423251,"d":"0.91"},null,{"$f":"INPUT!KZ13","v":{"v":-14,"d":"-14.00"}},{"$f":"INPUT!LA13","v":15.96},{"$f":"INPUT!LB13","v":25.35},{"$f":"INPUT!LC13","v":78.44},{"$f":"INPUT!LD13","v":92.44},{"$f":"INPUT!LE13","v":-1.76},{"$f":"INPUT!LF13","v":-0.69},{"$f":"INPUT!LG13","v":11.69},{"$f":"INPUT!LH13","v":11.69},null,{"$f":"INPUT!MB13","v":{"v":-1.2,"d":"-1.20"}},{"$f":"INPUT!MC13","v":{"v":2083.1,"d":"2083.10"}},{"$f":"INPUT!MD13","v":-136.92},{"$f":"INPUT!ME13","v":59.95},{"$f":"INPUT!MF13","v":-0.15},{"$f":"INPUT!MG13","v":0.81},{"$f":"INPUT!MH13","v":-11.39},{"$f":"INPUT!MI13","v":-11.39}]
[null,{"$f":"INPUT!EA14","v":{"v":-13,"d":"-13.00"}},{"$f":"INPUT!EB14","v":{"v":-0.3591,"d":"-0.36"}},{"$f":"INPUT!EC14","v":{"v":-1.6615,"d":"-1.66"}},{"$f":"INPUT!ED14","v":{"v":3.1437,"d":"3.14"}},{"$f":"INPUT!EE14","v":{"v":11.3748,"d":"11.37"}},{"$f":"INPUT!EF14","v":1.13},{"$f":"INPUT!EG14","v":1.13},{"v":0.8849557522123894,"d":"0.88"},null,{"$f":"INPUT!EY14","v":{"v":-1.1,"d":"-1.10"}},{"$f":"INPUT!EZ14","v":{"v":0.0949,"d":"0.09"}},{"$f":"INPUT!FA14","v":{"v":-1.5098,"d":"-1.51"}},{"$f":"INPUT!FB14","v":{"v":3.6648,"d":"3.66"}},{"$f":"INPUT!FC14","v":{"v":10.9314,"d":"10.93"}},{"$f":"INPUT!FD14","v":{"v":1.087,"d":"1.09"}},{"$f":"INPUT!FE14","v":{"v":1.087,"d":"1.09"}},{"v":0.9199632014719411,"d":"0.92"},null,{"$f":"INPUT!FW14","v":{"v":-22,"d":"-22.00"}},{"$f":"INPUT!FX14","v":16.78},{"$f":"INPUT!FY14","v":-21.75},{"$f":"INPUT!FZ14","v":-1.33},{"$f":"INPUT!GA14","v":1.41},{"$f":"INPUT!GB14","v":97.71},{"$f":"INPUT!GC14","v":4485.67},null,{"$f":"INPUT!GY14","v":{"v":-13,"d":"-13.00"}},{"$f":"INPUT!GZ14","v":18.12},{"$f":"INPUT!HA14","v":{"v":0,"d":"0.00"}},{"$f":"INPUT!HB14","v":45.68},{"$f":"INPUT!HC14","v":58.68},{"$f":"INPUT!HD14","v":-0.95},{"$f":"INPUT!HE14","v":0.02},{"$f":"INPUT!HF14","v":11.64},{"$f":"INPUT!HG14","v":11.64},null,{"$f":"INPUT!IA14","v":{"v":-1.1,"d":"-1.10"}},{"$f":"INPUT!IB14","v":542.27},{"$f":"INPUT!IC14","v":-130.17},{"$f":"INPUT!ID14","v":35.95},{"$f":"INPUT!IE14","v":-0.09},{"$f":"INPUT!IF14","v":{"v":-0.1,"d":"-0.10"}},{"$f":"INPUT!IG14","v":-11.17},{"$f":"INPUT!IH14","v":-11.17},null,{"$f":"INPUT!IZ14","v":{"v":-13,"d":"-13.00"}},{"$f":"INPUT!JA14","v":{"v":-0.5697,"d":"-0.57"}},{"$f":"INPUT!JB14","v":{"v":0.8505,"d":"0.85"}},{"$f":"INPUT!JC14","v":{"v":7.1848,"d":"7.18"}},{"$f":"INPUT!JD14","v":{"v":2.3644,"d":"2.36"}},{"$f":"INPUT!JE14","v":{"v":1.228,"d":"1.23"}},{"$f":"INPUT!JF14","v":{"v":1.228,"d":"1.23"}},{"v":0.8143322475570033,"d":"0.81"},null,{"$f":"INPUT!JX14","v":{"v":-1.1,"d":"-1.10"}},{"$f":"INPUT!JY14","v":{"v":-0.3357,"d":"-0.34"}},{"$f":"INPUT!JZ14","v":{"v":0.8482,"d":"0.85"}},{"$f":"INPUT!KA14","v":{"v":7.0281,"d":"7.03"}},{"$f":"INPUT!KB14","v":{"v":2.1324,"d":"2.13"}},{"$f":"INPUT!KC14","v":{"v":1.106,"d":"1.11"}},{"$f":"INPUT!KD14","v":{"v":1.106,"d":"1.11"}},{"v":0.9041591320072332,"d":"0.90"},null,{"$f":"INPUT!KZ14","v":{"v":-13,"d":"-13.00"}},{"$f":"INPUT!LA14","v":{"v":15.9,"d":"15.90"}},{"$f":"INPUT!LB14","v":25.17},{"$f":"INPUT!LC14","v":77.33},{"$f":"INPUT!LD14","v":90.33},{"$f":"INPUT!LE14","v":-1.62},{"$f":"INPUT!LF14","v":-0.63},{"$f":"INPUT!LG14","v":10.88},{"$f":"INPUT!LH14","v":10.88},null,{"$f":"INPUT!MB14","v":{"v":-1.1,"d":"-1.10"}},{"$f":"INPUT!MC14","v":{"v":2083.1,"d":"2083.10"}},{"$f":"INPUT!MD14","v":-125.55},{"$f":"INPUT!ME14","v":60.44},{"$f":"INPUT!MF14","v":-0.13},{"$f":"INPUT!MG14","v":0.75},{"$f":"INPUT!MH14","v":-10.42},{"$f":"INPUT!MI14","v":-10.42}]
[null,{"$f":"INPUT!EA15","v":{"v":-12,"d":"-12.00"}},{"$f":"INPUT!EB15","v":{"v":-0.3839,"d":"-0.38"}},{"$f":"INPUT!EC15","v":{"v":-1.6553,"d":"-1.66"}},{"$f":"INPUT!ED15","v":{"v":3.165,"d":"3.17"}},{"$f":"INPUT!EE15","v":{"v":11.4,"d":"11.40"}},{"$f":"INPUT!EF15","v":{"v":1.127,"d":"1.13"}},{"$f":"INPUT!EG15","v":{"v":1.127,"d":"1.13"}},{"v":0.8873114463176575,"d":"0.89"},null,{"$f":"INPUT!EY15","v":{"v":-1,"d":"-1.00"}},{"$f":"INPUT!EZ15","v":{"v":0.0243,"d":"0.02"}},{"$f":"INPUT!FA15","v":{"v":-1.5163,"d":"-1.52"}},{"$f":"INPUT!FB15","v":{"v":3.6426,"d":"3.64"}},{"$f":"INPUT!FC15","v":{"v":11.0016,"d":"11.00"}},{"$f":"INPUT!FD15","v":{"v":1.088,"d":"1.09"}},{"$f":"INPUT!FE15","v":{"v":1.088,"d":"1.09"}},{"v":0.9191176470588235,"d":"0.92"},null,{"$f":"INPUT!FW15","v":{"v":-21,"d":"-21.00"}},{"$f":"INPUT!FX15","v":15.96},{"$f":"INPUT!FY15","v":-20.75},{"$f":"INPUT!FZ15","v":-1.33},{"$f":"INPUT!GA15","v":1.26},{"$f":"INPUT!GB15","v":103.72},{"$f":"INPUT!GC15","v":{"v":4727.1,"d":"4727.10"}},null,{"$f":"INPUT!GY15","v":{"v":-12,"d":"-12.00"}},{"$f":"INPUT!GZ15","v":18.18},{"$f":"INPUT!HA15","v":{"v":0,"d":"0.00"}},{"$f":"INPUT!HB15","v":45.05},{"$f":"INPUT!HC15","v":57.05},{"$f":"INPUT!HD15","v":-0.87},{"$f":"INPUT!HE15","v":0.01},{"$f":"INPUT!HF15","v":10.75},{"$f":"INPUT!HG15","v":10.75},null,{"$f":"INPUT!IA15","v":{"v":-1,"d":"-1.00"}},{"$f":"INPUT!IB15","v":542.27},{"$f":"INPUT!IC15","v":-118.36},{"$f":"INPUT!ID15","v":36.22},{"$f":"INPUT!IE15","v":-0.08},{"$f":"INPUT!IF15","v":{"v":-0.1,"d":"-0.10"}},{"$f":"INPUT!IG15","v":-10.15},{"$f":"INPUT!IH15","v":-10.15},null,{"$f":"INPUT!IZ15","v":{"v":-12,"d":"-12.00"}},{"$f":"INPUT!JA15","v":{"v":-0.6044,"d":"-0.60"}},{"$f":"INPUT!JB15","v":{"v":0.8503,"d":"0.85"}},{"$f":"INPUT!JC15","v":{"v":7.1787,"d":"7.18"}},{"$f":"INPUT!JD15","v":{"v":2.3991,"d":"2.40"}},{"$f":"INPUT!JE15","v":{"v":1.223,"d":"1.22"}},{"$f":"INPUT!JF15","v":{"v":1.223,"d":"1.22"}},{"v":0.8176614881439084,"d":"0.82"},null,{"$f":"INPUT!JX15","v":{"v":-1,"d":"-1.00"}},{"$f":"INPUT!JY15","v":{"v":-0.3979,"d":"-0.40"}},{"$f":"INPUT!JZ15","v":{"v":0.8483,"d":"0.85"}},{"$f":"INPUT!KA15","v":{"v":7.0352,"d":"7.04"}},{"$f":"INPUT!KB15","v":{"v":2.1944,"d":"2.19"}},{"$f":"INPUT!KC15","v":{"v":1.111,"d":"1.11"}},{"$f":"INPUT!KD15","v":{"v":1.111,"d":"1.11"}},{"v":0.9000900090009001,"d":"0.90"},null,{"$f":"INPUT!KZ15","v":{"v":-12,"d":"-12.00"}},{"$f":"INPUT!LA15","v":15.83},{"$f":"INPUT!LB15","v":24.99},{"$f":"INPUT!LC15","v":76.21},{"$f":"INPUT!LD15","v":88.21},{"$f":"INPUT!LE15","v":-1.47},{"$f":"INPUT!LF15","v":-0.58},{"$f":"INPUT!LG15","v":10.06},{"$f":"INPUT!LH15","v":10.06},null,{"$f":"INPUT!MB15","v":{"v":-1,"d":"-1.00"}},{"$f":"INPUT!MC15","v":{"v":2083.1,"d":"2083.10"}},{"$f":"INPUT!MD15","v":-114.16},{"$f":"INPUT!ME15","v":60.88},{"$f":"INPUT!MF15","v":-0.11},{"$f":"INPUT!MG15","v":0.68},{"$f":"INPUT!MH15","v":-9.45},{"$f":"INPUT!MI15","v":-9.45}]
[null,{"$f":"INPUT!EA16","v":{"v":-11,"d":"-11.00"}},{"$f":"INPUT!EB16","v":{"v":-0.4087,"d":"-0.41"}},{"$f":"INPUT!EC16","v":{"v":-1.6492,"d":"-1.65"}},{"$f":"INPUT!ED16","v":{"v":3.1863,"d":"3.19"}},{"$f":"INPUT!EE16","v":{"v":11.4253,"d":"11.43"}},{"$f":"INPUT!EF16","v":{"v":1.125,"d":"1.13"}},{"$f":"INPUT!EG16","v":{"v":1.125,"d":"1.13"}},{"v":0.8888888888888888,"d":"0.89"},null,{"$f":"INPUT!EY16","v":{"v":-0.9,"d":"-0.90"}},{"$f":"INPUT!EZ16","v":{"v":-0.0464,"d":"-0.05"}},{"$f":"INPUT!FA16","v":{"v":-1.5228,"d":"-1.52"}},{"$f":"INPUT!FB16","v":{"v":3.6205,"d":"3.62"}},{"$f":"INPUT!FC16","v":{"v":11.0718,"d":"11.07"}},{"$f":"INPUT!FD16","v":1.09},{"$f":"INPUT!FE16","v":1.09},{"v":0.9174311926605504,"d":"0.92"},null,{"$f":"INPUT!FW16","v":{"v":-20,"d":"-20.00"}},{"$f":"INPUT!FX16","v":15.14},{"$f":"INPUT!FY16","v":-19.77},{"$f":"INPUT!FZ16","v":-1.32},{"$f":"INPUT!GA16","v":1.12},{"$f":"INPUT!GB16","v":{"v":110.7,"d":"110.70"}},{"$f":"INPUT!GC16","v":{"v":4991.9,"d":"4991.90"}},null,{"$f":"INPUT!GY16","v":{"v":-11,"d":"-11.00"}},{"$f":"INPUT!GZ16","v":18.24},{"$f":"INPUT!HA16","v":{"v":0,"d":"0.00"}},{"$f":"INPUT!HB16","v":44.41},{"$f":"INPUT!HC16","v":55.41},{"$f":"INPUT!HD16","v":-0.78},{"$f":"INPUT!HE16","v":0.01},{"$f":"INPUT!HF16","v":9.87},{"$f":"INPUT!HG16","v":9.87},null,{"$f":"INPUT!IA16","v":{"v":-0.9,"d":"-0.90"}},{"$f":"INPUT!IB16","v":542.27},{"$f":"INPUT!IC16","v":-106.54},{"$f":"INPUT!ID16","v":36.46},{"$f":"INPUT!IE16","v":-0.07},{"$f":"INPUT!IF16","v":-0.09},{"$f":"INPUT!IG16","v":-9.12},{"$f":"INPUT!IH16","v":-9.12},null,{"$f":"INPUT!IZ16","v":{"v":-11,"d":"-11.00"}},{"$f":"INPUT!JA16","v":{"v":-0.639,"d":"-0.64"}},{"$f":"INPUT!JB16","v":{"v":0.8502,"d":"0.85"}},{"$f":"INPUT!JC16","v":{"v":7.1727,"d":"7.17"}},{"$f":"INPUT!JD16","v":{"v":2.4339,"d":"2.43"}},{"$f":"INPUT!JE16","v":{"v":1.218,"d":"1.22"}},{"$f":"INPUT!JF16","v":{"v":1.218,"d":"1.22"}},{"v":0.8210180623973727,"d":"0.82"},null,{"$f":"INPUT!JX16","v":{"v":-0.9,"d":"-0.90"}},{"$f":"INPUT!JY16","v":-0.46},{"$f":"INPUT!JZ16","v":{"v":0.8485,"d":"0.85"}},{"$f":"INPUT!KA16","v":{"v":7.0423,"d":"7.04"}},{"$f":"INPUT!KB16","v":{"v":2.2565,"d":"2.26"}},{"$f":"INPUT!KC16","v":{"v":1.116,"d":"1.12"}},{"$f":"INPUT!KD16","v":{"v":1.116,"d":"1.12"}},{"v":0.8960573476702508,"d":"0.90"},null,{"$f":"INPUT!KZ16","v":{"v":-11,"d":"-11.00"}},{"$f":"INPUT!LA16","v":15.77},{"$f":"INPUT!LB16","v":24.81},{"$f":"INPUT!LC16","v":{"v":75.1,"d":"75.10"}},{"$f":"INPUT!LD16","v":{"v":86.1,"d":"86.10"}},{"$f":"INPUT!LE16","v":-1.33},{"$f":"INPUT!LF16","v":-0.53},{"$f":"INPUT!LG16","v":9.24},{"$f":"INPUT!LH16","v":9.24},null,{"$f":"INPUT!MB16","v":{"v":-0.9,"d":"-0.90"}},{"$f":"INPUT!MC16","v":{"v":2083.1,"d":"2083.10"}},{"$f":"INPUT!MD16","v":-102.77},{"$f":"INPUT!ME16","v":61.28},{"$f":"INPUT!MF16","v":-0.09},{"$f":"INPUT!MG16","v":0.62},{"$f":"INPUT!MH16","v":-8.48},{"$f":"INPUT!MI16","v":-8.48}]
[null,{"$f":"INPUT!EA17","v":{"v":-10,"d":"-10.00"}},{"$f":"INPUT!EB17","v":{"v":-0.4337,"d":"-0.43"}},{"$f":"INPUT!EC17","v":{"v":-1.6429,"d":"-1.64"}},{"$f":"INPUT!ED17","v":{"v":3.2077,"d":"3.21"}},{"$f":"INPUT!EE17","v":{"v":11.4507,"d":"11.45"}},{"$f":"INPUT!EF17","v":{"v":1.123,"d":"1.12"}},{"$f":"INPUT!EG17","v":{"v":1.123,"d":"1.12"}},{"v":0.8904719501335708,"d":"0.89"},null,{"$f":"INPUT!EY17","v":{"v":-0.8,"d":"-0.80"}},{"$f":"INPUT!EZ17","v":{"v":-0.1172,"d":"-0.12"}},{"$f":"INPUT!FA17","v":{"v":-1.5291,"d":"-1.53"}},{"$f":"INPUT!FB17","v":{"v":3.5984,"d":"3.60"}},{"$f":"INPUT!FC17","v":{"v":11.1421,"d":"11.14"}},{"$f":"INPUT!FD17","v":{"v":1.091,"d":"1.09"}},{"$f":"INPUT!FE17","v":{"v":1.091,"d":"1.09"}},{"v":0.9165902841429882,"d":"0.92"},null,{"$f":"INPUT!FW17","v":{"v":-19,"d":"-19.00"}},{"$f":"INPUT!FX17","v":14.31},{"$f":"INPUT!FY17","v":-18.79},{"$f":"INPUT!FZ17","v":-1.31},{"$f":"INPUT!GA17","v":0.99},{"$f":"INPUT!GB17","v":118.84},{"$f":"INPUT!GC17","v":5283.91},null,{"$f":"INPUT!GY17","v":{"v":-10,"d":"-10.00"}},{"$f":"INPUT!GZ17","v":{"v":18.3,"d":"18.30"}},{"$f":"INPUT!HA17","v":{"v":0,"d":"0.00"}},{"$f":"INPUT!HB17","v":43.78},{"$f":"INPUT!HC17","v":53.78},{"$f":"INPUT!HD17","v":{"v":-0.7,"d":"-0.70"}},{"$f":"INPUT!HE17","v":0.01},{"$f":"INPUT!HF17","v":8.98},{"$f":"INPUT!HG17","v":8.98},null,{"$f":"INPUT!IA17","v":{"v":-0.8,"d":"-0.80"}},{"$f":"INPUT!IB17","v":542.27},{"$f":"INPUT!IC17","v":-94.71},{"$f":"INPUT!ID17","v":36.68},{"$f":"INPUT!IE17","v":-0.05},{"$f":"INPUT!IF17","v":-0.08},{"$f":"INPUT!IG17","v":{"v":-8.1,"d":"-8.10"}},{"$f":"INPUT!IH17","v":{"v":-8.1,"d":"-8.10"}},null,{"$f":"INPUT!IZ17","v":{"v":-10,"d":"-10.00"}},{"$f":"INPUT!JA17","v":{"v":-0.6737,"d":"-0.67"}},{"$f":"INPUT!JB17","v":{"v":0.8502,"d":"0.85"}},{"$f":"INPUT!JC17","v":{"v":7.1667,"d":"7.17"}},{"$f":"INPUT!JD17","v":{"v":2.4686,"d":"2.47"}},{"$f":"INPUT!JE17","v":{"v":1.213,"d":"1.21"}},{"$f":"INPUT!JF17","v":{"v":1.213,"d":"1.21"}},{"v":0.8244023083264632,"d":"0.82"},null,{"$f":"INPUT!JX17","v":{"v":-0.8,"d":"-0.80"}},{"$f":"INPUT!JY17","v":{"v":-0.5222,"d":"-0.52"}},{"$f":"INPUT!JZ17","v":{"v":0.8487,"d":"0.85"}},{"$f":"INPUT!KA17","v":{"v":7.0494,"d":"7.05"}},{"$f":"INPUT!KB17","v":{"v":2.3186,"d":"2.32"}},{"$f":"INPUT!KC17","v":{"v":1.121,"d":"1.12"}},{"$f":"INPUT!KD17","v":{"v":1.121,"d":"1.12"}},{"v":0.8920606601248885,"d":"0.89"},null,{"$f":"INPUT!KZ17","v":{"v":-10,"d":"-10.00"}},{"$f":"INPUT!LA17","v":{"v":15.7,"d":"15.70"}},{"$f":"INPUT!LB17","v":24.62},{"$f":"INPUT!LC17","v":73.99},{"$f":"INPUT!LD17","v":83.99},{"$f":"INPUT!LE17","v":-1.19},{"$f":"INPUT!LF17","v":-0.48},{"$f":"INPUT!LG17","v":8.42},{"$f":"INPUT!LH17","v":8.42},null,{"$f":"INPUT!MB17","v":{"v":-0.8,"d":"-0.80"}},{"$f":"INPUT!MC17","v":{"v":2083.1,"d":"2083.10"}},{"$f":"INPUT!MD17","v":-91.38},{"$f":"INPUT!ME17","v":61.64},{"$f":"INPUT!MF17","v":-0.07},{"$f":"INPUT!MG17","v":0.55},{"$f":"INPUT!MH17","v":-7.52},{"$f":"INPUT!MI17","v":-7.52}]
[null,{"$f":"INPUT!EA18","v":{"v":-9,"d":"-9.00"}},{"$f":"INPUT!EB18","v":{"v":-0.4587,"d":"-0.46"}},{"$f":"INPUT!EC18","v":{"v":-1.6366,"d":"-1.64"}},{"$f":"INPUT!ED18","v":{"v":3.229,"d":"3.23"}},{"$f":"INPUT!EE18","v":{"v":11.4761,"d":"11.48"}},{"$f":"INPUT!EF18","v":{"v":1.122,"d":"1.12"}},{"$f":"INPUT!EG18","v":{"v":1.122,"d":"1.12"}},{"v":0.89126559714795,"d":"0.89"},null,{"$f":"INPUT!EY18","v":{"v":-0.7,"d":"-0.70"}},{"$f":"INPUT!EZ18","v":{"v":-0.188,"d":"-0.19"}},{"$f":"INPUT!FA18","v":{"v":-1.5354,"d":"-1.54"}},{"$f":"INPUT!FB18","v":{"v":3.5762,"d":"3.58"}},{"$f":"INPUT!FC18","v":{"v":11.2125,"d":"11.21"}},{"$f":"INPUT!FD18","v":{"v":1.093,"d":"1.09"}},{"$f":"INPUT!FE18","v":{"v":1.093,"d":"1.09"}},{"v":0.9149130832570906,"d":"0.91"},null,{"$f":"INPUT!FW18","v":{"v":-18,"d":"-18.00"}},{"$f":"INPUT!FX18","v":13.49},{"$f":"INPUT!FY18","v":-17.83},{"$f":"INPUT!FZ18","v":-1.29},{"$f":"INPUT!GA18","v":0.86},{"$f":"INPUT!GB18","v":128.42},{"$f":"INPUT!GC18","v":5607.86},null,{"$f":"INPUT!GY18","v":{"v":-9,"d":"-9.00"}},{"$f":"INPUT!GZ18","v":18.36},{"$f":"INPUT!HA18","v":{"v":0,"d":"0.00"}},{"$f":"INPUT!HB18","v":43.15},{"$f":"INPUT!HC18","v":52.15},{"$f":"INPUT!HD18","v":-0.61},{"$f":"INPUT!HE18","v":0.01},{"$f":"INPUT!HF18","v":8.09},{"$f":"INPUT!HG18","v":8.09},null,{"$f":"INPUT!IA18","v":{"v":-0.7,"d":"-0.70"}},{"$f":"INPUT!IB18","v":542.27},{"$f":"INPUT!IC18","v":-82.88},{"$f":"INPUT!ID18","v":36.87},{"$f":"INPUT!IE18","v":-0.04},{"$f":"INPUT!IF18","v":-0.07},{"$f":"INPUT!IG18","v":-7.09},{"$f":"INPUT!IH18","v":-7.09},null,{"$f":"INPUT!IZ18","v":{"v":-9,"d":"-9.00"}},{"$f":"INPUT!JA18","v":{"v":-0.7083,"d":"-0.71"}},{"$f":"INPUT!JB18","v":{"v":0.8503,"d":"0.85"}},{"$f":"INPUT!JC18","v":{"v":7.1607,"d":"7.16"}},{"$f":"INPUT!JD18","v":{"v":2.5033,"d":"2.50"}},{"$f":"INPUT!JE18","v":{"v":1.208,"d":"1.21"}},{"$f":"INPUT!JF18","v":{"v":1.208,"d":"1.21"}},{"v":0.8278145695364238,"d":"0.83"},null,{"$f":"INPUT!JX18","v":{"v":-0.7,"d":"-0.70"}},{"$f":"INPUT!JY18","v":{"v":-0.5844,"d":"-0.58"}},{"$f":"INPUT!JZ18","v":{"v":0.8491,"d":"0.85"}},{"$f":"INPUT!KA18","v":{"v":7.0566,"d":"7.06"}},{"$f":"INPUT!KB18","v":{"v":2.3807,"d":"2.38"}},{"$f":"INPUT!KC18","v":{"v":1.126,"d":"1.13"}},{"$f":"INPUT!KD18","v":{"v":1.126,"d":"1.13"}},{"v":0.8880994671403198,"d":"0.89"},null,{"$f":"INPUT!KZ18","v":{"v":-9,"d":"-9.00"}},{"$f":"INPUT!LA18","v":15.63},{"$f":"INPUT!LB18","v":24.44},{"$f":"INPUT!LC18","v":72.89},{"$f":"INPUT!LD18","v":81.89},{"$f":"INPUT!LE18","v":-1.06},{"$f":"INPUT!LF18","v":-0.43},{"$f":"INPUT!LG18","v":7.59},{"$f":"INPUT!LH18","v":7.59},null,{"$f":"INPUT!MB18","v":{"v":-0.7,"d":"-0.70"}},{"$f":"INPUT!MC18","v":{"v":2083.1,"d":"2083.10"}},{"$f":"INPUT!MD18","v":-79.97},{"$f":"INPUT!ME18","v":61.96},{"$f":"INPUT!MF18","v":-0.05},{"$f":"INPUT!MG18","v":0.48},{"$f":"INPUT!MH18","v":-6.57},{"$f":"INPUT!MI18","v":-6.57}]
[null,{"$f":"INPUT!EA19","v":{"v":-8,"d":"-8.00"}},{"$f":"INPUT!EB19","v":{"v":-0.4837,"d":"-0.48"}},{"$f":"INPUT!EC19","v":{"v":-1.6303,"d":"-1.63"}},{"$f":"INPUT!ED19","v":{"v":3.2503,"d":"3.25"}},{"$f":"INPUT!EE19","v":{"v":11.5016,"d":"11.50"}},{"$f":"INPUT!EF19","v":1.12},{"$f":"INPUT!EG19","v":1.12},{"v":0.8928571428571428,"d":"0.89"},null,{"$f":"INPUT!EY19","v":{"v":-0.6,"d":"-0.60"}},{"$f":"INPUT!EZ19","v":{"v":-0.259,"d":"-0.26"}},{"$f":"INPUT!FA19","v":{"v":-1.5417,"d":"-1.54"}},{"$f":"INPUT!FB19","v":{"v":3.5541,"d":"3.55"}},{"$f":"INPUT!FC19","v":{"v":11.283,"d":"11.28"}},{"$f":"INPUT!FD19","v":{"v":1.094,"d":"1.09"}},{"$f":"INPUT!FE19","v":{"v":1.094,"d":"1.09"}},{"v":0.9140767824497257,"d":"0.91"},null,{"$f":"INPUT!FW19","v":{"v":-17,"d":"-17.00"}},{"$f":"INPUT!FX19","v":12.66},{"$f":"INPUT!FY19","v":-16.87},{"$f":"INPUT!FZ19","v":-1.28},{"$f":"INPUT!GA19","v":0.74},{"$f":"INPUT!GB19","v":139.79},{"$f":"INPUT!GC19","v":5969.67},null,{"$f":"INPUT!GY19","v":{"v":-8,"d":"-8.00"}},{"$f":"INPUT!GZ19","v":18.42},{"$f":"INPUT!HA19","v":{"v":0,"d":"0.00"}},{"$f":"INPUT!HB19","v":42.52},{"$f":"INPUT!HC19","v":50.52},{"$f":"INPUT!HD19","v":-0.54},{"$f":"INPUT!HE19","v":0.01},{"$f":"INPUT!HF19","v":7.19},{"$f":"INPUT!HG19","v":7.19},null,{"$f":"INPUT!IA19","v":{"v":-0.6,"d":"-0.60"}},{"$f":"INPUT!IB19","v":542.27},{"$f":"INPUT!IC19","v":-71.05},{"$f":"INPUT!ID19","v":37.03},{"$f":"INPUT!IE19","v":-0.03},{"$f":"INPUT!IF19","v":-0.06},{"$f":"INPUT!IG19","v":-6.07},{"$f":"INPUT!IH19","v":-6.07},null,{"$f":"INPUT!IZ19","v":{"v":-8,"d":"-8.00"}},{"$f":"INPUT!JA19","v":{"v":-0.743,"d":"-0.74"}},{"$f":"INPUT!JB19","v":{"v":0.8504,"d":"0.85"}},{"$f":"INPUT!JC19","v":{"v":7.1546,"d":"7.15"}},{"$f":"INPUT!JD19","v":{"v":2.5381,"d":"2.54"}},{"$f":"INPUT!JE19","v":{"v":1.203,"d":"1.20"}},{"$f":"INPUT!JF19","v":{"v":1.203,"d":"1.20"}},{"v":0.8312551953449708,"d":"0.83"},null,{"$f":"INPUT!JX19","v":{"v":-0.6,"d":"-0.60"}},{"$f":"INPUT!JY19","v":{"v":-0.6467,"d":"-0.65"}},{"$f":"INPUT!JZ19","v":{"v":0.8495,"d":"0.85"}},{"$f":"INPUT!KA19","v":{"v":7.0637,"d":"7.06"}},{"$f":"INPUT!KB19","v":{"v":2.4429,"d":"2.44"}},{"$f":"INPUT!KC19","v":{"v":1.131,"d":"1.13"}},{"$f":"INPUT!KD19","v":{"v":1.131,"d":"1.13"}},{"v":0.8841732979664014,"d":"0.88"},null,{"$f":"INPUT!KZ19","v":{"v":-8,"d":"-8.00"}},{"$f":"INPUT!LA19","v":15.57},{"$f":"INPUT!LB19","v":24.25},{"$f":"INPUT!LC19","v":71.78},{"$f":"INPUT!LD19","v":79.78},{"$f":"INPUT!LE19","v":-0.93},{"$f":"INPUT!LF19","v":-0.38},{"$f":"INPUT!LG19","v":6.76},{"$f":"INPUT!LH19","v":6.76},null,{"$f":"INPUT!MB19","v":{"v":-0.6,"d":"-0.60"}},{"$f":"INPUT!MC19","v":{"v":2083.1,"d":"2083.10"}},{"$f":"INPUT!MD19","v":-68.56},{"$f":"INPUT!ME19","v":62.24},{"$f":"INPUT!MF19","v":-0.04},{"$f":"INPUT!MG19","v":0.42},{"$f":"INPUT!MH19","v":-5.62},{"$f":"INPUT!MI19","v":-5.62}]
[null,{"$f":"INPUT!EA20","v":{"v":-7,"d":"-7.00"}},{"$f":"INPUT!EB20","v":{"v":-0.5088,"d":"-0.51"}},{"$f":"INPUT!EC20","v":{"v":-1.6239,"d":"-1.62"}},{"$f":"INPUT!ED20","v":{"v":3.2717,"d":"3.27"}},{"$f":"INPUT!EE20","v":{"v":11.5271,"d":"11.53"}},{"$f":"INPUT!EF20","v":{"v":1.118,"d":"1.12"}},{"$f":"INPUT!EG20","v":{"v":1.118,"d":"1.12"}},{"v":0.8944543828264757,"d":"0.89"},null,{"$f":"INPUT!EY20","v":{"v":-0.5,"d":"-0.50"}},{"$f":"INPUT!EZ20","v":-0.33},{"$f":"INPUT!FA20","v":{"v":-1.5479,"d":"-1.55"}},{"$f":"INPUT!FB20","v":{"v":3.5319,"d":"3.53"}},{"$f":"INPUT!FC20","v":{"v":11.3535,"d":"11.35"}},{"$f":"INPUT!FD20","v":{"v":1.096,"d":"1.10"}},{"$f":"INPUT!FE20","v":{"v":1.096,"d":"1.10"}},{"v":0.9124087591240875,"d":"0.91"},null,{"$f":"INPUT!FW20","v":{"v":-16,"d":"-16.00"}},{"$f":"INPUT!FX20","v":11.84},{"$f":"INPUT!FY20","v":-15.92},{"$f":"INPUT!FZ20","v":-1.26},{"$f":"INPUT!GA20","v":0.62},{"$f":"INPUT!GB20","v":153.39},{"$f":"INPUT!GC20","v":6376.79},null,{"$f":"INPUT!GY20","v":{"v":-7,"d":"-7.00"}},{"$f":"INPUT!GZ20","v":18.48},{"$f":"INPUT!HA20","v":{"v":0,"d":"0.00"}},{"$f":"INPUT!HB20","v":41.89},{"$f":"INPUT!HC20","v":48.89},{"$f":"INPUT!HD20","v":-0.46},{"$f":"INPUT!HE20","v":0.01},{"$f":"INPUT!HF20","v":{"v":6.3,"d":"6.30"}},{"$f":"INPUT!HG20","v":{"v":6.3,"d":"6.30"}},null,{"$f":"INPUT!IA20","v":{"v":-0.5,"d":"-0.50"}},{"$f":"INPUT!IB20","v":542.27},{"$f":"INPUT!IC20","v":-59.21},{"$f":"INPUT!ID20","v":37.17},{"$f":"INPUT!IE20","v":-0.03},{"$f":"INPUT!IF20","v":-0.05},{"$f":"INPUT!IG20","v":-5.05},{"$f":"INPUT!IH20","v":-5.05},null,{"$f":"INPUT!IZ20","v":{"v":-7,"d":"-7.00"}},{"$f":"INPUT!JA20","v":{"v":-0.7778,"d":"-0.78"}},{"$f":"INPUT!JB20","v":{"v":0.8505,"d":"0.85"}},{"$f":"INPUT!JC20","v":{"v":7.1486,"d":"7.15"}},{"$f":"INPUT!JD20","v":{"v":2.5728,"d":"2.57"}},{"$f":"INPUT!JE20","v":{"v":1.198,"d":"1.20"}},{"$f":"INPUT!JF20","v":{"v":1.198,"d":"1.20"}},{"v":0.8347245409015025,"d":"0.83"},null,{"$f":"INPUT!JX20","v":{"v":-0.5,"d":"-0.50"}},{"$f":"INPUT!JY20","v":{"v":-0.7091,"d":"-0.71"}},{"$f":"INPUT!JZ20","v":0.85},{"$f":"INPUT!KA20","v":{"v":7.0708,"d":"7.07"}},{"$f":"INPUT!KB20","v":{"v":2.5051,"d":"2.51"}},{"$f":"INPUT!KC20","v":{"v":1.136,"d":"1.14"}},{"$f":"INPUT!KD20","v":{"v":1.136,"d":"1.14"}},{"v":0.8802816901408451,"d":"0.88"},null,{"$f":"INPUT!KZ20","v":{"v":-7,"d":"-7.00"}},{"$f":"INPUT!LA20","v":{"v":15.5,"d":"15.50"}},{"$f":"INPUT!LB20","v":24.07},{"$f":"INPUT!LC20","v":70.68},{"$f":"INPUT!LD20","v":77.68},{"$f":"INPUT!LE20","v":{"v":-0.8,"d":"-0.80"}},{"$f":"INPUT!LF20","v":-0.33},{"$f":"INPUT!LG20","v":5.93},{"$f":"INPUT!LH20","v":5.93},null,{"$f":"INPUT!MB20","v":{"v":-0.5,"d":"-0.50"}},{"$f":"INPUT!MC20","v":{"v":2083.1,"d":"2083.10"}},{"$f":"INPUT!MD20","v":-57.14},{"$f":"INPUT!ME20","v":62.47},{"$f":"INPUT!MF20","v":-0.03},{"$f":"INPUT!MG20","v":0.35},{"$f":"INPUT!MH20","v":-4.67},{"$f":"INPUT!MI20","v":-4.67}]
[null,{"$f":"INPUT!EA21","v":{"v":-6,"d":"-6.00"}},{"$f":"INPUT!EB21","v":{"v":-0.534,"d":"-0.53"}},{"$f":"INPUT!EC21","v":{"v":-1.6175,"d":"-1.62"}},{"$f":"INPUT!ED21","v":{"v":3.293,"d":"3.29"}},{"$f":"INPUT!EE21","v":{"v":11.5527,"d":"11.55"}},{"$f":"INPUT!EF21","v":{"v":1.116,"d":"1.12"}},{"$f":"INPUT!EG21","v":{"v":1.116,"d":"1.12"}},{"v":0.8960573476702508,"d":"0.90"},null,{"$f":"INPUT!EY21","v":{"v":-0.4,"d":"-0.40"}},{"$f":"INPUT!EZ21","v":{"v":-0.4011,"d":"-0.40"}},{"$f":"INPUT!FA21","v":{"v":-1.554,"d":"-1.55"}},{"$f":"INPUT!FB21","v":{"v":3.5098,"d":"3.51"}},{"$f":"INPUT!FC21","v":{"v":11.4242,"d":"11.42"}},{"$f":"INPUT!FD21","v":{"v":1.098,"d":"1.10"}},{"$f":"INPUT!FE21","v":{"v":1.098,"d":"1.10"}},{"v":0.9107468123861566,"d":"0.91"},null,{"$f":"INPUT!FW21","v":{"v":-15,"d":"-15.00"}},{"$f":"INPUT!FX21","v":11.01},{"$f":"INPUT!FY21","v":-14.98},{"$f":"INPUT!FZ21","v":-1.24},{"$f":"INPUT!GA21","v":0.51},{"$f":"INPUT!GB21","v":169.85},{"$f":"INPUT!GC21","v":{"v":6838.8,"d":"6838.80"}},null,{"$f":"INPUT!GY21","v":{"v":-6,"d":"-6.00"}},{"$f":"INPUT!GZ21","v":18.54},{"$f":"INPUT!HA21","v":{"v":0,"d":"0.00"}},{"$f":"INPUT!HB21","v":41.26},{"$f":"INPUT!HC21","v":47.26},{"$f":"INPUT!HD21","v":-0.39},{"$f":"INPUT!HE21","v":0.01},{"$f":"INPUT!HF21","v":{"v":5.4,"d":"5.40"}},{"$f":"INPUT!HG21","v":{"v":5.4,"d":"5.40"}},null,{"$f":"INPUT!IA21","v":{"v":-0.4,"d":"-0.40"}},{"$f":"INPUT!IB21","v":542.27},{"$f":"INPUT!IC21","v":-47.37},{"$f":"INPUT!ID21","v":37.29},{"$f":"INPUT!IE21","v":-0.02},{"$f":"INPUT!IF21","v":-0.04},{"$f":"INPUT!IG21","v":-4.04},{"$f":"INPUT!IH21","v":-4.04},null,{"$f":"INPUT!IZ21","v":{"v":-6,"d":"-6.00"}},{"$f":"INPUT!JA21","v":{"v":-0.8125,"d":"-0.81"}},{"$f":"INPUT!JB21","v":{"v":0.8508,"d":"0.85"}},{"$f":"INPUT!JC21","v":{"v":7.1426,"d":"7.14"}},{"$f":"INPUT!JD21","v":{"v":2.6076,"d":"2.61"}},{"$f":"INPUT!JE21","v":{"v":1.193,"d":"1.19"}},{"$f":"INPUT!JF21","v":{"v":1.193,"d":"1.19"}},{"v":0.8382229673093042,"d":"0.84"},null,{"$f":"INPUT!JX21","v":{"v":-0.4,"d":"-0.40"}},{"$f":"INPUT!JY21","v":{"v":-0.7714,"d":"-0.77"}},{"$f":"INPUT!JZ21","v":{"v":0.8506,"d":"0.85"}},{"$f":"INPUT!KA21","v":{"v":7.0779,"d":"7.08"}},{"$f":"INPUT!KB21","v":{"v":2.5673,"d":"2.57"}},{"$f":"INPUT!KC21","v":{"v":1.142,"d":"1.14"}},{"$f":"INPUT!KD21","v":{"v":1.142,"d":"1.14"}},{"v":0.8756567425569177,"d":"0.88"},null,{"$f":"INPUT!KZ21","v":{"v":-6,"d":"-6.00"}},{"$f":"INPUT!LA21","v":15.43},{"$f":"INPUT!LB21","v":23.88},{"$f":"INPUT!LC21","v":69.58},{"$f":"INPUT!LD21","v":75.58},{"$f":"INPUT!LE21","v":-0.67},{"$f":"INPUT!LF21","v":-0.28},{"$f":"INPUT!LG21","v":5.09},{"$f":"INPUT!LH21","v":5.09},null,{"$f":"INPUT!MB21","v":{"v":-0.4,"d":"-0.40"}},{"$f":"INPUT!MC21","v":{"v":2083.1,"d":"2083.10"}},{"$f":"INPUT!MD21","v":-45.72},{"$f":"INPUT!ME21","v":62.66},{"$f":"INPUT!MF21","v":-0.02},{"$f":"INPUT!MG21","v":0.28},{"$f":"INPUT!MH21","v":-3.73},{"$f":"INPUT!MI21","v":-3.73}]
[null,{"$f":"INPUT!EA22","v":{"v":-5,"d":"-5.00"}},{"$f":"INPUT!EB22","v":{"v":-0.5592,"d":"-0.56"}},{"$f":"INPUT!EC22","v":{"v":-1.611,"d":"-1.61"}},{"$f":"INPUT!ED22","v":{"v":3.3143,"d":"3.31"}},{"$f":"INPUT!EE22","v":{"v":11.5784,"d":"11.58"}},{"$f":"INPUT!EF22","v":{"v":1.114,"d":"1.11"}},{"$f":"INPUT!EG22","v":{"v":1.114,"d":"1.11"}},{"v":0.8976660682226211,"d":"0.90"},null,{"$f":"INPUT!EY22","v":{"v":-0.3,"d":"-0.30"}},{"$f":"INPUT!EZ22","v":{"v":-0.4723,"d":"-0.47"}},{"$f":"INPUT!FA22","v":{"v":-1.5601,"d":"-1.56"}},{"$f":"INPUT!FB22","v":{"v":3.4876,"d":"3.49"}},{"$f":"INPUT!FC22","v":{"v":11.4949,"d":"11.49"}},{"$f":"INPUT!FD22","v":{"v":1.1,"d":"1.10"}},{"$f":"INPUT!FE22","v":{"v":1.1,"d":"1.10"}},{"v":0.9090909090909091,"d":"0.91"},null,{"$f":"INPUT!FW22","v":{"v":-14,"d":"-14.00"}},{"$f":"INPUT!FX22","v":10.19},{"$f":"INPUT!FY22","v":-14.04},{"$f":"INPUT!FZ22","v":-1.22},{"$f":"INPUT!GA22","v":{"v":0.4,"d":"0.40"}},{"$f":"INPUT!GB22","v":{"v":190,"d":"190.00"}},{"$f":"INPUT!GC22","v":7368.24},null,{"$f":"INPUT!GY22","v":{"v":-5,"d":"-5.00"}},{"$f":"INPUT!GZ22","v":{"v":18.6,"d":"18.60"}},{"$f":"INPUT!HA22","v":{"v":0,"d":"0.00"}},{"$f":"INPUT!HB22","v":40.63},{"$f":"INPUT!HC22","v":45.63},{"$f":"INPUT!HD22","v":-0.32},{"$f":"INPUT!HE22","v":{"v":0,"d":"0.00"}},{"$f":"INPUT!HF22","v":4.51},{"$f":"INPUT!HG22","v":4.51},null,{"$f":"INPUT!IA22","v":{"v":-0.3,"d":"-0.30"}},{"$f":"INPUT!IB22","v":542.27},{"$f":"INPUT!IC22","v":-35.53},{"$f":"INPUT!ID22","v":37.38},{"$f":"INPUT!IE22","v":-0.01},{"$f":"INPUT!IF22","v":-0.03},{"$f":"INPUT!IG22","v":-3.03},{"$f":"INPUT!IH22","v":-3.03},null,{"$f":"INPUT!IZ22","v":{"v":-5,"d":"-5.00"}},{"$f":"INPUT!JA22","v":{"v":-0.8472,"d":"-0.85"}},{"$f":"INPUT!JB22","v":{"v":0.8511,"d":"0.85"}},{"$f":"INPUT!JC22","v":{"v":7.1366,"d":"7.14"}},{"$f":"INPUT!JD22","v":{"v":2.6424,"d":"2.64"}},{"$f":"INPUT!JE22","v":{"v":1.188,"d":"1.19"}},{"$f":"INPUT!JF22","v":{"v":1.188,"d":"1.19"}},{"v":0.8417508417508418,"d":"0.84"},null,{"$f":"INPUT!JX22","v":{"v":-0.3,"d":"-0.30"}},{"$f":"INPUT!JY22","v":{"v":-0.8338,"d":"-0.83"}},{"$f":"INPUT!JZ22","v":{"v":0.8513,"d":"0.85"}},{"$f":"INPUT!KA22","v":{"v":7.0851,"d":"7.09"}},{"$f":"INPUT!KB22","v":{"v":2.6295,"d":"2.63"}},{"$f":"INPUT!KC22","v":{"v":1.147,"d":"1.15"}},{"$f":"INPUT!KD22","v":{"v":1.147,"d":"1.15"}},{"v":0.8718395815170008,"d":"0.87"},null,{"$f":"INPUT!KZ22","v":{"v":-5,"d":"-5.00"}},{"$f":"INPUT!LA22","v":15.37},{"$f":"INPUT!LB22","v":{"v":23.7,"d":"23.70"}},{"$f":"INPUT!LC22","v":68.48},{"$f":"INPUT!LD22","v":73.48},{"$f":"INPUT!LE22","v":-0.55},{"$f":"INPUT!LF22","v":-0.23},{"$f":"INPUT!LG22","v":4.25},{"$f":"INPUT!LH22","v":4.25},null,{"$f":"INPUT!MB22","v":{"v":-0.3,"d":"-0.30"}},{"$f":"INPUT!MC22","v":{"v":2083.1,"d":"2083.10"}},{"$f":"INPUT!MD22","v":-34.29},{"$f":"INPUT!ME22","v":62.81},{"$f":"INPUT!MF22","v":-0.01},{"$f":"INPUT!MG22","v":0.21},{"$f":"INPUT!MH22","v":-2.79},{"$f":"INPUT!MI22","v":-2.79}]
[null,{"$f":"INPUT!EA23","v":{"v":-4,"d":"-4.00"}},{"$f":"INPUT!EB23","v":{"v":-0.5846,"d":"-0.58"}},{"$f":"INPUT!EC23","v":{"v":-1.6045,"d":"-1.60"}},{"$f":"INPUT!ED23","v":{"v":3.3357,"d":"3.34"}},{"$f":"INPUT!EE23","v":{"v":11.6041,"d":"11.60"}},{"$f":"INPUT!EF23","v":{"v":1.112,"d":"1.11"}},{"$f":"INPUT!EG23","v":{"v":1.112,"d":"1.11"}},{"v":0.8992805755395683,"d":"0.90"},null,{"$f":"INPUT!EY23","v":{"v":-0.2,"d":"-0.20"}},{"$f":"INPUT!EZ23","v":{"v":-0.5436,"d":"-0.54"}},{"$f":"INPUT!FA23","v":{"v":-1.5661,"d":"-1.57"}},{"$f":"INPUT!FB23","v":{"v":3.4654,"d":"3.47"}},{"$f":"INPUT!FC23","v":{"v":11.5657,"d":"11.57"}},{"$f":"INPUT!FD23","v":{"v":1.101,"d":"1.10"}},{"$f":"INPUT!FE23","v":{"v":1.101,"d":"1.10"}},{"v":0.9082652134423251,"d":"0.91"},null,{"$f":"INPUT!FW23","v":{"v":-13,"d":"-13.00"}},{"$f":"INPUT!FX23","v":9.36},{"$f":"INPUT!FY23","v":-13.12},{"$f":"INPUT!FZ23","v":{"v":-1.2,"d":"-1.20"}},{"$f":"INPUT!GA23","v":{"v":0.3,"d":"0.30"}},{"$f":"INPUT!GB23","v":215.03},{"$f":"INPUT!GC23","v":{"v":7981.8,"d":"7981.80"}},null,{"$f":"INPUT!GY23","v":{"v":-4,"d":"-4.00"}},{"$f":"INPUT!GZ23","v":18.66},{"$f":"INPUT!HA23","v":{"v":0,"d":"0.00"}},{"$f":"INPUT!HB23","v":{"v":40,"d":"40.00"}},{"$f":"INPUT!HC23","v":{"v":44,"d":"44.00"}},{"$f":"INPUT!HD23","v":-0.25},{"$f":"INPUT!HE23","v":{"v":0,"d":"0.00"}},{"$f":"INPUT!HF23","v":3.61},{"$f":"INPUT!HG23","v":3.61},null,{"$f":"INPUT!IA23","v":{"v":-0.2,"d":"-0.20"}},{"$f":"INPUT!IB23","v":542.27},{"$f":"INPUT!IC23","v":-23.69},{"$f":"INPUT!ID23","v":37.44},{"$f":"INPUT!IE23","v":-0.01},{"$f":"INPUT!IF23","v":-0.02},{"$f":"INPUT!IG23","v":-2.02},{"$f":"INPUT!IH23","v":-2.02},null,{"$f":"INPUT!IZ23","v":{"v":-4,"d":"-4.00"}},{"$f":"INPUT!JA23","v":{"v":-0.882,"d":"-0.88"}},{"$f":"INPUT!JB23","v":{"v":0.8515,"d":"0.85"}},{"$f":"INPUT!JC23","v":{"v":7.1306,"d":"7.13"}},{"$f":"INPUT!JD23","v":{"v":2.6772,"d":"2.68"}},{"$f":"INPUT!JE23","v":{"v":1.183,"d":"1.18"}},{"$f":"INPUT!JF23","v":{"v":1.183,"d":"1.18"}},{"v":0.8453085376162299,"d":"0.85"},null,{"$f":"INPUT!JX23","v":{"v":-0.2,"d":"-0.20"}},{"$f":"INPUT!JY23","v":{"v":-0.8963,"d":"-0.90"}},{"$f":"INPUT!JZ23","v":{"v":0.852,"d":"0.85"}},{"$f":"INPUT!KA23","v":{"v":7.0922,"d":"7.09"}},{"$f":"INPUT!KB23","v":{"v":2.6918,"d":"2.69"}},{"$f":"INPUT!KC23","v":{"v":1.152,"d":"1.15"}},{"$f":"INPUT!KD23","v":{"v":1.152,"d":"1.15"}},{"v":0.8680555555555556,"d":"0.87"},null,{"$f":"INPUT!KZ23","v":{"v":-4,"d":"-4.00"}},{"$f":"INPUT!LA23","v":{"v":15.3,"d":"15.30"}},{"$f":"INPUT!LB23","v":23.51},{"$f":"INPUT!LC23","v":67.38},{"$f":"INPUT!LD23","v":71.38},{"$f":"INPUT!LE23","v":-0.44},{"$f":"INPUT!LF23","v":-0.18},{"$f":"INPUT!LG23","v":3.41},{"$f":"INPUT!LH23","v":3.41},null,{"$f":"INPUT!MB23","v":{"v":-0.2,"d":"-0.20"}},{"$f":"INPUT!MC23","v":{"v":2083.1,"d":"2083.10"}},{"$f":"INPUT!MD23","v":-22.86},{"$f":"INPUT!ME23","v":62.92},{"$f":"INPUT!MF23","v":{"v":0,"d":"0.00"}},{"$f":"INPUT!MG23","v":0.14},{"$f":"INPUT!MH23","v":-1.85},{"$f":"INPUT!MI23","v":-1.85}]
[null,{"$f":"INPUT!EA24","v":{"v":-3,"d":"-3.00"}},{"$f":"INPUT!EB24","v":{"v":-0.6099,"d":"-0.61"}},{"$f":"INPUT!EC24","v":{"v":-1.598,"d":"-1.60"}},{"$f":"INPUT!ED24","v":{"v":3.357,"d":"3.36"}},{"$f":"INPUT!EE24","v":{"v":11.6299,"d":"11.63"}},{"$f":"INPUT!EF24","v":1.11},{"$f":"INPUT!EG24","v":1.11},{"v":0.9009009009009008,"d":"0.90"},null,{"$f":"INPUT!EY24","v":{"v":-0.1,"d":"-0.10"}},{"$f":"INPUT!EZ24","v":{"v":-0.615,"d":"-0.62"}},{"$f":"INPUT!FA24","v":{"v":-1.5721,"d":"-1.57"}},{"$f":"INPUT!FB24","v":{"v":3.4433,"d":"3.44"}},{"$f":"INPUT!FC24","v":{"v":11.6366,"d":"11.64"}},{"$f":"INPUT!FD24","v":{"v":1.103,"d":"1.10"}},{"$f":"INPUT!FE24","v":{"v":1.103,"d":"1.10"}},{"v":0.9066183136899365,"d":"0.91"},null,{"$f":"INPUT!FW24","v":{"v":-12,"d":"-12.00"}},{"$f":"INPUT!FX24","v":8.53},{"$f":"INPUT!FY24","v":{"v":-12.2,"d":"-12.20"}},{"$f":"INPUT!FZ24","v":-1.17},{"$f":"INPUT!GA24","v":{"v":0.2,"d":"0.20"}},{"$f":"INPUT!GB24","v":246.63},{"$f":"INPUT!GC24","v":8702.29},null,{"$f":"INPUT!GY24","v":{"v":-3,"d":"-3.00"}},{"$f":"INPUT!GZ24","v":18.73},{"$f":"INPUT!HA24","v":{"v":0,"d":"0.00"}},{"$f":"INPUT!HB24","v":39.37},{"$f":"INPUT!HC24","v":42.37},{"$f":"INPUT!HD24","v":-0.18},{"$f":"INPUT!HE24","v":{"v":0,"d":"0.00"}},{"$f":"INPUT!HF24","v":2.71},{"$f":"INPUT!HG24","v":2.71},null,{"$f":"INPUT!IA24","v":{"v":-0.1,"d":"-0.10"}},{"$f":"INPUT!IB24","v":542.27},{"$f":"INPUT!IC24","v":-11.85},{"$f":"INPUT!ID24","v":37.48},{"$f":"INPUT!IE24","v":{"v":0,"d":"0.00"}},{"$f":"INPUT!IF24","v":-0.01},{"$f":"INPUT!IG24","v":-1.01},{"$f":"INPUT!IH24","v":-1.01},null,{"$f":"INPUT!IZ24","v":{"v":-3,"d":"-3.00"}},{"$f":"INPUT!JA24","v":{"v":-0.9168,"d":"-0.92"}},{"$f":"INPUT!JB24","v":{"v":0.8519,"d":"0.85"}},{"$f":"INPUT!JC24","v":{"v":7.1246,"d":"7.12"}},{"$f":"INPUT!JD24","v":{"v":2.712,"d":"2.71"}},{"$f":"INPUT!JE24","v":{"v":1.178,"d":"1.18"}},{"$f":"INPUT!JF24","v":{"v":1.178,"d":"1.18"}},{"v":0.8488964346349746,"d":"0.85"},null,{"$f":"INPUT!JX24","v":{"v":-0.1,"d":"-0.10"}},{"$f":"INPUT!JY24","v":{"v":-0.9588,"d":"-0.96"}},{"$f":"INPUT!JZ24","v":{"v":0.8528,"d":"0.85"}},{"$f":"INPUT!KA24","v":{"v":7.0993,"d":"7.10"}},{"$f":"INPUT!KB24","v":{"v":2.7541,"d":"2.75"}},{"$f":"INPUT!KC24","v":{"v":1.158,"d":"1.16"}},{"$f":"INPUT!KD24","v":{"v":1.158,"d":"1.16"}},{"v":0.8635578583765113,"d":"0.86"},null,{"$f":"INPUT!KZ24","v":{"v":-3,"d":"-3.00"}},{"$f":"INPUT!LA24","v":15.23},{"$f":"INPUT!LB24","v":23.32},{"$f":"INPUT!LC24","v":66.28},{"$f":"INPUT!LD24","v":69.28},{"$f":"INPUT!LE24","v":-0.32},{"$f":"INPUT!LF24","v":-0.14},{"$f":"INPUT!LG24","v":2.56},{"$f":"INPUT!LH24","v":2.56},null,{"$f":"INPUT!MB24","v":{"v":-0.1,"d":"-0.10"}},{"$f":"INPUT!MC24","v":{"v":2083.1,"d":"2083.10"}},{"$f":"INPUT!MD24","v":-11.43},{"$f":"INPUT!ME24","v":62.98},{"$f":"INPUT!MF24","v":{"v":0,"d":"0.00"}},{"$f":"INPUT!MG24","v":0.07},{"$f":"INPUT!MH24","v":-0.93},{"$f":"INPUT!MI24","v":-0.93}]
[null,{"$f":"INPUT!EA25","v":{"v":-2,"d":"-2.00"}},{"$f":"INPUT!EB25","v":{"v":-0.6354,"d":"-0.64"}},{"$f":"INPUT!EC25","v":{"v":-1.5913,"d":"-1.59"}},{"$f":"INPUT!ED25","v":{"v":3.3784,"d":"3.38"}},{"$f":"INPUT!EE25","v":{"v":11.6557,"d":"11.66"}},{"$f":"INPUT!EF25","v":{"v":1.109,"d":"1.11"}},{"$f":"INPUT!EG25","v":{"v":1.109,"d":"1.11"}},{"v":0.9017132551848512,"d":"0.90"},null,{"$f":"INPUT!EY25","v":{"v":0,"d":"0.00"}},{"$f":"INPUT!EZ25","v":{"v":-0.6864,"d":"-0.69"}},{"$f":"INPUT!FA25","v":{"v":-1.578,"d":"-1.58"}},{"$f":"INPUT!FB25","v":{"v":3.4211,"d":"3.42"}},{"$f":"INPUT!FC25","v":{"v":11.7075,"d":"11.71"}},{"$f":"INPUT!FD25","v":{"v":1.105,"d":"1.11"}},{"$f":"INPUT!FE25","v":{"v":1.105,"d":"1.11"}},{"v":0.9049773755656109,"d":"0.90"},null,{"$f":"INPUT!FW25","v":{"v":-11,"d":"-11.00"}},{"$f":"INPUT!FX25","v":{"v":7.7,"d":"7.70"}},{"$f":"INPUT!FY25","v":-11.28},{"$f":"INPUT!FZ25","v":-1.14},{"$f":"INPUT!GA25","v":0.11},{"$f":"INPUT!GB25","v":287.29},{"$f":"INPUT!GC25","v":9561.79},null,{"$f":"INPUT!GY25","v":{"v":-2,"d":"-2.00"}},{"$f":"INPUT!GZ25","v":18.79},{"$f":"INPUT!HA25","v":{"v":0,"d":"0.00"}},{"$f":"INPUT!HB25","v":38.74},{"$f":"INPUT!HC25","v":40.74},{"$f":"INPUT!HD25","v":-0.12},{"$f":"INPUT!HE25","v":{"v":0,"d":"0.00"}},{"$f":"INPUT!HF25","v":1.81},{"$f":"INPUT!HG25","v":1.81},null,{"$f":"INPUT!IA25","v":{"v":0,"d":"0.00"}},{"$f":"INPUT!IB25","v":542.27},{"$f":"INPUT!IC25","v":{"v":0,"d":"0.00"}},{"$f":"INPUT!ID25","v":37.49},{"$f":"INPUT!IE25","v":{"v":0,"d":"0.00"}},{"$f":"INPUT!IF25","v":{"v":0,"d":"0.00"}},{"$f":"INPUT!IG25","v":{"v":0,"d":"0.00"}},{"$f":"INPUT!IH25","v":{"v":0,"d":"0.00"}},null,{"$f":"INPUT!IZ25","v":{"v":-2,"d":"-2.00"}},{"$f":"INPUT!JA25","v":{"v":-0.9516,"d":"-0.95"}},{"$f":"INPUT!JB25","v":{"v":0.8525,"d":"0.85"}},{"$f":"INPUT!JC25","v":{"v":7.1185,"d":"7.12"}},{"$f":"INPUT!JD25","v":{"v":2.7468,"d":"2.75"}},{"$f":"INPUT!JE25","v":{"v":1.173,"d":"1.17"}},{"$f":"INPUT!JF25","v":{"v":1.173,"d":"1.17"}},{"v":0.8525149190110827,"d":"0.85"},null,{"$f":"INPUT!JX25","v":{"v":0,"d":"0.00"}},{"$f":"INPUT!JY25","v":{"v":-1.0213,"d":"-1.02"}},{"$f":"INPUT!JZ25","v":{"v":0.8537,"d":"0.85"}},{"$f":"INPUT!KA25","v":{"v":7.1065,"d":"7.11"}},{"$f":"INPUT!KB25","v":{"v":2.8165,"d":"2.82"}},{"$f":"INPUT!KC25","v":{"v":1.163,"d":"1.16"}},{"$f":"INPUT!KD25","v":{"v":1.163,"d":"1.16"}},{"v":0.8598452278589853,"d":"0.86"},null,{"$f":"INPUT!KZ25","v":{"v":-2,"d":"-2.00"}},{"$f":"INPUT!LA25","v":15.16},{"$f":"INPUT!LB25","v":23.13},{"$f":"INPUT!LC25","v":65.19},{"$f":"INPUT!LD25","v":67.19},{"$f":"INPUT!LE25","v":-0.21},{"$f":"INPUT!LF25","v":-0.09},{"$f":"INPUT!LG25","v":1.71},{"$f":"INPUT!LH25","v":1.71},null,{"$f":"INPUT!MB25","v":{"v":0,"d":"0.00"}},{"$f":"INPUT!MC25","v":{"v":2083.1,"d":"2083.10"}},{"$f":"INPUT!MD25","v":{"v":0,"d":"0.00"}},{"$f":"INPUT!ME25","v":{"v":63,"d":"63.00"}},{"$f":"INPUT!MF25","v":{"v":0,"d":"0.00"}},{"$f":"INPUT!MG25","v":{"v":0,"d":"0.00"}},{"$f":"INPUT!MH25","v":{"v":0,"d":"0.00"}},{"$f":"INPUT!MI25","v":{"v":0,"d":"0.00"}}]
[null,{"$f":"INPUT!EA26","v":{"v":-1,"d":"-1.00"}},{"$f":"INPUT!EB26","v":{"v":-0.6609,"d":"-0.66"}},{"$f":"INPUT!EC26","v":{"v":-1.5847,"d":"-1.58"}},{"$f":"INPUT!ED26","v":{"v":3.3997,"d":"3.40"}},{"$f":"INPUT!EE26","v":{"v":11.6816,"d":"11.68"}},{"$f":"INPUT!EF26","v":{"v":1.107,"d":"1.11"}},{"$f":"INPUT!EG26","v":{"v":1.107,"d":"1.11"}},{"v":0.903342366757001,"d":"0.90"},null,{"$f":"INPUT!EY26","v":{"v":0.1,"d":"0.10"}},{"$f":"INPUT!EZ26","v":{"v":-0.758,"d":"-0.76"}},{"$f":"INPUT!FA26","v":{"v":-1.5838,"d":"-1.58"}},{"$f":"INPUT!FB26","v":{"v":3.3989,"d":"3.40"}},{"$f":"INPUT!FC26","v":{"v":11.7786,"d":"11.78"}},{"$f":"INPUT!FD26","v":{"v":1.107,"d":"1.11"}},{"$f":"INPUT!FE26","v":{"v":1.107,"d":"1.11"}},{"v":0.903342366757001,"d":"0.90"},null,{"$f":"INPUT!FW26","v":{"v":-10,"d":"-10.00"}},{"$f":"INPUT!FX26","v":6.87},{"$f":"INPUT!FY26","v":-10.37},{"$f":"INPUT!FZ26","v":-1.11},{"$f":"INPUT!GA26","v":0.02},{"$f":"INPUT!GB26","v":340.85},{"$f":"INPUT!GC26","v":10606.96},null,{"$f":"INPUT!GY26","v":{"v":-1,"d":"-1.00"}},{"$f":"INPUT!GZ26","v":18.85},{"$f":"INPUT!HA26","v":{"v":0,"d":"0.00"}},{"$f":"INPUT!HB26","v":38.12},{"$f":"INPUT!HC26","v":39.12},{"$f":"INPUT!HD26","v":-0.06},{"$f":"INPUT!HE26","v":{"v":0,"d":"0.00"}},{"$f":"INPUT!HF26","v":{"v":0.9,"d":"0.90"}},{"$f":"INPUT!HG26","v":{"v":0.9,"d":"0.90"}},null,{"$f":"INPUT!IA26","v":{"v":0.1,"d":"0.10"}},{"$f":"INPUT!IB26","v":542.27},{"$f":"INPUT!IC26","v":11.85},{"$f":"INPUT!ID26","v":37.48},{"$f":"INPUT!IE26","v":{"v":0,"d":"0.00"}},{"$f":"INPUT!IF26","v":0.01},{"$f":"INPUT!IG26","v":1.01},{"$f":"INPUT!IH26","v":1.01},null,{"$f":"INPUT!IZ26","v":{"v":-1,"d":"-1.00"}},{"$f":"INPUT!JA26","v":{"v":-0.9864,"d":"-0.99"}},{"$f":"INPUT!JB26","v":{"v":0.8531,"d":"0.85"}},{"$f":"INPUT!JC26","v":{"v":7.1125,"d":"7.11"}},{"$f":"INPUT!JD26","v":{"v":2.7816,"d":"2.78"}},{"$f":"INPUT!JE26","v":{"v":1.168,"d":"1.17"}},{"$f":"INPUT!JF26","v":{"v":1.168,"d":"1.17"}},{"v":0.8561643835616439,"d":"0.86"},null,{"$f":"INPUT!JX26","v":{"v":0.1,"d":"0.10"}},{"$f":"INPUT!JY26","v":{"v":-1.0839,"d":"-1.08"}},{"$f":"INPUT!JZ26","v":{"v":0.8547,"d":"0.85"}},{"$f":"INPUT!KA26","v":{"v":7.1136,"d":"7.11"}},{"$f":"INPUT!KB26","v":{"v":2.8788,"d":"2.88"}},{"$f":"INPUT!KC26","v":{"v":1.169,"d":"1.17"}},{"$f":"INPUT!KD26","v":{"v":1.169,"d":"1.17"}},{"v":0.8554319931565441,"d":"0.86"},null,{"$f":"INPUT!KZ26","v":{"v":-1,"d":"-1.00"}},{"$f":"INPUT!LA26","v":{"v":15.1,"d":"15.10"}},{"$f":"INPUT!LB26","v":22.93},{"$f":"INPUT!LC26","v":64.09},{"$f":"INPUT!LD26","v":65.09},{"$f":"INPUT!LE26","v":{"v":-0.1,"d":"-0.10"}},{"$f":"INPUT!LF26","v":-0.05},{"$f":"INPUT!LG26","v":0.86},{"$f":"INPUT!LH26","v":0.86},null,{"$f":"INPUT!MB26","v":{"v":0.1,"d":"0.10"}},{"$f":"INPUT!MC26","v":{"v":2083.1,"d":"2083.10"}},{"$f":"INPUT!MD26","v":11.43},{"$f":"INPUT!ME26","v":62.98},{"$f":"INPUT!MF26","v":{"v":0,"d":"0.00"}},{"$f":"INPUT!MG26","v":-0.07},{"$f":"INPUT!MH26","v":0.92},{"$f":"INPUT!MI26","v":0.92}]
[null,{"$f":"INPUT!EA27","v":{"v":0,"d":"0.00"}},{"$f":"INPUT!EB27","v":{"v":-0.6864,"d":"-0.69"}},{"$f":"INPUT!EC27","v":{"v":-1.578,"d":"-1.58"}},{"$f":"INPUT!ED27","v":{"v":3.4211,"d":"3.42"}},{"$f":"INPUT!EE27","v":{"v":11.7075,"d":"11.71"}},{"$f":"INPUT!EF27","v":{"v":1.105,"d":"1.11"}},{"$f":"INPUT!EG27","v":{"v":1.105,"d":"1.11"}},{"v":0.9049773755656109,"d":"0.90"},null,{"$f":"INPUT!EY27","v":{"v":0.2,"d":"0.20"}},{"$f":"INPUT!EZ27","v":{"v":-0.8296,"d":"-0.83"}},{"$f":"INPUT!FA27","v":{"v":-1.5896,"d":"-1.59"}},{"$f":"INPUT!FB27","v":{"v":3.3767,"d":"3.38"}},{"$f":"INPUT!FC27","v":{"v":11.8497,"d":"11.85"}},{"$f":"INPUT!FD27","v":{"v":1.109,"d":"1.11"}},{"$f":"INPUT!FE27","v":{"v":1.109,"d":"1.11"}},{"v":0.9017132551848512,"d":"0.90"},null,{"$f":"INPUT!FW27","v":{"v":-9,"d":"-9.00"}},{"$f":"INPUT!FX27","v":6.03},{"$f":"INPUT!FY27","v":-9.47},{"$f":"INPUT!FZ27","v":-1.08},{"$f":"INPUT!GA27","v":-0.07},{"$f":"INPUT!GB27","v":413.33},{"$f":"INPUT!GC27","v":11908.67},null,{"$f":"INPUT!GY27","v":{"v":0,"d":"0.00"}},{"$f":"INPUT!GZ27","v":18.91},{"$f":"INPUT!HA27","v":{"v":0,"d":"0.00"}},{"$f":"INPUT!HB27","v":37.49},{"$f":"INPUT!HC27","v":37.49},{"$f":"INPUT!HD27","v":{"v":0,"d":"0.00"}},{"$f":"INPUT!HE27","v":{"v":0,"d":"0.00"}},{"$f":"INPUT!HF27","v":{"v":0,"d":"0.00"}},{"$f":"INPUT!HG27","v":{"v":0,"d":"0.00"}},null,{"$f":"INPUT!IA27","v":{"v":0.2,"d":"0.20"}},{"$f":"INPUT!IB27","v":542.27},{"$f":"INPUT!IC27","v":23.69},{"$f":"INPUT!ID27","v":37.44},{"$f":"INPUT!IE27","v":{"v":0,"d":"0.00"}},{"$f":"INPUT!IF27","v":0.02},{"$f":"INPUT!IG27","v":2.01},{"$f":"INPUT!IH27","v":2.01},null,{"$f":"INPUT!IZ27","v":{"v":0,"d":"0.00"}},{"$f":"INPUT!JA27","v":{"v":-1.0213,"d":"-1.02"}},{"$f":"INPUT!JB27","v":{"v":0.8537,"d":"0.85"}},{"$f":"INPUT!JC27","v":{"v":7.1065,"d":"7.11"}},{"$f":"INPUT!JD27","v":{"v":2.8165,"d":"2.82"}},{"$f":"INPUT!JE27","v":{"v":1.163,"d":"1.16"}},{"$f":"INPUT!JF27","v":{"v":1.163,"d":"1.16"}},{"v":0.8598452278589853,"d":"0.86"},null,{"$f":"INPUT!JX27","v":{"v":0.2,"d":"0.20"}},{"$f":"INPUT!JY27","v":{"v":-1.1464,"d":"-1.15"}},{"$f":"INPUT!JZ27","v":{"v":0.8558,"d":"0.86"}},{"$f":"INPUT!KA27","v":{"v":7.1208,"d":"7.12"}},{"$f":"INPUT!KB27","v":{"v":2.9412,"d":"2.94"}},{"$f":"INPUT!KC27","v":{"v":1.174,"d":"1.17"}},{"$f":"INPUT!KD27","v":{"v":1.174,"d":"1.17"}},{"v":0.8517887563884157,"d":"0.85"},null,{"$f":"INPUT!KZ27","v":{"v":0,"d":"0.00"}},{"$f":"INPUT!LA27","v":15.03},{"$f":"INPUT!LB27","v":22.74},{"$f":"INPUT!LC27","v":{"v":63,"d":"63.00"}},{"$f":"INPUT!LD27","v":{"v":63,"d":"63.00"}},{"$f":"INPUT!LE27","v":{"v":0,"d":"0.00"}},{"$f":"INPUT!LF27","v":{"v":0,"d":"0.00"}},{"$f":"INPUT!LG27","v":{"v":0,"d":"0.00"}},{"$f":"INPUT!LH27","v":{"v":0,"d":"0.00"}},null,{"$f":"INPUT!MB27","v":{"v":0.2,"d":"0.20"}},{"$f":"INPUT!MC27","v":{"v":2083.1,"d":"2083.10"}},{"$f":"INPUT!MD27","v":22.86},{"$f":"INPUT!ME27","v":62.92},{"$f":"INPUT!MF27","v":{"v":0,"d":"0.00"}},{"$f":"INPUT!MG27","v":-0.14},{"$f":"INPUT!MH27","v":1.84},{"$f":"INPUT!MI27","v":1.84}]
[null,{"$f":"INPUT!EA28","v":{"v":1,"d":"1.00"}},{"$f":"INPUT!EB28","v":{"v":-0.7121,"d":"-0.71"}},{"$f":"INPUT!EC28","v":{"v":-1.5712,"d":"-1.57"}},{"$f":"INPUT!ED28","v":{"v":3.4424,"d":"3.44"}},{"$f":"INPUT!EE28","v":{"v":11.7335,"d":"11.73"}},{"$f":"INPUT!EF28","v":{"v":1.104,"d":"1.10"}},{"$f":"INPUT!EG28","v":{"v":1.104,"d":"1.10"}},{"v":0.9057971014492753,"d":"0.91"},null,{"$f":"INPUT!EY28","v":{"v":0.3,"d":"0.30"}},{"$f":"INPUT!EZ28","v":{"v":-0.9013,"d":"-0.90"}},{"$f":"INPUT!FA28","v":{"v":-1.5953,"d":"-1.60"}},{"$f":"INPUT!FB28","v":{"v":3.3545,"d":"3.35"}},{"$f":"INPUT!FC28","v":{"v":11.9209,"d":"11.92"}},{"$f":"INPUT!FD28","v":{"v":1.111,"d":"1.11"}},{"$f":"INPUT!FE28","v":{"v":1.111,"d":"1.11"}},{"v":0.9000900090009001,"d":"0.90"},null,{"$f":"INPUT!FW28","v":{"v":-8,"d":"-8.00"}},{"$f":"INPUT!FX28","v":{"v":5.2,"d":"5.20"}},{"$f":"INPUT!FY28","v":-8.58},{"$f":"INPUT!FZ28","v":-1.05},{"$f":"INPUT!GA28","v":-0.15},{"$f":"INPUT!GB28","v":514.84},{"$f":"INPUT!GC28","v":13580.48},null,{"$f":"INPUT!GY28","v":{"v":1,"d":"1.00"}},{"$f":"INPUT!GZ28","v":18.98},{"$f":"INPUT!HA28","v":{"v":0,"d":"0.00"}},{"$f":"INPUT!HB28","v":36.86},{"$f":"INPUT!HC28","v":35.86},{"$f":"INPUT!HD28","v":0.06},{"$f":"INPUT!HE28","v":{"v":0,"d":"0.00"}},{"$f":"INPUT!HF28","v":-0.91},{"$f":"INPUT!HG28","v":-0.91},null,{"$f":"INPUT!IA28","v":{"v":0.3,"d":"0.30"}},{"$f":"INPUT!IB28","v":542.27},{"$f":"INPUT!IC28","v":35.53},{"$f":"INPUT!ID28","v":37.38},{"$f":"INPUT!IE28","v":{"v":0,"d":"0.00"}},{"$f":"INPUT!IF28","v":0.03},{"$f":"INPUT!IG28","v":3.01},{"$f":"INPUT!IH28","v":3.01},null,{"$f":"INPUT!IZ28","v":{"v":1,"d":"1.00"}},{"$f":"INPUT!JA28","v":{"v":-1.0562,"d":"-1.06"}},{"$f":"INPUT!JB28","v":{"v":0.8544,"d":"0.85"}},{"$f":"INPUT!JC28","v":{"v":7.1005,"d":"7.10"}},{"$f":"INPUT!JD28","v":{"v":2.8513,"d":"2.85"}},{"$f":"INPUT!JE28","v":{"v":1.158,"d":"1.16"}},{"$f":"INPUT!JF28","v":{"v":1.158,"d":"1.16"}},{"v":0.8635578583765113,"d":"0.86"},null,{"$f":"INPUT!JX28","v":{"v":0.3,"d":"0.30"}},{"$f":"INPUT!JY28","v":{"v":-1.2091,"d":"-1.21"}},{"$f":"INPUT!JZ28","v":{"v":0.8569,"d":"0.86"}},{"$f":"INPUT!KA28","v":{"v":7.128,"d":"7.13"}},{"$f":"INPUT!KB28","v":{"v":3.0036,"d":"3.00"}},{"$f":"INPUT!KC28","v":1.18},{"$f":"INPUT!KD28","v":1.18},{"v":0.8474576271186441,"d":"0.85"},null,{"$f":"INPUT!KZ28","v":{"v":1,"d":"1.00"}},{"$f":"INPUT!LA28","v":14.96},{"$f":"INPUT!LB28","v":22.55},{"$f":"INPUT!LC28","v":61.91},{"$f":"INPUT!LD28","v":60.91},{"$f":"INPUT!LE28","v":{"v":0.1,"d":"0.10"}},{"$f":"INPUT!LF28","v":0.04},{"$f":"INPUT!LG28","v":-0.86},{"$f":"INPUT!LH28","v":-0.86},null,{"$f":"INPUT!MB28","v":{"v":0.3,"d":"0.30"}},{"$f":"INPUT!MC28","v":{"v":2083.1,"d":"2083.10"}},{"$f":"INPUT!MD28","v":34.29},{"$f":"INPUT!ME28","v":62.81},{"$f":"INPUT!MF28","v":-0.01},{"$f":"INPUT!MG28","v":-0.22},{"$f":"INPUT!MH28","v":2.75},{"$f":"INPUT!MI28","v":2.75}]
[null,{"$f":"INPUT!EA29","v":{"v":2,"d":"2.00"}},{"$f":"INPUT!EB29","v":{"v":-0.7378,"d":"-0.74"}},{"$f":"INPUT!EC29","v":{"v":-1.5644,"d":"-1.56"}},{"$f":"INPUT!ED29","v":{"v":3.4638,"d":"3.46"}},{"$f":"INPUT!EE29","v":{"v":11.7596,"d":"11.76"}},{"$f":"INPUT!EF29","v":{"v":1.102,"d":"1.10"}},{"$f":"INPUT!EG29","v":{"v":1.102,"d":"1.10"}},{"v":0.9074410163339383,"d":"0.91"},null,{"$f":"INPUT!EY29","v":{"v":0.4,"d":"0.40"}},{"$f":"INPUT!EZ29","v":{"v":-0.9731,"d":"-0.97"}},{"$f":"INPUT!FA29","v":{"v":-1.601,"d":"-1.60"}},{"$f":"INPUT!FB29","v":{"v":3.3323,"d":"3.33"}},{"$f":"INPUT!FC29","v":{"v":11.9921,"d":"11.99"}},{"$f":"INPUT!FD29","v":{"v":1.114,"d":"1.11"}},{"$f":"INPUT!FE29","v":{"v":1.114,"d":"1.11"}},{"v":0.8976660682226211,"d":"0.90"},null,{"$f":"INPUT!FW29","v":{"v":-7,"d":"-7.00"}},{"$f":"INPUT!FX29","v":4.36},{"$f":"INPUT!FY29","v":-7.69},{"$f":"INPUT!FZ29","v":-1.01},{"$f":"INPUT!GA29","v":-0.23},{"$f":"INPUT!GB29","v":663.18},{"$f":"INPUT!GC29","v":15817.92},null,{"$f":"INPUT!GY29","v":{"v":2,"d":"2.00"}},{"$f":"INPUT!GZ29","v":19.04},{"$f":"INPUT!HA29","v":{"v":0,"d":"0.00"}},{"$f":"INPUT!HB29","v":36.24},{"$f":"INPUT!HC29","v":34.24},{"$f":"INPUT!HD29","v":0.11},{"$f":"INPUT!HE29","v":{"v":0,"d":"0.00"}},{"$f":"INPUT!HF29","v":-1.81},{"$f":"INPUT!HG29","v":-1.81},null,{"$f":"INPUT!IA29","v":{"v":0.4,"d":"0.40"}},{"$f":"INPUT!IB29","v":542.27},{"$f":"INPUT!IC29","v":47.37},{"$f":"INPUT!ID29","v":37.29},{"$f":"INPUT!IE29","v":{"v":0,"d":"0.00"}},{"$f":"INPUT!IF29","v":0.04},{"$f":"INPUT!IG29","v":4.01},{"$f":"INPUT!IH29","v":4.01},null,{"$f":"INPUT!IZ29","v":{"v":2,"d":"2.00"}},{"$f":"INPUT!JA29","v":{"v":-1.0911,"d":"-1.09"}},{"$f":"INPUT!JB29","v":{"v":0.8552,"d":"0.86"}},{"$f":"INPUT!JC29","v":{"v":7.0944,"d":"7.09"}},{"$f":"INPUT!JD29","v":{"v":2.8862,"d":"2.89"}},{"$f":"INPUT!JE29","v":{"v":1.154,"d":"1.15"}},{"$f":"INPUT!JF29","v":{"v":1.154,"d":"1.15"}},{"v":0.8665511265164645,"d":"0.87"},null,{"$f":"INPUT!JX29","v":{"v":0.4,"d":"0.40"}},{"$f":"INPUT!JY29","v":{"v":-1.2717,"d":"-1.27"}},{"$f":"INPUT!JZ29","v":{"v":0.8581,"d":"0.86"}},{"$f":"INPUT!KA29","v":{"v":7.1351,"d":"7.14"}},{"$f":"INPUT!KB29","v":{"v":3.0661,"d":"3.07"}},{"$f":"INPUT!KC29","v":{"v":1.186,"d":"1.19"}},{"$f":"INPUT!KD29","v":{"v":1.186,"d":"1.19"}},{"v":0.8431703204047218,"d":"0.84"},null,{"$f":"INPUT!KZ29","v":{"v":2,"d":"2.00"}},{"$f":"INPUT!LA29","v":14.89},{"$f":"INPUT!LB29","v":22.35},{"$f":"INPUT!LC29","v":60.82},{"$f":"INPUT!LD29","v":58.82},{"$f":"INPUT!LE29","v":{"v":0.2,"d":"0.20"}},{"$f":"INPUT!LF29","v":0.09},{"$f":"INPUT!LG29","v":-1.73},{"$f":"INPUT!LH29","v":-1.73},null,{"$f":"INPUT!MB29","v":{"v":0.4,"d":"0.40"}},{"$f":"INPUT!MC29","v":{"v":2083.1,"d":"2083.10"}},{"$f":"INPUT!MD29","v":45.72},{"$f":"INPUT!ME29","v":62.66},{"$f":"INPUT!MF29","v":-0.01},{"$f":"INPUT!MG29","v":-0.29},{"$f":"INPUT!MH29","v":3.66},{"$f":"INPUT!MI29","v":3.66}]
[null,{"$f":"INPUT!EA30","v":{"v":3,"d":"3.00"}},{"$f":"INPUT!EB30","v":{"v":-0.7636,"d":"-0.76"}},{"$f":"INPUT!EC30","v":{"v":-1.5575,"d":"-1.56"}},{"$f":"INPUT!ED30","v":{"v":3.4852,"d":"3.49"}},{"$f":"INPUT!EE30","v":{"v":11.7857,"d":"11.79"}},{"$f":"INPUT!EF30","v":{"v":1.1,"d":"1.10"}},{"$f":"INPUT!EG30","v":{"v":1.1,"d":"1.10"}},{"v":0.9090909090909091,"d":"0.91"},null,{"$f":"INPUT!EY30","v":{"v":0.5,"d":"0.50"}},{"$f":"INPUT!EZ30","v":{"v":-1.045,"d":"-1.05"}},{"$f":"INPUT!FA30","v":{"v":-1.6066,"d":"-1.61"}},{"$f":"INPUT!FB30","v":{"v":3.3101,"d":"3.31"}},{"$f":"INPUT!FC30","v":{"v":12.0635,"d":"12.06"}},{"$f":"INPUT!FD30","v":{"v":1.116,"d":"1.12"}},{"$f":"INPUT!FE30","v":{"v":1.116,"d":"1.12"}},{"v":0.8960573476702508,"d":"0.90"},null,{"$f":"INPUT!FW30","v":{"v":-6,"d":"-6.00"}},{"$f":"INPUT!FX30","v":3.52},{"$f":"INPUT!FY30","v":{"v":-6.8,"d":"-6.80"}},{"$f":"INPUT!FZ30","v":-0.97},{"$f":"INPUT!GA30","v":{"v":-0.3,"d":"-0.30"}},{"$f":"INPUT!GB30","v":892.24},{"$f":"INPUT!GC30","v":18992.13},null,{"$f":"INPUT!GY30","v":{"v":3,"d":"3.00"}},{"$f":"INPUT!GZ30","v":19.11},{"$f":"INPUT!HA30","v":{"v":0,"d":"0.00"}},{"$f":"INPUT!HB30","v":35.61},{"$f":"INPUT!HC30","v":32.61},{"$f":"INPUT!HD30","v":0.16},{"$f":"INPUT!HE30","v":{"v":0,"d":"0.00"}},{"$f":"INPUT!HF30","v":-2.72},{"$f":"INPUT!HG30","v":-2.72},null,{"$f":"INPUT!IA30","v":{"v":0.5,"d":"0.50"}},{"$f":"INPUT!IB30","v":542.27},{"$f":"INPUT!IC30","v":59.21},{"$f":"INPUT!ID30","v":37.17},{"$f":"INPUT!IE30","v":-0.01},{"$f":"INPUT!IF30","v":0.05},{"$f":"INPUT!IG30","v":5.01},{"$f":"INPUT!IH30","v":5.01},null,{"$f":"INPUT!IZ30","v":{"v":3,"d":"3.00"}},{"$f":"INPUT!JA30","v":{"v":-1.126,"d":"-1.13"}},{"$f":"INPUT!JB30","v":{"v":0.8561,"d":"0.86"}},{"$f":"INPUT!JC30","v":{"v":7.0884,"d":"7.09"}},{"$f":"INPUT!JD30","v":{"v":2.9211,"d":"2.92"}},{"$f":"INPUT!JE30","v":{"v":1.149,"d":"1.15"}},{"$f":"INPUT!JF30","v":{"v":1.149,"d":"1.15"}},{"v":0.8703220191470844,"d":"0.87"},null,{"$f":"INPUT!JX30","v":{"v":0.5,"d":"0.50"}},{"$f":"INPUT!JY30","v":{"v":-1.3344,"d":"-1.33"}},{"$f":"INPUT!JZ30","v":{"v":0.8594,"d":"0.86"}},{"$f":"INPUT!KA30","v":{"v":7.1423,"d":"7.14"}},{"$f":"INPUT!KB30","v":{"v":3.1285,"d":"3.13"}},{"$f":"INPUT!KC30","v":{"v":1.191,"d":"1.19"}},{"$f":"INPUT!KD30","v":{"v":1.191,"d":"1.19"}},{"v":0.8396305625524769,"d":"0.84"},null,{"$f":"INPUT!KZ30","v":{"v":3,"d":"3.00"}},{"$f":"INPUT!LA30","v":14.82},{"$f":"INPUT!LB30","v":22.15},{"$f":"INPUT!LC30","v":59.74},{"$f":"INPUT!LD30","v":56.74},{"$f":"INPUT!LE30","v":0.29},{"$f":"INPUT!LF30","v":0.13},{"$f":"INPUT!LG30","v":{"v":-2.6,"d":"-2.60"}},{"$f":"INPUT!LH30","v":{"v":-2.6,"d":"-2.60"}},null,{"$f":"INPUT!MB30","v":{"v":0.5,"d":"0.50"}},{"$f":"INPUT!MC30","v":{"v":2083.1,"d":"2083.10"}},{"$f":"INPUT!MD30","v":57.14},{"$f":"INPUT!ME30","v":62.47},{"$f":"INPUT!MF30","v":-0.02},{"$f":"INPUT!MG30","v":-0.37},{"$f":"INPUT!MH30","v":4.56},{"$f":"INPUT!MI30","v":4.56}]
[null,{"$f":"INPUT!EA31","v":{"v":4,"d":"4.00"}},{"$f":"INPUT!EB31","v":{"v":-0.7894,"d":"-0.79"}},{"$f":"INPUT!EC31","v":{"v":-1.5506,"d":"-1.55"}},{"$f":"INPUT!ED31","v":{"v":3.5065,"d":"3.51"}},{"$f":"INPUT!EE31","v":{"v":11.8119,"d":"11.81"}},{"$f":"INPUT!EF31","v":{"v":1.099,"d":"1.10"}},{"$f":"INPUT!EG31","v":{"v":1.099,"d":"1.10"}},{"v":0.9099181073703367,"d":"0.91"},null,{"$f":"INPUT!EY31","v":{"v":0.6,"d":"0.60"}},{"$f":"INPUT!EZ31","v":{"v":-1.117,"d":"-1.12"}},{"$f":"INPUT!FA31","v":{"v":-1.6121,"d":"-1.61"}},{"$f":"INPUT!FB31","v":{"v":3.2879,"d":"3.29"}},{"$f":"INPUT!FC31","v":{"v":12.1349,"d":"12.13"}},{"$f":"INPUT!FD31","v":{"v":1.118,"d":"1.12"}},{"$f":"INPUT!FE31","v":{"v":1.118,"d":"1.12"}},{"v":0.8944543828264757,"d":"0.89"},null,{"$f":"INPUT!FW31","v":{"v":-5,"d":"-5.00"}},{"$f":"INPUT!FX31","v":2.68},{"$f":"INPUT!FY31","v":-5.92},{"$f":"INPUT!FZ31","v":-0.93},{"$f":"INPUT!GA31","v":-0.37},{"$f":"INPUT!GB31","v":1273.26},{"$f":"INPUT!GC31","v":23916.02},null,{"$f":"INPUT!GY31","v":{"v":4,"d":"4.00"}},{"$f":"INPUT!GZ31","v":19.17},{"$f":"INPUT!HA31","v":{"v":0,"d":"0.00"}},{"$f":"INPUT!HB31","v":34.99},{"$f":"INPUT!HC31","v":30.99},{"$f":"INPUT!HD31","v":0.21},{"$f":"INPUT!HE31","v":{"v":0,"d":"0.00"}},{"$f":"INPUT!HF31","v":-3.63},{"$f":"INPUT!HG31","v":-3.63},null,{"$f":"INPUT!IA31","v":{"v":0.6,"d":"0.60"}},{"$f":"INPUT!IB31","v":542.27},{"$f":"INPUT!IC31","v":71.05},{"$f":"INPUT!ID31","v":37.03},{"$f":"INPUT!IE31","v":-0.01},{"$f":"INPUT!IF31","v":0.06},{"$f":"INPUT!IG31","v":{"v":6,"d":"6.00"}},{"$f":"INPUT!IH31","v":{"v":6,"d":"6.00"}},null,{"$f":"INPUT!IZ31","v":{"v":4,"d":"4.00"}},{"$f":"INPUT!JA31","v":{"v":-1.161,"d":"-1.16"}},{"$f":"INPUT!JB31","v":{"v":0.857,"d":"0.86"}},{"$f":"INPUT!JC31","v":{"v":7.0824,"d":"7.08"}},{"$f":"INPUT!JD31","v":{"v":2.956,"d":"2.96"}},{"$f":"INPUT!JE31","v":{"v":1.144,"d":"1.14"}},{"$f":"INPUT!JF31","v":{"v":1.144,"d":"1.14"}},{"v":0.8741258741258742,"d":"0.87"},null,{"$f":"INPUT!JX31","v":{"v":0.6,"d":"0.60"}},{"$f":"INPUT!JY31","v":{"v":-1.3972,"d":"-1.40"}},{"$f":"INPUT!JZ31","v":{"v":0.8608,"d":"0.86"}},{"$f":"INPUT!KA31","v":{"v":7.1495,"d":"7.15"}},{"$f":"INPUT!KB31","v":{"v":3.191,"d":"3.19"}},{"$f":"INPUT!KC31","v":{"v":1.197,"d":"1.20"}},{"$f":"INPUT!KD31","v":{"v":1.197,"d":"1.20"}},{"v":0.835421888053467,"d":"0.84"},null,{"$f":"INPUT!KZ31","v":{"v":4,"d":"4.00"}},{"$f":"INPUT!LA31","v":14.75},{"$f":"INPUT!LB31","v":21.95},{"$f":"INPUT!LC31","v":58.65},{"$f":"INPUT!LD31","v":54.65},{"$f":"INPUT!LE31","v":0.38},{"$f":"INPUT!LF31","v":0.18},{"$f":"INPUT!LG31","v":-3.47},{"$f":"INPUT!LH31","v":-3.47},null,{"$f":"INPUT!MB31","v":{"v":0.6,"d":"0.60"}},{"$f":"INPUT!MC31","v":{"v":2083.1,"d":"2083.10"}},{"$f":"INPUT!MD31","v":68.56},{"$f":"INPUT!ME31","v":62.24},{"$f":"INPUT!MF31","v":-0.03},{"$f":"INPUT!MG31","v":-0.44},{"$f":"INPUT!MH31","v":5.46},{"$f":"INPUT!MI31","v":5.46}]
[null,{"$f":"INPUT!EA32","v":{"v":5,"d":"5.00"}},{"$f":"INPUT!EB32","v":{"v":-0.8153,"d":"-0.82"}},{"$f":"INPUT!EC32","v":{"v":-1.5437,"d":"-1.54"}},{"$f":"INPUT!ED32","v":{"v":3.5279,"d":"3.53"}},{"$f":"INPUT!EE32","v":{"v":11.8382,"d":"11.84"}},{"$f":"INPUT!EF32","v":{"v":1.097,"d":"1.10"}},{"$f":"INPUT!EG32","v":{"v":1.097,"d":"1.10"}},{"v":0.9115770282588879,"d":"0.91"},null,{"$f":"INPUT!EY32","v":{"v":0.7,"d":"0.70"}},{"$f":"INPUT!EZ32","v":{"v":-1.1891,"d":"-1.19"}},{"$f":"INPUT!FA32","v":{"v":-1.6176,"d":"-1.62"}},{"$f":"INPUT!FB32","v":{"v":3.2657,"d":"3.27"}},{"$f":"INPUT!FC32","v":{"v":12.2064,"d":"12.21"}},{"$f":"INPUT!FD32","v":1.12},{"$f":"INPUT!FE32","v":1.12},{"v":0.8928571428571428,"d":"0.89"},null,{"$f":"INPUT!FW32","v":{"v":-4,"d":"-4.00"}},{"$f":"INPUT!FX32","v":1.83},{"$f":"INPUT!FY32","v":-5.04},{"$f":"INPUT!FZ32","v":-0.89},{"$f":"INPUT!GA32","v":-0.44},{"$f":"INPUT!GB32","v":1977.65},{"$f":"INPUT!GC32","v":32833.14},null,{"$f":"INPUT!GY32","v":{"v":5,"d":"5.00"}},{"$f":"INPUT!GZ32","v":19.24},{"$f":"INPUT!HA32","v":{"v":0,"d":"0.00"}},{"$f":"INPUT!HB32","v":34.37},{"$f":"INPUT!HC32","v":29.37},{"$f":"INPUT!HD32","v":0.25},{"$f":"INPUT!HE32","v":{"v":0,"d":"0.00"}},{"$f":"INPUT!HF32","v":-4.54},{"$f":"INPUT!HG32","v":-4.54},null,{"$f":"INPUT!IA32","v":{"v":0.7,"d":"0.70"}},{"$f":"INPUT!IB32","v":542.27},{"$f":"INPUT!IC32","v":82.88},{"$f":"INPUT!ID32","v":36.87},{"$f":"INPUT!IE32","v":-0.02},{"$f":"INPUT!IF32","v":0.07},{"$f":"INPUT!IG32","v":{"v":7,"d":"7.00"}},{"$f":"INPUT!IH32","v":{"v":7,"d":"7.00"}},null,{"$f":"INPUT!IZ32","v":{"v":5,"d":"5.00"}},{"$f":"INPUT!JA32","v":{"v":-1.196,"d":"-1.20"}},{"$f":"INPUT!JB32","v":{"v":0.858,"d":"0.86"}},{"$f":"INPUT!JC32","v":{"v":7.0764,"d":"7.08"}},{"$f":"INPUT!JD32","v":{"v":2.991,"d":"2.99"}},{"$f":"INPUT!JE32","v":{"v":1.139,"d":"1.14"}},{"$f":"INPUT!JF32","v":{"v":1.139,"d":"1.14"}},{"v":0.8779631255487269,"d":"0.88"},null,{"$f":"INPUT!JX32","v":{"v":0.7,"d":"0.70"}},{"$f":"INPUT!JY32","v":{"v":-1.4599,"d":"-1.46"}},{"$f":"INPUT!JZ32","v":{"v":0.8622,"d":"0.86"}},{"$f":"INPUT!KA32","v":{"v":7.1567,"d":"7.16"}},{"$f":"INPUT!KB32","v":{"v":3.2535,"d":"3.25"}},{"$f":"INPUT!KC32","v":{"v":1.202,"d":"1.20"}},{"$f":"INPUT!KD32","v":{"v":1.202,"d":"1.20"}},{"v":0.831946755407654,"d":"0.83"},null,{"$f":"INPUT!KZ32","v":{"v":5,"d":"5.00"}},{"$f":"INPUT!LA32","v":14.68},{"$f":"INPUT!LB32","v":21.75},{"$f":"INPUT!LC32","v":57.57},{"$f":"INPUT!LD32","v":52.57},{"$f":"INPUT!LE32","v":0.47},{"$f":"INPUT!LF32","v":0.22},{"$f":"INPUT!LG32","v":-4.34},{"$f":"INPUT!LH32","v":-4.34},null,{"$f":"INPUT!MB32","v":{"v":0.7,"d":"0.70"}},{"$f":"INPUT!MC32","v":{"v":2083.1,"d":"2083.10"}},{"$f":"INPUT!MD32","v":79.97},{"$f":"INPUT!ME32","v":61.96},{"$f":"INPUT!MF32","v":-0.05},{"$f":"INPUT!MG32","v":-0.52},{"$f":"INPUT!MH32","v":6.36},{"$f":"INPUT!MI32","v":6.36}]
[null,{"$f":"INPUT!EA33","v":{"v":6,"d":"6.00"}},{"$f":"INPUT!EB33","v":{"v":-0.8413,"d":"-0.84"}},{"$f":"INPUT!EC33","v":{"v":-1.5367,"d":"-1.54"}},{"$f":"INPUT!ED33","v":{"v":3.5493,"d":"3.55"}},{"$f":"INPUT!EE33","v":{"v":11.8645,"d":"11.86"}},{"$f":"INPUT!EF33","v":{"v":1.096,"d":"1.10"}},{"$f":"INPUT!EG33","v":{"v":1.096,"d":"1.10"}},{"v":0.9124087591240875,"d":"0.91"},null,{"$f":"INPUT!EY33","v":{"v":0.8,"d":"0.80"}},{"$f":"INPUT!EZ33","v":{"v":-1.2612,"d":"-1.26"}},{"$f":"INPUT!FA33","v":{"v":-1.6231,"d":"-1.62"}},{"$f":"INPUT!FB33","v":{"v":3.2435,"d":"3.24"}},{"$f":"INPUT!FC33","v":{"v":12.278,"d":"12.28"}},{"$f":"INPUT!FD33","v":{"v":1.122,"d":"1.12"}},{"$f":"INPUT!FE33","v":{"v":1.122,"d":"1.12"}},{"v":0.89126559714795,"d":"0.89"},null,{"$f":"INPUT!FW33","v":{"v":-3,"d":"-3.00"}},{"$f":"INPUT!FX33","v":0.98},{"$f":"INPUT!FY33","v":-4.17},{"$f":"INPUT!FZ33","v":-0.84},{"$f":"INPUT!GA33","v":-0.51},{"$f":"INPUT!GB33","v":3509.69},{"$f":"INPUT!GC33","v":55457.71},null,{"$f":"INPUT!GY33","v":{"v":6,"d":"6.00"}},{"$f":"INPUT!GZ33","v":{"v":19.3,"d":"19.30"}},{"$f":"INPUT!HA33","v":{"v":0,"d":"0.00"}},{"$f":"INPUT!HB33","v":33.74},{"$f":"INPUT!HC33","v":27.74},{"$f":"INPUT!HD33","v":0.29},{"$f":"INPUT!HE33","v":{"v":0,"d":"0.00"}},{"$f":"INPUT!HF33","v":-5.45},{"$f":"INPUT!HG33","v":-5.45},null,{"$f":"INPUT!IA33","v":{"v":0.8,"d":"0.80"}},{"$f":"INPUT!IB33","v":542.27},{"$f":"INPUT!IC33","v":94.71},{"$f":"INPUT!ID33","v":36.68},{"$f":"INPUT!IE33","v":-0.02},{"$f":"INPUT!IF33","v":0.08},{"$f":"INPUT!IG33","v":7.99},{"$f":"INPUT!IH33","v":7.99},null,{"$f":"INPUT!IZ33","v":{"v":6,"d":"6.00"}},{"$f":"INPUT!JA33","v":{"v":-1.231,"d":"-1.23"}},{"$f":"INPUT!JB33","v":{"v":0.8591,"d":"0.86"}},{"$f":"INPUT!JC33","v":{"v":7.0703,"d":"7.07"}},{"$f":"INPUT!JD33","v":{"v":3.026,"d":"3.03"}},{"$f":"INPUT!JE33","v":{"v":1.134,"d":"1.13"}},{"$f":"INPUT!JF33","v":{"v":1.134,"d":"1.13"}},{"v":0.8818342151675486,"d":"0.88"},null,{"$f":"INPUT!JX33","v":{"v":0.8,"d":"0.80"}},{"$f":"INPUT!JY33","v":{"v":-1.5227,"d":"-1.52"}},{"$f":"INPUT!JZ33","v":{"v":0.8638,"d":"0.86"}},{"$f":"INPUT!KA33","v":{"v":7.1639,"d":"7.16"}},{"$f":"INPUT!KB33","v":{"v":3.3161,"d":"3.32"}},{"$f":"INPUT!KC33","v":{"v":1.208,"d":"1.21"}},{"$f":"INPUT!KD33","v":{"v":1.208,"d":"1.21"}},{"v":0.8278145695364238,"d":"0.83"},null,{"$f":"INPUT!KZ33","v":{"v":6,"d":"6.00"}},{"$f":"INPUT!LA33","v":14.61},{"$f":"INPUT!LB33","v":21.55},{"$f":"INPUT!LC33","v":56.49},{"$f":"INPUT!LD33","v":50.49},{"$f":"INPUT!LE33","v":0.55},{"$f":"INPUT!LF33","v":0.26},{"$f":"INPUT!LG33","v":-5.22},{"$f":"INPUT!LH33","v":-5.22},null,{"$f":"INPUT!MB33","v":{"v":0.8,"d":"0.80"}},{"$f":"INPUT!MC33","v":{"v":2083.1,"d":"2083.10"}},{"$f":"INPUT!MD33","v":91.38},{"$f":"INPUT!ME33","v":61.64},{"$f":"INPUT!MF33","v":-0.06},{"$f":"INPUT!MG33","v":-0.59},{"$f":"INPUT!MH33","v":7.25},{"$f":"INPUT!MI33","v":7.25}]
[null,{"$f":"INPUT!EA34","v":{"v":7,"d":"7.00"}},{"$f":"INPUT!EB34","v":{"v":-0.8673,"d":"-0.87"}},{"$f":"INPUT!EC34","v":{"v":-1.5296,"d":"-1.53"}},{"$f":"INPUT!ED34","v":{"v":3.5707,"d":"3.57"}},{"$f":"INPUT!EE34","v":{"v":11.8909,"d":"11.89"}},{"$f":"INPUT!EF34","v":{"v":1.095,"d":"1.10"}},{"$f":"INPUT!EG34","v":{"v":1.095,"d":"1.10"}},{"v":0.9132420091324202,"d":"0.91"},null,{"$f":"INPUT!EY34","v":{"v":0.9,"d":"0.90"}},{"$f":"INPUT!EZ34","v":{"v":-1.3334,"d":"-1.33"}},{"$f":"INPUT!FA34","v":{"v":-1.6285,"d":"-1.63"}},{"$f":"INPUT!FB34","v":{"v":3.2213,"d":"3.22"}},{"$f":"INPUT!FC34","v":{"v":12.3496,"d":"12.35"}},{"$f":"INPUT!FD34","v":{"v":1.125,"d":"1.13"}},{"$f":"INPUT!FE34","v":{"v":1.125,"d":"1.13"}},{"v":0.8888888888888888,"d":"0.89"},null,{"$f":"INPUT!FW34","v":{"v":-2,"d":"-2.00"}},{"$f":"INPUT!FX34","v":0.13},{"$f":"INPUT!FY34","v":{"v":-3.3,"d":"-3.30"}},{"$f":"INPUT!FZ34","v":-0.79},{"$f":"INPUT!GA34","v":-0.57},{"$f":"INPUT!GB34","v":7942.76},{"$f":"INPUT!GC34","v":346163.03},null,{"$f":"INPUT!GY34","v":{"v":7,"d":"7.00"}},{"$f":"INPUT!GZ34","v":19.37},{"$f":"INPUT!HA34","v":{"v":0,"d":"0.00"}},{"$f":"INPUT!HB34","v":33.12},{"$f":"INPUT!HC34","v":26.12},{"$f":"INPUT!HD34","v":0.34},{"$f":"INPUT!HE34","v":{"v":0,"d":"0.00"}},{"$f":"INPUT!HF34","v":-6.37},{"$f":"INPUT!HG34","v":-6.37},null,{"$f":"INPUT!IA34","v":{"v":0.9,"d":"0.90"}},{"$f":"INPUT!IB34","v":542.27},{"$f":"INPUT!IC34","v":106.54},{"$f":"INPUT!ID34","v":36.46},{"$f":"INPUT!IE34","v":-0.03},{"$f":"INPUT!IF34","v":0.09},{"$f":"INPUT!IG34","v":8.98},{"$f":"INPUT!IH34","v":8.98},null,{"$f":"INPUT!IZ34","v":{"v":7,"d":"7.00"}},{"$f":"INPUT!JA34","v":{"v":-1.2661,"d":"-1.27"}},{"$f":"INPUT!JB34","v":{"v":0.8602,"d":"0.86"}},{"$f":"INPUT!JC34","v":{"v":7.0643,"d":"7.06"}},{"$f":"INPUT!JD34","v":{"v":3.061,"d":"3.06"}},{"$f":"INPUT!JE34","v":1.13},{"$f":"INPUT!JF34","v":1.13},{"v":0.8849557522123894,"d":"0.88"},null,{"$f":"INPUT!JX34","v":{"v":0.9,"d":"0.90"}},{"$f":"INPUT!JY34","v":{"v":-1.5855,"d":"-1.59"}},{"$f":"INPUT!JZ34","v":{"v":0.8654,"d":"0.87"}},{"$f":"INPUT!KA34","v":{"v":7.1711,"d":"7.17"}},{"$f":"INPUT!KB34","v":{"v":3.3786,"d":"3.38"}},{"$f":"INPUT!KC34","v":{"v":1.214,"d":"1.21"}},{"$f":"INPUT!KD34","v":{"v":1.214,"d":"1.21"}},{"v":0.8237232289950577,"d":"0.82"},null,{"$f":"INPUT!KZ34","v":{"v":7,"d":"7.00"}},{"$f":"INPUT!LA34","v":14.54},{"$f":"INPUT!LB34","v":21.35},{"$f":"INPUT!LC34","v":55.41},{"$f":"INPUT!LD34","v":48.41},{"$f":"INPUT!LE34","v":0.63},{"$f":"INPUT!LF34","v":{"v":0.3,"d":"0.30"}},{"$f":"INPUT!LG34","v":-6.11},{"$f":"INPUT!LH34","v":-6.11},null,{"$f":"INPUT!MB34","v":{"v":0.9,"d":"0.90"}},{"$f":"INPUT!MC34","v":{"v":2083.1,"d":"2083.10"}},{"$f":"INPUT!MD34","v":102.77},{"$f":"INPUT!ME34","v":61.28},{"$f":"INPUT!MF34","v":-0.08},{"$f":"INPUT!MG34","v":-0.67},{"$f":"INPUT!MH34","v":8.13},{"$f":"INPUT!MI34","v":8.13}]
[null,{"$f":"INPUT!EA35","v":{"v":8,"d":"8.00"}},{"$f":"INPUT!EB35","v":{"v":-0.8935,"d":"-0.89"}},{"$f":"INPUT!EC35","v":{"v":-1.5225,"d":"-1.52"}},{"$f":"INPUT!ED35","v":{"v":3.5921,"d":"3.59"}},{"$f":"INPUT!EE35","v":{"v":11.9173,"d":"11.92"}},{"$f":"INPUT!EF35","v":{"v":1.093,"d":"1.09"}},{"$f":"INPUT!EG35","v":{"v":1.093,"d":"1.09"}},{"v":0.9149130832570906,"d":"0.91"},null,{"$f":"INPUT!EY35","v":{"v":1,"d":"1.00"}},{"$f":"INPUT!EZ35","v":{"v":-1.4057,"d":"-1.41"}},{"$f":"INPUT!FA35","v":{"v":-1.6338,"d":"-1.63"}},{"$f":"INPUT!FB35","v":{"v":3.1991,"d":"3.20"}},{"$f":"INPUT!FC35","v":{"v":12.4214,"d":"12.42"}},{"$f":"INPUT!FD35","v":{"v":1.127,"d":"1.13"}},{"$f":"INPUT!FE35","v":{"v":1.127,"d":"1.13"}},{"v":0.8873114463176575,"d":"0.89"},null,{"$f":"INPUT!FW35","v":{"v":-1,"d":"-1.00"}},{"$f":"INPUT!FX35","v":-0.72},{"$f":"INPUT!FY35","v":-2.44},{"$f":"INPUT!FZ35","v":-0.74},{"$f":"INPUT!GA35","v":-0.63},{"$f":"INPUT!GB35","v":4900.51},{"$f":"INPUT!GC35","v":79309.63},null,{"$f":"INPUT!GY35","v":{"v":8,"d":"8.00"}},{"$f":"INPUT!GZ35","v":19.43},{"$f":"INPUT!HA35","v":{"v":0,"d":"0.00"}},{"$f":"INPUT!HB35","v":{"v":32.5,"d":"32.50"}},{"$f":"INPUT!HC35","v":{"v":24.5,"d":"24.50"}},{"$f":"INPUT!HD35","v":0.37},{"$f":"INPUT!HE35","v":{"v":0,"d":"0.00"}},{"$f":"INPUT!HF35","v":-7.28},{"$f":"INPUT!HG35","v":-7.28},null,{"$f":"INPUT!IA35","v":{"v":1,"d":"1.00"}},{"$f":"INPUT!IB35","v":542.27},{"$f":"INPUT!IC35","v":118.36},{"$f":"INPUT!ID35","v":36.22},{"$f":"INPUT!IE35","v":-0.04},{"$f":"INPUT!IF35","v":{"v":0.1,"d":"0.10"}},{"$f":"INPUT!IG35","v":9.97},{"$f":"INPUT!IH35","v":9.97},null,{"$f":"INPUT!IZ35","v":{"v":8,"d":"8.00"}},{"$f":"INPUT!JA35","v":{"v":-1.3012,"d":"-1.30"}},{"$f":"INPUT!JB35","v":{"v":0.8614,"d":"0.86"}},{"$f":"INPUT!JC35","v":{"v":7.0583,"d":"7.06"}},{"$f":"INPUT!JD35","v":{"v":3.096,"d":"3.10"}},{"$f":"INPUT!JE35","v":{"v":1.125,"d":"1.13"}},{"$f":"INPUT!JF35","v":{"v":1.125,"d":"1.13"}},{"v":0.8888888888888888,"d":"0.89"},null,{"$f":"INPUT!JX35","v":{"v":1,"d":"1.00"}},{"$f":"INPUT!JY35","v":{"v":-1.6484,"d":"-1.65"}},{"$f":"INPUT!JZ35","v":{"v":0.8671,"d":"0.87"}},{"$f":"INPUT!KA35","v":{"v":7.1783,"d":"7.18"}},{"$f":"INPUT!KB35","v":{"v":3.4412,"d":"3.44"}},{"$f":"INPUT!KC35","v":{"v":1.219,"d":"1.22"}},{"$f":"INPUT!KD35","v":{"v":1.219,"d":"1.22"}},{"v":0.8203445447087776,"d":"0.82"},null,{"$f":"INPUT!KZ35","v":{"v":8,"d":"8.00"}},{"$f":"INPUT!LA35","v":14.47},{"$f":"INPUT!LB35","v":21.15},{"$f":"INPUT!LC35","v":54.33},{"$f":"INPUT!LD35","v":46.33},{"$f":"INPUT!LE35","v":0.71},{"$f":"INPUT!LF35","v":0.34},{"$f":"INPUT!LG35","v":-6.99},{"$f":"INPUT!LH35","v":-6.99},null,{"$f":"INPUT!MB35","v":{"v":1,"d":"1.00"}},{"$f":"INPUT!MC35","v":{"v":2083.1,"d":"2083.10"}},{"$f":"INPUT!MD35","v":114.16},{"$f":"INPUT!ME35","v":60.88},{"$f":"INPUT!MF35","v":{"v":-0.1,"d":"-0.10"}},{"$f":"INPUT!MG35","v":-0.75},{"$f":"INPUT!MH35","v":9.02},{"$f":"INPUT!MI35","v":9.02}]
[null,{"$f":"INPUT!EA36","v":{"v":9,"d":"9.00"}},{"$f":"INPUT!EB36","v":{"v":-0.9196,"d":"-0.92"}},{"$f":"INPUT!EC36","v":{"v":-1.5154,"d":"-1.52"}},{"$f":"INPUT!ED36","v":{"v":3.6134,"d":"3.61"}},{"$f":"INPUT!EE36","v":{"v":11.9438,"d":"11.94"}},{"$f":"INPUT!EF36","v":{"v":1.092,"d":"1.09"}},{"$f":"INPUT!EG36","v":{"v":1.092,"d":"1.09"}},{"v":0.9157509157509157,"d":"0.92"},null,{"$f":"INPUT!EY36","v":{"v":1.1,"d":"1.10"}},{"$f":"INPUT!EZ36","v":{"v":-1.4781,"d":"-1.48"}},{"$f":"INPUT!FA36","v":{"v":-1.639,"d":"-1.64"}},{"$f":"INPUT!FB36","v":{"v":3.1768,"d":"3.18"}},{"$f":"INPUT!FC36","v":{"v":12.4932,"d":"12.49"}},{"$f":"INPUT!FD36","v":1.13},{"$f":"INPUT!FE36","v":1.13},{"v":0.8849557522123894,"d":"0.88"},null,{"$f":"INPUT!FW36","v":{"v":0,"d":"0.00"}},{"$f":"INPUT!FX36","v":-1.58},{"$f":"INPUT!FY36","v":-1.58},{"$f":"INPUT!FZ36","v":-0.69},{"$f":"INPUT!GA36","v":-0.69},{"$f":"INPUT!GB36","v":80.54},{"$f":"INPUT!GC36","v":{"v":55933.4,"d":"55933.40"}},null,{"$f":"INPUT!GY36","v":{"v":9,"d":"9.00"}},{"$f":"INPUT!GZ36","v":{"v":19.5,"d":"19.50"}},{"$f":"INPUT!HA36","v":{"v":0,"d":"0.00"}},{"$f":"INPUT!HB36","v":31.87},{"$f":"INPUT!HC36","v":22.87},{"$f":"INPUT!HD36","v":0.41},{"$f":"INPUT!HE36","v":{"v":0,"d":"0.00"}},{"$f":"INPUT!HF36","v":-8.19},{"$f":"INPUT!HG36","v":-8.19},null,{"$f":"INPUT!IA36","v":{"v":1.1,"d":"1.10"}},{"$f":"INPUT!IB36","v":542.27},{"$f":"INPUT!IC36","v":130.17},{"$f":"INPUT!ID36","v":35.95},{"$f":"INPUT!IE36","v":-0.05},{"$f":"INPUT!IF36","v":0.11},{"$f":"INPUT!IG36","v":10.95},{"$f":"INPUT!IH36","v":10.95},null,{"$f":"INPUT!IZ36","v":{"v":9,"d":"9.00"}},{"$f":"INPUT!JA36","v":{"v":-1.3363,"d":"-1.34"}},{"$f":"INPUT!JB36","v":{"v":0.8627,"d":"0.86"}},{"$f":"INPUT!JC36","v":{"v":7.0522,"d":"7.05"}},{"$f":"INPUT!JD36","v":{"v":3.131,"d":"3.13"}},{"$f":"INPUT!JE36","v":1.12},{"$f":"INPUT!JF36","v":1.12},{"v":0.8928571428571428,"d":"0.89"},null,{"$f":"INPUT!JX36","v":{"v":1.1,"d":"1.10"}},{"$f":"INPUT!JY36","v":{"v":-1.7112,"d":"-1.71"}},{"$f":"INPUT!JZ36","v":{"v":0.8689,"d":"0.87"}},{"$f":"INPUT!KA36","v":{"v":7.1855,"d":"7.19"}},{"$f":"INPUT!KB36","v":{"v":3.5037,"d":"3.50"}},{"$f":"INPUT!KC36","v":{"v":1.225,"d":"1.23"}},{"$f":"INPUT!KD36","v":{"v":1.225,"d":"1.23"}},{"v":0.8163265306122448,"d":"0.82"},null,{"$f":"INPUT!KZ36","v":{"v":9,"d":"9.00"}},{"$f":"INPUT!LA36","v":{"v":14.4,"d":"14.40"}},{"$f":"INPUT!LB36","v":20.94},{"$f":"INPUT!LC36","v":53.25},{"$f":"INPUT!LD36","v":44.25},{"$f":"INPUT!LE36","v":0.78},{"$f":"INPUT!LF36","v":0.38},{"$f":"INPUT!LG36","v":-7.89},{"$f":"INPUT!LH36","v":-7.89},null,{"$f":"INPUT!MB36","v":{"v":1.1,"d":"1.10"}},{"$f":"INPUT!MC36","v":{"v":2083.1,"d":"2083.10"}},{"$f":"INPUT!MD36","v":125.55},{"$f":"INPUT!ME36","v":60.44},{"$f":"INPUT!MF36","v":-0.12},{"$f":"INPUT!MG36","v":-0.82},{"$f":"INPUT!MH36","v":{"v":9.9,"d":"9.90"}},{"$f":"INPUT!MI36","v":{"v":9.9,"d":"9.90"}}]
[null,{"$f":"INPUT!EA37","v":{"v":10,"d":"10.00"}},{"$f":"INPUT!EB37","v":{"v":-0.9459,"d":"-0.95"}},{"$f":"INPUT!EC37","v":{"v":-1.5082,"d":"-1.51"}},{"$f":"INPUT!ED37","v":{"v":3.6348,"d":"3.63"}},{"$f":"INPUT!EE37","v":{"v":11.9704,"d":"11.97"}},{"$f":"INPUT!EF37","v":{"v":1.091,"d":"1.09"}},{"$f":"INPUT!EG37","v":{"v":1.091,"d":"1.09"}},{"v":0.9165902841429882,"d":"0.92"},null,{"$f":"INPUT!EY37","v":{"v":1.2,"d":"1.20"}},{"$f":"INPUT!EZ37","v":{"v":-1.5506,"d":"-1.55"}},{"$f":"INPUT!FA37","v":{"v":-1.6443,"d":"-1.64"}},{"$f":"INPUT!FB37","v":{"v":3.1546,"d":"3.15"}},{"$f":"INPUT!FC37","v":{"v":12.565,"d":"12.57"}},{"$f":"INPUT!FD37","v":{"v":1.132,"d":"1.13"}},{"$f":"INPUT!FE37","v":{"v":1.132,"d":"1.13"}},{"v":0.88339222614841,"d":"0.88"},null,{"$f":"INPUT!FW37","v":{"v":1,"d":"1.00"}},{"$f":"INPUT!FX37","v":-2.44},{"$f":"INPUT!FY37","v":-0.72},{"$f":"INPUT!FZ37","v":-0.63},{"$f":"INPUT!GA37","v":-0.74},{"$f":"INPUT!GB37","v":4900.51},{"$f":"INPUT!GC37","v":79309.63},null,{"$f":"INPUT!GY37","v":{"v":10,"d":"10.00"}},{"$f":"INPUT!GZ37","v":19.57},{"$f":"INPUT!HA37","v":{"v":0,"d":"0.00"}},{"$f":"INPUT!HB37","v":31.25},{"$f":"INPUT!HC37","v":21.25},{"$f":"INPUT!HD37","v":0.44},{"$f":"INPUT!HE37","v":{"v":0,"d":"0.00"}},{"$f":"INPUT!HF37","v":-9.11},{"$f":"INPUT!HG37","v":-9.11},null,{"$f":"INPUT!IA37","v":{"v":1.2,"d":"1.20"}},{"$f":"INPUT!IB37","v":542.27},{"$f":"INPUT!IC37","v":141.98},{"$f":"INPUT!ID37","v":35.66},{"$f":"INPUT!IE37","v":-0.06},{"$f":"INPUT!IF37","v":0.12},{"$f":"INPUT!IG37","v":11.94},{"$f":"INPUT!IH37","v":11.94},null,{"$f":"INPUT!IZ37","v":{"v":10,"d":"10.00"}},{"$f":"INPUT!JA37","v":{"v":-1.3715,"d":"-1.37"}},{"$f":"INPUT!JB37","v":{"v":0.864,"d":"0.86"}},{"$f":"INPUT!JC37","v":{"v":7.0462,"d":"7.05"}},{"$f":"INPUT!JD37","v":{"v":3.1661,"d":"3.17"}},{"$f":"INPUT!JE37","v":{"v":1.116,"d":"1.12"}},{"$f":"INPUT!JF37","v":{"v":1.116,"d":"1.12"}},{"v":0.8960573476702508,"d":"0.90"},null,{"$f":"INPUT!JX37","v":{"v":1.2,"d":"1.20"}},{"$f":"INPUT!JY37","v":{"v":-1.7741,"d":"-1.77"}},{"$f":"INPUT!JZ37","v":{"v":0.8707,"d":"0.87"}},{"$f":"INPUT!KA37","v":{"v":7.1927,"d":"7.19"}},{"$f":"INPUT!KB37","v":{"v":3.5663,"d":"3.57"}},{"$f":"INPUT!KC37","v":{"v":1.231,"d":"1.23"}},{"$f":"INPUT!KD37","v":{"v":1.231,"d":"1.23"}},{"v":0.8123476848090982,"d":"0.81"},null,{"$f":"INPUT!KZ37","v":{"v":10,"d":"10.00"}},{"$f":"INPUT!LA37","v":14.33},{"$f":"INPUT!LB37","v":20.74},{"$f":"INPUT!LC37","v":52.17},{"$f":"INPUT!LD37","v":42.17},{"$f":"INPUT!LE37","v":0.85},{"$f":"INPUT!LF37","v":0.42},{"$f":"INPUT!LG37","v":-8.78},{"$f":"INPUT!LH37","v":-8.78},null,{"$f":"INPUT!MB37","v":{"v":1.2,"d":"1.20"}},{"$f":"INPUT!MC37","v":{"v":2083.1,"d":"2083.10"}},{"$f":"INPUT!MD37","v":136.92},{"$f":"INPUT!ME37","v":59.95},{"$f":"INPUT!MF37","v":-0.14},{"$f":"INPUT!MG37","v":{"v":-0.9,"d":"-0.90"}},{"$f":"INPUT!MH37","v":10.77},{"$f":"INPUT!MI37","v":10.77}]
[null,{"$f":"INPUT!EA38","v":{"v":11,"d":"11.00"}},{"$f":"INPUT!EB38","v":{"v":-0.9722,"d":"-0.97"}},{"$f":"INPUT!EC38","v":{"v":-1.5009,"d":"-1.50"}},{"$f":"INPUT!ED38","v":{"v":3.6562,"d":"3.66"}},{"$f":"INPUT!EE38","v":{"v":11.997,"d":"12.00"}},{"$f":"INPUT!EF38","v":{"v":1.089,"d":"1.09"}},{"$f":"INPUT!EG38","v":{"v":1.089,"d":"1.09"}},{"v":0.9182736455463728,"d":"0.92"},null,{"$f":"INPUT!EY38","v":{"v":1.3,"d":"1.30"}},{"$f":"INPUT!EZ38","v":{"v":-1.6231,"d":"-1.62"}},{"$f":"INPUT!FA38","v":{"v":-1.6494,"d":"-1.65"}},{"$f":"INPUT!FB38","v":{"v":3.1324,"d":"3.13"}},{"$f":"INPUT!FC38","v":{"v":12.637,"d":"12.64"}},{"$f":"INPUT!FD38","v":{"v":1.135,"d":"1.14"}},{"$f":"INPUT!FE38","v":{"v":1.135,"d":"1.14"}},{"v":0.8810572687224669,"d":"0.88"},null,{"$f":"INPUT!FW38","v":{"v":2,"d":"2.00"}},{"$f":"INPUT!FX38","v":{"v":-3.3,"d":"-3.30"}},{"$f":"INPUT!FY38","v":0.13},{"$f":"INPUT!FZ38","v":-0.57},{"$f":"INPUT!GA38","v":-0.79},{"$f":"INPUT!GB38","v":7942.76},{"$f":"INPUT!GC38","v":346163.03},null,{"$f":"INPUT!GY38","v":{"v":11,"d":"11.00"}},{"$f":"INPUT!GZ38","v":19.63},{"$f":"INPUT!HA38","v":{"v":0,"d":"0.00"}},{"$f":"INPUT!HB38","v":30.63},{"$f":"INPUT!HC38","v":19.63},{"$f":"INPUT!HD38","v":0.47},{"$f":"INPUT!HE38","v":{"v":0,"d":"0.00"}},{"$f":"INPUT!HF38","v":-10.03},{"$f":"INPUT!HG38","v":-10.03},null,{"$f":"INPUT!IA38","v":{"v":1.3,"d":"1.30"}},{"$f":"INPUT!IB38","v":542.27},{"$f":"INPUT!IC38","v":153.78},{"$f":"INPUT!ID38","v":35.35},{"$f":"INPUT!IE38","v":-0.08},{"$f":"INPUT!IF38","v":0.12},{"$f":"INPUT!IG38","v":12.92},{"$f":"INPUT!IH38","v":12.92},null,{"$f":"INPUT!IZ38","v":{"v":11,"d":"11.00"}},{"$f":"INPUT!JA38","v":{"v":-1.4067,"d":"-1.41"}},{"$f":"INPUT!JB38","v":{"v":0.8654,"d":"0.87"}},{"$f":"INPUT!JC38","v":{"v":7.0402,"d":"7.04"}},{"$f":"INPUT!JD38","v":{"v":3.2012,"d":"3.20"}},{"$f":"INPUT!JE38","v":{"v":1.111,"d":"1.11"}},{"$f":"INPUT!JF38","v":{"v":1.111,"d":"1.11"}},{"v":0.9000900090009001,"d":"0.90"},null,{"$f":"INPUT!JX38","v":{"v":1.3,"d":"1.30"}},{"$f":"INPUT!JY38","v":{"v":-1.8371,"d":"-1.84"}},{"$f":"INPUT!JZ38","v":{"v":0.8727,"d":"0.87"}},{"$f":"INPUT!KA38","v":{"v":7.1999,"d":"7.20"}},{"$f":"INPUT!KB38","v":{"v":3.6289,"d":"3.63"}},{"$f":"INPUT!KC38","v":{"v":1.236,"d":"1.24"}},{"$f":"INPUT!KD38","v":{"v":1.236,"d":"1.24"}},{"v":0.8090614886731392,"d":"0.81"},null,{"$f":"INPUT!KZ38","v":{"v":11,"d":"11.00"}},{"$f":"INPUT!LA38","v":14.25},{"$f":"INPUT!LB38","v":20.53},{"$f":"INPUT!LC38","v":{"v":51.1,"d":"51.10"}},{"$f":"INPUT!LD38","v":{"v":40.1,"d":"40.10"}},{"$f":"INPUT!LE38","v":0.92},{"$f":"INPUT!LF38","v":0.46},{"$f":"INPUT!LG38","v":-9.68},{"$f":"INPUT!LH38","v":-9.68},null,{"$f":"INPUT!MB38","v":{"v":1.3,"d":"1.30"}},{"$f":"INPUT!MC38","v":{"v":2083.1,"d":"2083.10"}},{"$f":"INPUT!MD38","v":148.28},{"$f":"INPUT!ME38","v":59.42},{"$f":"INPUT!MF38","v":-0.17},{"$f":"INPUT!MG38","v":-0.98},{"$f":"INPUT!MH38","v":11.64},{"$f":"INPUT!MI38","v":11.64}]
[null,{"$f":"INPUT!EA39","v":{"v":12,"d":"12.00"}},{"$f":"INPUT!EB39","v":{"v":-0.9986,"d":"-1.00"}},{"$f":"INPUT!EC39","v":{"v":-1.4936,"d":"-1.49"}},{"$f":"INPUT!ED39","v":{"v":3.6776,"d":"3.68"}},{"$f":"INPUT!EE39","v":{"v":12.0237,"d":"12.02"}},{"$f":"INPUT!EF39","v":{"v":1.088,"d":"1.09"}},{"$f":"INPUT!EG39","v":{"v":1.088,"d":"1.09"}},{"v":0.9191176470588235,"d":"0.92"},null,{"$f":"INPUT!EY39","v":{"v":1.4,"d":"1.40"}},{"$f":"INPUT!EZ39","v":{"v":-1.6957,"d":"-1.70"}},{"$f":"INPUT!FA39","v":{"v":-1.6545,"d":"-1.65"}},{"$f":"INPUT!FB39","v":{"v":3.1102,"d":"3.11"}},{"$f":"INPUT!FC39","v":{"v":12.709,"d":"12.71"}},{"$f":"INPUT!FD39","v":{"v":1.137,"d":"1.14"}},{"$f":"INPUT!FE39","v":{"v":1.137,"d":"1.14"}},{"v":0.8795074758135444,"d":"0.88"},null,{"$f":"INPUT!FW39","v":{"v":3,"d":"3.00"}},{"$f":"INPUT!FX39","v":-4.17},{"$f":"INPUT!FY39","v":0.98},{"$f":"INPUT!FZ39","v":-0.51},{"$f":"INPUT!GA39","v":-0.84},{"$f":"INPUT!GB39","v":3509.69},{"$f":"INPUT!GC39","v":55457.71},null,{"$f":"INPUT!GY39","v":{"v":12,"d":"12.00"}},{"$f":"INPUT!GZ39","v":{"v":19.7,"d":"19.70"}},{"$f":"INPUT!HA39","v":{"v":0,"d":"0.00"}},{"$f":"INPUT!HB39","v":30.01},{"$f":"INPUT!HC39","v":18.01},{"$f":"INPUT!HD39","v":{"v":0.5,"d":"0.50"}},{"$f":"INPUT!HE39","v":{"v":0,"d":"0.00"}},{"$f":"INPUT!HF39","v":-10.95},{"$f":"INPUT!HG39","v":-10.95},null,{"$f":"INPUT!IA39","v":{"v":1.4,"d":"1.40"}},{"$f":"INPUT!IB39","v":542.27},{"$f":"INPUT!IC39","v":165.57},{"$f":"INPUT!ID39","v":{"v":35,"d":"35.00"}},{"$f":"INPUT!IE39","v":-0.09},{"$f":"INPUT!IF39","v":0.13},{"$f":"INPUT!IG39","v":{"v":13.9,"d":"13.90"}},{"$f":"INPUT!IH39","v":{"v":13.9,"d":"13.90"}},null,{"$f":"INPUT!IZ39","v":{"v":12,"d":"12.00"}},{"$f":"INPUT!JA39","v":{"v":-1.4419,"d":"-1.44"}},{"$f":"INPUT!JB39","v":{"v":0.8669,"d":"0.87"}},{"$f":"INPUT!JC39","v":{"v":7.0341,"d":"7.03"}},{"$f":"INPUT!JD39","v":{"v":3.2363,"d":"3.24"}},{"$f":"INPUT!JE39","v":{"v":1.107,"d":"1.11"}},{"$f":"INPUT!JF39","v":{"v":1.107,"d":"1.11"}},{"v":0.903342366757001,"d":"0.90"},null,{"$f":"INPUT!JX39","v":{"v":1.4,"d":"1.40"}},{"$f":"INPUT!JY39","v":{"v":-1.9,"d":"-1.90"}},{"$f":"INPUT!JZ39","v":{"v":0.8747,"d":"0.87"}},{"$f":"INPUT!KA39","v":{"v":7.2071,"d":"7.21"}},{"$f":"INPUT!KB39","v":{"v":3.6916,"d":"3.69"}},{"$f":"INPUT!KC39","v":{"v":1.242,"d":"1.24"}},{"$f":"INPUT!KD39","v":{"v":1.242,"d":"1.24"}},{"v":0.8051529790660226,"d":"0.81"},null,{"$f":"INPUT!KZ39","v":{"v":12,"d":"12.00"}},{"$f":"INPUT!LA39","v":14.18},{"$f":"INPUT!LB39","v":20.32},{"$f":"INPUT!LC39","v":50.02},{"$f":"INPUT!LD39","v":38.02},{"$f":"INPUT!LE39","v":0.98},{"$f":"INPUT!LF39","v":{"v":0.5,"d":"0.50"}},{"$f":"INPUT!LG39","v":-10.58},{"$f":"INPUT!LH39","v":-10.58},null,{"$f":"INPUT!MB39","v":{"v":1.4,"d":"1.40"}},{"$f":"INPUT!MC39","v":{"v":2083.1,"d":"2083.10"}},{"$f":"INPUT!MD39","v":159.62},{"$f":"INPUT!ME39","v":58.85},{"$f":"INPUT!MF39","v":{"v":-0.2,"d":"-0.20"}},{"$f":"INPUT!MG39","v":-1.06},{"$f":"INPUT!MH39","v":12.51},{"$f":"INPUT!MI39","v":12.51}]
[null,{"$f":"INPUT!EA40","v":{"v":13,"d":"13.00"}},{"$f":"INPUT!EB40","v":{"v":-1.0251,"d":"-1.03"}},{"$f":"INPUT!EC40","v":{"v":-1.4863,"d":"-1.49"}},{"$f":"INPUT!ED40","v":{"v":3.699,"d":"3.70"}},{"$f":"INPUT!EE40","v":{"v":12.0505,"d":"12.05"}},{"$f":"INPUT!EF40","v":{"v":1.087,"d":"1.09"}},{"$f":"INPUT!EG40","v":{"v":1.087,"d":"1.09"}},{"v":0.9199632014719411,"d":"0.92"},null,{"$f":"INPUT!EY40","v":{"v":1.5,"d":"1.50"}},{"$f":"INPUT!EZ40","v":{"v":-1.7684,"d":"-1.77"}},{"$f":"INPUT!FA40","v":{"v":-1.6595,"d":"-1.66"}},{"$f":"INPUT!FB40","v":{"v":3.0879,"d":"3.09"}},{"$f":"INPUT!FC40","v":{"v":12.7811,"d":"12.78"}},{"$f":"INPUT!FD40","v":1.14},{"$f":"INPUT!FE40","v":1.14},{"v":0.8771929824561404,"d":"0.88"},null,{"$f":"INPUT!FW40","v":{"v":4,"d":"4.00"}},{"$f":"INPUT!FX40","v":-5.04},{"$f":"INPUT!FY40","v":1.83},{"$f":"INPUT!FZ40","v":-0.44},{"$f":"INPUT!GA40","v":-0.89},{"$f":"INPUT!GB40","v":1977.65},{"$f":"INPUT!GC40","v":32833.14},null,{"$f":"INPUT!GY40","v":{"v":13,"d":"13.00"}},{"$f":"INPUT!GZ40","v":19.77},{"$f":"INPUT!HA40","v":{"v":0,"d":"0.00"}},{"$f":"INPUT!HB40","v":29.39},{"$f":"INPUT!HC40","v":16.39},{"$f":"INPUT!HD40","v":0.52},{"$f":"INPUT!HE40","v":{"v":0,"d":"0.00"}},{"$f":"INPUT!HF40","v":-11.87},{"$f":"INPUT!HG40","v":-11.87},null,{"$f":"INPUT!IA40","v":{"v":1.5,"d":"1.50"}},{"$f":"INPUT!IB40","v":542.27},{"$f":"INPUT!IC40","v":177.35},{"$f":"INPUT!ID40","v":34.64},{"$f":"INPUT!IE40","v":-0.11},{"$f":"INPUT!IF40","v":0.14},{"$f":"INPUT!IG40","v":14.88},{"$f":"INPUT!IH40","v":14.88},null,{"$f":"INPUT!IZ40","v":{"v":13,"d":"13.00"}},{"$f":"INPUT!JA40","v":{"v":-1.4772,"d":"-1.48"}},{"$f":"INPUT!JB40","v":{"v":0.8684,"d":"0.87"}},{"$f":"INPUT!JC40","v":{"v":7.0281,"d":"7.03"}},{"$f":"INPUT!JD40","v":{"v":3.2715,"d":"3.27"}},{"$f":"INPUT!JE40","v":{"v":1.102,"d":"1.10"}},{"$f":"INPUT!JF40","v":{"v":1.102,"d":"1.10"}},{"v":0.9074410163339383,"d":"0.91"},null,{"$f":"INPUT!JX40","v":{"v":1.5,"d":"1.50"}},{"$f":"INPUT!JY40","v":{"v":-1.963,"d":"-1.96"}},{"$f":"INPUT!JZ40","v":{"v":0.8768,"d":"0.88"}},{"$f":"INPUT!KA40","v":{"v":7.2144,"d":"7.21"}},{"$f":"INPUT!KB40","v":{"v":3.7542,"d":"3.75"}},{"$f":"INPUT!KC40","v":{"v":1.247,"d":"1.25"}},{"$f":"INPUT!KD40","v":{"v":1.247,"d":"1.25"}},{"v":0.8019246190858058,"d":"0.80"},null,{"$f":"INPUT!KZ40","v":{"v":13,"d":"13.00"}},{"$f":"INPUT!LA40","v":14.11},{"$f":"INPUT!LB40","v":20.11},{"$f":"INPUT!LC40","v":48.95},{"$f":"INPUT!LD40","v":35.95},{"$f":"INPUT!LE40","v":1.04},{"$f":"INPUT!LF40","v":0.54},{"$f":"INPUT!LG40","v":-11.49},{"$f":"INPUT!LH40","v":-11.49},null,{"$f":"INPUT!MB40","v":{"v":1.5,"d":"1.50"}},{"$f":"INPUT!MC40","v":{"v":2083.1,"d":"2083.10"}},{"$f":"INPUT!MD40","v":170.96},{"$f":"INPUT!ME40","v":58.24},{"$f":"INPUT!MF40","v":-0.23},{"$f":"INPUT!MG40","v":-1.14},{"$f":"INPUT!MH40","v":13.37},{"$f":"INPUT!MI40","v":13.37}]
[null,{"$f":"INPUT!EA41","v":{"v":14,"d":"14.00"}},{"$f":"INPUT!EB41","v":{"v":-1.0517,"d":"-1.05"}},{"$f":"INPUT!EC41","v":{"v":-1.4789,"d":"-1.48"}},{"$f":"INPUT!ED41","v":{"v":3.7204,"d":"3.72"}},{"$f":"INPUT!EE41","v":{"v":12.0773,"d":"12.08"}},{"$f":"INPUT!EF41","v":{"v":1.086,"d":"1.09"}},{"$f":"INPUT!EG41","v":{"v":1.086,"d":"1.09"}},{"v":0.9208103130755064,"d":"0.92"},null,{"$f":"INPUT!EY41","v":""},{"$f":"INPUT!EZ41","v":""},{"$f":"INPUT!FA41","v":""},{"$f":"INPUT!FB41","v":""},{"$f":"INPUT!FC41","v":""},{"$f":"INPUT!FD41","v":""},{"$f":"INPUT!FE41","v":""},"",null,{"$f":"INPUT!FW41","v":{"v":5,"d":"5.00"}},{"$f":"INPUT!FX41","v":-5.92},{"$f":"INPUT!FY41","v":2.68},{"$f":"INPUT!FZ41","v":-0.37},{"$f":"INPUT!GA41","v":-0.93},{"$f":"INPUT!GB41","v":1273.26},{"$f":"INPUT!GC41","v":23916.02},null,{"$f":"INPUT!GY41","v":{"v":14,"d":"14.00"}},{"$f":"INPUT!GZ41","v":19.84},{"$f":"INPUT!HA41","v":{"v":0,"d":"0.00"}},{"$f":"INPUT!HB41","v":28.77},{"$f":"INPUT!HC41","v":14.77},{"$f":"INPUT!HD41","v":0.55},{"$f":"INPUT!HE41","v":{"v":0,"d":"0.00"}},{"$f":"INPUT!HF41","v":-12.79},{"$f":"INPUT!HG41","v":-12.79},null,{"$f":"INPUT!IA41","v":""},{"$f":"INPUT!IB41","v":""},{"$f":"INPUT!IC41","v":""},{"$f":"INPUT!ID41","v":""},{"$f":"INPUT!IE41","v":""},{"$f":"INPUT!IF41","v":""},{"$f":"INPUT!IG41","v":""},{"$f":"INPUT!IH41","v":""},null,{"$f":"INPUT!IZ41","v":{"v":14,"d":"14.00"}},{"$f":"INPUT!JA41","v":{"v":-1.5125,"d":"-1.51"}},{"$f":"INPUT!JB41","v":0.87},{"$f":"INPUT!JC41","v":{"v":7.022,"d":"7.02"}},{"$f":"INPUT!JD41","v":{"v":3.3067,"d":"3.31"}},{"$f":"INPUT!JE41","v":{"v":1.098,"d":"1.10"}},{"$f":"INPUT!JF41","v":{"v":1.098,"d":"1.10"}},{"v":0.9107468123861566,"d":"0.91"},null,{"$f":"INPUT!JX41","v":""},{"$f":"INPUT!JY41","v":""},{"$f":"INPUT!JZ41","v":""},{"$f":"INPUT!KA41","v":""},{"$f":"INPUT!KB41","v":""},{"$f":"INPUT!KC41","v":""},{"$f":"INPUT!KD41","v":""},"",null,{"$f":"INPUT!KZ41","v":{"v":14,"d":"14.00"}},{"$f":"INPUT!LA41","v":14.03},{"$f":"INPUT!LB41","v":{"v":19.9,"d":"19.90"}},{"$f":"INPUT!LC41","v":47.88},{"$f":"INPUT!LD41","v":33.88},{"$f":"INPUT!LE41","v":1.09},{"$f":"INPUT!LF41","v":0.58},{"$f":"INPUT!LG41","v":{"v":-12.4,"d":"-12.40"}},{"$f":"INPUT!LH41","v":{"v":-12.4,"d":"-12.40"}},null,{"$f":"INPUT!MB41","v":""},{"$f":"INPUT!MC41","v":""},{"$f":"INPUT!MD41","v":""},{"$f":"INPUT!ME41","v":""},{"$f":"INPUT!MF41","v":""},{"$f":"INPUT!MG41","v":""},{"$f":"INPUT!MH41","v":""},{"$f":"INPUT!MI41","v":""}]
[null,{"$f":"INPUT!EA42","v":{"v":15,"d":"15.00"}},{"$f":"INPUT!EB42","v":{"v":-1.0783,"d":"-1.08"}},{"$f":"INPUT!EC42","v":{"v":-1.4714,"d":"-1.47"}},{"$f":"INPUT!ED42","v":{"v":3.7418,"d":"3.74"}},{"$f":"INPUT!EE42","v":{"v":12.1042,"d":"12.10"}},{"$f":"INPUT!EF42","v":{"v":1.085,"d":"1.09"}},{"$f":"INPUT!EG42","v":{"v":1.085,"d":"1.09"}},{"v":0.9216589861751152,"d":"0.92"},null,{"$f":"INPUT!EY42","v":""},{"$f":"INPUT!EZ42","v":""},{"$f":"INPUT!FA42","v":""},{"$f":"INPUT!FB42","v":""},{"$f":"INPUT!FC42","v":""},{"$f":"INPUT!FD42","v":""},{"$f":"INPUT!FE42","v":""},"",null,{"$f":"INPUT!FW42","v":{"v":6,"d":"6.00"}},{"$f":"INPUT!FX42","v":{"v":-6.8,"d":"-6.80"}},{"$f":"INPUT!FY42","v":3.52},{"$f":"INPUT!FZ42","v":{"v":-0.3,"d":"-0.30"}},{"$f":"INPUT!GA42","v":-0.97},{"$f":"INPUT!GB42","v":892.24},{"$f":"INPUT!GC42","v":18992.13},null,{"$f":"INPUT!GY42","v":{"v":15,"d":"15.00"}},{"$f":"INPUT!GZ42","v":19.91},{"$f":"INPUT!HA42","v":{"v":0,"d":"0.00"}},{"$f":"INPUT!HB42","v":28.15},{"$f":"INPUT!HC42","v":13.15},{"$f":"INPUT!HD42","v":0.57},{"$f":"INPUT!HE42","v":{"v":0,"d":"0.00"}},{"$f":"INPUT!HF42","v":-13.71},{"$f":"INPUT!HG42","v":-13.71},null,{"$f":"INPUT!IA42","v":""},{"$f":"INPUT!IB42","v":""},{"$f":"INPUT!IC42","v":""},{"$f":"INPUT!ID42","v":""},{"$f":"INPUT!IE42","v":""},{"$f":"INPUT!IF42","v":""},{"$f":"INPUT!IG42","v":""},{"$f":"INPUT!IH42","v":""},null,{"$f":"INPUT!IZ42","v":{"v":15,"d":"15.00"}},{"$f":"INPUT!JA42","v":{"v":-1.5479,"d":"-1.55"}},{"$f":"INPUT!JB42","v":{"v":0.8717,"d":"0.87"}},{"$f":"INPUT!JC42","v":{"v":7.016,"d":"7.02"}},{"$f":"INPUT!JD42","v":{"v":3.3419,"d":"3.34"}},{"$f":"INPUT!JE42","v":{"v":1.094,"d":"1.09"}},{"$f":"INPUT!JF42","v":{"v":1.094,"d":"1.09"}},{"v":0.9140767824497257,"d":"0.91"},null,{"$f":"INPUT!JX42","v":""},{"$f":"INPUT!JY42","v":""},{"$f":"INPUT!JZ42","v":""},{"$f":"INPUT!KA42","v":""},{"$f":"INPUT!KB42","v":""},{"$f":"INPUT!KC42","v":""},{"$f":"INPUT!KD42","v":""},"",null,{"$f":"INPUT!KZ42","v":{"v":15,"d":"15.00"}},{"$f":"INPUT!LA42","v":13.96},{"$f":"INPUT!LB42","v":19.68},{"$f":"INPUT!LC42","v":46.81},{"$f":"INPUT!LD42","v":31.81},{"$f":"INPUT!LE42","v":1.15},{"$f":"INPUT!LF42","v":0.61},{"$f":"INPUT!LG42","v":-13.31},{"$f":"INPUT!LH42","v":-13.31},null,{"$f":"INPUT!MB42","v":""},{"$f":"INPUT!MC42","v":""},{"$f":"INPUT!MD42","v":""},{"$f":"INPUT!ME42","v":""},{"$f":"INPUT!MF42","v":""},{"$f":"INPUT!MG42","v":""},{"$f":"INPUT!MH42","v":""},{"$f":"INPUT!MI42","v":""}]
[null,{"$f":"INPUT!EA43","v":{"v":16,"d":"16.00"}},{"$f":"INPUT!EB43","v":{"v":-1.105,"d":"-1.11"}},{"$f":"INPUT!EC43","v":{"v":-1.4639,"d":"-1.46"}},{"$f":"INPUT!ED43","v":{"v":3.7632,"d":"3.76"}},{"$f":"INPUT!EE43","v":{"v":12.1312,"d":"12.13"}},{"$f":"INPUT!EF43","v":{"v":1.084,"d":"1.08"}},{"$f":"INPUT!EG43","v":{"v":1.084,"d":"1.08"}},{"v":0.9225092250922509,"d":"0.92"},null,{"$f":"INPUT!EY43","v":""},{"$f":"INPUT!EZ43","v":""},{"$f":"INPUT!FA43","v":""},{"$f":"INPUT!FB43","v":""},{"$f":"INPUT!FC43","v":""},{"$f":"INPUT!FD43","v":""},{"$f":"INPUT!FE43","v":""},"",null,{"$f":"INPUT!FW43","v":{"v":7,"d":"7.00"}},{"$f":"INPUT!FX43","v":-7.69},{"$f":"INPUT!FY43","v":4.36},{"$f":"INPUT!FZ43","v":-0.23},{"$f":"INPUT!GA43","v":-1.01},{"$f":"INPUT!GB43","v":663.18},{"$f":"INPUT!GC43","v":15817.92},null,{"$f":"INPUT!GY43","v":{"v":16,"d":"16.00"}},{"$f":"INPUT!GZ43","v":19.98},{"$f":"INPUT!HA43","v":{"v":0,"d":"0.00"}},{"$f":"INPUT!HB43","v":27.53},{"$f":"INPUT!HC43","v":11.53},{"$f":"INPUT!HD43","v":0.58},{"$f":"INPUT!HE43","v":{"v":0,"d":"0.00"}},{"$f":"INPUT!HF43","v":-14.63},{"$f":"INPUT!HG43","v":-14.63},null,{"$f":"INPUT!IA43","v":""},{"$f":"INPUT!IB43","v":""},{"$f":"INPUT!IC43","v":""},{"$f":"INPUT!ID43","v":""},{"$f":"INPUT!IE43","v":""},{"$f":"INPUT!IF43","v":""},{"$f":"INPUT!IG43","v":""},{"$f":"INPUT!IH43","v":""},null,{"$f":"INPUT!IZ43","v":{"v":16,"d":"16.00"}},{"$f":"INPUT!JA43","v":{"v":-1.5833,"d":"-1.58"}},{"$f":"INPUT!JB43","v":{"v":0.8734,"d":"0.87"}},{"$f":"INPUT!JC43","v":{"v":7.0099,"d":"7.01"}},{"$f":"INPUT!JD43","v":{"v":3.3772,"d":"3.38"}},{"$f":"INPUT!JE43","v":{"v":1.089,"d":"1.09"}},{"$f":"INPUT!JF43","v":{"v":1.089,"d":"1.09"}},{"v":0.9182736455463728,"d":"0.92"},null,{"$f":"INPUT!JX43","v":""},{"$f":"INPUT!JY43","v":""},{"$f":"INPUT!JZ43","v":""},{"$f":"INPUT!KA43","v":""},{"$f":"INPUT!KB43","v":""},{"$f":"INPUT!KC43","v":""},{"$f":"INPUT!KD43","v":""},"",null,{"$f":"INPUT!KZ43","v":{"v":16,"d":"16.00"}},{"$f":"INPUT!LA43","v":13.89},{"$f":"INPUT!LB43","v":19.47},{"$f":"INPUT!LC43","v":45.74},{"$f":"INPUT!LD43","v":29.74},{"$f":"INPUT!LE43","v":{"v":1.2,"d":"1.20"}},{"$f":"INPUT!LF43","v":0.65},{"$f":"INPUT!LG43","v":-14.22},{"$f":"INPUT!LH43","v":-14.22},null,{"$f":"INPUT!MB43","v":""},{"$f":"INPUT!MC43","v":""},{"$f":"INPUT!MD43","v":""},{"$f":"INPUT!ME43","v":""},{"$f":"INPUT!MF43","v":""},{"$f":"INPUT!MG43","v":""},{"$f":"INPUT!MH43","v":""},{"$f":"INPUT!MI43","v":""}]
[null,{"$f":"INPUT!EA44","v":{"v":17,"d":"17.00"}},{"$f":"INPUT!EB44","v":{"v":-1.1318,"d":"-1.13"}},{"$f":"INPUT!EC44","v":{"v":-1.4564,"d":"-1.46"}},{"$f":"INPUT!ED44","v":{"v":3.7846,"d":"3.78"}},{"$f":"INPUT!EE44","v":{"v":12.1582,"d":"12.16"}},{"$f":"INPUT!EF44","v":{"v":1.083,"d":"1.08"}},{"$f":"INPUT!EG44","v":{"v":1.083,"d":"1.08"}},{"v":0.9233610341643583,"d":"0.92"},null,{"$f":"INPUT!EY44","v":""},{"$f":"INPUT!EZ44","v":""},{"$f":"INPUT!FA44","v":""},{"$f":"INPUT!FB44","v":""},{"$f":"INPUT!FC44","v":""},{"$f":"INPUT!FD44","v":""},{"$f":"INPUT!FE44","v":""},"",null,{"$f":"INPUT!FW44","v":{"v":8,"d":"8.00"}},{"$f":"INPUT!FX44","v":-8.58},{"$f":"INPUT!FY44","v":{"v":5.2,"d":"5.20"}},{"$f":"INPUT!FZ44","v":-0.15},{"$f":"INPUT!GA44","v":-1.05},{"$f":"INPUT!GB44","v":514.84},{"$f":"INPUT!GC44","v":13580.48},null,{"$f":"INPUT!GY44","v":{"v":17,"d":"17.00"}},{"$f":"INPUT!GZ44","v":20.05},{"$f":"INPUT!HA44","v":{"v":0,"d":"0.00"}},{"$f":"INPUT!HB44","v":26.91},{"$f":"INPUT!HC44","v":9.91},{"$f":"INPUT!HD44","v":{"v":0.6,"d":"0.60"}},{"$f":"INPUT!HE44","v":{"v":0,"d":"0.00"}},{"$f":"INPUT!HF44","v":-15.55},{"$f":"INPUT!HG44","v":-15.55},null,{"$f":"INPUT!IA44","v":""},{"$f":"INPUT!IB44","v":""},{"$f":"INPUT!IC44","v":""},{"$f":"INPUT!ID44","v":""},{"$f":"INPUT!IE44","v":""},{"$f":"INPUT!IF44","v":""},{"$f":"INPUT!IG44","v":""},{"$f":"INPUT!IH44","v":""},null,{"$f":"INPUT!IZ44","v":{"v":17,"d":"17.00"}},{"$f":"INPUT!JA44","v":{"v":-1.6188,"d":"-1.62"}},{"$f":"INPUT!JB44","v":{"v":0.8752,"d":"0.88"}},{"$f":"INPUT!JC44","v":{"v":7.0039,"d":"7.00"}},{"$f":"INPUT!JD44","v":{"v":3.4125,"d":"3.41"}},{"$f":"INPUT!JE44","v":{"v":1.085,"d":"1.09"}},{"$f":"INPUT!JF44","v":{"v":1.085,"d":"1.09"}},{"v":0.9216589861751152,"d":"0.92"},null,{"$f":"INPUT!JX44","v":""},{"$f":"INPUT!JY44","v":""},{"$f":"INPUT!JZ44","v":""},{"$f":"INPUT!KA44","v":""},{"$f":"INPUT!KB44","v":""},{"$f":"INPUT!KC44","v":""},{"$f":"INPUT!KD44","v":""},"",null,{"$f":"INPUT!KZ44","v":{"v":17,"d":"17.00"}},{"$f":"INPUT!LA44","v":13.81},{"$f":"INPUT!LB44","v":19.25},{"$f":"INPUT!LC44","v":44.67},{"$f":"INPUT!LD44","v":27.67},{"$f":"INPUT!LE44","v":1.24},{"$f":"INPUT!LF44","v":0.68},{"$f":"INPUT!LG44","v":-15.14},{"$f":"INPUT!LH44","v":-15.14},null,{"$f":"INPUT!MB44","v":""},{"$f":"INPUT!MC44","v":""},{"$f":"INPUT!MD44","v":""},{"$f":"INPUT!ME44","v":""},{"$f":"INPUT!MF44","v":""},{"$f":"INPUT!MG44","v":""},{"$f":"INPUT!MH44","v":""},{"$f":"INPUT!MI44","v":""}]
[null,{"$f":"INPUT!EA45","v":{"v":18,"d":"18.00"}},{"$f":"INPUT!EB45","v":{"v":-1.1586,"d":"-1.16"}},{"$f":"INPUT!EC45","v":{"v":-1.4488,"d":"-1.45"}},{"$f":"INPUT!ED45","v":{"v":3.8061,"d":"3.81"}},{"$f":"INPUT!EE45","v":{"v":12.1853,"d":"12.19"}},{"$f":"INPUT!EF45","v":{"v":1.082,"d":"1.08"}},{"$f":"INPUT!EG45","v":{"v":1.082,"d":"1.08"}},{"v":0.9242144177449167,"d":"0.92"},null,{"$f":"INPUT!EY45","v":""},{"$f":"INPUT!EZ45","v":""},{"$f":"INPUT!FA45","v":""},{"$f":"INPUT!FB45","v":""},{"$f":"INPUT!FC45","v":""},{"$f":"INPUT!FD45","v":""},{"$f":"INPUT!FE45","v":""},"",null,{"$f":"INPUT!FW45","v":{"v":9,"d":"9.00"}},{"$f":"INPUT!FX45","v":-9.47},{"$f":"INPUT!FY45","v":6.03},{"$f":"INPUT!FZ45","v":-0.07},{"$f":"INPUT!GA45","v":-1.08},{"$f":"INPUT!GB45","v":413.33},{"$f":"INPUT!GC45","v":11908.67},null,{"$f":"INPUT!GY45","v":{"v":18,"d":"18.00"}},{"$f":"INPUT!GZ45","v":20.12},{"$f":"INPUT!HA45","v":{"v":0,"d":"0.00"}},{"$f":"INPUT!HB45","v":26.29},{"$f":"INPUT!HC45","v":8.29},{"$f":"INPUT!HD45","v":0.61},{"$f":"INPUT!HE45","v":{"v":0,"d":"0.00"}},{"$f":"INPUT!HF45","v":-16.48},{"$f":"INPUT!HG45","v":-16.48},null,{"$f":"INPUT!IA45","v":""},{"$f":"INPUT!IB45","v":""},{"$f":"INPUT!IC45","v":""},{"$f":"INPUT!ID45","v":""},{"$f":"INPUT!IE45","v":""},{"$f":"INPUT!IF45","v":""},{"$f":"INPUT!IG45","v":""},{"$f":"INPUT!IH45","v":""},null,{"$f":"INPUT!IZ45","v":{"v":18,"d":"18.00"}},{"$f":"INPUT!JA45","v":{"v":-1.6543,"d":"-1.65"}},{"$f":"INPUT!JB45","v":{"v":0.8771,"d":"0.88"}},{"$f":"INPUT!JC45","v":{"v":6.9978,"d":"7.00"}},{"$f":"INPUT!JD45","v":{"v":3.4479,"d":"3.45"}},{"$f":"INPUT!JE45","v":{"v":1.081,"d":"1.08"}},{"$f":"INPUT!JF45","v":{"v":1.081,"d":"1.08"}},{"v":0.9250693802035153,"d":"0.93"},null,{"$f":"INPUT!JX45","v":""},{"$f":"INPUT!JY45","v":""},{"$f":"INPUT!JZ45","v":""},{"$f":"INPUT!KA45","v":""},{"$f":"INPUT!KB45","v":""},{"$f":"INPUT!KC45","v":""},{"$f":"INPUT!KD45","v":""},"",null,{"$f":"INPUT!KZ45","v":{"v":18,"d":"18.00"}},{"$f":"INPUT!LA45","v":13.74},{"$f":"INPUT!LB45","v":19.03},{"$f":"INPUT!LC45","v":{"v":43.6,"d":"43.60"}},{"$f":"INPUT!LD45","v":{"v":25.6,"d":"25.60"}},{"$f":"INPUT!LE45","v":1.28},{"$f":"INPUT!LF45","v":0.72},{"$f":"INPUT!LG45","v":-16.07},{"$f":"INPUT!LH45","v":-16.07},null,{"$f":"INPUT!MB45","v":""},{"$f":"INPUT!MC45","v":""},{"$f":"INPUT!MD45","v":""},{"$f":"INPUT!ME45","v":""},{"$f":"INPUT!MF45","v":""},{"$f":"INPUT!MG45","v":""},{"$f":"INPUT!MH45","v":""},{"$f":"INPUT!MI45","v":""}]
[null,{"$f":"INPUT!EA46","v":{"v":19,"d":"19.00"}},{"$f":"INPUT!EB46","v":{"v":-1.1855,"d":"-1.19"}},{"$f":"INPUT!EC46","v":{"v":-1.4411,"d":"-1.44"}},{"$f":"INPUT!ED46","v":{"v":3.8275,"d":"3.83"}},{"$f":"INPUT!EE46","v":{"v":12.2125,"d":"12.21"}},{"$f":"INPUT!EF46","v":{"v":1.082,"d":"1.08"}},{"$f":"INPUT!EG46","v":{"v":1.082,"d":"1.08"}},{"v":0.9242144177449167,"d":"0.92"},null,{"$f":"INPUT!EY46","v":""},{"$f":"INPUT!EZ46","v":""},{"$f":"INPUT!FA46","v":""},{"$f":"INPUT!FB46","v":""},{"$f":"INPUT!FC46","v":""},{"$f":"INPUT!FD46","v":""},{"$f":"INPUT!FE46","v":""},"",null,{"$f":"INPUT!FW46","v":{"v":10,"d":"10.00"}},{"$f":"INPUT!FX46","v":-10.37},{"$f":"INPUT!FY46","v":6.87},{"$f":"INPUT!FZ46","v":0.02},{"$f":"INPUT!GA46","v":-1.11},{"$f":"INPUT!GB46","v":340.85},{"$f":"INPUT!GC46","v":10606.96},null,{"$f":"INPUT!GY46","v":{"v":19,"d":"19.00"}},{"$f":"INPUT!GZ46","v":20.19},{"$f":"INPUT!HA46","v":{"v":0,"d":"0.00"}},{"$f":"INPUT!HB46","v":25.67},{"$f":"INPUT!HC46","v":6.67},{"$f":"INPUT!HD46","v":0.62},{"$f":"INPUT!HE46","v":{"v":0,"d":"0.00"}},{"$f":"INPUT!HF46","v":{"v":-17.4,"d":"-17.40"}},{"$f":"INPUT!HG46","v":{"v":-17.4,"d":"-17.40"}},null,{"$f":"INPUT!IA46","v":""},{"$f":"INPUT!IB46","v":""},{"$f":"INPUT!IC46","v":""},{"$f":"INPUT!ID46","v":""},{"$f":"INPUT!IE46","v":""},{"$f":"INPUT!IF46","v":""},{"$f":"INPUT!IG46","v":""},{"$f":"INPUT!IH46","v":""},null,{"$f":"INPUT!IZ46","v":{"v":19,"d":"19.00"}},{"$f":"INPUT!JA46","v":{"v":-1.6898,"d":"-1.69"}},{"$f":"INPUT!JB46","v":{"v":0.879,"d":"0.88"}},{"$f":"INPUT!JC46","v":{"v":6.9918,"d":"6.99"}},{"$f":"INPUT!JD46","v":{"v":3.4832,"d":"3.48"}},{"$f":"INPUT!JE46","v":{"v":1.078,"d":"1.08"}},{"$f":"INPUT!JF46","v":{"v":1.078,"d":"1.08"}},{"v":0.9276437847866419,"d":"0.93"},null,{"$f":"INPUT!JX46","v":""},{"$f":"INPUT!JY46","v":""},{"$f":"INPUT!JZ46","v":""},{"$f":"INPUT!KA46","v":""},{"$f":"INPUT!KB46","v":""},{"$f":"INPUT!KC46","v":""},{"$f":"INPUT!KD46","v":""},"",null,{"$f":"INPUT!KZ46","v":{"v":19,"d":"19.00"}},{"$f":"INPUT!LA46","v":13.66},{"$f":"INPUT!LB46","v":18.81},{"$f":"INPUT!LC46","v":42.53},{"$f":"INPUT!LD46","v":23.53},{"$f":"INPUT!LE46","v":1.32},{"$f":"INPUT!LF46","v":0.75},{"$f":"INPUT!LG46","v":-16.99},{"$f":"INPUT!LH46","v":-16.99},null,{"$f":"INPUT!MB46","v":""},{"$f":"INPUT!MC46","v":""},{"$f":"INPUT!MD46","v":""},{"$f":"INPUT!ME46","v":""},{"$f":"INPUT!MF46","v":""},{"$f":"INPUT!MG46","v":""},{"$f":"INPUT!MH46","v":""},{"$f":"INPUT!MI46","v":""}]
[null,{"$f":"INPUT!EA47","v":{"v":20,"d":"20.00"}},{"$f":"INPUT!EB47","v":{"v":-1.2125,"d":"-1.21"}},{"$f":"INPUT!EC47","v":{"v":-1.4334,"d":"-1.43"}},{"$f":"INPUT!ED47","v":{"v":3.8489,"d":"3.85"}},{"$f":"INPUT!EE47","v":{"v":12.2397,"d":"12.24"}},{"$f":"INPUT!EF47","v":{"v":1.081,"d":"1.08"}},{"$f":"INPUT!EG47","v":{"v":1.081,"d":"1.08"}},{"v":0.9250693802035153,"d":"0.93"},null,{"$f":"INPUT!EY47","v":""},{"$f":"INPUT!EZ47","v":""},{"$f":"INPUT!FA47","v":""},{"$f":"INPUT!FB47","v":""},{"$f":"INPUT!FC47","v":""},{"$f":"INPUT!FD47","v":""},{"$f":"INPUT!FE47","v":""},"",null,{"$f":"INPUT!FW47","v":{"v":11,"d":"11.00"}},{"$f":"INPUT!FX47","v":-11.28},{"$f":"INPUT!FY47","v":{"v":7.7,"d":"7.70"}},{"$f":"INPUT!FZ47","v":0.11},{"$f":"INPUT!GA47","v":-1.14},{"$f":"INPUT!GB47","v":287.29},{"$f":"INPUT!GC47","v":9561.79},null,{"$f":"INPUT!GY47","v":{"v":20,"d":"20.00"}},{"$f":"INPUT!GZ47","v":20.26},{"$f":"INPUT!HA47","v":{"v":0,"d":"0.00"}},{"$f":"INPUT!HB47","v":25.06},{"$f":"INPUT!HC47","v":5.06},{"$f":"INPUT!HD47","v":0.63},{"$f":"INPUT!HE47","v":{"v":0,"d":"0.00"}},{"$f":"INPUT!HF47","v":-18.33},{"$f":"INPUT!HG47","v":-18.33},null,{"$f":"INPUT!IA47","v":""},{"$f":"INPUT!IB47","v":""},{"$f":"INPUT!IC47","v":""},{"$f":"INPUT!ID47","v":""},{"$f":"INPUT!IE47","v":""},{"$f":"INPUT!IF47","v":""},{"$f":"INPUT!IG47","v":""},{"$f":"INPUT!IH47","v":""},null,{"$f":"INPUT!IZ47","v":{"v":20,"d":"20.00"}},{"$f":"INPUT!JA47","v":{"v":-1.7254,"d":"-1.73"}},{"$f":"INPUT!JB47","v":{"v":0.881,"d":"0.88"}},{"$f":"INPUT!JC47","v":{"v":6.9857,"d":"6.99"}},{"$f":"INPUT!JD47","v":{"v":3.5187,"d":"3.52"}},{"$f":"INPUT!JE47","v":{"v":1.074,"d":"1.07"}},{"$f":"INPUT!JF47","v":{"v":1.074,"d":"1.07"}},{"v":0.9310986964618249,"d":"0.93"},null,{"$f":"INPUT!JX47","v":""},{"$f":"INPUT!JY47","v":""},{"$f":"INPUT!JZ47","v":""},{"$f":"INPUT!KA47","v":""},{"$f":"INPUT!KB47","v":""},{"$f":"INPUT!KC47","v":""},{"$f":"INPUT!KD47","v":""},"",null,{"$f":"INPUT!KZ47","v":{"v":20,"d":"20.00"}},{"$f":"INPUT!LA47","v":13.59},{"$f":"INPUT!LB47","v":18.59},{"$f":"INPUT!LC47","v":41.47},{"$f":"INPUT!LD47","v":21.47},{"$f":"INPUT!LE47","v":1.36},{"$f":"INPUT!LF47","v":0.79},{"$f":"INPUT!LG47","v":-17.92},{"$f":"INPUT!LH47","v":-17.92},null,{"$f":"INPUT!MB47","v":""},{"$f":"INPUT!MC47","v":""},{"$f":"INPUT!MD47","v":""},{"$f":"INPUT!ME47","v":""},{"$f":"INPUT!MF47","v":""},{"$f":"INPUT!MG47","v":""},{"$f":"INPUT!MH47","v":""},{"$f":"INPUT!MI47","v":""}]
[null,{"$f":"INPUT!EA48","v":{"v":21,"d":"21.00"}},{"$f":"INPUT!EB48","v":{"v":-1.2396,"d":"-1.24"}},{"$f":"INPUT!EC48","v":{"v":-1.4257,"d":"-1.43"}},{"$f":"INPUT!ED48","v":{"v":3.8703,"d":"3.87"}},{"$f":"INPUT!EE48","v":{"v":12.267,"d":"12.27"}},{"$f":"INPUT!EF48","v":1.08},{"$f":"INPUT!EG48","v":1.08},{"v":0.9259259259259258,"d":"0.93"},null,{"$f":"INPUT!EY48","v":""},{"$f":"INPUT!EZ48","v":""},{"$f":"INPUT!FA48","v":""},{"$f":"INPUT!FB48","v":""},{"$f":"INPUT!FC48","v":""},{"$f":"INPUT!FD48","v":""},{"$f":"INPUT!FE48","v":""},"",null,{"$f":"INPUT!FW48","v":{"v":12,"d":"12.00"}},{"$f":"INPUT!FX48","v":{"v":-12.2,"d":"-12.20"}},{"$f":"INPUT!FY48","v":8.53},{"$f":"INPUT!FZ48","v":{"v":0.2,"d":"0.20"}},{"$f":"INPUT!GA48","v":-1.17},{"$f":"INPUT!GB48","v":246.63},{"$f":"INPUT!GC48","v":8702.29},null,{"$f":"INPUT!GY48","v":{"v":21,"d":"21.00"}},{"$f":"INPUT!GZ48","v":20.33},{"$f":"INPUT!HA48","v":{"v":0,"d":"0.00"}},{"$f":"INPUT!HB48","v":24.44},{"$f":"INPUT!HC48","v":3.44},{"$f":"INPUT!HD48","v":0.63},{"$f":"INPUT!HE48","v":{"v":0,"d":"0.00"}},{"$f":"INPUT!HF48","v":-19.25},{"$f":"INPUT!HG48","v":-19.25},null,{"$f":"INPUT!IA48","v":""},{"$f":"INPUT!IB48","v":""},{"$f":"INPUT!IC48","v":""},{"$f":"INPUT!ID48","v":""},{"$f":"INPUT!IE48","v":""},{"$f":"INPUT!IF48","v":""},{"$f":"INPUT!IG48","v":""},{"$f":"INPUT!IH48","v":""},null,{"$f":"INPUT!IZ48","v":{"v":21,"d":"21.00"}},{"$f":"INPUT!JA48","v":{"v":-1.761,"d":"-1.76"}},{"$f":"INPUT!JB48","v":{"v":0.8831,"d":"0.88"}},{"$f":"INPUT!JC48","v":{"v":6.9796,"d":"6.98"}},{"$f":"INPUT!JD48","v":{"v":3.5541,"d":"3.55"}},{"$f":"INPUT!JE48","v":1.07},{"$f":"INPUT!JF48","v":1.07},{"v":0.9345794392523364,"d":"0.93"},null,{"$f":"INPUT!JX48","v":""},{"$f":"INPUT!JY48","v":""},{"$f":"INPUT!JZ48","v":""},{"$f":"INPUT!KA48","v":""},{"$f":"INPUT!KB48","v":""},{"$f":"INPUT!KC48","v":""},{"$f":"INPUT!KD48","v":""},"",null,{"$f":"INPUT!KZ48","v":{"v":21,"d":"21.00"}},{"$f":"INPUT!LA48","v":13.51},{"$f":"INPUT!LB48","v":18.37},{"$f":"INPUT!LC48","v":{"v":40.4,"d":"40.40"}},{"$f":"INPUT!LD48","v":{"v":19.4,"d":"19.40"}},{"$f":"INPUT!LE48","v":1.39},{"$f":"INPUT!LF48","v":0.82},{"$f":"INPUT!LG48","v":-18.86},{"$f":"INPUT!LH48","v":-18.86},null,{"$f":"INPUT!MB48","v":""},{"$f":"INPUT!MC48","v":""},{"$f":"INPUT!MD48","v":""},{"$f":"INPUT!ME48","v":""},{"$f":"INPUT!MF48","v":""},{"$f":"INPUT!MG48","v":""},{"$f":"INPUT!MH48","v":""},{"$f":"INPUT!MI48","v":""}]
[null,{"$f":"INPUT!EA49","v":{"v":22,"d":"22.00"}},{"$f":"INPUT!EB49","v":{"v":-1.2667,"d":"-1.27"}},{"$f":"INPUT!EC49","v":{"v":-1.4179,"d":"-1.42"}},{"$f":"INPUT!ED49","v":{"v":3.8917,"d":"3.89"}},{"$f":"INPUT!EE49","v":{"v":12.2944,"d":"12.29"}},{"$f":"INPUT!EF49","v":1.08},{"$f":"INPUT!EG49","v":1.08},{"v":0.9259259259259258,"d":"0.93"},null,{"$f":"INPUT!EY49","v":""},{"$f":"INPUT!EZ49","v":""},{"$f":"INPUT!FA49","v":""},{"$f":"INPUT!FB49","v":""},{"$f":"INPUT!FC49","v":""},{"$f":"INPUT!FD49","v":""},{"$f":"INPUT!FE49","v":""},"",null,{"$f":"INPUT!FW49","v":{"v":13,"d":"13.00"}},{"$f":"INPUT!FX49","v":-13.12},{"$f":"INPUT!FY49","v":9.36},{"$f":"INPUT!FZ49","v":{"v":0.3,"d":"0.30"}},{"$f":"INPUT!GA49","v":{"v":-1.2,"d":"-1.20"}},{"$f":"INPUT!GB49","v":215.03},{"$f":"INPUT!GC49","v":{"v":7981.8,"d":"7981.80"}},null,{"$f":"INPUT!GY49","v":{"v":22,"d":"22.00"}},{"$f":"INPUT!GZ49","v":20.41},{"$f":"INPUT!HA49","v":{"v":0,"d":"0.00"}},{"$f":"INPUT!HB49","v":23.82},{"$f":"INPUT!HC49","v":1.82},{"$f":"INPUT!HD49","v":0.64},{"$f":"INPUT!HE49","v":{"v":0,"d":"0.00"}},{"$f":"INPUT!HF49","v":-20.18},{"$f":"INPUT!HG49","v":-20.18},null,{"$f":"INPUT!IA49","v":""},{"$f":"INPUT!IB49","v":""},{"$f":"INPUT!IC49","v":""},{"$f":"INPUT!ID49","v":""},{"$f":"INPUT!IE49","v":""},{"$f":"INPUT!IF49","v":""},{"$f":"INPUT!IG49","v":""},{"$f":"INPUT!IH49","v":""},null,{"$f":"INPUT!IZ49","v":{"v":22,"d":"22.00"}},{"$f":"INPUT!JA49","v":{"v":-1.7967,"d":"-1.80"}},{"$f":"INPUT!JB49","v":{"v":0.8852,"d":"0.89"}},{"$f":"INPUT!JC49","v":{"v":6.9735,"d":"6.97"}},{"$f":"INPUT!JD49","v":{"v":3.5896,"d":"3.59"}},{"$f":"INPUT!JE49","v":{"v":1.067,"d":"1.07"}},{"$f":"INPUT!JF49","v":{"v":1.067,"d":"1.07"}},{"v":0.9372071227741331,"d":"0.94"},null,{"$f":"INPUT!JX49","v":""},{"$f":"INPUT!JY49","v":""},{"$f":"INPUT!JZ49","v":""},{"$f":"INPUT!KA49","v":""},{"$f":"INPUT!KB49","v":""},{"$f":"INPUT!KC49","v":""},{"$f":"INPUT!KD49","v":""},"",null,{"$f":"INPUT!KZ49","v":{"v":22,"d":"22.00"}},{"$f":"INPUT!LA49","v":13.43},{"$f":"INPUT!LB49","v":18.14},{"$f":"INPUT!LC49","v":39.34},{"$f":"INPUT!LD49","v":17.34},{"$f":"INPUT!LE49","v":1.42},{"$f":"INPUT!LF49","v":0.86},{"$f":"INPUT!LG49","v":-19.79},{"$f":"INPUT!LH49","v":-19.79},null,{"$f":"INPUT!MB49","v":""},{"$f":"INPUT!MC49","v":""},{"$f":"INPUT!MD49","v":""},{"$f":"INPUT!ME49","v":""},{"$f":"INPUT!MF49","v":""},{"$f":"INPUT!MG49","v":""},{"$f":"INPUT!MH49","v":""},{"$f":"INPUT!MI49","v":""}]
[null,{"$f":"INPUT!EA50","v":{"v":23,"d":"23.00"}},{"$f":"INPUT!EB50","v":{"v":-1.294,"d":"-1.29"}},{"$f":"INPUT!EC50","v":-1.41},{"$f":"INPUT!ED50","v":{"v":3.9132,"d":"3.91"}},{"$f":"INPUT!EE50","v":{"v":12.3218,"d":"12.32"}},{"$f":"INPUT!EF50","v":{"v":1.079,"d":"1.08"}},{"$f":"INPUT!EG50","v":{"v":1.079,"d":"1.08"}},{"v":0.9267840593141798,"d":"0.93"},null,{"$f":"INPUT!EY50","v":""},{"$f":"INPUT!EZ50","v":""},{"$f":"INPUT!FA50","v":""},{"$f":"INPUT!FB50","v":""},{"$f":"INPUT!FC50","v":""},{"$f":"INPUT!FD50","v":""},{"$f":"INPUT!FE50","v":""},"",null,{"$f":"INPUT!FW50","v":{"v":14,"d":"14.00"}},{"$f":"INPUT!FX50","v":-14.04},{"$f":"INPUT!FY50","v":10.19},{"$f":"INPUT!FZ50","v":{"v":0.4,"d":"0.40"}},{"$f":"INPUT!GA50","v":-1.22},{"$f":"INPUT!GB50","v":{"v":190,"d":"190.00"}},{"$f":"INPUT!GC50","v":7368.24},null,{"$f":"INPUT!GY50","v":{"v":23,"d":"23.00"}},{"$f":"INPUT!GZ50","v":20.48},{"$f":"INPUT!HA50","v":{"v":0,"d":"0.00"}},{"$f":"INPUT!HB50","v":{"v":23.2,"d":"23.20"}},{"$f":"INPUT!HC50","v":{"v":0.2,"d":"0.20"}},{"$f":"INPUT!HD50","v":0.63},{"$f":"INPUT!HE50","v":{"v":0,"d":"0.00"}},{"$f":"INPUT!HF50","v":{"v":-21.1,"d":"-21.10"}},{"$f":"INPUT!HG50","v":{"v":-21.1,"d":"-21.10"}},null,{"$f":"INPUT!IA50","v":""},{"$f":"INPUT!IB50","v":""},{"$f":"INPUT!IC50","v":""},{"$f":"INPUT!ID50","v":""},{"$f":"INPUT!IE50","v":""},{"$f":"INPUT!IF50","v":""},{"$f":"INPUT!IG50","v":""},{"$f":"INPUT!IH50","v":""},null,{"$f":"INPUT!IZ50","v":{"v":23,"d":"23.00"}},{"$f":"INPUT!JA50","v":{"v":-1.8325,"d":"-1.83"}},{"$f":"INPUT!JB50","v":{"v":0.8875,"d":"0.89"}},{"$f":"INPUT!JC50","v":{"v":6.9675,"d":"6.97"}},{"$f":"INPUT!JD50","v":{"v":3.6252,"d":"3.63"}},{"$f":"INPUT!JE50","v":{"v":1.064,"d":"1.06"}},{"$f":"INPUT!JF50","v":{"v":1.064,"d":"1.06"}},{"v":0.9398496240601504,"d":"0.94"},null,{"$f":"INPUT!JX50","v":""},{"$f":"INPUT!JY50","v":""},{"$f":"INPUT!JZ50","v":""},{"$f":"INPUT!KA50","v":""},{"$f":"INPUT!KB50","v":""},{"$f":"INPUT!KC50","v":""},{"$f":"INPUT!KD50","v":""},"",null,{"$f":"INPUT!KZ50","v":{"v":23,"d":"23.00"}},{"$f":"INPUT!LA50","v":13.36},{"$f":"INPUT!LB50","v":17.92},{"$f":"INPUT!LC50","v":38.28},{"$f":"INPUT!LD50","v":15.28},{"$f":"INPUT!LE50","v":1.45},{"$f":"INPUT!LF50","v":0.89},{"$f":"INPUT!LG50","v":-20.73},{"$f":"INPUT!LH50","v":-20.73},null,{"$f":"INPUT!MB50","v":""},{"$f":"INPUT!MC50","v":""},{"$f":"INPUT!MD50","v":""},{"$f":"INPUT!ME50","v":""},{"$f":"INPUT!MF50","v":""},{"$f":"INPUT!MG50","v":""},{"$f":"INPUT!MH50","v":""},{"$f":"INPUT!MI50","v":""}]
[null,{"$f":"INPUT!EA51","v":{"v":24,"d":"24.00"}},{"$f":"INPUT!EB51","v":{"v":-1.3213,"d":"-1.32"}},{"$f":"INPUT!EC51","v":{"v":-1.4021,"d":"-1.40"}},{"$f":"INPUT!ED51","v":{"v":3.9346,"d":"3.93"}},{"$f":"INPUT!EE51","v":{"v":12.3493,"d":"12.35"}},{"$f":"INPUT!EF51","v":{"v":1.079,"d":"1.08"}},{"$f":"INPUT!EG51","v":{"v":1.079,"d":"1.08"}},{"v":0.9267840593141798,"d":"0.93"},null,{"$f":"INPUT!EY51","v":""},{"$f":"INPUT!EZ51","v":""},{"$f":"INPUT!FA51","v":""},{"$f":"INPUT!FB51","v":""},{"$f":"INPUT!FC51","v":""},{"$f":"INPUT!FD51","v":""},{"$f":"INPUT!FE51","v":""},"",null,{"$f":"INPUT!FW51","v":{"v":15,"d":"15.00"}},{"$f":"INPUT!FX51","v":-14.98},{"$f":"INPUT!FY51","v":11.01},{"$f":"INPUT!FZ51","v":0.51},{"$f":"INPUT!GA51","v":-1.24},{"$f":"INPUT!GB51","v":169.85},{"$f":"INPUT!GC51","v":{"v":6838.8,"d":"6838.80"}},null,{"$f":"INPUT!GY51","v":{"v":24,"d":"24.00"}},{"$f":"INPUT!GZ51","v":20.55},{"$f":"INPUT!HA51","v":{"v":0,"d":"0.00"}},{"$f":"INPUT!HB51","v":22.59},{"$f":"INPUT!HC51","v":-1.41},{"$f":"INPUT!HD51","v":0.63},{"$f":"INPUT!HE51","v":{"v":0,"d":"0.00"}},{"$f":"INPUT!HF51","v":-22.03},{"$f":"INPUT!HG51","v":-22.03},null,{"$f":"INPUT!IA51","v":""},{"$f":"INPUT!IB51","v":""},{"$f":"INPUT!IC51","v":""},{"$f":"INPUT!ID51","v":""},{"$f":"INPUT!IE51","v":""},{"$f":"INPUT!IF51","v":""},{"$f":"INPUT!IG51","v":""},{"$f":"INPUT!IH51","v":""},null,{"$f":"INPUT!IZ51","v":{"v":24,"d":"24.00"}},{"$f":"INPUT!JA51","v":{"v":-1.8682,"d":"-1.87"}},{"$f":"INPUT!JB51","v":{"v":0.8897,"d":"0.89"}},{"$f":"INPUT!JC51","v":{"v":6.9614,"d":"6.96"}},{"$f":"INPUT!JD51","v":{"v":3.6608,"d":"3.66"}},{"$f":"INPUT!JE51","v":{"v":1.061,"d":"1.06"}},{"$f":"INPUT!JF51","v":{"v":1.061,"d":"1.06"}},{"v":0.942507068803016,"d":"0.94"},null,{"$f":"INPUT!JX51","v":""},{"$f":"INPUT!JY51","v":""},{"$f":"INPUT!JZ51","v":""},{"$f":"INPUT!KA51","v":""},{"$f":"INPUT!KB51","v":""},{"$f":"INPUT!KC51","v":""},{"$f":"INPUT!KD51","v":""},"",null,{"$f":"INPUT!KZ51","v":{"v":24,"d":"24.00"}},{"$f":"INPUT!LA51","v":13.28},{"$f":"INPUT!LB51","v":17.69},{"$f":"INPUT!LC51","v":37.21},{"$f":"INPUT!LD51","v":13.21},{"$f":"INPUT!LE51","v":1.47},{"$f":"INPUT!LF51","v":0.92},{"$f":"INPUT!LG51","v":-21.67},{"$f":"INPUT!LH51","v":-21.67},null,{"$f":"INPUT!MB51","v":""},{"$f":"INPUT!MC51","v":""},{"$f":"INPUT!MD51","v":""},{"$f":"INPUT!ME51","v":""},{"$f":"INPUT!MF51","v":""},{"$f":"INPUT!MG51","v":""},{"$f":"INPUT!MH51","v":""},{"$f":"INPUT!MI51","v":""}]
[null,{"$f":"INPUT!EA52","v":{"v":25,"d":"25.00"}},{"$f":"INPUT!EB52","v":{"v":-1.3487,"d":"-1.35"}},{"$f":"INPUT!EC52","v":{"v":-1.3942,"d":"-1.39"}},{"$f":"INPUT!ED52","v":{"v":3.9561,"d":"3.96"}},{"$f":"INPUT!EE52","v":{"v":12.3769,"d":"12.38"}},{"$f":"INPUT!EF52","v":{"v":1.079,"d":"1.08"}},{"$f":"INPUT!EG52","v":{"v":1.079,"d":"1.08"}},{"v":0.9267840593141798,"d":"0.93"},null,{"$f":"INPUT!EY52","v":""},{"$f":"INPUT!EZ52","v":""},{"$f":"INPUT!FA52","v":""},{"$f":"INPUT!FB52","v":""},{"$f":"INPUT!FC52","v":""},{"$f":"INPUT!FD52","v":""},{"$f":"INPUT!FE52","v":""},"",null,{"$f":"INPUT!FW52","v":{"v":16,"d":"16.00"}},{"$f":"INPUT!FX52","v":-15.92},{"$f":"INPUT!FY52","v":11.84},{"$f":"INPUT!FZ52","v":0.62},{"$f":"INPUT!GA52","v":-1.26},{"$f":"INPUT!GB52","v":153.39},{"$f":"INPUT!GC52","v":6376.79},null,{"$f":"INPUT!GY52","v":{"v":25,"d":"25.00"}},{"$f":"INPUT!GZ52","v":20.63},{"$f":"INPUT!HA52","v":{"v":0,"d":"0.00"}},{"$f":"INPUT!HB52","v":21.97},{"$f":"INPUT!HC52","v":-3.03},{"$f":"INPUT!HD52","v":0.63},{"$f":"INPUT!HE52","v":{"v":0,"d":"0.00"}},{"$f":"INPUT!HF52","v":-22.96},{"$f":"INPUT!HG52","v":-22.96},null,{"$f":"INPUT!IA52","v":""},{"$f":"INPUT!IB52","v":""},{"$f":"INPUT!IC52","v":""},{"$f":"INPUT!ID52","v":""},{"$f":"INPUT!IE52","v":""},{"$f":"INPUT!IF52","v":""},{"$f":"INPUT!IG52","v":""},{"$f":"INPUT!IH52","v":""},null,{"$f":"INPUT!IZ52","v":{"v":25,"d":"25.00"}},{"$f":"INPUT!JA52","v":{"v":-1.9041,"d":"-1.90"}},{"$f":"INPUT!JB52","v":{"v":0.8921,"d":"0.89"}},{"$f":"INPUT!JC52","v":{"v":6.9553,"d":"6.96"}},{"$f":"INPUT!JD52","v":{"v":3.6964,"d":"3.70"}},{"$f":"INPUT!JE52","v":{"v":1.058,"d":"1.06"}},{"$f":"INPUT!JF52","v":{"v":1.058,"d":"1.06"}},{"v":0.9451795841209829,"d":"0.95"},null,{"$f":"INPUT!JX52","v":""},{"$f":"INPUT!JY52","v":""},{"$f":"INPUT!JZ52","v":""},{"$f":"INPUT!KA52","v":""},{"$f":"INPUT!KB52","v":""},{"$f":"INPUT!KC52","v":""},{"$f":"INPUT!KD52","v":""},"",null,{"$f":"INPUT!KZ52","v":{"v":25,"d":"25.00"}},{"$f":"INPUT!LA52","v":{"v":13.2,"d":"13.20"}},{"$f":"INPUT!LB52","v":17.46},{"$f":"INPUT!LC52","v":36.15},{"$f":"INPUT!LD52","v":11.15},{"$f":"INPUT!LE52","v":1.49},{"$f":"INPUT!LF52","v":0.95},{"$f":"INPUT!LG52","v":-22.62},{"$f":"INPUT!LH52","v":-22.62},null,{"$f":"INPUT!MB52","v":""},{"$f":"INPUT!MC52","v":""},{"$f":"INPUT!MD52","v":""},{"$f":"INPUT!ME52","v":""},{"$f":"INPUT!MF52","v":""},{"$f":"INPUT!MG52","v":""},{"$f":"INPUT!MH52","v":""},{"$f":"INPUT!MI52","v":""}]
[null,{"$f":"INPUT!EA53","v":{"v":26,"d":"26.00"}},{"$f":"INPUT!EB53","v":{"v":-1.3761,"d":"-1.38"}},{"$f":"INPUT!EC53","v":{"v":-1.3862,"d":"-1.39"}},{"$f":"INPUT!ED53","v":{"v":3.9775,"d":"3.98"}},{"$f":"INPUT!EE53","v":{"v":12.4046,"d":"12.40"}},{"$f":"INPUT!EF53","v":{"v":1.079,"d":"1.08"}},{"$f":"INPUT!EG53","v":{"v":1.079,"d":"1.08"}},{"v":0.9267840593141798,"d":"0.93"},null,{"$f":"INPUT!EY53","v":""},{"$f":"INPUT!EZ53","v":""},{"$f":"INPUT!FA53","v":""},{"$f":"INPUT!FB53","v":""},{"$f":"INPUT!FC53","v":""},{"$f":"INPUT!FD53","v":""},{"$f":"INPUT!FE53","v":""},"",null,{"$f":"INPUT!FW53","v":{"v":17,"d":"17.00"}},{"$f":"INPUT!FX53","v":-16.87},{"$f":"INPUT!FY53","v":12.66},{"$f":"INPUT!FZ53","v":0.74},{"$f":"INPUT!GA53","v":-1.28},{"$f":"INPUT!GB53","v":139.79},{"$f":"INPUT!GC53","v":5969.67},null,{"$f":"INPUT!GY53","v":{"v":26,"d":"26.00"}},{"$f":"INPUT!GZ53","v":{"v":20.7,"d":"20.70"}},{"$f":"INPUT!HA53","v":{"v":0,"d":"0.00"}},{"$f":"INPUT!HB53","v":21.36},{"$f":"INPUT!HC53","v":-4.64},{"$f":"INPUT!HD53","v":0.62},{"$f":"INPUT!HE53","v":0.01},{"$f":"INPUT!HF53","v":-23.88},{"$f":"INPUT!HG53","v":-23.88},null,{"$f":"INPUT!IA53","v":""},{"$f":"INPUT!IB53","v":""},{"$f":"INPUT!IC53","v":""},{"$f":"INPUT!ID53","v":""},{"$f":"INPUT!IE53","v":""},{"$f":"INPUT!IF53","v":""},{"$f":"INPUT!IG53","v":""},{"$f":"INPUT!IH53","v":""},null,{"$f":"INPUT!IZ53","v":{"v":26,"d":"26.00"}},{"$f":"INPUT!JA53","v":-1.94},{"$f":"INPUT!JB53","v":{"v":0.8945,"d":"0.89"}},{"$f":"INPUT!JC53","v":{"v":6.9492,"d":"6.95"}},{"$f":"INPUT!JD53","v":{"v":3.7321,"d":"3.73"}},{"$f":"INPUT!JE53","v":{"v":1.056,"d":"1.06"}},{"$f":"INPUT!JF53","v":{"v":1.056,"d":"1.06"}},{"v":0.9469696969696969,"d":"0.95"},null,{"$f":"INPUT!JX53","v":""},{"$f":"INPUT!JY53","v":""},{"$f":"INPUT!JZ53","v":""},{"$f":"INPUT!KA53","v":""},{"$f":"INPUT!KB53","v":""},{"$f":"INPUT!KC53","v":""},{"$f":"INPUT!KD53","v":""},"",null,{"$f":"INPUT!KZ53","v":{"v":26,"d":"26.00"}},{"$f":"INPUT!LA53","v":13.12},{"$f":"INPUT!LB53","v":17.22},{"$f":"INPUT!LC53","v":35.09},{"$f":"INPUT!LD53","v":9.09},{"$f":"INPUT!LE53","v":1.51},{"$f":"INPUT!LF53","v":0.98},{"$f":"INPUT!LG53","v":-23.56},{"$f":"INPUT!LH53","v":-23.56},null,{"$f":"INPUT!MB53","v":""},{"$f":"INPUT!MC53","v":""},{"$f":"INPUT!MD53","v":""},{"$f":"INPUT!ME53","v":""},{"$f":"INPUT!MF53","v":""},{"$f":"INPUT!MG53","v":""},{"$f":"INPUT!MH53","v":""},{"$f":"INPUT!MI53","v":""}]
[null,{"$f":"INPUT!EA54","v":{"v":27,"d":"27.00"}},{"$f":"INPUT!EB54","v":{"v":-1.4037,"d":"-1.40"}},{"$f":"INPUT!EC54","v":{"v":-1.3781,"d":"-1.38"}},{"$f":"INPUT!ED54","v":{"v":3.999,"d":"4.00"}},{"$f":"INPUT!EE54","v":{"v":12.4323,"d":"12.43"}},{"$f":"INPUT!EF54","v":{"v":1.079,"d":"1.08"}},{"$f":"INPUT!EG54","v":{"v":1.079,"d":"1.08"}},{"v":0.9267840593141798,"d":"0.93"},null,{"$f":"INPUT!EY54","v":""},{"$f":"INPUT!EZ54","v":""},{"$f":"INPUT!FA54","v":""},{"$f":"INPUT!FB54","v":""},{"$f":"INPUT!FC54","v":""},{"$f":"INPUT!FD54","v":""},{"$f":"INPUT!FE54","v":""},"",null,{"$f":"INPUT!FW54","v":{"v":18,"d":"18.00"}},{"$f":"INPUT!FX54","v":-17.83},{"$f":"INPUT!FY54","v":13.49},{"$f":"INPUT!FZ54","v":0.86},{"$f":"INPUT!GA54","v":-1.29},{"$f":"INPUT!GB54","v":128.42},{"$f":"INPUT!GC54","v":5607.86},null,{"$f":"INPUT!GY54","v":{"v":27,"d":"27.00"}},{"$f":"INPUT!GZ54","v":20.78},{"$f":"INPUT!HA54","v":{"v":0,"d":"0.00"}},{"$f":"INPUT!HB54","v":20.74},{"$f":"INPUT!HC54","v":-6.26},{"$f":"INPUT!HD54","v":0.61},{"$f":"INPUT!HE54","v":0.01},{"$f":"INPUT!HF54","v":-24.81},{"$f":"INPUT!HG54","v":-24.81},null,{"$f":"INPUT!IA54","v":""},{"$f":"INPUT!IB54","v":""},{"$f":"INPUT!IC54","v":""},{"$f":"INPUT!ID54","v":""},{"$f":"INPUT!IE54","v":""},{"$f":"INPUT!IF54","v":""},{"$f":"INPUT!IG54","v":""},{"$f":"INPUT!IH54","v":""},null,{"$f":"INPUT!IZ54","v":{"v":27,"d":"27.00"}},{"$f":"INPUT!JA54","v":{"v":-1.9759,"d":"-1.98"}},{"$f":"INPUT!JB54","v":{"v":0.8969,"d":"0.90"}},{"$f":"INPUT!JC54","v":{"v":6.9431,"d":"6.94"}},{"$f":"INPUT!JD54","v":{"v":3.7678,"d":"3.77"}},{"$f":"INPUT!JE54","v":{"v":1.053,"d":"1.05"}},{"$f":"INPUT!JF54","v":{"v":1.053,"d":"1.05"}},{"v":0.9496676163342831,"d":"0.95"},null,{"$f":"INPUT!JX54","v":""},{"$f":"INPUT!JY54","v":""},{"$f":"INPUT!JZ54","v":""},{"$f":"INPUT!KA54","v":""},{"$f":"INPUT!KB54","v":""},{"$f":"INPUT!KC54","v":""},{"$f":"INPUT!KD54","v":""},"",null,{"$f":"INPUT!KZ54","v":{"v":27,"d":"27.00"}},{"$f":"INPUT!LA54","v":13.04},{"$f":"INPUT!LB54","v":16.99},{"$f":"INPUT!LC54","v":34.03},{"$f":"INPUT!LD54","v":7.03},{"$f":"INPUT!LE54","v":1.52},{"$f":"INPUT!LF54","v":1.01},{"$f":"INPUT!LG54","v":-24.51},{"$f":"INPUT!LH54","v":-24.51},null,{"$f":"INPUT!MB54","v":""},{"$f":"INPUT!MC54","v":""},{"$f":"INPUT!MD54","v":""},{"$f":"INPUT!ME54","v":""},{"$f":"INPUT!MF54","v":""},{"$f":"INPUT!MG54","v":""},{"$f":"INPUT!MH54","v":""},{"$f":"INPUT!MI54","v":""}]
[null,{"$f":"INPUT!EA55","v":{"v":28,"d":"28.00"}},{"$f":"INPUT!EB55","v":{"v":-1.4313,"d":"-1.43"}},{"$f":"INPUT!EC55","v":-1.37},{"$f":"INPUT!ED55","v":{"v":4.0204,"d":"4.02"}},{"$f":"INPUT!EE55","v":{"v":12.4601,"d":"12.46"}},{"$f":"INPUT!EF55","v":{"v":1.079,"d":"1.08"}},{"$f":"INPUT!EG55","v":{"v":1.079,"d":"1.08"}},{"v":0.9267840593141798,"d":"0.93"},null,{"$f":"INPUT!EY55","v":""},{"$f":"INPUT!EZ55","v":""},{"$f":"INPUT!FA55","v":""},{"$f":"INPUT!FB55","v":""},{"$f":"INPUT!FC55","v":""},{"$f":"INPUT!FD55","v":""},{"$f":"INPUT!FE55","v":""},"",null,{"$f":"INPUT!FW55","v":{"v":19,"d":"19.00"}},{"$f":"INPUT!FX55","v":-18.79},{"$f":"INPUT!FY55","v":14.31},{"$f":"INPUT!FZ55","v":0.99},{"$f":"INPUT!GA55","v":-1.31},{"$f":"INPUT!GB55","v":118.84},{"$f":"INPUT!GC55","v":5283.91},null,{"$f":"INPUT!GY55","v":{"v":28,"d":"28.00"}},{"$f":"INPUT!GZ55","v":20.85},{"$f":"INPUT!HA55","v":{"v":0,"d":"0.00"}},{"$f":"INPUT!HB55","v":20.12},{"$f":"INPUT!HC55","v":-7.88},{"$f":"INPUT!HD55","v":{"v":0.6,"d":"0.60"}},{"$f":"INPUT!HE55","v":0.01},{"$f":"INPUT!HF55","v":-25.74},{"$f":"INPUT!HG55","v":-25.74},null,{"$f":"INPUT!IA55","v":""},{"$f":"INPUT!IB55","v":""},{"$f":"INPUT!IC55","v":""},{"$f":"INPUT!ID55","v":""},{"$f":"INPUT!IE55","v":""},{"$f":"INPUT!IF55","v":""},{"$f":"INPUT!IG55","v":""},{"$f":"INPUT!IH55","v":""},null,{"$f":"INPUT!IZ55","v":{"v":28,"d":"28.00"}},{"$f":"INPUT!JA55","v":{"v":-2.012,"d":"-2.01"}},{"$f":"INPUT!JB55","v":{"v":0.8995,"d":"0.90"}},{"$f":"INPUT!JC55","v":{"v":6.937,"d":"6.94"}},{"$f":"INPUT!JD55","v":{"v":3.8036,"d":"3.80"}},{"$f":"INPUT!JE55","v":{"v":1.052,"d":"1.05"}},{"$f":"INPUT!JF55","v":{"v":1.052,"d":"1.05"}},{"v":0.9505703422053231,"d":"0.95"},null,{"$f":"INPUT!JX55","v":""},{"$f":"INPUT!JY55","v":""},{"$f":"INPUT!JZ55","v":""},{"$f":"INPUT!KA55","v":""},{"$f":"INPUT!KB55","v":""},{"$f":"INPUT!KC55","v":""},{"$f":"INPUT!KD55","v":""},"",null,{"$f":"INPUT!KZ55","v":{"v":28,"d":"28.00"}},{"$f":"INPUT!LA55","v":12.96},{"$f":"INPUT!LB55","v":16.75},{"$f":"INPUT!LC55","v":32.97},{"$f":"INPUT!LD55","v":4.97},{"$f":"INPUT!LE55","v":1.53},{"$f":"INPUT!LF55","v":1.04},{"$f":"INPUT!LG55","v":-25.46},{"$f":"INPUT!LH55","v":-25.46},null,{"$f":"INPUT!MB55","v":""},{"$f":"INPUT!MC55","v":""},{"$f":"INPUT!MD55","v":""},{"$f":"INPUT!ME55","v":""},{"$f":"INPUT!MF55","v":""},{"$f":"INPUT!MG55","v":""},{"$f":"INPUT!MH55","v":""},{"$f":"INPUT!MI55","v":""}]
[null,{"$f":"INPUT!EA56","v":{"v":29,"d":"29.00"}},{"$f":"INPUT!EB56","v":{"v":-1.459,"d":"-1.46"}},{"$f":"INPUT!EC56","v":{"v":-1.3619,"d":"-1.36"}},{"$f":"INPUT!ED56","v":{"v":4.0419,"d":"4.04"}},{"$f":"INPUT!EE56","v":{"v":12.488,"d":"12.49"}},{"$f":"INPUT!EF56","v":{"v":1.079,"d":"1.08"}},{"$f":"INPUT!EG56","v":{"v":1.079,"d":"1.08"}},{"v":0.9267840593141798,"d":"0.93"},null,{"$f":"INPUT!EY56","v":""},{"$f":"INPUT!EZ56","v":""},{"$f":"INPUT!FA56","v":""},{"$f":"INPUT!FB56","v":""},{"$f":"INPUT!FC56","v":""},{"$f":"INPUT!FD56","v":""},{"$f":"INPUT!FE56","v":""},"",null,{"$f":"INPUT!FW56","v":{"v":20,"d":"20.00"}},{"$f":"INPUT!FX56","v":-19.77},{"$f":"INPUT!FY56","v":15.14},{"$f":"INPUT!FZ56","v":1.12},{"$f":"INPUT!GA56","v":-1.32},{"$f":"INPUT!GB56","v":{"v":110.7,"d":"110.70"}},{"$f":"INPUT!GC56","v":{"v":4991.9,"d":"4991.90"}},null,{"$f":"INPUT!GY56","v":{"v":29,"d":"29.00"}},{"$f":"INPUT!GZ56","v":20.93},{"$f":"INPUT!HA56","v":{"v":0,"d":"0.00"}},{"$f":"INPUT!HB56","v":19.51},{"$f":"INPUT!HC56","v":-9.49},{"$f":"INPUT!HD56","v":0.58},{"$f":"INPUT!HE56","v":0.01},{"$f":"INPUT!HF56","v":-26.66},{"$f":"INPUT!HG56","v":-26.66},null,{"$f":"INPUT!IA56","v":""},{"$f":"INPUT!IB56","v":""},{"$f":"INPUT!IC56","v":""},{"$f":"INPUT!ID56","v":""},{"$f":"INPUT!IE56","v":""},{"$f":"INPUT!IF56","v":""},{"$f":"INPUT!IG56","v":""},{"$f":"INPUT!IH56","v":""},null,{"$f":"INPUT!IZ56","v":{"v":29,"d":"29.00"}},{"$f":"INPUT!JA56","v":{"v":-2.048,"d":"-2.05"}},{"$f":"INPUT!JB56","v":{"v":0.9021,"d":"0.90"}},{"$f":"INPUT!JC56","v":{"v":6.9309,"d":"6.93"}},{"$f":"INPUT!JD56","v":{"v":3.8394,"d":"3.84"}},{"$f":"INPUT!JE56","v":1.05},{"$f":"INPUT!JF56","v":1.05},{"v":0.9523809523809523,"d":"0.95"},null,{"$f":"INPUT!JX56","v":""},{"$f":"INPUT!JY56","v":""},{"$f":"INPUT!JZ56","v":""},{"$f":"INPUT!KA56","v":""},{"$f":"INPUT!KB56","v":""},{"$f":"INPUT!KC56","v":""},{"$f":"INPUT!KD56","v":""},"",null,{"$f":"INPUT!KZ56","v":{"v":29,"d":"29.00"}},{"$f":"INPUT!LA56","v":12.88},{"$f":"INPUT!LB56","v":16.52},{"$f":"INPUT!LC56","v":31.92},{"$f":"INPUT!LD56","v":2.92},{"$f":"INPUT!LE56","v":1.53},{"$f":"INPUT!LF56","v":1.07},{"$f":"INPUT!LG56","v":-26.41},{"$f":"INPUT!LH56","v":-26.41},null,{"$f":"INPUT!MB56","v":""},{"$f":"INPUT!MC56","v":""},{"$f":"INPUT!MD56","v":""},{"$f":"INPUT!ME56","v":""},{"$f":"INPUT!MF56","v":""},{"$f":"INPUT!MG56","v":""},{"$f":"INPUT!MH56","v":""},{"$f":"INPUT!MI56","v":""}]
[null,{"$f":"INPUT!EA57","v":{"v":30,"d":"30.00"}},{"$f":"INPUT!EB57","v":{"v":-1.4868,"d":"-1.49"}},{"$f":"INPUT!EC57","v":{"v":-1.3536,"d":"-1.35"}},{"$f":"INPUT!ED57","v":{"v":4.0633,"d":"4.06"}},{"$f":"INPUT!EE57","v":{"v":12.5159,"d":"12.52"}},{"$f":"INPUT!EF57","v":1.08},{"$f":"INPUT!EG57","v":1.08},{"v":0.9259259259259258,"d":"0.93"},null,{"$f":"INPUT!EY57","v":""},{"$f":"INPUT!EZ57","v":""},{"$f":"INPUT!FA57","v":""},{"$f":"INPUT!FB57","v":""},{"$f":"INPUT!FC57","v":""},{"$f":"INPUT!FD57","v":""},{"$f":"INPUT!FE57","v":""},"",null,{"$f":"INPUT!FW57","v":{"v":21,"d":"21.00"}},{"$f":"INPUT!FX57","v":-20.75},{"$f":"INPUT!FY57","v":15.96},{"$f":"INPUT!FZ57","v":1.26},{"$f":"INPUT!GA57","v":-1.33},{"$f":"INPUT!GB57","v":103.72},{"$f":"INPUT!GC57","v":{"v":4727.1,"d":"4727.10"}},null,{"$f":"INPUT!GY57","v":{"v":30,"d":"30.00"}},{"$f":"INPUT!GZ57","v":21.01},{"$f":"INPUT!HA57","v":{"v":0,"d":"0.00"}},{"$f":"INPUT!HB57","v":18.89},{"$f":"INPUT!HC57","v":-11.11},{"$f":"INPUT!HD57","v":0.56},{"$f":"INPUT!HE57","v":0.01},{"$f":"INPUT!HF57","v":-27.59},{"$f":"INPUT!HG57","v":-27.59},null,{"$f":"INPUT!IA57","v":""},{"$f":"INPUT!IB57","v":""},{"$f":"INPUT!IC57","v":""},{"$f":"INPUT!ID57","v":""},{"$f":"INPUT!IE57","v":""},{"$f":"INPUT!IF57","v":""},{"$f":"INPUT!IG57","v":""},{"$f":"INPUT!IH57","v":""},null,{"$f":"INPUT!IZ57","v":{"v":30,"d":"30.00"}},{"$f":"INPUT!JA57","v":{"v":-2.0842,"d":"-2.08"}},{"$f":"INPUT!JB57","v":{"v":0.9048,"d":"0.90"}},{"$f":"INPUT!JC57","v":{"v":6.9248,"d":"6.92"}},{"$f":"INPUT!JD57","v":{"v":3.8753,"d":"3.88"}},{"$f":"INPUT!JE57","v":{"v":1.049,"d":"1.05"}},{"$f":"INPUT!JF57","v":{"v":1.049,"d":"1.05"}},{"v":0.9532888465204957,"d":"0.95"},null,{"$f":"INPUT!JX57","v":""},{"$f":"INPUT!JY57","v":""},{"$f":"INPUT!JZ57","v":""},{"$f":"INPUT!KA57","v":""},{"$f":"INPUT!KB57","v":""},{"$f":"INPUT!KC57","v":""},{"$f":"INPUT!KD57","v":""},"",null,{"$f":"INPUT!KZ57","v":{"v":30,"d":"30.00"}},{"$f":"INPUT!LA57","v":{"v":12.8,"d":"12.80"}},{"$f":"INPUT!LB57","v":16.28},{"$f":"INPUT!LC57","v":30.86},{"$f":"INPUT!LD57","v":0.86},{"$f":"INPUT!LE57","v":1.54},{"$f":"INPUT!LF57","v":{"v":1.1,"d":"1.10"}},{"$f":"INPUT!LG57","v":-27.37},{"$f":"INPUT!LH57","v":-27.37},null,{"$f":"INPUT!MB57","v":""},{"$f":"INPUT!MC57","v":""},{"$f":"INPUT!MD57","v":""},{"$f":"INPUT!ME57","v":""},{"$f":"INPUT!MF57","v":""},{"$f":"INPUT!MG57","v":""},{"$f":"INPUT!MH57","v":""},{"$f":"INPUT!MI57","v":""}]
[null,{"$f":"INPUT!EA58","v":""},{"$f":"INPUT!EB58","v":""},{"$f":"INPUT!EC58","v":""},{"$f":"INPUT!ED58","v":""},{"$f":"INPUT!EE58","v":""},{"$f":"INPUT!EF58","v":""},{"$f":"INPUT!EG58","v":""},"",null,{"$f":"INPUT!EY58","v":""},{"$f":"INPUT!EZ58","v":""},{"$f":"INPUT!FA58","v":""},{"$f":"INPUT!FB58","v":""},{"$f":"INPUT!FC58","v":""},{"$f":"INPUT!FD58","v":""},{"$f":"INPUT!FE58","v":""},"",null,{"$f":"INPUT!FW58","v":{"v":22,"d":"22.00"}},{"$f":"INPUT!FX58","v":-21.75},{"$f":"INPUT!FY58","v":16.78},{"$f":"INPUT!FZ58","v":1.41},{"$f":"INPUT!GA58","v":-1.33},{"$f":"INPUT!GB58","v":97.71},{"$f":"INPUT!GC58","v":4485.67},null,{"$f":"INPUT!GY58","v":""},{"$f":"INPUT!GZ58","v":""},{"$f":"INPUT!HA58","v":""},{"$f":"INPUT!HB58","v":""},{"$f":"INPUT!HC58","v":""},{"$f":"INPUT!HD58","v":""},{"$f":"INPUT!HE58","v":""},{"$f":"INPUT!HF58","v":""},{"$f":"INPUT!HG58","v":""},null,{"$f":"INPUT!IA58","v":""},{"$f":"INPUT!IB58","v":""},{"$f":"INPUT!IC58","v":""},{"$f":"INPUT!ID58","v":""},{"$f":"INPUT!IE58","v":""},{"$f":"INPUT!IF58","v":""},{"$f":"INPUT!IG58","v":""},{"$f":"INPUT!IH58","v":""},null,{"$f":"INPUT!IZ58","v":""},{"$f":"INPUT!JA58","v":""},{"$f":"INPUT!JB58","v":""},{"$f":"INPUT!JC58","v":""},{"$f":"INPUT!JD58","v":""},{"$f":"INPUT!JE58","v":""},{"$f":"INPUT!JF58","v":""},"",null,{"$f":"INPUT!JX58","v":""},{"$f":"INPUT!JY58","v":""},{"$f":"INPUT!JZ58","v":""},{"$f":"INPUT!KA58","v":""},{"$f":"INPUT!KB58","v":""},{"$f":"INPUT!KC58","v":""},{"$f":"INPUT!KD58","v":""},"",null,{"$f":"INPUT!KZ58","v":""},{"$f":"INPUT!LA58","v":""},{"$f":"INPUT!LB58","v":""},{"$f":"INPUT!LC58","v":""},{"$f":"INPUT!LD58","v":""},{"$f":"INPUT!LE58","v":""},{"$f":"INPUT!LF58","v":""},{"$f":"INPUT!LG58","v":""},{"$f":"INPUT!LH58","v":""},null,{"$f":"INPUT!MB58","v":""},{"$f":"INPUT!MC58","v":""},{"$f":"INPUT!MD58","v":""},{"$f":"INPUT!ME58","v":""},{"$f":"INPUT!MF58","v":""},{"$f":"INPUT!MG58","v":""},{"$f":"INPUT!MH58","v":""},{"$f":"INPUT!MI58","v":""}]
[null,{"$f":"INPUT!EA59","v":""},{"$f":"INPUT!EB59","v":""},{"$f":"INPUT!EC59","v":""},{"$f":"INPUT!ED59","v":""},{"$f":"INPUT!EE59","v":""},{"$f":"INPUT!EF59","v":""},{"$f":"INPUT!EG59","v":""},"",null,{"$f":"INPUT!EY59","v":""},{"$f":"INPUT!EZ59","v":""},{"$f":"INPUT!FA59","v":""},{"$f":"INPUT!FB59","v":""},{"$f":"INPUT!FC59","v":""},{"$f":"INPUT!FD59","v":""},{"$f":"INPUT!FE59","v":""},"",null,{"$f":"INPUT!FW59","v":{"v":23,"d":"23.00"}},{"$f":"INPUT!FX59","v":-22.75},{"$f":"INPUT!FY59","v":17.61},{"$f":"INPUT!FZ59","v":1.57},{"$f":"INPUT!GA59","v":-1.34},{"$f":"INPUT!GB59","v":{"v":92.5,"d":"92.50"}},{"$f":"INPUT!GC59","v":4264.45},null,{"$f":"INPUT!GY59","v":""},{"$f":"INPUT!GZ59","v":""},{"$f":"INPUT!HA59","v":""},{"$f":"INPUT!HB59","v":""},{"$f":"INPUT!HC59","v":""},{"$f":"INPUT!HD59","v":""},{"$f":"INPUT!HE59","v":""},{"$f":"INPUT!HF59","v":""},{"$f":"INPUT!HG59","v":""},null,{"$f":"INPUT!IA59","v":""},{"$f":"INPUT!IB59","v":""},{"$f":"INPUT!IC59","v":""},{"$f":"INPUT!ID59","v":""},{"$f":"INPUT!IE59","v":""},{"$f":"INPUT!IF59","v":""},{"$f":"INPUT!IG59","v":""},{"$f":"INPUT!IH59","v":""},null,{"$f":"INPUT!IZ59","v":""},{"$f":"INPUT!JA59","v":""},{"$f":"INPUT!JB59","v":""},{"$f":"INPUT!JC59","v":""},{"$f":"INPUT!JD59","v":""},{"$f":"INPUT!JE59","v":""},{"$f":"INPUT!JF59","v":""},"",null,{"$f":"INPUT!JX59","v":""},{"$f":"INPUT!JY59","v":""},{"$f":"INPUT!JZ59","v":""},{"$f":"INPUT!KA59","v":""},{"$f":"INPUT!KB59","v":""},{"$f":"INPUT!KC59","v":""},{"$f":"INPUT!KD59","v":""},"",null,{"$f":"INPUT!KZ59","v":""},{"$f":"INPUT!LA59","v":""},{"$f":"INPUT!LB59","v":""},{"$f":"INPUT!LC59","v":""},{"$f":"INPUT!LD59","v":""},{"$f":"INPUT!LE59","v":""},{"$f":"INPUT!LF59","v":""},{"$f":"INPUT!LG59","v":""},{"$f":"INPUT!LH59","v":""},null,{"$f":"INPUT!MB59","v":""},{"$f":"INPUT!MC59","v":""},{"$f":"INPUT!MD59","v":""},{"$f":"INPUT!ME59","v":""},{"$f":"INPUT!MF59","v":""},{"$f":"INPUT!MG59","v":""},{"$f":"INPUT!MH59","v":""},{"$f":"INPUT!MI59","v":""}]
[null,{"$f":"INPUT!EA60","v":""},{"$f":"INPUT!EB60","v":""},{"$f":"INPUT!EC60","v":""},{"$f":"INPUT!ED60","v":""},{"$f":"INPUT!EE60","v":""},{"$f":"INPUT!EF60","v":""},{"$f":"INPUT!EG60","v":""},"",null,{"$f":"INPUT!EY60","v":""},{"$f":"INPUT!EZ60","v":""},{"$f":"INPUT!FA60","v":""},{"$f":"INPUT!FB60","v":""},{"$f":"INPUT!FC60","v":""},{"$f":"INPUT!FD60","v":""},{"$f":"INPUT!FE60","v":""},"",null,{"$f":"INPUT!FW60","v":{"v":24,"d":"24.00"}},{"$f":"INPUT!FX60","v":-23.77},{"$f":"INPUT!FY60","v":18.43},{"$f":"INPUT!FZ60","v":1.73},{"$f":"INPUT!GA60","v":-1.34},{"$f":"INPUT!GB60","v":87.97},{"$f":"INPUT!GC60","v":4060.83},null,{"$f":"INPUT!GY60","v":""},{"$f":"INPUT!GZ60","v":""},{"$f":"INPUT!HA60","v":""},{"$f":"INPUT!HB60","v":""},{"$f":"INPUT!HC60","v":""},{"$f":"INPUT!HD60","v":""},{"$f":"INPUT!HE60","v":""},{"$f":"INPUT!HF60","v":""},{"$f":"INPUT!HG60","v":""},null,{"$f":"INPUT!IA60","v":""},{"$f":"INPUT!IB60","v":""},{"$f":"INPUT!IC60","v":""},{"$f":"INPUT!ID60","v":""},{"$f":"INPUT!IE60","v":""},{"$f":"INPUT!IF60","v":""},{"$f":"INPUT!IG60","v":""},{"$f":"INPUT!IH60","v":""},null,{"$f":"INPUT!IZ60","v":""},{"$f":"INPUT!JA60","v":""},{"$f":"INPUT!JB60","v":""},{"$f":"INPUT!JC60","v":""},{"$f":"INPUT!JD60","v":""},{"$f":"INPUT!JE60","v":""},{"$f":"INPUT!JF60","v":""},"",null,{"$f":"INPUT!JX60","v":""},{"$f":"INPUT!JY60","v":""},{"$f":"INPUT!JZ60","v":""},{"$f":"INPUT!KA60","v":""},{"$f":"INPUT!KB60","v":""},{"$f":"INPUT!KC60","v":""},{"$f":"INPUT!KD60","v":""},"",null,{"$f":"INPUT!KZ60","v":""},{"$f":"INPUT!LA60","v":""},{"$f":"INPUT!LB60","v":""},{"$f":"INPUT!LC60","v":""},{"$f":"INPUT!LD60","v":""},{"$f":"INPUT!LE60","v":""},{"$f":"INPUT!LF60","v":""},{"$f":"INPUT!LG60","v":""},{"$f":"INPUT!LH60","v":""},null,{"$f":"INPUT!MB60","v":""},{"$f":"INPUT!MC60","v":""},{"$f":"INPUT!MD60","v":""},{"$f":"INPUT!ME60","v":""},{"$f":"INPUT!MF60","v":""},{"$f":"INPUT!MG60","v":""},{"$f":"INPUT!MH60","v":""},{"$f":"INPUT!MI60","v":""}]
[null,{"$f":"INPUT!EA61","v":""},{"$f":"INPUT!EB61","v":""},{"$f":"INPUT!EC61","v":""},{"$f":"INPUT!ED61","v":""},{"$f":"INPUT!EE61","v":""},{"$f":"INPUT!EF61","v":""},{"$f":"INPUT!EG61","v":""},"",null,{"$f":"INPUT!EY61","v":""},{"$f":"INPUT!EZ61","v":""},{"$f":"INPUT!FA61","v":""},{"$f":"INPUT!FB61","v":""},{"$f":"INPUT!FC61","v":""},{"$f":"INPUT!FD61","v":""},{"$f":"INPUT!FE61","v":""},"",null,{"$f":"INPUT!FW61","v":{"v":25,"d":"25.00"}},{"$f":"INPUT!FX61","v":{"v":-24.8,"d":"-24.80"}},{"$f":"INPUT!FY61","v":19.26},{"$f":"INPUT!FZ61","v":{"v":1.9,"d":"1.90"}},{"$f":"INPUT!GA61","v":-1.34},{"$f":"INPUT!GB61","v":84.01},{"$f":"INPUT!GC61","v":3872.64},null,{"$f":"INPUT!GY61","v":""},{"$f":"INPUT!GZ61","v":""},{"$f":"INPUT!HA61","v":""},{"$f":"INPUT!HB61","v":""},{"$f":"INPUT!HC61","v":""},{"$f":"INPUT!HD61","v":""},{"$f":"INPUT!HE61","v":""},{"$f":"INPUT!HF61","v":""},{"$f":"INPUT!HG61","v":""},null,{"$f":"INPUT!IA61","v":""},{"$f":"INPUT!IB61","v":""},{"$f":"INPUT!IC61","v":""},{"$f":"INPUT!ID61","v":""},{"$f":"INPUT!IE61","v":""},{"$f":"INPUT!IF61","v":""},{"$f":"INPUT!IG61","v":""},{"$f":"INPUT!IH61","v":""},null,{"$f":"INPUT!IZ61","v":""},{"$f":"INPUT!JA61","v":""},{"$f":"INPUT!JB61","v":""},{"$f":"INPUT!JC61","v":""},{"$f":"INPUT!JD61","v":""},{"$f":"INPUT!JE61","v":""},{"$f":"INPUT!JF61","v":""},"",null,{"$f":"INPUT!JX61","v":""},{"$f":"INPUT!JY61","v":""},{"$f":"INPUT!JZ61","v":""},{"$f":"INPUT!KA61","v":""},{"$f":"INPUT!KB61","v":""},{"$f":"INPUT!KC61","v":""},{"$f":"INPUT!KD61","v":""},"",null,{"$f":"INPUT!KZ61","v":""},{"$f":"INPUT!LA61","v":""},{"$f":"INPUT!LB61","v":""},{"$f":"INPUT!LC61","v":""},{"$f":"INPUT!LD61","v":""},{"$f":"INPUT!LE61","v":""},{"$f":"INPUT!LF61","v":""},{"$f":"INPUT!LG61","v":""},{"$f":"INPUT!LH61","v":""},null,{"$f":"INPUT!MB61","v":""},{"$f":"INPUT!MC61","v":""},{"$f":"INPUT!MD61","v":""},{"$f":"INPUT!ME61","v":""},{"$f":"INPUT!MF61","v":""},{"$f":"INPUT!MG61","v":""},{"$f":"INPUT!MH61","v":""},{"$f":"INPUT!MI61","v":""}]
[null,{"$f":"INPUT!EA62","v":""},{"$f":"INPUT!EB62","v":""},{"$f":"INPUT!EC62","v":""},{"$f":"INPUT!ED62","v":""},{"$f":"INPUT!EE62","v":""},{"$f":"INPUT!EF62","v":""},{"$f":"INPUT!EG62","v":""},"",null,{"$f":"INPUT!EY62","v":""},{"$f":"INPUT!EZ62","v":""},{"$f":"INPUT!FA62","v":""},{"$f":"INPUT!FB62","v":""},{"$f":"INPUT!FC62","v":""},{"$f":"INPUT!FD62","v":""},{"$f":"INPUT!FE62","v":""},"",null,{"$f":"INPUT!FW62","v":{"v":26,"d":"26.00"}},{"$f":"INPUT!FX62","v":-25.84},{"$f":"INPUT!FY62","v":20.08},{"$f":"INPUT!FZ62","v":2.08},{"$f":"INPUT!GA62","v":-1.33},{"$f":"INPUT!GB62","v":80.54},{"$f":"INPUT!GC62","v":3698.01},null,{"$f":"INPUT!GY62","v":""},{"$f":"INPUT!GZ62","v":""},{"$f":"INPUT!HA62","v":""},{"$f":"INPUT!HB62","v":""},{"$f":"INPUT!HC62","v":""},{"$f":"INPUT!HD62","v":""},{"$f":"INPUT!HE62","v":""},{"$f":"INPUT!HF62","v":""},{"$f":"INPUT!HG62","v":""},null,{"$f":"INPUT!IA62","v":""},{"$f":"INPUT!IB62","v":""},{"$f":"INPUT!IC62","v":""},{"$f":"INPUT!ID62","v":""},{"$f":"INPUT!IE62","v":""},{"$f":"INPUT!IF62","v":""},{"$f":"INPUT!IG62","v":""},{"$f":"INPUT!IH62","v":""},null,{"$f":"INPUT!IZ62","v":""},{"$f":"INPUT!JA62","v":""},{"$f":"INPUT!JB62","v":""},{"$f":"INPUT!JC62","v":""},{"$f":"INPUT!JD62","v":""},{"$f":"INPUT!JE62","v":""},{"$f":"INPUT!JF62","v":""},"",null,{"$f":"INPUT!JX62","v":""},{"$f":"INPUT!JY62","v":""},{"$f":"INPUT!JZ62","v":""},{"$f":"INPUT!KA62","v":""},{"$f":"INPUT!KB62","v":""},{"$f":"INPUT!KC62","v":""},{"$f":"INPUT!KD62","v":""},"",null,{"$f":"INPUT!KZ62","v":""},{"$f":"INPUT!LA62","v":""},{"$f":"INPUT!LB62","v":""},{"$f":"INPUT!LC62","v":""},{"$f":"INPUT!LD62","v":""},{"$f":"INPUT!LE62","v":""},{"$f":"INPUT!LF62","v":""},{"$f":"INPUT!LG62","v":""},{"$f":"INPUT!LH62","v":""},null,{"$f":"INPUT!MB62","v":""},{"$f":"INPUT!MC62","v":""},{"$f":"INPUT!MD62","v":""},{"$f":"INPUT!ME62","v":""},{"$f":"INPUT!MF62","v":""},{"$f":"INPUT!MG62","v":""},{"$f":"INPUT!MH62","v":""},{"$f":"INPUT!MI62","v":""}]
[null,{"$f":"INPUT!EA63","v":""},{"$f":"INPUT!EB63","v":""},{"$f":"INPUT!EC63","v":""},{"$f":"INPUT!ED63","v":""},{"$f":"INPUT!EE63","v":""},{"$f":"INPUT!EF63","v":""},{"$f":"INPUT!EG63","v":""},"",null,{"$f":"INPUT!EY63","v":""},{"$f":"INPUT!EZ63","v":""},{"$f":"INPUT!FA63","v":""},{"$f":"INPUT!FB63","v":""},{"$f":"INPUT!FC63","v":""},{"$f":"INPUT!FD63","v":""},{"$f":"INPUT!FE63","v":""},"",null,{"$f":"INPUT!FW63","v":""},{"$f":"INPUT!FX63","v":""},{"$f":"INPUT!FY63","v":""},{"$f":"INPUT!FZ63","v":""},{"$f":"INPUT!GA63","v":""},{"$f":"INPUT!GB63","v":""},{"$f":"INPUT!GC63","v":""},null,{"$f":"INPUT!GY63","v":""},{"$f":"INPUT!GZ63","v":""},{"$f":"INPUT!HA63","v":""},{"$f":"INPUT!HB63","v":""},{"$f":"INPUT!HC63","v":""},{"$f":"INPUT!HD63","v":""},{"$f":"INPUT!HE63","v":""},{"$f":"INPUT!HF63","v":""},{"$f":"INPUT!HG63","v":""},null,{"$f":"INPUT!IA63","v":""},{"$f":"INPUT!IB63","v":""},{"$f":"INPUT!IC63","v":""},{"$f":"INPUT!ID63","v":""},{"$f":"INPUT!IE63","v":""},{"$f":"INPUT!IF63","v":""},{"$f":"INPUT!IG63","v":""},{"$f":"INPUT!IH63","v":""},null,{"$f":"INPUT!IZ63","v":""},{"$f":"INPUT!JA63","v":""},{"$f":"INPUT!JB63","v":""},{"$f":"INPUT!JC63","v":""},{"$f":"INPUT!JD63","v":""},{"$f":"INPUT!JE63","v":""},{"$f":"INPUT!JF63","v":""},"",null,{"$f":"INPUT!JX63","v":""},{"$f":"INPUT!JY63","v":""},{"$f":"INPUT!JZ63","v":""},{"$f":"INPUT!KA63","v":""},{"$f":"INPUT!KB63","v":""},{"$f":"INPUT!KC63","v":""},{"$f":"INPUT!KD63","v":""},"",null,{"$f":"INPUT!KZ63","v":""},{"$f":"INPUT!LA63","v":""},{"$f":"INPUT!LB63","v":""},{"$f":"INPUT!LC63","v":""},{"$f":"INPUT!LD63","v":""},{"$f":"INPUT!LE63","v":""},{"$f":"INPUT!LF63","v":""},{"$f":"INPUT!LG63","v":""},{"$f":"INPUT!LH63","v":""},null,{"$f":"INPUT!MB63","v":""},{"$f":"INPUT!MC63","v":""},{"$f":"INPUT!MD63","v":""},{"$f":"INPUT!ME63","v":""},{"$f":"INPUT!MF63","v":""},{"$f":"INPUT!MG63","v":""},{"$f":"INPUT!MH63","v":""},{"$f":"INPUT!MI63","v":""}]
[null,{"$f":"INPUT!EA64","v":""},{"$f":"INPUT!EB64","v":""},{"$f":"INPUT!EC64","v":""},{"$f":"INPUT!ED64","v":""},{"$f":"INPUT!EE64","v":""},{"$f":"INPUT!EF64","v":""},{"$f":"INPUT!EG64","v":""},"",null,{"$f":"INPUT!EY64","v":""},{"$f":"INPUT!EZ64","v":""},{"$f":"INPUT!FA64","v":""},{"$f":"INPUT!FB64","v":""},{"$f":"INPUT!FC64","v":""},{"$f":"INPUT!FD64","v":""},{"$f":"INPUT!FE64","v":""},"",null,{"$f":"INPUT!FW64","v":""},{"$f":"INPUT!FX64","v":""},{"$f":"INPUT!FY64","v":""},{"$f":"INPUT!FZ64","v":""},{"$f":"INPUT!GA64","v":""},{"$f":"INPUT!GB64","v":""},{"$f":"INPUT!GC64","v":""},null,{"$f":"INPUT!GY64","v":""},{"$f":"INPUT!GZ64","v":""},{"$f":"INPUT!HA64","v":""},{"$f":"INPUT!HB64","v":""},{"$f":"INPUT!HC64","v":""},{"$f":"INPUT!HD64","v":""},{"$f":"INPUT!HE64","v":""},{"$f":"INPUT!HF64","v":""},{"$f":"INPUT!HG64","v":""},null,{"$f":"INPUT!IA64","v":""},{"$f":"INPUT!IB64","v":""},{"$f":"INPUT!IC64","v":""},{"$f":"INPUT!ID64","v":""},{"$f":"INPUT!IE64","v":""},{"$f":"INPUT!IF64","v":""},{"$f":"INPUT!IG64","v":""},{"$f":"INPUT!IH64","v":""},null,{"$f":"INPUT!IZ64","v":""},{"$f":"INPUT!JA64","v":""},{"$f":"INPUT!JB64","v":""},{"$f":"INPUT!JC64","v":""},{"$f":"INPUT!JD64","v":""},{"$f":"INPUT!JE64","v":""},{"$f":"INPUT!JF64","v":""},"",null,{"$f":"INPUT!JX64","v":""},{"$f":"INPUT!JY64","v":""},{"$f":"INPUT!JZ64","v":""},{"$f":"INPUT!KA64","v":""},{"$f":"INPUT!KB64","v":""},{"$f":"INPUT!KC64","v":""},{"$f":"INPUT!KD64","v":""},"",null,{"$f":"INPUT!KZ64","v":""},{"$f":"INPUT!LA64","v":""},{"$f":"INPUT!LB64","v":""},{"$f":"INPUT!LC64","v":""},{"$f":"INPUT!LD64","v":""},{"$f":"INPUT!LE64","v":""},{"$f":"INPUT!LF64","v":""},{"$f":"INPUT!LG64","v":""},{"$f":"INPUT!LH64","v":""},null,{"$f":"INPUT!MB64","v":""},{"$f":"INPUT!MC64","v":""},{"$f":"INPUT!MD64","v":""},{"$f":"INPUT!ME64","v":""},{"$f":"INPUT!MF64","v":""},{"$f":"INPUT!MG64","v":""},{"$f":"INPUT!MH64","v":""},{"$f":"INPUT!MI64","v":""}]
[null,{"$f":"INPUT!EA65","v":""},{"$f":"INPUT!EB65","v":""},{"$f":"INPUT!EC65","v":""},{"$f":"INPUT!ED65","v":""},{"$f":"INPUT!EE65","v":""},{"$f":"INPUT!EF65","v":""},{"$f":"INPUT!EG65","v":""},"",null,{"$f":"INPUT!EY65","v":""},{"$f":"INPUT!EZ65","v":""},{"$f":"INPUT!FA65","v":""},{"$f":"INPUT!FB65","v":""},{"$f":"INPUT!FC65","v":""},{"$f":"INPUT!FD65","v":""},{"$f":"INPUT!FE65","v":""},"",null,{"$f":"INPUT!FW65","v":""},{"$f":"INPUT!FX65","v":""},{"$f":"INPUT!FY65","v":""},{"$f":"INPUT!FZ65","v":""},{"$f":"INPUT!GA65","v":""},{"$f":"INPUT!GB65","v":""},{"$f":"INPUT!GC65","v":""},null,{"$f":"INPUT!GY65","v":""},{"$f":"INPUT!GZ65","v":""},{"$f":"INPUT!HA65","v":""},{"$f":"INPUT!HB65","v":""},{"$f":"INPUT!HC65","v":""},{"$f":"INPUT!HD65","v":""},{"$f":"INPUT!HE65","v":""},{"$f":"INPUT!HF65","v":""},{"$f":"INPUT!HG65","v":""},null,{"$f":"INPUT!IA65","v":""},{"$f":"INPUT!IB65","v":""},{"$f":"INPUT!IC65","v":""},{"$f":"INPUT!ID65","v":""},{"$f":"INPUT!IE65","v":""},{"$f":"INPUT!IF65","v":""},{"$f":"INPUT!IG65","v":""},{"$f":"INPUT!IH65","v":""},null,{"$f":"INPUT!IZ65","v":""},{"$f":"INPUT!JA65","v":""},{"$f":"INPUT!JB65","v":""},{"$f":"INPUT!JC65","v":""},{"$f":"INPUT!JD65","v":""},{"$f":"INPUT!JE65","v":""},{"$f":"INPUT!JF65","v":""},"",null,{"$f":"INPUT!JX65","v":""},{"$f":"INPUT!JY65","v":""},{"$f":"INPUT!JZ65","v":""},{"$f":"INPUT!KA65","v":""},{"$f":"INPUT!KB65","v":""},{"$f":"INPUT!KC65","v":""},{"$f":"INPUT!KD65","v":""},"",null,{"$f":"INPUT!KZ65","v":""},{"$f":"INPUT!LA65","v":""},{"$f":"INPUT!LB65","v":""},{"$f":"INPUT!LC65","v":""},{"$f":"INPUT!LD65","v":""},{"$f":"INPUT!LE65","v":""},{"$f":"INPUT!LF65","v":""},{"$f":"INPUT!LG65","v":""},{"$f":"INPUT!LH65","v":""},null,{"$f":"INPUT!MB65","v":""},{"$f":"INPUT!MC65","v":""},{"$f":"INPUT!MD65","v":""},{"$f":"INPUT!ME65","v":""},{"$f":"INPUT!MF65","v":""},{"$f":"INPUT!MG65","v":""},{"$f":"INPUT!MH65","v":""},{"$f":"INPUT!MI65","v":""}]
[null,{"$f":"INPUT!EA66","v":""},{"$f":"INPUT!EB66","v":""},{"$f":"INPUT!EC66","v":""},{"$f":"INPUT!ED66","v":""},{"$f":"INPUT!EE66","v":""},{"$f":"INPUT!EF66","v":""},{"$f":"INPUT!EG66","v":""},"",null,{"$f":"INPUT!EY66","v":""},{"$f":"INPUT!EZ66","v":""},{"$f":"INPUT!FA66","v":""},{"$f":"INPUT!FB66","v":""},{"$f":"INPUT!FC66","v":""},{"$f":"INPUT!FD66","v":""},{"$f":"INPUT!FE66","v":""},"",null,{"$f":"INPUT!FW66","v":""},{"$f":"INPUT!FX66","v":""},{"$f":"INPUT!FY66","v":""},{"$f":"INPUT!FZ66","v":""},{"$f":"INPUT!GA66","v":""},{"$f":"INPUT!GB66","v":""},{"$f":"INPUT!GC66","v":""},null,{"$f":"INPUT!GY66","v":""},{"$f":"INPUT!GZ66","v":""},{"$f":"INPUT!HA66","v":""},{"$f":"INPUT!HB66","v":""},{"$f":"INPUT!HC66","v":""},{"$f":"INPUT!HD66","v":""},{"$f":"INPUT!HE66","v":""},{"$f":"INPUT!HF66","v":""},{"$f":"INPUT!HG66","v":""},null,{"$f":"INPUT!IA66","v":""},{"$f":"INPUT!IB66","v":""},{"$f":"INPUT!IC66","v":""},{"$f":"INPUT!ID66","v":""},{"$f":"INPUT!IE66","v":""},{"$f":"INPUT!IF66","v":""},{"$f":"INPUT!IG66","v":""},{"$f":"INPUT!IH66","v":""},null,{"$f":"INPUT!IZ66","v":""},{"$f":"INPUT!JA66","v":""},{"$f":"INPUT!JB66","v":""},{"$f":"INPUT!JC66","v":""},{"$f":"INPUT!JD66","v":""},{"$f":"INPUT!JE66","v":""},{"$f":"INPUT!JF66","v":""},"",null,{"$f":"INPUT!JX66","v":""},{"$f":"INPUT!JY66","v":""},{"$f":"INPUT!JZ66","v":""},{"$f":"INPUT!KA66","v":""},{"$f":"INPUT!KB66","v":""},{"$f":"INPUT!KC66","v":""},{"$f":"INPUT!KD66","v":""},"",null,{"$f":"INPUT!KZ66","v":""},{"$f":"INPUT!LA66","v":""},{"$f":"INPUT!LB66","v":""},{"$f":"INPUT!LC66","v":""},{"$f":"INPUT!LD66","v":""},{"$f":"INPUT!LE66","v":""},{"$f":"INPUT!LF66","v":""},{"$f":"INPUT!LG66","v":""},{"$f":"INPUT!LH66","v":""},null,{"$f":"INPUT!MB66","v":""},{"$f":"INPUT!MC66","v":""},{"$f":"INPUT!MD66","v":""},{"$f":"INPUT!ME66","v":""},{"$f":"INPUT!MF66","v":""},{"$f":"INPUT!MG66","v":""},{"$f":"INPUT!MH66","v":""},{"$f":"INPUT!MI66","v":""}]
[null,{"$f":"INPUT!EA67","v":""},{"$f":"INPUT!EB67","v":""},{"$f":"INPUT!EC67","v":""},{"$f":"INPUT!ED67","v":""},{"$f":"INPUT!EE67","v":""},{"$f":"INPUT!EF67","v":""},{"$f":"INPUT!EG67","v":""},"",null,{"$f":"INPUT!EY67","v":""},{"$f":"INPUT!EZ67","v":""},{"$f":"INPUT!FA67","v":""},{"$f":"INPUT!FB67","v":""},{"$f":"INPUT!FC67","v":""},{"$f":"INPUT!FD67","v":""},{"$f":"INPUT!FE67","v":""},"",null,{"$f":"INPUT!FW67","v":""},{"$f":"INPUT!FX67","v":""},{"$f":"INPUT!FY67","v":""},{"$f":"INPUT!FZ67","v":""},{"$f":"INPUT!GA67","v":""},{"$f":"INPUT!GB67","v":""},{"$f":"INPUT!GC67","v":""},null,{"$f":"INPUT!GY67","v":""},{"$f":"INPUT!GZ67","v":""},{"$f":"INPUT!HA67","v":""},{"$f":"INPUT!HB67","v":""},{"$f":"INPUT!HC67","v":""},{"$f":"INPUT!HD67","v":""},{"$f":"INPUT!HE67","v":""},{"$f":"INPUT!HF67","v":""},{"$f":"INPUT!HG67","v":""},null,{"$f":"INPUT!IA67","v":""},{"$f":"INPUT!IB67","v":""},{"$f":"INPUT!IC67","v":""},{"$f":"INPUT!ID67","v":""},{"$f":"INPUT!IE67","v":""},{"$f":"INPUT!IF67","v":""},{"$f":"INPUT!IG67","v":""},{"$f":"INPUT!IH67","v":""},null,{"$f":"INPUT!IZ67","v":""},{"$f":"INPUT!JA67","v":""},{"$f":"INPUT!JB67","v":""},{"$f":"INPUT!JC67","v":""},{"$f":"INPUT!JD67","v":""},{"$f":"INPUT!JE67","v":""},{"$f":"INPUT!JF67","v":""},"",null,{"$f":"INPUT!JX67","v":""},{"$f":"INPUT!JY67","v":""},{"$f":"INPUT!JZ67","v":""},{"$f":"INPUT!KA67","v":""},{"$f":"INPUT!KB67","v":""},{"$f":"INPUT!KC67","v":""},{"$f":"INPUT!KD67","v":""},"",null,{"$f":"INPUT!KZ67","v":""},{"$f":"INPUT!LA67","v":""},{"$f":"INPUT!LB67","v":""},{"$f":"INPUT!LC67","v":""},{"$f":"INPUT!LD67","v":""},{"$f":"INPUT!LE67","v":""},{"$f":"INPUT!LF67","v":""},{"$f":"INPUT!LG67","v":""},{"$f":"INPUT!LH67","v":""},null,{"$f":"INPUT!MB67","v":""},{"$f":"INPUT!MC67","v":""},{"$f":"INPUT!MD67","v":""},{"$f":"INPUT!ME67","v":""},{"$f":"INPUT!MF67","v":""},{"$f":"INPUT!MG67","v":""},{"$f":"INPUT!MH67","v":""},{"$f":"INPUT!MI67","v":""}]
[null,{"$f":"INPUT!EA68","v":""},{"$f":"INPUT!EB68","v":""},{"$f":"INPUT!EC68","v":""},{"$f":"INPUT!ED68","v":""},{"$f":"INPUT!EE68","v":""},{"$f":"INPUT!EF68","v":""},{"$f":"INPUT!EG68","v":""},"",null,{"$f":"INPUT!EY68","v":""},{"$f":"INPUT!EZ68","v":""},{"$f":"INPUT!FA68","v":""},{"$f":"INPUT!FB68","v":""},{"$f":"INPUT!FC68","v":""},{"$f":"INPUT!FD68","v":""},{"$f":"INPUT!FE68","v":""},"",null,{"$f":"INPUT!FW68","v":""},{"$f":"INPUT!FX68","v":""},{"$f":"INPUT!FY68","v":""},{"$f":"INPUT!FZ68","v":""},{"$f":"INPUT!GA68","v":""},{"$f":"INPUT!GB68","v":""},{"$f":"INPUT!GC68","v":""},null,{"$f":"INPUT!GY68","v":""},{"$f":"INPUT!GZ68","v":""},{"$f":"INPUT!HA68","v":""},{"$f":"INPUT!HB68","v":""},{"$f":"INPUT!HC68","v":""},{"$f":"INPUT!HD68","v":""},{"$f":"INPUT!HE68","v":""},{"$f":"INPUT!HF68","v":""},{"$f":"INPUT!HG68","v":""},null,{"$f":"INPUT!IA68","v":""},{"$f":"INPUT!IB68","v":""},{"$f":"INPUT!IC68","v":""},{"$f":"INPUT!ID68","v":""},{"$f":"INPUT!IE68","v":""},{"$f":"INPUT!IF68","v":""},{"$f":"INPUT!IG68","v":""},{"$f":"INPUT!IH68","v":""},null,{"$f":"INPUT!IZ68","v":""},{"$f":"INPUT!JA68","v":""},{"$f":"INPUT!JB68","v":""},{"$f":"INPUT!JC68","v":""},{"$f":"INPUT!JD68","v":""},{"$f":"INPUT!JE68","v":""},{"$f":"INPUT!JF68","v":""},"",null,{"$f":"INPUT!JX68","v":""},{"$f":"INPUT!JY68","v":""},{"$f":"INPUT!JZ68","v":""},{"$f":"INPUT!KA68","v":""},{"$f":"INPUT!KB68","v":""},{"$f":"INPUT!KC68","v":""},{"$f":"INPUT!KD68","v":""},"",null,{"$f":"INPUT!KZ68","v":""},{"$f":"INPUT!LA68","v":""},{"$f":"INPUT!LB68","v":""},{"$f":"INPUT!LC68","v":""},{"$f":"INPUT!LD68","v":""},{"$f":"INPUT!LE68","v":""},{"$f":"INPUT!LF68","v":""},{"$f":"INPUT!LG68","v":""},{"$f":"INPUT!LH68","v":""},null,{"$f":"INPUT!MB68","v":""},{"$f":"INPUT!MC68","v":""},{"$f":"INPUT!MD68","v":""},{"$f":"INPUT!ME68","v":""},{"$f":"INPUT!MF68","v":""},{"$f":"INPUT!MG68","v":""},{"$f":"INPUT!MH68","v":""},{"$f":"INPUT!MI68","v":""}]
[null,{"$f":"INPUT!EA69","v":""},{"$f":"INPUT!EB69","v":""},{"$f":"INPUT!EC69","v":""},{"$f":"INPUT!ED69","v":""},{"$f":"INPUT!EE69","v":""},{"$f":"INPUT!EF69","v":""},{"$f":"INPUT!EG69","v":""},"",null,{"$f":"INPUT!EY69","v":""},{"$f":"INPUT!EZ69","v":""},{"$f":"INPUT!FA69","v":""},{"$f":"INPUT!FB69","v":""},{"$f":"INPUT!FC69","v":""},{"$f":"INPUT!FD69","v":""},{"$f":"INPUT!FE69","v":""},"",null,{"$f":"INPUT!FW69","v":""},{"$f":"INPUT!FX69","v":""},{"$f":"INPUT!FY69","v":""},{"$f":"INPUT!FZ69","v":""},{"$f":"INPUT!GA69","v":""},{"$f":"INPUT!GB69","v":""},{"$f":"INPUT!GC69","v":""},null,{"$f":"INPUT!GY69","v":""},{"$f":"INPUT!GZ69","v":""},{"$f":"INPUT!HA69","v":""},{"$f":"INPUT!HB69","v":""},{"$f":"INPUT!HC69","v":""},{"$f":"INPUT!HD69","v":""},{"$f":"INPUT!HE69","v":""},{"$f":"INPUT!HF69","v":""},{"$f":"INPUT!HG69","v":""},null,{"$f":"INPUT!IA69","v":""},{"$f":"INPUT!IB69","v":""},{"$f":"INPUT!IC69","v":""},{"$f":"INPUT!ID69","v":""},{"$f":"INPUT!IE69","v":""},{"$f":"INPUT!IF69","v":""},{"$f":"INPUT!IG69","v":""},{"$f":"INPUT!IH69","v":""},null,{"$f":"INPUT!IZ69","v":""},{"$f":"INPUT!JA69","v":""},{"$f":"INPUT!JB69","v":""},{"$f":"INPUT!JC69","v":""},{"$f":"INPUT!JD69","v":""},{"$f":"INPUT!JE69","v":""},{"$f":"INPUT!JF69","v":""},"",null,{"$f":"INPUT!JX69","v":""},{"$f":"INPUT!JY69","v":""},{"$f":"INPUT!JZ69","v":""},{"$f":"INPUT!KA69","v":""},{"$f":"INPUT!KB69","v":""},{"$f":"INPUT!KC69","v":""},{"$f":"INPUT!KD69","v":""},"",null,{"$f":"INPUT!KZ69","v":""},{"$f":"INPUT!LA69","v":""},{"$f":"INPUT!LB69","v":""},{"$f":"INPUT!LC69","v":""},{"$f":"INPUT!LD69","v":""},{"$f":"INPUT!LE69","v":""},{"$f":"INPUT!LF69","v":""},{"$f":"INPUT!LG69","v":""},{"$f":"INPUT!LH69","v":""},null,{"$f":"INPUT!MB69","v":""},{"$f":"INPUT!MC69","v":""},{"$f":"INPUT!MD69","v":""},{"$f":"INPUT!ME69","v":""},{"$f":"INPUT!MF69","v":""},{"$f":"INPUT!MG69","v":""},{"$f":"INPUT!MH69","v":""},{"$f":"INPUT!MI69","v":""}]
[null,{"$f":"INPUT!EA70","v":""},{"$f":"INPUT!EB70","v":""},{"$f":"INPUT!EC70","v":""},{"$f":"INPUT!ED70","v":""},{"$f":"INPUT!EE70","v":""},{"$f":"INPUT!EF70","v":""},{"$f":"INPUT!EG70","v":""},"",null,{"$f":"INPUT!EY70","v":""},{"$f":"INPUT!EZ70","v":""},{"$f":"INPUT!FA70","v":""},{"$f":"INPUT!FB70","v":""},{"$f":"INPUT!FC70","v":""},{"$f":"INPUT!FD70","v":""},{"$f":"INPUT!FE70","v":""},"",null,{"$f":"INPUT!FW70","v":""},{"$f":"INPUT!FX70","v":""},{"$f":"INPUT!FY70","v":""},{"$f":"INPUT!FZ70","v":""},{"$f":"INPUT!GA70","v":""},{"$f":"INPUT!GB70","v":""},{"$f":"INPUT!GC70","v":""},null,{"$f":"INPUT!GY70","v":""},{"$f":"INPUT!GZ70","v":""},{"$f":"INPUT!HA70","v":""},{"$f":"INPUT!HB70","v":""},{"$f":"INPUT!HC70","v":""},{"$f":"INPUT!HD70","v":""},{"$f":"INPUT!HE70","v":""},{"$f":"INPUT!HF70","v":""},{"$f":"INPUT!HG70","v":""},null,{"$f":"INPUT!IA70","v":""},{"$f":"INPUT!IB70","v":""},{"$f":"INPUT!IC70","v":""},{"$f":"INPUT!ID70","v":""},{"$f":"INPUT!IE70","v":""},{"$f":"INPUT!IF70","v":""},{"$f":"INPUT!IG70","v":""},{"$f":"INPUT!IH70","v":""},null,{"$f":"INPUT!IZ70","v":""},{"$f":"INPUT!JA70","v":""},{"$f":"INPUT!JB70","v":""},{"$f":"INPUT!JC70","v":""},{"$f":"INPUT!JD70","v":""},{"$f":"INPUT!JE70","v":""},{"$f":"INPUT!JF70","v":""},"",null,{"$f":"INPUT!JX70","v":""},{"$f":"INPUT!JY70","v":""},{"$f":"INPUT!JZ70","v":""},{"$f":"INPUT!KA70","v":""},{"$f":"INPUT!KB70","v":""},{"$f":"INPUT!KC70","v":""},{"$f":"INPUT!KD70","v":""},"",null,{"$f":"INPUT!KZ70","v":""},{"$f":"INPUT!LA70","v":""},{"$f":"INPUT!LB70","v":""},{"$f":"INPUT!LC70","v":""},{"$f":"INPUT!LD70","v":""},{"$f":"INPUT!LE70","v":""},{"$f":"INPUT!LF70","v":""},{"$f":"INPUT!LG70","v":""},{"$f":"INPUT!LH70","v":""},null,{"$f":"INPUT!MB70","v":""},{"$f":"INPUT!MC70","v":""},{"$f":"INPUT!MD70","v":""},{"$f":"INPUT!ME70","v":""},{"$f":"INPUT!MF70","v":""},{"$f":"INPUT!MG70","v":""},{"$f":"INPUT!MH70","v":""},{"$f":"INPUT!MI70","v":""}]
[null,{"$f":"INPUT!EA71","v":""},{"$f":"INPUT!EB71","v":""},{"$f":"INPUT!EC71","v":""},{"$f":"INPUT!ED71","v":""},{"$f":"INPUT!EE71","v":""},{"$f":"INPUT!EF71","v":""},{"$f":"INPUT!EG71","v":""},"",null,{"$f":"INPUT!EY71","v":""},{"$f":"INPUT!EZ71","v":""},{"$f":"INPUT!FA71","v":""},{"$f":"INPUT!FB71","v":""},{"$f":"INPUT!FC71","v":""},{"$f":"INPUT!FD71","v":""},{"$f":"INPUT!FE71","v":""},"",null,{"$f":"INPUT!FW71","v":""},{"$f":"INPUT!FX71","v":""},{"$f":"INPUT!FY71","v":""},{"$f":"INPUT!FZ71","v":""},{"$f":"INPUT!GA71","v":""},{"$f":"INPUT!GB71","v":""},{"$f":"INPUT!GC71","v":""},null,{"$f":"INPUT!GY71","v":""},{"$f":"INPUT!GZ71","v":""},{"$f":"INPUT!HA71","v":""},{"$f":"INPUT!HB71","v":""},{"$f":"INPUT!HC71","v":""},{"$f":"INPUT!HD71","v":""},{"$f":"INPUT!HE71","v":""},{"$f":"INPUT!HF71","v":""},{"$f":"INPUT!HG71","v":""},null,{"$f":"INPUT!IA71","v":""},{"$f":"INPUT!IB71","v":""},{"$f":"INPUT!IC71","v":""},{"$f":"INPUT!ID71","v":""},{"$f":"INPUT!IE71","v":""},{"$f":"INPUT!IF71","v":""},{"$f":"INPUT!IG71","v":""},{"$f":"INPUT!IH71","v":""},null,{"$f":"INPUT!IZ71","v":""},{"$f":"INPUT!JA71","v":""},{"$f":"INPUT!JB71","v":""},{"$f":"INPUT!JC71","v":""},{"$f":"INPUT!JD71","v":""},{"$f":"INPUT!JE71","v":""},{"$f":"INPUT!JF71","v":""},"",null,{"$f":"INPUT!JX71","v":""},{"$f":"INPUT!JY71","v":""},{"$f":"INPUT!JZ71","v":""},{"$f":"INPUT!KA71","v":""},{"$f":"INPUT!KB71","v":""},{"$f":"INPUT!KC71","v":""},{"$f":"INPUT!KD71","v":""},"",null,{"$f":"INPUT!KZ71","v":""},{"$f":"INPUT!LA71","v":""},{"$f":"INPUT!LB71","v":""},{"$f":"INPUT!LC71","v":""},{"$f":"INPUT!LD71","v":""},{"$f":"INPUT!LE71","v":""},{"$f":"INPUT!LF71","v":""},{"$f":"INPUT!LG71","v":""},{"$f":"INPUT!LH71","v":""},null,{"$f":"INPUT!MB71","v":""},{"$f":"INPUT!MC71","v":""},{"$f":"INPUT!MD71","v":""},{"$f":"INPUT!ME71","v":""},{"$f":"INPUT!MF71","v":""},{"$f":"INPUT!MG71","v":""},{"$f":"INPUT!MH71","v":""},{"$f":"INPUT!MI71","v":""}]
[null,{"$f":"INPUT!EA72","v":""},{"$f":"INPUT!EB72","v":""},{"$f":"INPUT!EC72","v":""},{"$f":"INPUT!ED72","v":""},{"$f":"INPUT!EE72","v":""},{"$f":"INPUT!EF72","v":""},{"$f":"INPUT!EG72","v":""},"",null,{"$f":"INPUT!EY72","v":""},{"$f":"INPUT!EZ72","v":""},{"$f":"INPUT!FA72","v":""},{"$f":"INPUT!FB72","v":""},{"$f":"INPUT!FC72","v":""},{"$f":"INPUT!FD72","v":""},{"$f":"INPUT!FE72","v":""},"",null,{"$f":"INPUT!FW72","v":""},{"$f":"INPUT!FX72","v":""},{"$f":"INPUT!FY72","v":""},{"$f":"INPUT!FZ72","v":""},{"$f":"INPUT!GA72","v":""},{"$f":"INPUT!GB72","v":""},{"$f":"INPUT!GC72","v":""},null,{"$f":"INPUT!GY72","v":""},{"$f":"INPUT!GZ72","v":""},{"$f":"INPUT!HA72","v":""},{"$f":"INPUT!HB72","v":""},{"$f":"INPUT!HC72","v":""},{"$f":"INPUT!HD72","v":""},{"$f":"INPUT!HE72","v":""},{"$f":"INPUT!HF72","v":""},{"$f":"INPUT!HG72","v":""},null,{"$f":"INPUT!IA72","v":""},{"$f":"INPUT!IB72","v":""},{"$f":"INPUT!IC72","v":""},{"$f":"INPUT!ID72","v":""},{"$f":"INPUT!IE72","v":""},{"$f":"INPUT!IF72","v":""},{"$f":"INPUT!IG72","v":""},{"$f":"INPUT!IH72","v":""},null,{"$f":"INPUT!IZ72","v":""},{"$f":"INPUT!JA72","v":""},{"$f":"INPUT!JB72","v":""},{"$f":"INPUT!JC72","v":""},{"$f":"INPUT!JD72","v":""},{"$f":"INPUT!JE72","v":""},{"$f":"INPUT!JF72","v":""},"",null,{"$f":"INPUT!JX72","v":""},{"$f":"INPUT!JY72","v":""},{"$f":"INPUT!JZ72","v":""},{"$f":"INPUT!KA72","v":""},{"$f":"INPUT!KB72","v":""},{"$f":"INPUT!KC72","v":""},{"$f":"INPUT!KD72","v":""},"",null,{"$f":"INPUT!KZ72","v":""},{"$f":"INPUT!LA72","v":""},{"$f":"INPUT!LB72","v":""},{"$f":"INPUT!LC72","v":""},{"$f":"INPUT!LD72","v":""},{"$f":"INPUT!LE72","v":""},{"$f":"INPUT!LF72","v":""},{"$f":"INPUT!LG72","v":""},{"$f":"INPUT!LH72","v":""},null,{"$f":"INPUT!MB72","v":""},{"$f":"INPUT!MC72","v":""},{"$f":"INPUT!MD72","v":""},{"$f":"INPUT!ME72","v":""},{"$f":"INPUT!MF72","v":""},{"$f":"INPUT!MG72","v":""},{"$f":"INPUT!MH72","v":""},{"$f":"INPUT!MI72","v":""}]
[null,{"$f":"INPUT!EA73","v":""},{"$f":"INPUT!EB73","v":""},{"$f":"INPUT!EC73","v":""},{"$f":"INPUT!ED73","v":""},{"$f":"INPUT!EE73","v":""},{"$f":"INPUT!EF73","v":""},{"$f":"INPUT!EG73","v":""},"",null,{"$f":"INPUT!EY73","v":""},{"$f":"INPUT!EZ73","v":""},{"$f":"INPUT!FA73","v":""},{"$f":"INPUT!FB73","v":""},{"$f":"INPUT!FC73","v":""},{"$f":"INPUT!FD73","v":""},{"$f":"INPUT!FE73","v":""},"",null,{"$f":"INPUT!FW73","v":""},{"$f":"INPUT!FX73","v":""},{"$f":"INPUT!FY73","v":""},{"$f":"INPUT!FZ73","v":""},{"$f":"INPUT!GA73","v":""},{"$f":"INPUT!GB73","v":""},{"$f":"INPUT!GC73","v":""},null,{"$f":"INPUT!GY73","v":""},{"$f":"INPUT!GZ73","v":""},{"$f":"INPUT!HA73","v":""},{"$f":"INPUT!HB73","v":""},{"$f":"INPUT!HC73","v":""},{"$f":"INPUT!HD73","v":""},{"$f":"INPUT!HE73","v":""},{"$f":"INPUT!HF73","v":""},{"$f":"INPUT!HG73","v":""},null,{"$f":"INPUT!IA73","v":""},{"$f":"INPUT!IB73","v":""},{"$f":"INPUT!IC73","v":""},{"$f":"INPUT!ID73","v":""},{"$f":"INPUT!IE73","v":""},{"$f":"INPUT!IF73","v":""},{"$f":"INPUT!IG73","v":""},{"$f":"INPUT!IH73","v":""},null,{"$f":"INPUT!IZ73","v":""},{"$f":"INPUT!JA73","v":""},{"$f":"INPUT!JB73","v":""},{"$f":"INPUT!JC73","v":""},{"$f":"INPUT!JD73","v":""},{"$f":"INPUT!JE73","v":""},{"$f":"INPUT!JF73","v":""},"",null,{"$f":"INPUT!JX73","v":""},{"$f":"INPUT!JY73","v":""},{"$f":"INPUT!JZ73","v":""},{"$f":"INPUT!KA73","v":""},{"$f":"INPUT!KB73","v":""},{"$f":"INPUT!KC73","v":""},{"$f":"INPUT!KD73","v":""},"",null,{"$f":"INPUT!KZ73","v":""},{"$f":"INPUT!LA73","v":""},{"$f":"INPUT!LB73","v":""},{"$f":"INPUT!LC73","v":""},{"$f":"INPUT!LD73","v":""},{"$f":"INPUT!LE73","v":""},{"$f":"INPUT!LF73","v":""},{"$f":"INPUT!LG73","v":""},{"$f":"INPUT!LH73","v":""},null,{"$f":"INPUT!MB73","v":""},{"$f":"INPUT!MC73","v":""},{"$f":"INPUT!MD73","v":""},{"$f":"INPUT!ME73","v":""},{"$f":"INPUT!MF73","v":""},{"$f":"INPUT!MG73","v":""},{"$f":"INPUT!MH73","v":""},{"$f":"INPUT!MI73","v":""}]
[null,{"$f":"INPUT!EA74","v":""},{"$f":"INPUT!EB74","v":""},{"$f":"INPUT!EC74","v":""},{"$f":"INPUT!ED74","v":""},{"$f":"INPUT!EE74","v":""},{"$f":"INPUT!EF74","v":""},{"$f":"INPUT!EG74","v":""},"",null,{"$f":"INPUT!EY74","v":""},{"$f":"INPUT!EZ74","v":""},{"$f":"INPUT!FA74","v":""},{"$f":"INPUT!FB74","v":""},{"$f":"INPUT!FC74","v":""},{"$f":"INPUT!FD74","v":""},{"$f":"INPUT!FE74","v":""},"",null,{"$f":"INPUT!FW74","v":""},{"$f":"INPUT!FX74","v":""},{"$f":"INPUT!FY74","v":""},{"$f":"INPUT!FZ74","v":""},{"$f":"INPUT!GA74","v":""},{"$f":"INPUT!GB74","v":""},{"$f":"INPUT!GC74","v":""},null,{"$f":"INPUT!GY74","v":""},{"$f":"INPUT!GZ74","v":""},{"$f":"INPUT!HA74","v":""},{"$f":"INPUT!HB74","v":""},{"$f":"INPUT!HC74","v":""},{"$f":"INPUT!HD74","v":""},{"$f":"INPUT!HE74","v":""},{"$f":"INPUT!HF74","v":""},{"$f":"INPUT!HG74","v":""},null,{"$f":"INPUT!IA74","v":""},{"$f":"INPUT!IB74","v":""},{"$f":"INPUT!IC74","v":""},{"$f":"INPUT!ID74","v":""},{"$f":"INPUT!IE74","v":""},{"$f":"INPUT!IF74","v":""},{"$f":"INPUT!IG74","v":""},{"$f":"INPUT!IH74","v":""},null,{"$f":"INPUT!IZ74","v":""},{"$f":"INPUT!JA74","v":""},{"$f":"INPUT!JB74","v":""},{"$f":"INPUT!JC74","v":""},{"$f":"INPUT!JD74","v":""},{"$f":"INPUT!JE74","v":""},{"$f":"INPUT!JF74","v":""},"",null,{"$f":"INPUT!JX74","v":""},{"$f":"INPUT!JY74","v":""},{"$f":"INPUT!JZ74","v":""},{"$f":"INPUT!KA74","v":""},{"$f":"INPUT!KB74","v":""},{"$f":"INPUT!KC74","v":""},{"$f":"INPUT!KD74","v":""},"",null,{"$f":"INPUT!KZ74","v":""},{"$f":"INPUT!LA74","v":""},{"$f":"INPUT!LB74","v":""},{"$f":"INPUT!LC74","v":""},{"$f":"INPUT!LD74","v":""},{"$f":"INPUT!LE74","v":""},{"$f":"INPUT!LF74","v":""},{"$f":"INPUT!LG74","v":""},{"$f":"INPUT!LH74","v":""},null,{"$f":"INPUT!MB74","v":""},{"$f":"INPUT!MC74","v":""},{"$f":"INPUT!MD74","v":""},{"$f":"INPUT!ME74","v":""},{"$f":"INPUT!MF74","v":""},{"$f":"INPUT!MG74","v":""},{"$f":"INPUT!MH74","v":""},{"$f":"INPUT!MI74","v":""}]
[null,{"$f":"INPUT!EA75","v":""},{"$f":"INPUT!EB75","v":""},{"$f":"INPUT!EC75","v":""},{"$f":"INPUT!ED75","v":""},{"$f":"INPUT!EE75","v":""},{"$f":"INPUT!EF75","v":""},{"$f":"INPUT!EG75","v":""},{"$f":"IF(ISNUMBER($H75),1/$H75,\"\")","v":""},null,{"$f":"INPUT!EY75","v":""},{"$f":"INPUT!EZ75","v":""},{"$f":"INPUT!FA75","v":""},{"$f":"INPUT!FB75","v":""},{"$f":"INPUT!FC75","v":""},{"$f":"INPUT!FD75","v":""},{"$f":"INPUT!FE75","v":""},{"$f":"IF(ISNUMBER($Q75),1/$Q75,\"\")","v":""},null,{"$f":"INPUT!FW75","v":""},{"$f":"INPUT!FX75","v":""},{"$f":"INPUT!FY75","v":""},{"$f":"INPUT!FZ75","v":""},{"$f":"INPUT!GA75","v":""},{"$f":"INPUT!GB75","v":""},{"$f":"INPUT!GC75","v":""},null,{"$f":"INPUT!GY75","v":""},{"$f":"INPUT!GZ75","v":""},{"$f":"INPUT!HA75","v":""},{"$f":"INPUT!HB75","v":""},{"$f":"INPUT!HC75","v":""},{"$f":"INPUT!HD75","v":""},{"$f":"INPUT!HE75","v":""},{"$f":"INPUT!HF75","v":""},{"$f":"INPUT!HG75","v":""},null,{"$f":"INPUT!IA75","v":""},{"$f":"INPUT!IB75","v":""},{"$f":"INPUT!IC75","v":""},{"$f":"INPUT!ID75","v":""},{"$f":"INPUT!IE75","v":""},{"$f":"INPUT!IF75","v":""},{"$f":"INPUT!IG75","v":""},{"$f":"INPUT!IH75","v":""},null,{"$f":"INPUT!IZ75","v":""},{"$f":"INPUT!JA75","v":""},{"$f":"INPUT!JB75","v":""},{"$f":"INPUT!JC75","v":""},{"$f":"INPUT!JD75","v":""},{"$f":"INPUT!JE75","v":""},{"$f":"INPUT!JF75","v":""},{"$f":"IF(ISNUMBER($BA75),1/$BA75,\"\")","v":""},null,{"$f":"INPUT!JX75","v":""},{"$f":"INPUT!JY75","v":""},{"$f":"INPUT!JZ75","v":""},{"$f":"INPUT!KA75","v":""},{"$f":"INPUT!KB75","v":""},{"$f":"INPUT!KC75","v":""},{"$f":"INPUT!KD75","v":""},{"$f":"IF(ISNUMBER($BJ75),1/$BJ75,\"\")","v":""},null,{"$f":"INPUT!KZ75","v":""},{"$f":"INPUT!LA75","v":""},{"$f":"INPUT!LB75","v":""},{"$f":"INPUT!LC75","v":""},{"$f":"INPUT!LD75","v":""},{"$f":"INPUT!LE75","v":""},{"$f":"INPUT!LF75","v":""},{"$f":"INPUT!LG75","v":""},{"$f":"INPUT!LH75","v":""},null,{"$f":"INPUT!MB75","v":""},{"$f":"INPUT!MC75","v":""},{"$f":"INPUT!MD75","v":""},{"$f":"INPUT!ME75","v":""},{"$f":"INPUT!MF75","v":""},{"$f":"INPUT!MG75","v":""},{"$f":"INPUT!MH75","v":""},{"$f":"INPUT!MI75","v":""}]
[null,{"$f":"INPUT!EA76","v":""},{"$f":"INPUT!EB76","v":""},{"$f":"INPUT!EC76","v":""},{"$f":"INPUT!ED76","v":""},{"$f":"INPUT!EE76","v":""},{"$f":"INPUT!EF76","v":""},{"$f":"INPUT!EG76","v":""},"",null,{"$f":"INPUT!EY76","v":""},{"$f":"INPUT!EZ76","v":""},{"$f":"INPUT!FA76","v":""},{"$f":"INPUT!FB76","v":""},{"$f":"INPUT!FC76","v":""},{"$f":"INPUT!FD76","v":""},{"$f":"INPUT!FE76","v":""},"",null,{"$f":"INPUT!FW76","v":""},{"$f":"INPUT!FX76","v":""},{"$f":"INPUT!FY76","v":""},{"$f":"INPUT!FZ76","v":""},{"$f":"INPUT!GA76","v":""},{"$f":"INPUT!GB76","v":""},{"$f":"INPUT!GC76","v":""},null,{"$f":"INPUT!GY76","v":""},{"$f":"INPUT!GZ76","v":""},{"$f":"INPUT!HA76","v":""},{"$f":"INPUT!HB76","v":""},{"$f":"INPUT!HC76","v":""},{"$f":"INPUT!HD76","v":""},{"$f":"INPUT!HE76","v":""},{"$f":"INPUT!HF76","v":""},{"$f":"INPUT!HG76","v":""},null,{"$f":"INPUT!IA76","v":""},{"$f":"INPUT!IB76","v":""},{"$f":"INPUT!IC76","v":""},{"$f":"INPUT!ID76","v":""},{"$f":"INPUT!IE76","v":""},{"$f":"INPUT!IF76","v":""},{"$f":"INPUT!IG76","v":""},{"$f":"INPUT!IH76","v":""},null,{"$f":"INPUT!IZ76","v":""},{"$f":"INPUT!JA76","v":""},{"$f":"INPUT!JB76","v":""},{"$f":"INPUT!JC76","v":""},{"$f":"INPUT!JD76","v":""},{"$f":"INPUT!JE76","v":""},{"$f":"INPUT!JF76","v":""},"",null,{"$f":"INPUT!JX76","v":""},{"$f":"INPUT!JY76","v":""},{"$f":"INPUT!JZ76","v":""},{"$f":"INPUT!KA76","v":""},{"$f":"INPUT!KB76","v":""},{"$f":"INPUT!KC76","v":""},{"$f":"INPUT!KD76","v":""},"",null,{"$f":"INPUT!KZ76","v":""},{"$f":"INPUT!LA76","v":""},{"$f":"INPUT!LB76","v":""},{"$f":"INPUT!LC76","v":""},{"$f":"INPUT!LD76","v":""},{"$f":"INPUT!LE76","v":""},{"$f":"INPUT!LF76","v":""},{"$f":"INPUT!LG76","v":""},{"$f":"INPUT!LH76","v":""},null,{"$f":"INPUT!MB76","v":""},{"$f":"INPUT!MC76","v":""},{"$f":"INPUT!MD76","v":""},{"$f":"INPUT!ME76","v":""},{"$f":"INPUT!MF76","v":""},{"$f":"INPUT!MG76","v":""},{"$f":"INPUT!MH76","v":""},{"$f":"INPUT!MI76","v":""}]
[null,{"$f":"INPUT!EA77","v":""},{"$f":"INPUT!EB77","v":""},{"$f":"INPUT!EC77","v":""},{"$f":"INPUT!ED77","v":""},{"$f":"INPUT!EE77","v":""},{"$f":"INPUT!EF77","v":""},{"$f":"INPUT!EG77","v":""},"",null,{"$f":"INPUT!EY77","v":""},{"$f":"INPUT!EZ77","v":""},{"$f":"INPUT!FA77","v":""},{"$f":"INPUT!FB77","v":""},{"$f":"INPUT!FC77","v":""},{"$f":"INPUT!FD77","v":""},{"$f":"INPUT!FE77","v":""},"",null,{"$f":"INPUT!FW77","v":""},{"$f":"INPUT!FX77","v":""},{"$f":"INPUT!FY77","v":""},{"$f":"INPUT!FZ77","v":""},{"$f":"INPUT!GA77","v":""},{"$f":"INPUT!GB77","v":""},{"$f":"INPUT!GC77","v":""},null,{"$f":"INPUT!GY77","v":""},{"$f":"INPUT!GZ77","v":""},{"$f":"INPUT!HA77","v":""},{"$f":"INPUT!HB77","v":""},{"$f":"INPUT!HC77","v":""},{"$f":"INPUT!HD77","v":""},{"$f":"INPUT!HE77","v":""},{"$f":"INPUT!HF77","v":""},{"$f":"INPUT!HG77","v":""},null,{"$f":"INPUT!IA77","v":""},{"$f":"INPUT!IB77","v":""},{"$f":"INPUT!IC77","v":""},{"$f":"INPUT!ID77","v":""},{"$f":"INPUT!IE77","v":""},{"$f":"INPUT!IF77","v":""},{"$f":"INPUT!IG77","v":""},{"$f":"INPUT!IH77","v":""},null,{"$f":"INPUT!IZ77","v":""},{"$f":"INPUT!JA77","v":""},{"$f":"INPUT!JB77","v":""},{"$f":"INPUT!JC77","v":""},{"$f":"INPUT!JD77","v":""},{"$f":"INPUT!JE77","v":""},{"$f":"INPUT!JF77","v":""},"",null,{"$f":"INPUT!JX77","v":""},{"$f":"INPUT!JY77","v":""},{"$f":"INPUT!JZ77","v":""},{"$f":"INPUT!KA77","v":""},{"$f":"INPUT!KB77","v":""},{"$f":"INPUT!KC77","v":""},{"$f":"INPUT!KD77","v":""},"",null,{"$f":"INPUT!KZ77","v":""},{"$f":"INPUT!LA77","v":""},{"$f":"INPUT!LB77","v":""},{"$f":"INPUT!LC77","v":""},{"$f":"INPUT!LD77","v":""},{"$f":"INPUT!LE77","v":""},{"$f":"INPUT!LF77","v":""},{"$f":"INPUT!LG77","v":""},{"$f":"INPUT!LH77","v":""},null,{"$f":"INPUT!MB77","v":""},{"$f":"INPUT!MC77","v":""},{"$f":"INPUT!MD77","v":""},{"$f":"INPUT!ME77","v":""},{"$f":"INPUT!MF77","v":""},{"$f":"INPUT!MG77","v":""},{"$f":"INPUT!MH77","v":""},{"$f":"INPUT!MI77","v":""}]
[null,{"$f":"INPUT!EA78","v":""},{"$f":"INPUT!EB78","v":""},{"$f":"INPUT!EC78","v":""},{"$f":"INPUT!ED78","v":""},{"$f":"INPUT!EE78","v":""},{"$f":"INPUT!EF78","v":""},{"$f":"INPUT!EG78","v":""},"",null,{"$f":"INPUT!EY78","v":""},{"$f":"INPUT!EZ78","v":""},{"$f":"INPUT!FA78","v":""},{"$f":"INPUT!FB78","v":""},{"$f":"INPUT!FC78","v":""},{"$f":"INPUT!FD78","v":""},{"$f":"INPUT!FE78","v":""},"",null,{"$f":"INPUT!FW78","v":""},{"$f":"INPUT!FX78","v":""},{"$f":"INPUT!FY78","v":""},{"$f":"INPUT!FZ78","v":""},{"$f":"INPUT!GA78","v":""},{"$f":"INPUT!GB78","v":""},{"$f":"INPUT!GC78","v":""},null,{"$f":"INPUT!GY78","v":""},{"$f":"INPUT!GZ78","v":""},{"$f":"INPUT!HA78","v":""},{"$f":"INPUT!HB78","v":""},{"$f":"INPUT!HC78","v":""},{"$f":"INPUT!HD78","v":""},{"$f":"INPUT!HE78","v":""},{"$f":"INPUT!HF78","v":""},{"$f":"INPUT!HG78","v":""},null,{"$f":"INPUT!IA78","v":""},{"$f":"INPUT!IB78","v":""},{"$f":"INPUT!IC78","v":""},{"$f":"INPUT!ID78","v":""},{"$f":"INPUT!IE78","v":""},{"$f":"INPUT!IF78","v":""},{"$f":"INPUT!IG78","v":""},{"$f":"INPUT!IH78","v":""},null,{"$f":"INPUT!IZ78","v":""},{"$f":"INPUT!JA78","v":""},{"$f":"INPUT!JB78","v":""},{"$f":"INPUT!JC78","v":""},{"$f":"INPUT!JD78","v":""},{"$f":"INPUT!JE78","v":""},{"$f":"INPUT!JF78","v":""},"",null,{"$f":"INPUT!JX78","v":""},{"$f":"INPUT!JY78","v":""},{"$f":"INPUT!JZ78","v":""},{"$f":"INPUT!KA78","v":""},{"$f":"INPUT!KB78","v":""},{"$f":"INPUT!KC78","v":""},{"$f":"INPUT!KD78","v":""},"",null,{"$f":"INPUT!KZ78","v":""},{"$f":"INPUT!LA78","v":""},{"$f":"INPUT!LB78","v":""},{"$f":"INPUT!LC78","v":""},{"$f":"INPUT!LD78","v":""},{"$f":"INPUT!LE78","v":""},{"$f":"INPUT!LF78","v":""},{"$f":"INPUT!LG78","v":""},{"$f":"INPUT!LH78","v":""},null,{"$f":"INPUT!MB78","v":""},{"$f":"INPUT!MC78","v":""},{"$f":"INPUT!MD78","v":""},{"$f":"INPUT!ME78","v":""},{"$f":"INPUT!MF78","v":""},{"$f":"INPUT!MG78","v":""},{"$f":"INPUT!MH78","v":""},{"$f":"INPUT!MI78","v":""}]
[null,{"$f":"INPUT!EA79","v":""},{"$f":"INPUT!EB79","v":""},{"$f":"INPUT!EC79","v":""},{"$f":"INPUT!ED79","v":""},{"$f":"INPUT!EE79","v":""},{"$f":"INPUT!EF79","v":""},{"$f":"INPUT!EG79","v":""},"",null,{"$f":"INPUT!EY79","v":""},{"$f":"INPUT!EZ79","v":""},{"$f":"INPUT!FA79","v":""},{"$f":"INPUT!FB79","v":""},{"$f":"INPUT!FC79","v":""},{"$f":"INPUT!FD79","v":""},{"$f":"INPUT!FE79","v":""},"",null,{"$f":"INPUT!FW79","v":""},{"$f":"INPUT!FX79","v":""},{"$f":"INPUT!FY79","v":""},{"$f":"INPUT!FZ79","v":""},{"$f":"INPUT!GA79","v":""},{"$f":"INPUT!GB79","v":""},{"$f":"INPUT!GC79","v":""},null,{"$f":"INPUT!GY79","v":""},{"$f":"INPUT!GZ79","v":""},{"$f":"INPUT!HA79","v":""},{"$f":"INPUT!HB79","v":""},{"$f":"INPUT!HC79","v":""},{"$f":"INPUT!HD79","v":""},{"$f":"INPUT!HE79","v":""},{"$f":"INPUT!HF79","v":""},{"$f":"INPUT!HG79","v":""},null,{"$f":"INPUT!IA79","v":""},{"$f":"INPUT!IB79","v":""},{"$f":"INPUT!IC79","v":""},{"$f":"INPUT!ID79","v":""},{"$f":"INPUT!IE79","v":""},{"$f":"INPUT!IF79","v":""},{"$f":"INPUT!IG79","v":""},{"$f":"INPUT!IH79","v":""},null,{"$f":"INPUT!IZ79","v":""},{"$f":"INPUT!JA79","v":""},{"$f":"INPUT!JB79","v":""},{"$f":"INPUT!JC79","v":""},{"$f":"INPUT!JD79","v":""},{"$f":"INPUT!JE79","v":""},{"$f":"INPUT!JF79","v":""},"",null,{"$f":"INPUT!JX79","v":""},{"$f":"INPUT!JY79","v":""},{"$f":"INPUT!JZ79","v":""},{"$f":"INPUT!KA79","v":""},{"$f":"INPUT!KB79","v":""},{"$f":"INPUT!KC79","v":""},{"$f":"INPUT!KD79","v":""},"",null,{"$f":"INPUT!KZ79","v":""},{"$f":"INPUT!LA79","v":""},{"$f":"INPUT!LB79","v":""},{"$f":"INPUT!LC79","v":""},{"$f":"INPUT!LD79","v":""},{"$f":"INPUT!LE79","v":""},{"$f":"INPUT!LF79","v":""},{"$f":"INPUT!LG79","v":""},{"$f":"INPUT!LH79","v":""},null,{"$f":"INPUT!MB79","v":""},{"$f":"INPUT!MC79","v":""},{"$f":"INPUT!MD79","v":""},{"$f":"INPUT!ME79","v":""},{"$f":"INPUT!MF79","v":""},{"$f":"INPUT!MG79","v":""},{"$f":"INPUT!MH79","v":""},{"$f":"INPUT!MI79","v":""}]
[null,{"$f":"INPUT!EA80","v":""},{"$f":"INPUT!EB80","v":""},{"$f":"INPUT!EC80","v":""},{"$f":"INPUT!ED80","v":""},{"$f":"INPUT!EE80","v":""},{"$f":"INPUT!EF80","v":""},{"$f":"INPUT!EG80","v":""},"",null,{"$f":"INPUT!EY80","v":""},{"$f":"INPUT!EZ80","v":""},{"$f":"INPUT!FA80","v":""},{"$f":"INPUT!FB80","v":""},{"$f":"INPUT!FC80","v":""},{"$f":"INPUT!FD80","v":""},{"$f":"INPUT!FE80","v":""},"",null,{"$f":"INPUT!FW80","v":""},{"$f":"INPUT!FX80","v":""},{"$f":"INPUT!FY80","v":""},{"$f":"INPUT!FZ80","v":""},{"$f":"INPUT!GA80","v":""},{"$f":"INPUT!GB80","v":""},{"$f":"INPUT!GC80","v":""},null,{"$f":"INPUT!GY80","v":""},{"$f":"INPUT!GZ80","v":""},{"$f":"INPUT!HA80","v":""},{"$f":"INPUT!HB80","v":""},{"$f":"INPUT!HC80","v":""},{"$f":"INPUT!HD80","v":""},{"$f":"INPUT!HE80","v":""},{"$f":"INPUT!HF80","v":""},{"$f":"INPUT!HG80","v":""},null,{"$f":"INPUT!IA80","v":""},{"$f":"INPUT!IB80","v":""},{"$f":"INPUT!IC80","v":""},{"$f":"INPUT!ID80","v":""},{"$f":"INPUT!IE80","v":""},{"$f":"INPUT!IF80","v":""},{"$f":"INPUT!IG80","v":""},{"$f":"INPUT!IH80","v":""},null,{"$f":"INPUT!IZ80","v":""},{"$f":"INPUT!JA80","v":""},{"$f":"INPUT!JB80","v":""},{"$f":"INPUT!JC80","v":""},{"$f":"INPUT!JD80","v":""},{"$f":"INPUT!JE80","v":""},{"$f":"INPUT!JF80","v":""},"",null,{"$f":"INPUT!JX80","v":""},{"$f":"INPUT!JY80","v":""},{"$f":"INPUT!JZ80","v":""},{"$f":"INPUT!KA80","v":""},{"$f":"INPUT!KB80","v":""},{"$f":"INPUT!KC80","v":""},{"$f":"INPUT!KD80","v":""},"",null,{"$f":"INPUT!KZ80","v":""},{"$f":"INPUT!LA80","v":""},{"$f":"INPUT!LB80","v":""},{"$f":"INPUT!LC80","v":""},{"$f":"INPUT!LD80","v":""},{"$f":"INPUT!LE80","v":""},{"$f":"INPUT!LF80","v":""},{"$f":"INPUT!LG80","v":""},{"$f":"INPUT!LH80","v":""},null,{"$f":"INPUT!MB80","v":""},{"$f":"INPUT!MC80","v":""},{"$f":"INPUT!MD80","v":""},{"$f":"INPUT!ME80","v":""},{"$f":"INPUT!MF80","v":""},{"$f":"INPUT!MG80","v":""},{"$f":"INPUT!MH80","v":""},{"$f":"INPUT!MI80","v":""}]
[null,{"$f":"INPUT!EA81","v":""},{"$f":"INPUT!EB81","v":""},{"$f":"INPUT!EC81","v":""},{"$f":"INPUT!ED81","v":""},{"$f":"INPUT!EE81","v":""},{"$f":"INPUT!EF81","v":""},{"$f":"INPUT!EG81","v":""},"",null,{"$f":"INPUT!EY81","v":""},{"$f":"INPUT!EZ81","v":""},{"$f":"INPUT!FA81","v":""},{"$f":"INPUT!FB81","v":""},{"$f":"INPUT!FC81","v":""},{"$f":"INPUT!FD81","v":""},{"$f":"INPUT!FE81","v":""},"",null,{"$f":"INPUT!FW81","v":""},{"$f":"INPUT!FX81","v":""},{"$f":"INPUT!FY81","v":""},{"$f":"INPUT!FZ81","v":""},{"$f":"INPUT!GA81","v":""},{"$f":"INPUT!GB81","v":""},{"$f":"INPUT!GC81","v":""},null,{"$f":"INPUT!GY81","v":""},{"$f":"INPUT!GZ81","v":""},{"$f":"INPUT!HA81","v":""},{"$f":"INPUT!HB81","v":""},{"$f":"INPUT!HC81","v":""},{"$f":"INPUT!HD81","v":""},{"$f":"INPUT!HE81","v":""},{"$f":"INPUT!HF81","v":""},{"$f":"INPUT!HG81","v":""},null,{"$f":"INPUT!IA81","v":""},{"$f":"INPUT!IB81","v":""},{"$f":"INPUT!IC81","v":""},{"$f":"INPUT!ID81","v":""},{"$f":"INPUT!IE81","v":""},{"$f":"INPUT!IF81","v":""},{"$f":"INPUT!IG81","v":""},{"$f":"INPUT!IH81","v":""},null,{"$f":"INPUT!IZ81","v":""},{"$f":"INPUT!JA81","v":""},{"$f":"INPUT!JB81","v":""},{"$f":"INPUT!JC81","v":""},{"$f":"INPUT!JD81","v":""},{"$f":"INPUT!JE81","v":""},{"$f":"INPUT!JF81","v":""},"",null,{"$f":"INPUT!JX81","v":""},{"$f":"INPUT!JY81","v":""},{"$f":"INPUT!JZ81","v":""},{"$f":"INPUT!KA81","v":""},{"$f":"INPUT!KB81","v":""},{"$f":"INPUT!KC81","v":""},{"$f":"INPUT!KD81","v":""},"",null,{"$f":"INPUT!KZ81","v":""},{"$f":"INPUT!LA81","v":""},{"$f":"INPUT!LB81","v":""},{"$f":"INPUT!LC81","v":""},{"$f":"INPUT!LD81","v":""},{"$f":"INPUT!LE81","v":""},{"$f":"INPUT!LF81","v":""},{"$f":"INPUT!LG81","v":""},{"$f":"INPUT!LH81","v":""},null,{"$f":"INPUT!MB81","v":""},{"$f":"INPUT!MC81","v":""},{"$f":"INPUT!MD81","v":""},{"$f":"INPUT!ME81","v":""},{"$f":"INPUT!MF81","v":""},{"$f":"INPUT!MG81","v":""},{"$f":"INPUT!MH81","v":""},{"$f":"INPUT!MI81","v":""}]
[null,{"$f":"INPUT!EA82","v":""},{"$f":"INPUT!EB82","v":""},{"$f":"INPUT!EC82","v":""},{"$f":"INPUT!ED82","v":""},{"$f":"INPUT!EE82","v":""},{"$f":"INPUT!EF82","v":""},{"$f":"INPUT!EG82","v":""},"",null,{"$f":"INPUT!EY82","v":""},{"$f":"INPUT!EZ82","v":""},{"$f":"INPUT!FA82","v":""},{"$f":"INPUT!FB82","v":""},{"$f":"INPUT!FC82","v":""},{"$f":"INPUT!FD82","v":""},{"$f":"INPUT!FE82","v":""},"",null,{"$f":"INPUT!FW82","v":""},{"$f":"INPUT!FX82","v":""},{"$f":"INPUT!FY82","v":""},{"$f":"INPUT!FZ82","v":""},{"$f":"INPUT!GA82","v":""},{"$f":"INPUT!GB82","v":""},{"$f":"INPUT!GC82","v":""},null,{"$f":"INPUT!GY82","v":""},{"$f":"INPUT!GZ82","v":""},{"$f":"INPUT!HA82","v":""},{"$f":"INPUT!HB82","v":""},{"$f":"INPUT!HC82","v":""},{"$f":"INPUT!HD82","v":""},{"$f":"INPUT!HE82","v":""},{"$f":"INPUT!HF82","v":""},{"$f":"INPUT!HG82","v":""},null,{"$f":"INPUT!IA82","v":""},{"$f":"INPUT!IB82","v":""},{"$f":"INPUT!IC82","v":""},{"$f":"INPUT!ID82","v":""},{"$f":"INPUT!IE82","v":""},{"$f":"INPUT!IF82","v":""},{"$f":"INPUT!IG82","v":""},{"$f":"INPUT!IH82","v":""},null,{"$f":"INPUT!IZ82","v":""},{"$f":"INPUT!JA82","v":""},{"$f":"INPUT!JB82","v":""},{"$f":"INPUT!JC82","v":""},{"$f":"INPUT!JD82","v":""},{"$f":"INPUT!JE82","v":""},{"$f":"INPUT!JF82","v":""},"",null,{"$f":"INPUT!JX82","v":""},{"$f":"INPUT!JY82","v":""},{"$f":"INPUT!JZ82","v":""},{"$f":"INPUT!KA82","v":""},{"$f":"INPUT!KB82","v":""},{"$f":"INPUT!KC82","v":""},{"$f":"INPUT!KD82","v":""},"",null,{"$f":"INPUT!KZ82","v":""},{"$f":"INPUT!LA82","v":""},{"$f":"INPUT!LB82","v":""},{"$f":"INPUT!LC82","v":""},{"$f":"INPUT!LD82","v":""},{"$f":"INPUT!LE82","v":""},{"$f":"INPUT!LF82","v":""},{"$f":"INPUT!LG82","v":""},{"$f":"INPUT!LH82","v":""},null,{"$f":"INPUT!MB82","v":""},{"$f":"INPUT!MC82","v":""},{"$f":"INPUT!MD82","v":""},{"$f":"INPUT!ME82","v":""},{"$f":"INPUT!MF82","v":""},{"$f":"INPUT!MG82","v":""},{"$f":"INPUT!MH82","v":""},{"$f":"INPUT!MI82","v":""}]
[null,{"$f":"INPUT!EA83","v":""},{"$f":"INPUT!EB83","v":""},{"$f":"INPUT!EC83","v":""},{"$f":"INPUT!ED83","v":""},{"$f":"INPUT!EE83","v":""},{"$f":"INPUT!EF83","v":""},{"$f":"INPUT!EG83","v":""},"",null,{"$f":"INPUT!EY83","v":""},{"$f":"INPUT!EZ83","v":""},{"$f":"INPUT!FA83","v":""},{"$f":"INPUT!FB83","v":""},{"$f":"INPUT!FC83","v":""},{"$f":"INPUT!FD83","v":""},{"$f":"INPUT!FE83","v":""},"",null,{"$f":"INPUT!FW83","v":""},{"$f":"INPUT!FX83","v":""},{"$f":"INPUT!FY83","v":""},{"$f":"INPUT!FZ83","v":""},{"$f":"INPUT!GA83","v":""},{"$f":"INPUT!GB83","v":""},{"$f":"INPUT!GC83","v":""},null,{"$f":"INPUT!GY83","v":""},{"$f":"INPUT!GZ83","v":""},{"$f":"INPUT!HA83","v":""},{"$f":"INPUT!HB83","v":""},{"$f":"INPUT!HC83","v":""},{"$f":"INPUT!HD83","v":""},{"$f":"INPUT!HE83","v":""},{"$f":"INPUT!HF83","v":""},{"$f":"INPUT!HG83","v":""},null,{"$f":"INPUT!IA83","v":""},{"$f":"INPUT!IB83","v":""},{"$f":"INPUT!IC83","v":""},{"$f":"INPUT!ID83","v":""},{"$f":"INPUT!IE83","v":""},{"$f":"INPUT!IF83","v":""},{"$f":"INPUT!IG83","v":""},{"$f":"INPUT!IH83","v":""},null,{"$f":"INPUT!IZ83","v":""},{"$f":"INPUT!JA83","v":""},{"$f":"INPUT!JB83","v":""},{"$f":"INPUT!JC83","v":""},{"$f":"INPUT!JD83","v":""},{"$f":"INPUT!JE83","v":""},{"$f":"INPUT!JF83","v":""},"",null,{"$f":"INPUT!JX83","v":""},{"$f":"INPUT!JY83","v":""},{"$f":"INPUT!JZ83","v":""},{"$f":"INPUT!KA83","v":""},{"$f":"INPUT!KB83","v":""},{"$f":"INPUT!KC83","v":""},{"$f":"INPUT!KD83","v":""},"",null,{"$f":"INPUT!KZ83","v":""},{"$f":"INPUT!LA83","v":""},{"$f":"INPUT!LB83","v":""},{"$f":"INPUT!LC83","v":""},{"$f":"INPUT!LD83","v":""},{"$f":"INPUT!LE83","v":""},{"$f":"INPUT!LF83","v":""},{"$f":"INPUT!LG83","v":""},{"$f":"INPUT!LH83","v":""},null,{"$f":"INPUT!MB83","v":""},{"$f":"INPUT!MC83","v":""},{"$f":"INPUT!MD83","v":""},{"$f":"INPUT!ME83","v":""},{"$f":"INPUT!MF83","v":""},{"$f":"INPUT!MG83","v":""},{"$f":"INPUT!MH83","v":""},{"$f":"INPUT!MI83","v":""}]
[null,{"$f":"INPUT!EA84","v":""},{"$f":"INPUT!EB84","v":""},{"$f":"INPUT!EC84","v":""},{"$f":"INPUT!ED84","v":""},{"$f":"INPUT!EE84","v":""},{"$f":"INPUT!EF84","v":""},{"$f":"INPUT!EG84","v":""},"",null,{"$f":"INPUT!EY84","v":""},{"$f":"INPUT!EZ84","v":""},{"$f":"INPUT!FA84","v":""},{"$f":"INPUT!FB84","v":""},{"$f":"INPUT!FC84","v":""},{"$f":"INPUT!FD84","v":""},{"$f":"INPUT!FE84","v":""},"",null,{"$f":"INPUT!FW84","v":""},{"$f":"INPUT!FX84","v":""},{"$f":"INPUT!FY84","v":""},{"$f":"INPUT!FZ84","v":""},{"$f":"INPUT!GA84","v":""},{"$f":"INPUT!GB84","v":""},{"$f":"INPUT!GC84","v":""},null,{"$f":"INPUT!GY84","v":""},{"$f":"INPUT!GZ84","v":""},{"$f":"INPUT!HA84","v":""},{"$f":"INPUT!HB84","v":""},{"$f":"INPUT!HC84","v":""},{"$f":"INPUT!HD84","v":""},{"$f":"INPUT!HE84","v":""},{"$f":"INPUT!HF84","v":""},{"$f":"INPUT!HG84","v":""},null,{"$f":"INPUT!IA84","v":""},{"$f":"INPUT!IB84","v":""},{"$f":"INPUT!IC84","v":""},{"$f":"INPUT!ID84","v":""},{"$f":"INPUT!IE84","v":""},{"$f":"INPUT!IF84","v":""},{"$f":"INPUT!IG84","v":""},{"$f":"INPUT!IH84","v":""},null,{"$f":"INPUT!IZ84","v":""},{"$f":"INPUT!JA84","v":""},{"$f":"INPUT!JB84","v":""},{"$f":"INPUT!JC84","v":""},{"$f":"INPUT!JD84","v":""},{"$f":"INPUT!JE84","v":""},{"$f":"INPUT!JF84","v":""},"",null,{"$f":"INPUT!JX84","v":""},{"$f":"INPUT!JY84","v":""},{"$f":"INPUT!JZ84","v":""},{"$f":"INPUT!KA84","v":""},{"$f":"INPUT!KB84","v":""},{"$f":"INPUT!KC84","v":""},{"$f":"INPUT!KD84","v":""},"",null,{"$f":"INPUT!KZ84","v":""},{"$f":"INPUT!LA84","v":""},{"$f":"INPUT!LB84","v":""},{"$f":"INPUT!LC84","v":""},{"$f":"INPUT!LD84","v":""},{"$f":"INPUT!LE84","v":""},{"$f":"INPUT!LF84","v":""},{"$f":"INPUT!LG84","v":""},{"$f":"INPUT!LH84","v":""},null,{"$f":"INPUT!MB84","v":""},{"$f":"INPUT!MC84","v":""},{"$f":"INPUT!MD84","v":""},{"$f":"INPUT!ME84","v":""},{"$f":"INPUT!MF84","v":""},{"$f":"INPUT!MG84","v":""},{"$f":"INPUT!MH84","v":""},{"$f":"INPUT!MI84","v":""}]
[null,{"$f":"INPUT!EA85","v":""},{"$f":"INPUT!EB85","v":""},{"$f":"INPUT!EC85","v":""},{"$f":"INPUT!ED85","v":""},{"$f":"INPUT!EE85","v":""},{"$f":"INPUT!EF85","v":""},{"$f":"INPUT!EG85","v":""},"",null,{"$f":"INPUT!EY85","v":""},{"$f":"INPUT!EZ85","v":""},{"$f":"INPUT!FA85","v":""},{"$f":"INPUT!FB85","v":""},{"$f":"INPUT!FC85","v":""},{"$f":"INPUT!FD85","v":""},{"$f":"INPUT!FE85","v":""},"",null,{"$f":"INPUT!FW85","v":""},{"$f":"INPUT!FX85","v":""},{"$f":"INPUT!FY85","v":""},{"$f":"INPUT!FZ85","v":""},{"$f":"INPUT!GA85","v":""},{"$f":"INPUT!GB85","v":""},{"$f":"INPUT!GC85","v":""},null,{"$f":"INPUT!GY85","v":""},{"$f":"INPUT!GZ85","v":""},{"$f":"INPUT!HA85","v":""},{"$f":"INPUT!HB85","v":""},{"$f":"INPUT!HC85","v":""},{"$f":"INPUT!HD85","v":""},{"$f":"INPUT!HE85","v":""},{"$f":"INPUT!HF85","v":""},{"$f":"INPUT!HG85","v":""},null,{"$f":"INPUT!IA85","v":""},{"$f":"INPUT!IB85","v":""},{"$f":"INPUT!IC85","v":""},{"$f":"INPUT!ID85","v":""},{"$f":"INPUT!IE85","v":""},{"$f":"INPUT!IF85","v":""},{"$f":"INPUT!IG85","v":""},{"$f":"INPUT!IH85","v":""},null,{"$f":"INPUT!IZ85","v":""},{"$f":"INPUT!JA85","v":""},{"$f":"INPUT!JB85","v":""},{"$f":"INPUT!JC85","v":""},{"$f":"INPUT!JD85","v":""},{"$f":"INPUT!JE85","v":""},{"$f":"INPUT!JF85","v":""},"",null,{"$f":"INPUT!JX85","v":""},{"$f":"INPUT!JY85","v":""},{"$f":"INPUT!JZ85","v":""},{"$f":"INPUT!KA85","v":""},{"$f":"INPUT!KB85","v":""},{"$f":"INPUT!KC85","v":""},{"$f":"INPUT!KD85","v":""},"",null,{"$f":"INPUT!KZ85","v":""},{"$f":"INPUT!LA85","v":""},{"$f":"INPUT!LB85","v":""},{"$f":"INPUT!LC85","v":""},{"$f":"INPUT!LD85","v":""},{"$f":"INPUT!LE85","v":""},{"$f":"INPUT!LF85","v":""},{"$f":"INPUT!LG85","v":""},{"$f":"INPUT!LH85","v":""},null,{"$f":"INPUT!MB85","v":""},{"$f":"INPUT!MC85","v":""},{"$f":"INPUT!MD85","v":""},{"$f":"INPUT!ME85","v":""},{"$f":"INPUT!MF85","v":""},{"$f":"INPUT!MG85","v":""},{"$f":"INPUT!MH85","v":""},{"$f":"INPUT!MI85","v":""}]
[null,{"$f":"INPUT!EA86","v":""},{"$f":"INPUT!EB86","v":""},{"$f":"INPUT!EC86","v":""},{"$f":"INPUT!ED86","v":""},{"$f":"INPUT!EE86","v":""},{"$f":"INPUT!EF86","v":""},{"$f":"INPUT!EG86","v":""},"",null,{"$f":"INPUT!EY86","v":""},{"$f":"INPUT!EZ86","v":""},{"$f":"INPUT!FA86","v":""},{"$f":"INPUT!FB86","v":""},{"$f":"INPUT!FC86","v":""},{"$f":"INPUT!FD86","v":""},{"$f":"INPUT!FE86","v":""},"",null,{"$f":"INPUT!FW86","v":""},{"$f":"INPUT!FX86","v":""},{"$f":"INPUT!FY86","v":""},{"$f":"INPUT!FZ86","v":""},{"$f":"INPUT!GA86","v":""},{"$f":"INPUT!GB86","v":""},{"$f":"INPUT!GC86","v":""},null,{"$f":"INPUT!GY86","v":""},{"$f":"INPUT!GZ86","v":""},{"$f":"INPUT!HA86","v":""},{"$f":"INPUT!HB86","v":""},{"$f":"INPUT!HC86","v":""},{"$f":"INPUT!HD86","v":""},{"$f":"INPUT!HE86","v":""},{"$f":"INPUT!HF86","v":""},{"$f":"INPUT!HG86","v":""},null,{"$f":"INPUT!IA86","v":""},{"$f":"INPUT!IB86","v":""},{"$f":"INPUT!IC86","v":""},{"$f":"INPUT!ID86","v":""},{"$f":"INPUT!IE86","v":""},{"$f":"INPUT!IF86","v":""},{"$f":"INPUT!IG86","v":""},{"$f":"INPUT!IH86","v":""},null,{"$f":"INPUT!IZ86","v":""},{"$f":"INPUT!JA86","v":""},{"$f":"INPUT!JB86","v":""},{"$f":"INPUT!JC86","v":""},{"$f":"INPUT!JD86","v":""},{"$f":"INPUT!JE86","v":""},{"$f":"INPUT!JF86","v":""},"",null,{"$f":"INPUT!JX86","v":""},{"$f":"INPUT!JY86","v":""},{"$f":"INPUT!JZ86","v":""},{"$f":"INPUT!KA86","v":""},{"$f":"INPUT!KB86","v":""},{"$f":"INPUT!KC86","v":""},{"$f":"INPUT!KD86","v":""},"",null,{"$f":"INPUT!KZ86","v":""},{"$f":"INPUT!LA86","v":""},{"$f":"INPUT!LB86","v":""},{"$f":"INPUT!LC86","v":""},{"$f":"INPUT!LD86","v":""},{"$f":"INPUT!LE86","v":""},{"$f":"INPUT!LF86","v":""},{"$f":"INPUT!LG86","v":""},{"$f":"INPUT!LH86","v":""},null,{"$f":"INPUT!MB86","v":""},{"$f":"INPUT!MC86","v":""},{"$f":"INPUT!MD86","v":""},{"$f":"INPUT!ME86","v":""},{"$f":"INPUT!MF86","v":""},{"$f":"INPUT!MG86","v":""},{"$f":"INPUT!MH86","v":""},{"$f":"INPUT!MI86","v":""}]
[null,{"$f":"INPUT!EA87","v":""},{"$f":"INPUT!EB87","v":""},{"$f":"INPUT!EC87","v":""},{"$f":"INPUT!ED87","v":""},{"$f":"INPUT!EE87","v":""},{"$f":"INPUT!EF87","v":""},{"$f":"INPUT!EG87","v":""},"",null,{"$f":"INPUT!EY87","v":""},{"$f":"INPUT!EZ87","v":""},{"$f":"INPUT!FA87","v":""},{"$f":"INPUT!FB87","v":""},{"$f":"INPUT!FC87","v":""},{"$f":"INPUT!FD87","v":""},{"$f":"INPUT!FE87","v":""},"",null,{"$f":"INPUT!FW87","v":""},{"$f":"INPUT!FX87","v":""},{"$f":"INPUT!FY87","v":""},{"$f":"INPUT!FZ87","v":""},{"$f":"INPUT!GA87","v":""},{"$f":"INPUT!GB87","v":""},{"$f":"INPUT!GC87","v":""},null,{"$f":"INPUT!GY87","v":""},{"$f":"INPUT!GZ87","v":""},{"$f":"INPUT!HA87","v":""},{"$f":"INPUT!HB87","v":""},{"$f":"INPUT!HC87","v":""},{"$f":"INPUT!HD87","v":""},{"$f":"INPUT!HE87","v":""},{"$f":"INPUT!HF87","v":""},{"$f":"INPUT!HG87","v":""},null,{"$f":"INPUT!IA87","v":""},{"$f":"INPUT!IB87","v":""},{"$f":"INPUT!IC87","v":""},{"$f":"INPUT!ID87","v":""},{"$f":"INPUT!IE87","v":""},{"$f":"INPUT!IF87","v":""},{"$f":"INPUT!IG87","v":""},{"$f":"INPUT!IH87","v":""},null,{"$f":"INPUT!IZ87","v":""},{"$f":"INPUT!JA87","v":""},{"$f":"INPUT!JB87","v":""},{"$f":"INPUT!JC87","v":""},{"$f":"INPUT!JD87","v":""},{"$f":"INPUT!JE87","v":""},{"$f":"INPUT!JF87","v":""},"",null,{"$f":"INPUT!JX87","v":""},{"$f":"INPUT!JY87","v":""},{"$f":"INPUT!JZ87","v":""},{"$f":"INPUT!KA87","v":""},{"$f":"INPUT!KB87","v":""},{"$f":"INPUT!KC87","v":""},{"$f":"INPUT!KD87","v":""},"",null,{"$f":"INPUT!KZ87","v":""},{"$f":"INPUT!LA87","v":""},{"$f":"INPUT!LB87","v":""},{"$f":"INPUT!LC87","v":""},{"$f":"INPUT!LD87","v":""},{"$f":"INPUT!LE87","v":""},{"$f":"INPUT!LF87","v":""},{"$f":"INPUT!LG87","v":""},{"$f":"INPUT!LH87","v":""},null,{"$f":"INPUT!MB87","v":""},{"$f":"INPUT!MC87","v":""},{"$f":"INPUT!MD87","v":""},{"$f":"INPUT!ME87","v":""},{"$f":"INPUT!MF87","v":""},{"$f":"INPUT!MG87","v":""},{"$f":"INPUT!MH87","v":""},{"$f":"INPUT!MI87","v":""}]
[null,{"$f":"INPUT!EA88","v":""},{"$f":"INPUT!EB88","v":""},{"$f":"INPUT!EC88","v":""},{"$f":"INPUT!ED88","v":""},{"$f":"INPUT!EE88","v":""},{"$f":"INPUT!EF88","v":""},{"$f":"INPUT!EG88","v":""},"",null,{"$f":"INPUT!EY88","v":""},{"$f":"INPUT!EZ88","v":""},{"$f":"INPUT!FA88","v":""},{"$f":"INPUT!FB88","v":""},{"$f":"INPUT!FC88","v":""},{"$f":"INPUT!FD88","v":""},{"$f":"INPUT!FE88","v":""},"",null,{"$f":"INPUT!FW88","v":""},{"$f":"INPUT!FX88","v":""},{"$f":"INPUT!FY88","v":""},{"$f":"INPUT!FZ88","v":""},{"$f":"INPUT!GA88","v":""},{"$f":"INPUT!GB88","v":""},{"$f":"INPUT!GC88","v":""},null,{"$f":"INPUT!GY88","v":""},{"$f":"INPUT!GZ88","v":""},{"$f":"INPUT!HA88","v":""},{"$f":"INPUT!HB88","v":""},{"$f":"INPUT!HC88","v":""},{"$f":"INPUT!HD88","v":""},{"$f":"INPUT!HE88","v":""},{"$f":"INPUT!HF88","v":""},{"$f":"INPUT!HG88","v":""},null,{"$f":"INPUT!IA88","v":""},{"$f":"INPUT!IB88","v":""},{"$f":"INPUT!IC88","v":""},{"$f":"INPUT!ID88","v":""},{"$f":"INPUT!IE88","v":""},{"$f":"INPUT!IF88","v":""},{"$f":"INPUT!IG88","v":""},{"$f":"INPUT!IH88","v":""},null,{"$f":"INPUT!IZ88","v":""},{"$f":"INPUT!JA88","v":""},{"$f":"INPUT!JB88","v":""},{"$f":"INPUT!JC88","v":""},{"$f":"INPUT!JD88","v":""},{"$f":"INPUT!JE88","v":""},{"$f":"INPUT!JF88","v":""},"",null,{"$f":"INPUT!JX88","v":""},{"$f":"INPUT!JY88","v":""},{"$f":"INPUT!JZ88","v":""},{"$f":"INPUT!KA88","v":""},{"$f":"INPUT!KB88","v":""},{"$f":"INPUT!KC88","v":""},{"$f":"INPUT!KD88","v":""},"",null,{"$f":"INPUT!KZ88","v":""},{"$f":"INPUT!LA88","v":""},{"$f":"INPUT!LB88","v":""},{"$f":"INPUT!LC88","v":""},{"$f":"INPUT!LD88","v":""},{"$f":"INPUT!LE88","v":""},{"$f":"INPUT!LF88","v":""},{"$f":"INPUT!LG88","v":""},{"$f":"INPUT!LH88","v":""},null,{"$f":"INPUT!MB88","v":""},{"$f":"INPUT!MC88","v":""},{"$f":"INPUT!MD88","v":""},{"$f":"INPUT!ME88","v":""},{"$f":"INPUT!MF88","v":""},{"$f":"INPUT!MG88","v":""},{"$f":"INPUT!MH88","v":""},{"$f":"INPUT!MI88","v":""}]
[null,{"$f":"INPUT!EA89","v":""},{"$f":"INPUT!EB89","v":""},{"$f":"INPUT!EC89","v":""},{"$f":"INPUT!ED89","v":""},{"$f":"INPUT!EE89","v":""},{"$f":"INPUT!EF89","v":""},{"$f":"INPUT!EG89","v":""},"",null,{"$f":"INPUT!EY89","v":""},{"$f":"INPUT!EZ89","v":""},{"$f":"INPUT!FA89","v":""},{"$f":"INPUT!FB89","v":""},{"$f":"INPUT!FC89","v":""},{"$f":"INPUT!FD89","v":""},{"$f":"INPUT!FE89","v":""},"",null,{"$f":"INPUT!FW89","v":""},{"$f":"INPUT!FX89","v":""},{"$f":"INPUT!FY89","v":""},{"$f":"INPUT!FZ89","v":""},{"$f":"INPUT!GA89","v":""},{"$f":"INPUT!GB89","v":""},{"$f":"INPUT!GC89","v":""},null,{"$f":"INPUT!GY89","v":""},{"$f":"INPUT!GZ89","v":""},{"$f":"INPUT!HA89","v":""},{"$f":"INPUT!HB89","v":""},{"$f":"INPUT!HC89","v":""},{"$f":"INPUT!HD89","v":""},{"$f":"INPUT!HE89","v":""},{"$f":"INPUT!HF89","v":""},{"$f":"INPUT!HG89","v":""},null,{"$f":"INPUT!IA89","v":""},{"$f":"INPUT!IB89","v":""},{"$f":"INPUT!IC89","v":""},{"$f":"INPUT!ID89","v":""},{"$f":"INPUT!IE89","v":""},{"$f":"INPUT!IF89","v":""},{"$f":"INPUT!IG89","v":""},{"$f":"INPUT!IH89","v":""},null,{"$f":"INPUT!IZ89","v":""},{"$f":"INPUT!JA89","v":""},{"$f":"INPUT!JB89","v":""},{"$f":"INPUT!JC89","v":""},{"$f":"INPUT!JD89","v":""},{"$f":"INPUT!JE89","v":""},{"$f":"INPUT!JF89","v":""},"",null,{"$f":"INPUT!JX89","v":""},{"$f":"INPUT!JY89","v":""},{"$f":"INPUT!JZ89","v":""},{"$f":"INPUT!KA89","v":""},{"$f":"INPUT!KB89","v":""},{"$f":"INPUT!KC89","v":""},{"$f":"INPUT!KD89","v":""},"",null,{"$f":"INPUT!KZ89","v":""},{"$f":"INPUT!LA89","v":""},{"$f":"INPUT!LB89","v":""},{"$f":"INPUT!LC89","v":""},{"$f":"INPUT!LD89","v":""},{"$f":"INPUT!LE89","v":""},{"$f":"INPUT!LF89","v":""},{"$f":"INPUT!LG89","v":""},{"$f":"INPUT!LH89","v":""},null,{"$f":"INPUT!MB89","v":""},{"$f":"INPUT!MC89","v":""},{"$f":"INPUT!MD89","v":""},{"$f":"INPUT!ME89","v":""},{"$f":"INPUT!MF89","v":""},{"$f":"INPUT!MG89","v":""},{"$f":"INPUT!MH89","v":""},{"$f":"INPUT!MI89","v":""}]
[null,{"$f":"INPUT!EA90","v":""},{"$f":"INPUT!EB90","v":""},{"$f":"INPUT!EC90","v":""},{"$f":"INPUT!ED90","v":""},{"$f":"INPUT!EE90","v":""},{"$f":"INPUT!EF90","v":""},{"$f":"INPUT!EG90","v":""},"",null,{"$f":"INPUT!EY90","v":""},{"$f":"INPUT!EZ90","v":""},{"$f":"INPUT!FA90","v":""},{"$f":"INPUT!FB90","v":""},{"$f":"INPUT!FC90","v":""},{"$f":"INPUT!FD90","v":""},{"$f":"INPUT!FE90","v":""},"",null,{"$f":"INPUT!FW90","v":""},{"$f":"INPUT!FX90","v":""},{"$f":"INPUT!FY90","v":""},{"$f":"INPUT!FZ90","v":""},{"$f":"INPUT!GA90","v":""},{"$f":"INPUT!GB90","v":""},{"$f":"INPUT!GC90","v":""},null,{"$f":"INPUT!GY90","v":""},{"$f":"INPUT!GZ90","v":""},{"$f":"INPUT!HA90","v":""},{"$f":"INPUT!HB90","v":""},{"$f":"INPUT!HC90","v":""},{"$f":"INPUT!HD90","v":""},{"$f":"INPUT!HE90","v":""},{"$f":"INPUT!HF90","v":""},{"$f":"INPUT!HG90","v":""},null,{"$f":"INPUT!IA90","v":""},{"$f":"INPUT!IB90","v":""},{"$f":"INPUT!IC90","v":""},{"$f":"INPUT!ID90","v":""},{"$f":"INPUT!IE90","v":""},{"$f":"INPUT!IF90","v":""},{"$f":"INPUT!IG90","v":""},{"$f":"INPUT!IH90","v":""},null,{"$f":"INPUT!IZ90","v":""},{"$f":"INPUT!JA90","v":""},{"$f":"INPUT!JB90","v":""},{"$f":"INPUT!JC90","v":""},{"$f":"INPUT!JD90","v":""},{"$f":"INPUT!JE90","v":""},{"$f":"INPUT!JF90","v":""},"",null,{"$f":"INPUT!JX90","v":""},{"$f":"INPUT!JY90","v":""},{"$f":"INPUT!JZ90","v":""},{"$f":"INPUT!KA90","v":""},{"$f":"INPUT!KB90","v":""},{"$f":"INPUT!KC90","v":""},{"$f":"INPUT!KD90","v":""},"",null,{"$f":"INPUT!KZ90","v":""},{"$f":"INPUT!LA90","v":""},{"$f":"INPUT!LB90","v":""},{"$f":"INPUT!LC90","v":""},{"$f":"INPUT!LD90","v":""},{"$f":"INPUT!LE90","v":""},{"$f":"INPUT!LF90","v":""},{"$f":"INPUT!LG90","v":""},{"$f":"INPUT!LH90","v":""},null,{"$f":"INPUT!MB90","v":""},{"$f":"INPUT!MC90","v":""},{"$f":"INPUT!MD90","v":""},{"$f":"INPUT!ME90","v":""},{"$f":"INPUT!MF90","v":""},{"$f":"INPUT!MG90","v":""},{"$f":"INPUT!MH90","v":""},{"$f":"INPUT!MI90","v":""}]
[null,{"$f":"INPUT!EA91","v":""},{"$f":"INPUT!EB91","v":""},{"$f":"INPUT!EC91","v":""},{"$f":"INPUT!ED91","v":""},{"$f":"INPUT!EE91","v":""},{"$f":"INPUT!EF91","v":""},{"$f":"INPUT!EG91","v":""},"",null,{"$f":"INPUT!EY91","v":""},{"$f":"INPUT!EZ91","v":""},{"$f":"INPUT!FA91","v":""},{"$f":"INPUT!FB91","v":""},{"$f":"INPUT!FC91","v":""},{"$f":"INPUT!FD91","v":""},{"$f":"INPUT!FE91","v":""},"",null,{"$f":"INPUT!FW91","v":""},{"$f":"INPUT!FX91","v":""},{"$f":"INPUT!FY91","v":""},{"$f":"INPUT!FZ91","v":""},{"$f":"INPUT!GA91","v":""},{"$f":"INPUT!GB91","v":""},{"$f":"INPUT!GC91","v":""},null,{"$f":"INPUT!GY91","v":""},{"$f":"INPUT!GZ91","v":""},{"$f":"INPUT!HA91","v":""},{"$f":"INPUT!HB91","v":""},{"$f":"INPUT!HC91","v":""},{"$f":"INPUT!HD91","v":""},{"$f":"INPUT!HE91","v":""},{"$f":"INPUT!HF91","v":""},{"$f":"INPUT!HG91","v":""},null,{"$f":"INPUT!IA91","v":""},{"$f":"INPUT!IB91","v":""},{"$f":"INPUT!IC91","v":""},{"$f":"INPUT!ID91","v":""},{"$f":"INPUT!IE91","v":""},{"$f":"INPUT!IF91","v":""},{"$f":"INPUT!IG91","v":""},{"$f":"INPUT!IH91","v":""},null,{"$f":"INPUT!IZ91","v":""},{"$f":"INPUT!JA91","v":""},{"$f":"INPUT!JB91","v":""},{"$f":"INPUT!JC91","v":""},{"$f":"INPUT!JD91","v":""},{"$f":"INPUT!JE91","v":""},{"$f":"INPUT!JF91","v":""},"",null,{"$f":"INPUT!JX91","v":""},{"$f":"INPUT!JY91","v":""},{"$f":"INPUT!JZ91","v":""},{"$f":"INPUT!KA91","v":""},{"$f":"INPUT!KB91","v":""},{"$f":"INPUT!KC91","v":""},{"$f":"INPUT!KD91","v":""},"",null,{"$f":"INPUT!KZ91","v":""},{"$f":"INPUT!LA91","v":""},{"$f":"INPUT!LB91","v":""},{"$f":"INPUT!LC91","v":""},{"$f":"INPUT!LD91","v":""},{"$f":"INPUT!LE91","v":""},{"$f":"INPUT!LF91","v":""},{"$f":"INPUT!LG91","v":""},{"$f":"INPUT!LH91","v":""},null,{"$f":"INPUT!MB91","v":""},{"$f":"INPUT!MC91","v":""},{"$f":"INPUT!MD91","v":""},{"$f":"INPUT!ME91","v":""},{"$f":"INPUT!MF91","v":""},{"$f":"INPUT!MG91","v":""},{"$f":"INPUT!MH91","v":""},{"$f":"INPUT!MI91","v":""}]
[null,{"$f":"INPUT!EA92","v":""},{"$f":"INPUT!EB92","v":""},{"$f":"INPUT!EC92","v":""},{"$f":"INPUT!ED92","v":""},{"$f":"INPUT!EE92","v":""},{"$f":"INPUT!EF92","v":""},{"$f":"INPUT!EG92","v":""},"",null,{"$f":"INPUT!EY92","v":""},{"$f":"INPUT!EZ92","v":""},{"$f":"INPUT!FA92","v":""},{"$f":"INPUT!FB92","v":""},{"$f":"INPUT!FC92","v":""},{"$f":"INPUT!FD92","v":""},{"$f":"INPUT!FE92","v":""},"",null,{"$f":"INPUT!FW92","v":""},{"$f":"INPUT!FX92","v":""},{"$f":"INPUT!FY92","v":""},{"$f":"INPUT!FZ92","v":""},{"$f":"INPUT!GA92","v":""},{"$f":"INPUT!GB92","v":""},{"$f":"INPUT!GC92","v":""},null,{"$f":"INPUT!GY92","v":""},{"$f":"INPUT!GZ92","v":""},{"$f":"INPUT!HA92","v":""},{"$f":"INPUT!HB92","v":""},{"$f":"INPUT!HC92","v":""},{"$f":"INPUT!HD92","v":""},{"$f":"INPUT!HE92","v":""},{"$f":"INPUT!HF92","v":""},{"$f":"INPUT!HG92","v":""},null,{"$f":"INPUT!IA92","v":""},{"$f":"INPUT!IB92","v":""},{"$f":"INPUT!IC92","v":""},{"$f":"INPUT!ID92","v":""},{"$f":"INPUT!IE92","v":""},{"$f":"INPUT!IF92","v":""},{"$f":"INPUT!IG92","v":""},{"$f":"INPUT!IH92","v":""},null,{"$f":"INPUT!IZ92","v":""},{"$f":"INPUT!JA92","v":""},{"$f":"INPUT!JB92","v":""},{"$f":"INPUT!JC92","v":""},{"$f":"INPUT!JD92","v":""},{"$f":"INPUT!JE92","v":""},{"$f":"INPUT!JF92","v":""},"",null,{"$f":"INPUT!JX92","v":""},{"$f":"INPUT!JY92","v":""},{"$f":"INPUT!JZ92","v":""},{"$f":"INPUT!KA92","v":""},{"$f":"INPUT!KB92","v":""},{"$f":"INPUT!KC92","v":""},{"$f":"INPUT!KD92","v":""},"",null,{"$f":"INPUT!KZ92","v":""},{"$f":"INPUT!LA92","v":""},{"$f":"INPUT!LB92","v":""},{"$f":"INPUT!LC92","v":""},{"$f":"INPUT!LD92","v":""},{"$f":"INPUT!LE92","v":""},{"$f":"INPUT!LF92","v":""},{"$f":"INPUT!LG92","v":""},{"$f":"INPUT!LH92","v":""},null,{"$f":"INPUT!MB92","v":""},{"$f":"INPUT!MC92","v":""},{"$f":"INPUT!MD92","v":""},{"$f":"INPUT!ME92","v":""},{"$f":"INPUT!MF92","v":""},{"$f":"INPUT!MG92","v":""},{"$f":"INPUT!MH92","v":""},{"$f":"INPUT!MI92","v":""}]
[null,{"$f":"INPUT!EA93","v":""},{"$f":"INPUT!EB93","v":""},{"$f":"INPUT!EC93","v":""},{"$f":"INPUT!ED93","v":""},{"$f":"INPUT!EE93","v":""},{"$f":"INPUT!EF93","v":""},{"$f":"INPUT!EG93","v":""},"",null,{"$f":"INPUT!EY93","v":""},{"$f":"INPUT!EZ93","v":""},{"$f":"INPUT!FA93","v":""},{"$f":"INPUT!FB93","v":""},{"$f":"INPUT!FC93","v":""},{"$f":"INPUT!FD93","v":""},{"$f":"INPUT!FE93","v":""},"",null,{"$f":"INPUT!FW93","v":""},{"$f":"INPUT!FX93","v":""},{"$f":"INPUT!FY93","v":""},{"$f":"INPUT!FZ93","v":""},{"$f":"INPUT!GA93","v":""},{"$f":"INPUT!GB93","v":""},{"$f":"INPUT!GC93","v":""},null,{"$f":"INPUT!GY93","v":""},{"$f":"INPUT!GZ93","v":""},{"$f":"INPUT!HA93","v":""},{"$f":"INPUT!HB93","v":""},{"$f":"INPUT!HC93","v":""},{"$f":"INPUT!HD93","v":""},{"$f":"INPUT!HE93","v":""},{"$f":"INPUT!HF93","v":""},{"$f":"INPUT!HG93","v":""},null,{"$f":"INPUT!IA93","v":""},{"$f":"INPUT!IB93","v":""},{"$f":"INPUT!IC93","v":""},{"$f":"INPUT!ID93","v":""},{"$f":"INPUT!IE93","v":""},{"$f":"INPUT!IF93","v":""},{"$f":"INPUT!IG93","v":""},{"$f":"INPUT!IH93","v":""},null,{"$f":"INPUT!IZ93","v":""},{"$f":"INPUT!JA93","v":""},{"$f":"INPUT!JB93","v":""},{"$f":"INPUT!JC93","v":""},{"$f":"INPUT!JD93","v":""},{"$f":"INPUT!JE93","v":""},{"$f":"INPUT!JF93","v":""},"",null,{"$f":"INPUT!JX93","v":""},{"$f":"INPUT!JY93","v":""},{"$f":"INPUT!JZ93","v":""},{"$f":"INPUT!KA93","v":""},{"$f":"INPUT!KB93","v":""},{"$f":"INPUT!KC93","v":""},{"$f":"INPUT!KD93","v":""},"",null,{"$f":"INPUT!KZ93","v":""},{"$f":"INPUT!LA93","v":""},{"$f":"INPUT!LB93","v":""},{"$f":"INPUT!LC93","v":""},{"$f":"INPUT!LD93","v":""},{"$f":"INPUT!LE93","v":""},{"$f":"INPUT!LF93","v":""},{"$f":"INPUT!LG93","v":""},{"$f":"INPUT!LH93","v":""},null,{"$f":"INPUT!MB93","v":""},{"$f":"INPUT!MC93","v":""},{"$f":"INPUT!MD93","v":""},{"$f":"INPUT!ME93","v":""},{"$f":"INPUT!MF93","v":""},{"$f":"INPUT!MG93","v":""},{"$f":"INPUT!MH93","v":""},{"$f":"INPUT!MI93","v":""}]
[null,{"$f":"INPUT!EA94","v":""},{"$f":"INPUT!EB94","v":""},{"$f":"INPUT!EC94","v":""},{"$f":"INPUT!ED94","v":""},{"$f":"INPUT!EE94","v":""},{"$f":"INPUT!EF94","v":""},{"$f":"INPUT!EG94","v":""},"",null,{"$f":"INPUT!EY94","v":""},{"$f":"INPUT!EZ94","v":""},{"$f":"INPUT!FA94","v":""},{"$f":"INPUT!FB94","v":""},{"$f":"INPUT!FC94","v":""},{"$f":"INPUT!FD94","v":""},{"$f":"INPUT!FE94","v":""},"",null,{"$f":"INPUT!FW94","v":""},{"$f":"INPUT!FX94","v":""},{"$f":"INPUT!FY94","v":""},{"$f":"INPUT!FZ94","v":""},{"$f":"INPUT!GA94","v":""},{"$f":"INPUT!GB94","v":""},{"$f":"INPUT!GC94","v":""},null,{"$f":"INPUT!GY94","v":""},{"$f":"INPUT!GZ94","v":""},{"$f":"INPUT!HA94","v":""},{"$f":"INPUT!HB94","v":""},{"$f":"INPUT!HC94","v":""},{"$f":"INPUT!HD94","v":""},{"$f":"INPUT!HE94","v":""},{"$f":"INPUT!HF94","v":""},{"$f":"INPUT!HG94","v":""},null,{"$f":"INPUT!IA94","v":""},{"$f":"INPUT!IB94","v":""},{"$f":"INPUT!IC94","v":""},{"$f":"INPUT!ID94","v":""},{"$f":"INPUT!IE94","v":""},{"$f":"INPUT!IF94","v":""},{"$f":"INPUT!IG94","v":""},{"$f":"INPUT!IH94","v":""},null,{"$f":"INPUT!IZ94","v":""},{"$f":"INPUT!JA94","v":""},{"$f":"INPUT!JB94","v":""},{"$f":"INPUT!JC94","v":""},{"$f":"INPUT!JD94","v":""},{"$f":"INPUT!JE94","v":""},{"$f":"INPUT!JF94","v":""},"",null,{"$f":"INPUT!JX94","v":""},{"$f":"INPUT!JY94","v":""},{"$f":"INPUT!JZ94","v":""},{"$f":"INPUT!KA94","v":""},{"$f":"INPUT!KB94","v":""},{"$f":"INPUT!KC94","v":""},{"$f":"INPUT!KD94","v":""},"",null,{"$f":"INPUT!KZ94","v":""},{"$f":"INPUT!LA94","v":""},{"$f":"INPUT!LB94","v":""},{"$f":"INPUT!LC94","v":""},{"$f":"INPUT!LD94","v":""},{"$f":"INPUT!LE94","v":""},{"$f":"INPUT!LF94","v":""},{"$f":"INPUT!LG94","v":""},{"$f":"INPUT!LH94","v":""},null,{"$f":"INPUT!MB94","v":""},{"$f":"INPUT!MC94","v":""},{"$f":"INPUT!MD94","v":""},{"$f":"INPUT!ME94","v":""},{"$f":"INPUT!MF94","v":""},{"$f":"INPUT!MG94","v":""},{"$f":"INPUT!MH94","v":""},{"$f":"INPUT!MI94","v":""}]
[null,{"$f":"INPUT!EA95","v":""},{"$f":"INPUT!EB95","v":""},{"$f":"INPUT!EC95","v":""},{"$f":"INPUT!ED95","v":""},{"$f":"INPUT!EE95","v":""},{"$f":"INPUT!EF95","v":""},{"$f":"INPUT!EG95","v":""},"",null,{"$f":"INPUT!EY95","v":""},{"$f":"INPUT!EZ95","v":""},{"$f":"INPUT!FA95","v":""},{"$f":"INPUT!FB95","v":""},{"$f":"INPUT!FC95","v":""},{"$f":"INPUT!FD95","v":""},{"$f":"INPUT!FE95","v":""},"",null,{"$f":"INPUT!FW95","v":""},{"$f":"INPUT!FX95","v":""},{"$f":"INPUT!FY95","v":""},{"$f":"INPUT!FZ95","v":""},{"$f":"INPUT!GA95","v":""},{"$f":"INPUT!GB95","v":""},{"$f":"INPUT!GC95","v":""},null,{"$f":"INPUT!GY95","v":""},{"$f":"INPUT!GZ95","v":""},{"$f":"INPUT!HA95","v":""},{"$f":"INPUT!HB95","v":""},{"$f":"INPUT!HC95","v":""},{"$f":"INPUT!HD95","v":""},{"$f":"INPUT!HE95","v":""},{"$f":"INPUT!HF95","v":""},{"$f":"INPUT!HG95","v":""},null,{"$f":"INPUT!IA95","v":""},{"$f":"INPUT!IB95","v":""},{"$f":"INPUT!IC95","v":""},{"$f":"INPUT!ID95","v":""},{"$f":"INPUT!IE95","v":""},{"$f":"INPUT!IF95","v":""},{"$f":"INPUT!IG95","v":""},{"$f":"INPUT!IH95","v":""},null,{"$f":"INPUT!IZ95","v":""},{"$f":"INPUT!JA95","v":""},{"$f":"INPUT!JB95","v":""},{"$f":"INPUT!JC95","v":""},{"$f":"INPUT!JD95","v":""},{"$f":"INPUT!JE95","v":""},{"$f":"INPUT!JF95","v":""},"",null,{"$f":"INPUT!JX95","v":""},{"$f":"INPUT!JY95","v":""},{"$f":"INPUT!JZ95","v":""},{"$f":"INPUT!KA95","v":""},{"$f":"INPUT!KB95","v":""},{"$f":"INPUT!KC95","v":""},{"$f":"INPUT!KD95","v":""},"",null,{"$f":"INPUT!KZ95","v":""},{"$f":"INPUT!LA95","v":""},{"$f":"INPUT!LB95","v":""},{"$f":"INPUT!LC95","v":""},{"$f":"INPUT!LD95","v":""},{"$f":"INPUT!LE95","v":""},{"$f":"INPUT!LF95","v":""},{"$f":"INPUT!LG95","v":""},{"$f":"INPUT!LH95","v":""},null,{"$f":"INPUT!MB95","v":""},{"$f":"INPUT!MC95","v":""},{"$f":"INPUT!MD95","v":""},{"$f":"INPUT!ME95","v":""},{"$f":"INPUT!MF95","v":""},{"$f":"INPUT!MG95","v":""},{"$f":"INPUT!MH95","v":""},{"$f":"INPUT!MI95","v":""}]
[null,{"$f":"INPUT!EA96","v":""},{"$f":"INPUT!EB96","v":""},{"$f":"INPUT!EC96","v":""},{"$f":"INPUT!ED96","v":""},{"$f":"INPUT!EE96","v":""},{"$f":"INPUT!EF96","v":""},{"$f":"INPUT!EG96","v":""},"",null,{"$f":"INPUT!EY96","v":""},{"$f":"INPUT!EZ96","v":""},{"$f":"INPUT!FA96","v":""},{"$f":"INPUT!FB96","v":""},{"$f":"INPUT!FC96","v":""},{"$f":"INPUT!FD96","v":""},{"$f":"INPUT!FE96","v":""},"",null,{"$f":"INPUT!FW96","v":""},{"$f":"INPUT!FX96","v":""},{"$f":"INPUT!FY96","v":""},{"$f":"INPUT!FZ96","v":""},{"$f":"INPUT!GA96","v":""},{"$f":"INPUT!GB96","v":""},{"$f":"INPUT!GC96","v":""},null,{"$f":"INPUT!GY96","v":""},{"$f":"INPUT!GZ96","v":""},{"$f":"INPUT!HA96","v":""},{"$f":"INPUT!HB96","v":""},{"$f":"INPUT!HC96","v":""},{"$f":"INPUT!HD96","v":""},{"$f":"INPUT!HE96","v":""},{"$f":"INPUT!HF96","v":""},{"$f":"INPUT!HG96","v":""},null,{"$f":"INPUT!IA96","v":""},{"$f":"INPUT!IB96","v":""},{"$f":"INPUT!IC96","v":""},{"$f":"INPUT!ID96","v":""},{"$f":"INPUT!IE96","v":""},{"$f":"INPUT!IF96","v":""},{"$f":"INPUT!IG96","v":""},{"$f":"INPUT!IH96","v":""},null,{"$f":"INPUT!IZ96","v":""},{"$f":"INPUT!JA96","v":""},{"$f":"INPUT!JB96","v":""},{"$f":"INPUT!JC96","v":""},{"$f":"INPUT!JD96","v":""},{"$f":"INPUT!JE96","v":""},{"$f":"INPUT!JF96","v":""},"",null,{"$f":"INPUT!JX96","v":""},{"$f":"INPUT!JY96","v":""},{"$f":"INPUT!JZ96","v":""},{"$f":"INPUT!KA96","v":""},{"$f":"INPUT!KB96","v":""},{"$f":"INPUT!KC96","v":""},{"$f":"INPUT!KD96","v":""},"",null,{"$f":"INPUT!KZ96","v":""},{"$f":"INPUT!LA96","v":""},{"$f":"INPUT!LB96","v":""},{"$f":"INPUT!LC96","v":""},{"$f":"INPUT!LD96","v":""},{"$f":"INPUT!LE96","v":""},{"$f":"INPUT!LF96","v":""},{"$f":"INPUT!LG96","v":""},{"$f":"INPUT!LH96","v":""},null,{"$f":"INPUT!MB96","v":""},{"$f":"INPUT!MC96","v":""},{"$f":"INPUT!MD96","v":""},{"$f":"INPUT!ME96","v":""},{"$f":"INPUT!MF96","v":""},{"$f":"INPUT!MG96","v":""},{"$f":"INPUT!MH96","v":""},{"$f":"INPUT!MI96","v":""}]
[null,{"$f":"INPUT!EA97","v":""},{"$f":"INPUT!EB97","v":""},{"$f":"INPUT!EC97","v":""},{"$f":"INPUT!ED97","v":""},{"$f":"INPUT!EE97","v":""},{"$f":"INPUT!EF97","v":""},{"$f":"INPUT!EG97","v":""},"",null,{"$f":"INPUT!EY97","v":""},{"$f":"INPUT!EZ97","v":""},{"$f":"INPUT!FA97","v":""},{"$f":"INPUT!FB97","v":""},{"$f":"INPUT!FC97","v":""},{"$f":"INPUT!FD97","v":""},{"$f":"INPUT!FE97","v":""},"",null,{"$f":"INPUT!FW97","v":""},{"$f":"INPUT!FX97","v":""},{"$f":"INPUT!FY97","v":""},{"$f":"INPUT!FZ97","v":""},{"$f":"INPUT!GA97","v":""},{"$f":"INPUT!GB97","v":""},{"$f":"INPUT!GC97","v":""},null,{"$f":"INPUT!GY97","v":""},{"$f":"INPUT!GZ97","v":""},{"$f":"INPUT!HA97","v":""},{"$f":"INPUT!HB97","v":""},{"$f":"INPUT!HC97","v":""},{"$f":"INPUT!HD97","v":""},{"$f":"INPUT!HE97","v":""},{"$f":"INPUT!HF97","v":""},{"$f":"INPUT!HG97","v":""},null,{"$f":"INPUT!IA97","v":""},{"$f":"INPUT!IB97","v":""},{"$f":"INPUT!IC97","v":""},{"$f":"INPUT!ID97","v":""},{"$f":"INPUT!IE97","v":""},{"$f":"INPUT!IF97","v":""},{"$f":"INPUT!IG97","v":""},{"$f":"INPUT!IH97","v":""},null,{"$f":"INPUT!IZ97","v":""},{"$f":"INPUT!JA97","v":""},{"$f":"INPUT!JB97","v":""},{"$f":"INPUT!JC97","v":""},{"$f":"INPUT!JD97","v":""},{"$f":"INPUT!JE97","v":""},{"$f":"INPUT!JF97","v":""},"",null,{"$f":"INPUT!JX97","v":""},{"$f":"INPUT!JY97","v":""},{"$f":"INPUT!JZ97","v":""},{"$f":"INPUT!KA97","v":""},{"$f":"INPUT!KB97","v":""},{"$f":"INPUT!KC97","v":""},{"$f":"INPUT!KD97","v":""},"",null,{"$f":"INPUT!KZ97","v":""},{"$f":"INPUT!LA97","v":""},{"$f":"INPUT!LB97","v":""},{"$f":"INPUT!LC97","v":""},{"$f":"INPUT!LD97","v":""},{"$f":"INPUT!LE97","v":""},{"$f":"INPUT!LF97","v":""},{"$f":"INPUT!LG97","v":""},{"$f":"INPUT!LH97","v":""},null,{"$f":"INPUT!MB97","v":""},{"$f":"INPUT!MC97","v":""},{"$f":"INPUT!MD97","v":""},{"$f":"INPUT!ME97","v":""},{"$f":"INPUT!MF97","v":""},{"$f":"INPUT!MG97","v":""},{"$f":"INPUT!MH97","v":""},{"$f":"INPUT!MI97","v":""}]
[null,{"$f":"INPUT!EA98","v":""},{"$f":"INPUT!EB98","v":""},{"$f":"INPUT!EC98","v":""},{"$f":"INPUT!ED98","v":""},{"$f":"INPUT!EE98","v":""},{"$f":"INPUT!EF98","v":""},{"$f":"INPUT!EG98","v":""},"",null,{"$f":"INPUT!EY98","v":""},{"$f":"INPUT!EZ98","v":""},{"$f":"INPUT!FA98","v":""},{"$f":"INPUT!FB98","v":""},{"$f":"INPUT!FC98","v":""},{"$f":"INPUT!FD98","v":""},{"$f":"INPUT!FE98","v":""},"",null,{"$f":"INPUT!FW98","v":""},{"$f":"INPUT!FX98","v":""},{"$f":"INPUT!FY98","v":""},{"$f":"INPUT!FZ98","v":""},{"$f":"INPUT!GA98","v":""},{"$f":"INPUT!GB98","v":""},{"$f":"INPUT!GC98","v":""},null,{"$f":"INPUT!GY98","v":""},{"$f":"INPUT!GZ98","v":""},{"$f":"INPUT!HA98","v":""},{"$f":"INPUT!HB98","v":""},{"$f":"INPUT!HC98","v":""},{"$f":"INPUT!HD98","v":""},{"$f":"INPUT!HE98","v":""},{"$f":"INPUT!HF98","v":""},{"$f":"INPUT!HG98","v":""},null,{"$f":"INPUT!IA98","v":""},{"$f":"INPUT!IB98","v":""},{"$f":"INPUT!IC98","v":""},{"$f":"INPUT!ID98","v":""},{"$f":"INPUT!IE98","v":""},{"$f":"INPUT!IF98","v":""},{"$f":"INPUT!IG98","v":""},{"$f":"INPUT!IH98","v":""},null,{"$f":"INPUT!IZ98","v":""},{"$f":"INPUT!JA98","v":""},{"$f":"INPUT!JB98","v":""},{"$f":"INPUT!JC98","v":""},{"$f":"INPUT!JD98","v":""},{"$f":"INPUT!JE98","v":""},{"$f":"INPUT!JF98","v":""},"",null,{"$f":"INPUT!JX98","v":""},{"$f":"INPUT!JY98","v":""},{"$f":"INPUT!JZ98","v":""},{"$f":"INPUT!KA98","v":""},{"$f":"INPUT!KB98","v":""},{"$f":"INPUT!KC98","v":""},{"$f":"INPUT!KD98","v":""},"",null,{"$f":"INPUT!KZ98","v":""},{"$f":"INPUT!LA98","v":""},{"$f":"INPUT!LB98","v":""},{"$f":"INPUT!LC98","v":""},{"$f":"INPUT!LD98","v":""},{"$f":"INPUT!LE98","v":""},{"$f":"INPUT!LF98","v":""},{"$f":"INPUT!LG98","v":""},{"$f":"INPUT!LH98","v":""},null,{"$f":"INPUT!MB98","v":""},{"$f":"INPUT!MC98","v":""},{"$f":"INPUT!MD98","v":""},{"$f":"INPUT!ME98","v":""},{"$f":"INPUT!MF98","v":""},{"$f":"INPUT!MG98","v":""},{"$f":"INPUT!MH98","v":""},{"$f":"INPUT!MI98","v":""}]
[null,{"$f":"INPUT!EA99","v":""},{"$f":"INPUT!EB99","v":""},{"$f":"INPUT!EC99","v":""},{"$f":"INPUT!ED99","v":""},{"$f":"INPUT!EE99","v":""},{"$f":"INPUT!EF99","v":""},{"$f":"INPUT!EG99","v":""},"",null,{"$f":"INPUT!EY99","v":""},{"$f":"INPUT!EZ99","v":""},{"$f":"INPUT!FA99","v":""},{"$f":"INPUT!FB99","v":""},{"$f":"INPUT!FC99","v":""},{"$f":"INPUT!FD99","v":""},{"$f":"INPUT!FE99","v":""},"",null,{"$f":"INPUT!FW99","v":""},{"$f":"INPUT!FX99","v":""},{"$f":"INPUT!FY99","v":""},{"$f":"INPUT!FZ99","v":""},{"$f":"INPUT!GA99","v":""},{"$f":"INPUT!GB99","v":""},{"$f":"INPUT!GC99","v":""},null,{"$f":"INPUT!GY99","v":""},{"$f":"INPUT!GZ99","v":""},{"$f":"INPUT!HA99","v":""},{"$f":"INPUT!HB99","v":""},{"$f":"INPUT!HC99","v":""},{"$f":"INPUT!HD99","v":""},{"$f":"INPUT!HE99","v":""},{"$f":"INPUT!HF99","v":""},{"$f":"INPUT!HG99","v":""},null,{"$f":"INPUT!IA99","v":""},{"$f":"INPUT!IB99","v":""},{"$f":"INPUT!IC99","v":""},{"$f":"INPUT!ID99","v":""},{"$f":"INPUT!IE99","v":""},{"$f":"INPUT!IF99","v":""},{"$f":"INPUT!IG99","v":""},{"$f":"INPUT!IH99","v":""},null,{"$f":"INPUT!IZ99","v":""},{"$f":"INPUT!JA99","v":""},{"$f":"INPUT!JB99","v":""},{"$f":"INPUT!JC99","v":""},{"$f":"INPUT!JD99","v":""},{"$f":"INPUT!JE99","v":""},{"$f":"INPUT!JF99","v":""},"",null,{"$f":"INPUT!JX99","v":""},{"$f":"INPUT!JY99","v":""},{"$f":"INPUT!JZ99","v":""},{"$f":"INPUT!KA99","v":""},{"$f":"INPUT!KB99","v":""},{"$f":"INPUT!KC99","v":""},{"$f":"INPUT!KD99","v":""},"",null,{"$f":"INPUT!KZ99","v":""},{"$f":"INPUT!LA99","v":""},{"$f":"INPUT!LB99","v":""},{"$f":"INPUT!LC99","v":""},{"$f":"INPUT!LD99","v":""},{"$f":"INPUT!LE99","v":""},{"$f":"INPUT!LF99","v":""},{"$f":"INPUT!LG99","v":""},{"$f":"INPUT!LH99","v":""},null,{"$f":"INPUT!MB99","v":""},{"$f":"INPUT!MC99","v":""},{"$f":"INPUT!MD99","v":""},{"$f":"INPUT!ME99","v":""},{"$f":"INPUT!MF99","v":""},{"$f":"INPUT!MG99","v":""},{"$f":"INPUT!MH99","v":""},{"$f":"INPUT!MI99","v":""}]
[null,{"$f":"INPUT!EA100","v":""},{"$f":"INPUT!EB100","v":""},{"$f":"INPUT!EC100","v":""},{"$f":"INPUT!ED100","v":""},{"$f":"INPUT!EE100","v":""},{"$f":"INPUT!EF100","v":""},{"$f":"INPUT!EG100","v":""},"",null,{"$f":"INPUT!EY100","v":""},{"$f":"INPUT!EZ100","v":""},{"$f":"INPUT!FA100","v":""},{"$f":"INPUT!FB100","v":""},{"$f":"INPUT!FC100","v":""},{"$f":"INPUT!FD100","v":""},{"$f":"INPUT!FE100","v":""},"",null,{"$f":"INPUT!FW100","v":""},{"$f":"INPUT!FX100","v":""},{"$f":"INPUT!FY100","v":""},{"$f":"INPUT!FZ100","v":""},{"$f":"INPUT!GA100","v":""},{"$f":"INPUT!GB100","v":""},{"$f":"INPUT!GC100","v":""},null,{"$f":"INPUT!GY100","v":""},{"$f":"INPUT!GZ100","v":""},{"$f":"INPUT!HA100","v":""},{"$f":"INPUT!HB100","v":""},{"$f":"INPUT!HC100","v":""},{"$f":"INPUT!HD100","v":""},{"$f":"INPUT!HE100","v":""},{"$f":"INPUT!HF100","v":""},{"$f":"INPUT!HG100","v":""},null,{"$f":"INPUT!IA100","v":""},{"$f":"INPUT!IB100","v":""},{"$f":"INPUT!IC100","v":""},{"$f":"INPUT!ID100","v":""},{"$f":"INPUT!IE100","v":""},{"$f":"INPUT!IF100","v":""},{"$f":"INPUT!IG100","v":""},{"$f":"INPUT!IH100","v":""},null,{"$f":"INPUT!IZ100","v":""},{"$f":"INPUT!JA100","v":""},{"$f":"INPUT!JB100","v":""},{"$f":"INPUT!JC100","v":""},{"$f":"INPUT!JD100","v":""},{"$f":"INPUT!JE100","v":""},{"$f":"INPUT!JF100","v":""},"",null,{"$f":"INPUT!JX100","v":""},{"$f":"INPUT!JY100","v":""},{"$f":"INPUT!JZ100","v":""},{"$f":"INPUT!KA100","v":""},{"$f":"INPUT!KB100","v":""},{"$f":"INPUT!KC100","v":""},{"$f":"INPUT!KD100","v":""},"",null,{"$f":"INPUT!KZ100","v":""},{"$f":"INPUT!LA100","v":""},{"$f":"INPUT!LB100","v":""},{"$f":"INPUT!LC100","v":""},{"$f":"INPUT!LD100","v":""},{"$f":"INPUT!LE100","v":""},{"$f":"INPUT!LF100","v":""},{"$f":"INPUT!LG100","v":""},{"$f":"INPUT!LH100","v":""},null,{"$f":"INPUT!MB100","v":""},{"$f":"INPUT!MC100","v":""},{"$f":"INPUT!MD100","v":""},{"$f":"INPUT!ME100","v":""},{"$f":"INPUT!MF100","v":""},{"$f":"INPUT!MG100","v":""},{"$f":"INPUT!MH100","v":""},{"$f":"INPUT!MI100","v":""}]
[null,{"$f":"INPUT!EA101","v":""},{"$f":"INPUT!EB101","v":""},{"$f":"INPUT!EC101","v":""},{"$f":"INPUT!ED101","v":""},{"$f":"INPUT!EE101","v":""},{"$f":"INPUT!EF101","v":""},{"$f":"INPUT!EG101","v":""},"",null,{"$f":"INPUT!EY101","v":""},{"$f":"INPUT!EZ101","v":""},{"$f":"INPUT!FA101","v":""},{"$f":"INPUT!FB101","v":""},{"$f":"INPUT!FC101","v":""},{"$f":"INPUT!FD101","v":""},{"$f":"INPUT!FE101","v":""},"",null,{"$f":"INPUT!FW101","v":""},{"$f":"INPUT!FX101","v":""},{"$f":"INPUT!FY101","v":""},{"$f":"INPUT!FZ101","v":""},{"$f":"INPUT!GA101","v":""},{"$f":"INPUT!GB101","v":""},{"$f":"INPUT!GC101","v":""},null,{"$f":"INPUT!GY101","v":""},{"$f":"INPUT!GZ101","v":""},{"$f":"INPUT!HA101","v":""},{"$f":"INPUT!HB101","v":""},{"$f":"INPUT!HC101","v":""},{"$f":"INPUT!HD101","v":""},{"$f":"INPUT!HE101","v":""},{"$f":"INPUT!HF101","v":""},{"$f":"INPUT!HG101","v":""},null,{"$f":"INPUT!IA101","v":""},{"$f":"INPUT!IB101","v":""},{"$f":"INPUT!IC101","v":""},{"$f":"INPUT!ID101","v":""},{"$f":"INPUT!IE101","v":""},{"$f":"INPUT!IF101","v":""},{"$f":"INPUT!IG101","v":""},{"$f":"INPUT!IH101","v":""},null,{"$f":"INPUT!IZ101","v":""},{"$f":"INPUT!JA101","v":""},{"$f":"INPUT!JB101","v":""},{"$f":"INPUT!JC101","v":""},{"$f":"INPUT!JD101","v":""},{"$f":"INPUT!JE101","v":""},{"$f":"INPUT!JF101","v":""},"",null,{"$f":"INPUT!JX101","v":""},{"$f":"INPUT!JY101","v":""},{"$f":"INPUT!JZ101","v":""},{"$f":"INPUT!KA101","v":""},{"$f":"INPUT!KB101","v":""},{"$f":"INPUT!KC101","v":""},{"$f":"INPUT!KD101","v":""},"",null,{"$f":"INPUT!KZ101","v":""},{"$f":"INPUT!LA101","v":""},{"$f":"INPUT!LB101","v":""},{"$f":"INPUT!LC101","v":""},{"$f":"INPUT!LD101","v":""},{"$f":"INPUT!LE101","v":""},{"$f":"INPUT!LF101","v":""},{"$f":"INPUT!LG101","v":""},{"$f":"INPUT!LH101","v":""},null,{"$f":"INPUT!MB101","v":""},{"$f":"INPUT!MC101","v":""},{"$f":"INPUT!MD101","v":""},{"$f":"INPUT!ME101","v":""},{"$f":"INPUT!MF101","v":""},{"$f":"INPUT!MG101","v":""},{"$f":"INPUT!MH101","v":""},{"$f":"INPUT!MI101","v":""}]
[null,{"$f":"INPUT!EA102","v":""},{"$f":"INPUT!EB102","v":""},{"$f":"INPUT!EC102","v":""},{"$f":"INPUT!ED102","v":""},{"$f":"INPUT!EE102","v":""},{"$f":"INPUT!EF102","v":""},{"$f":"INPUT!EG102","v":""},"",null,{"$f":"INPUT!EY102","v":""},{"$f":"INPUT!EZ102","v":""},{"$f":"INPUT!FA102","v":""},{"$f":"INPUT!FB102","v":""},{"$f":"INPUT!FC102","v":""},{"$f":"INPUT!FD102","v":""},{"$f":"INPUT!FE102","v":""},"",null,{"$f":"INPUT!FW102","v":""},{"$f":"INPUT!FX102","v":""},{"$f":"INPUT!FY102","v":""},{"$f":"INPUT!FZ102","v":""},{"$f":"INPUT!GA102","v":""},{"$f":"INPUT!GB102","v":""},{"$f":"INPUT!GC102","v":""},null,{"$f":"INPUT!GY102","v":""},{"$f":"INPUT!GZ102","v":""},{"$f":"INPUT!HA102","v":""},{"$f":"INPUT!HB102","v":""},{"$f":"INPUT!HC102","v":""},{"$f":"INPUT!HD102","v":""},{"$f":"INPUT!HE102","v":""},{"$f":"INPUT!HF102","v":""},{"$f":"INPUT!HG102","v":""},null,{"$f":"INPUT!IA102","v":""},{"$f":"INPUT!IB102","v":""},{"$f":"INPUT!IC102","v":""},{"$f":"INPUT!ID102","v":""},{"$f":"INPUT!IE102","v":""},{"$f":"INPUT!IF102","v":""},{"$f":"INPUT!IG102","v":""},{"$f":"INPUT!IH102","v":""},null,{"$f":"INPUT!IZ102","v":""},{"$f":"INPUT!JA102","v":""},{"$f":"INPUT!JB102","v":""},{"$f":"INPUT!JC102","v":""},{"$f":"INPUT!JD102","v":""},{"$f":"INPUT!JE102","v":""},{"$f":"INPUT!JF102","v":""},"",null,{"$f":"INPUT!JX102","v":""},{"$f":"INPUT!JY102","v":""},{"$f":"INPUT!JZ102","v":""},{"$f":"INPUT!KA102","v":""},{"$f":"INPUT!KB102","v":""},{"$f":"INPUT!KC102","v":""},{"$f":"INPUT!KD102","v":""},"",null,{"$f":"INPUT!KZ102","v":""},{"$f":"INPUT!LA102","v":""},{"$f":"INPUT!LB102","v":""},{"$f":"INPUT!LC102","v":""},{"$f":"INPUT!LD102","v":""},{"$f":"INPUT!LE102","v":""},{"$f":"INPUT!LF102","v":""},{"$f":"INPUT!LG102","v":""},{"$f":"INPUT!LH102","v":""},null,{"$f":"INPUT!MB102","v":""},{"$f":"INPUT!MC102","v":""},{"$f":"INPUT!MD102","v":""},{"$f":"INPUT!ME102","v":""},{"$f":"INPUT!MF102","v":""},{"$f":"INPUT!MG102","v":""},{"$f":"INPUT!MH102","v":""},{"$f":"INPUT!MI102","v":""}]
[null,{"$f":"INPUT!EA103","v":""},{"$f":"INPUT!EB103","v":""},{"$f":"INPUT!EC103","v":""},{"$f":"INPUT!ED103","v":""},{"$f":"INPUT!EE103","v":""},{"$f":"INPUT!EF103","v":""},{"$f":"INPUT!EG103","v":""},"",null,{"$f":"INPUT!EY103","v":""},{"$f":"INPUT!EZ103","v":""},{"$f":"INPUT!FA103","v":""},{"$f":"INPUT!FB103","v":""},{"$f":"INPUT!FC103","v":""},{"$f":"INPUT!FD103","v":""},{"$f":"INPUT!FE103","v":""},"",null,{"$f":"INPUT!FW103","v":""},{"$f":"INPUT!FX103","v":""},{"$f":"INPUT!FY103","v":""},{"$f":"INPUT!FZ103","v":""},{"$f":"INPUT!GA103","v":""},{"$f":"INPUT!GB103","v":""},{"$f":"INPUT!GC103","v":""},null,{"$f":"INPUT!GY103","v":""},{"$f":"INPUT!GZ103","v":""},{"$f":"INPUT!HA103","v":""},{"$f":"INPUT!HB103","v":""},{"$f":"INPUT!HC103","v":""},{"$f":"INPUT!HD103","v":""},{"$f":"INPUT!HE103","v":""},{"$f":"INPUT!HF103","v":""},{"$f":"INPUT!HG103","v":""},null,{"$f":"INPUT!IA103","v":""},{"$f":"INPUT!IB103","v":""},{"$f":"INPUT!IC103","v":""},{"$f":"INPUT!ID103","v":""},{"$f":"INPUT!IE103","v":""},{"$f":"INPUT!IF103","v":""},{"$f":"INPUT!IG103","v":""},{"$f":"INPUT!IH103","v":""},null,{"$f":"INPUT!IZ103","v":""},{"$f":"INPUT!JA103","v":""},{"$f":"INPUT!JB103","v":""},{"$f":"INPUT!JC103","v":""},{"$f":"INPUT!JD103","v":""},{"$f":"INPUT!JE103","v":""},{"$f":"INPUT!JF103","v":""},"",null,{"$f":"INPUT!JX103","v":""},{"$f":"INPUT!JY103","v":""},{"$f":"INPUT!JZ103","v":""},{"$f":"INPUT!KA103","v":""},{"$f":"INPUT!KB103","v":""},{"$f":"INPUT!KC103","v":""},{"$f":"INPUT!KD103","v":""},"",null,{"$f":"INPUT!KZ103","v":""},{"$f":"INPUT!LA103","v":""},{"$f":"INPUT!LB103","v":""},{"$f":"INPUT!LC103","v":""},{"$f":"INPUT!LD103","v":""},{"$f":"INPUT!LE103","v":""},{"$f":"INPUT!LF103","v":""},{"$f":"INPUT!LG103","v":""},{"$f":"INPUT!LH103","v":""},null,{"$f":"INPUT!MB103","v":""},{"$f":"INPUT!MC103","v":""},{"$f":"INPUT!MD103","v":""},{"$f":"INPUT!ME103","v":""},{"$f":"INPUT!MF103","v":""},{"$f":"INPUT!MG103","v":""},{"$f":"INPUT!MH103","v":""},{"$f":"INPUT!MI103","v":""}]
[null,{"$f":"INPUT!EA104","v":""},{"$f":"INPUT!EB104","v":""},{"$f":"INPUT!EC104","v":""},{"$f":"INPUT!ED104","v":""},{"$f":"INPUT!EE104","v":""},{"$f":"INPUT!EF104","v":""},{"$f":"INPUT!EG104","v":""},"",null,{"$f":"INPUT!EY104","v":""},{"$f":"INPUT!EZ104","v":""},{"$f":"INPUT!FA104","v":""},{"$f":"INPUT!FB104","v":""},{"$f":"INPUT!FC104","v":""},{"$f":"INPUT!FD104","v":""},{"$f":"INPUT!FE104","v":""},"",null,{"$f":"INPUT!FW104","v":""},{"$f":"INPUT!FX104","v":""},{"$f":"INPUT!FY104","v":""},{"$f":"INPUT!FZ104","v":""},{"$f":"INPUT!GA104","v":""},{"$f":"INPUT!GB104","v":""},{"$f":"INPUT!GC104","v":""},null,{"$f":"INPUT!GY104","v":""},{"$f":"INPUT!GZ104","v":""},{"$f":"INPUT!HA104","v":""},{"$f":"INPUT!HB104","v":""},{"$f":"INPUT!HC104","v":""},{"$f":"INPUT!HD104","v":""},{"$f":"INPUT!HE104","v":""},{"$f":"INPUT!HF104","v":""},{"$f":"INPUT!HG104","v":""},null,{"$f":"INPUT!IA104","v":""},{"$f":"INPUT!IB104","v":""},{"$f":"INPUT!IC104","v":""},{"$f":"INPUT!ID104","v":""},{"$f":"INPUT!IE104","v":""},{"$f":"INPUT!IF104","v":""},{"$f":"INPUT!IG104","v":""},{"$f":"INPUT!IH104","v":""},null,{"$f":"INPUT!IZ104","v":""},{"$f":"INPUT!JA104","v":""},{"$f":"INPUT!JB104","v":""},{"$f":"INPUT!JC104","v":""},{"$f":"INPUT!JD104","v":""},{"$f":"INPUT!JE104","v":""},{"$f":"INPUT!JF104","v":""},"",null,{"$f":"INPUT!JX104","v":""},{"$f":"INPUT!JY104","v":""},{"$f":"INPUT!JZ104","v":""},{"$f":"INPUT!KA104","v":""},{"$f":"INPUT!KB104","v":""},{"$f":"INPUT!KC104","v":""},{"$f":"INPUT!KD104","v":""},"",null,{"$f":"INPUT!KZ104","v":""},{"$f":"INPUT!LA104","v":""},{"$f":"INPUT!LB104","v":""},{"$f":"INPUT!LC104","v":""},{"$f":"INPUT!LD104","v":""},{"$f":"INPUT!LE104","v":""},{"$f":"INPUT!LF104","v":""},{"$f":"INPUT!LG104","v":""},{"$f":"INPUT!LH104","v":""},null,{"$f":"INPUT!MB104","v":""},{"$f":"INPUT!MC104","v":""},{"$f":"INPUT!MD104","v":""},{"$f":"INPUT!ME104","v":""},{"$f":"INPUT!MF104","v":""},{"$f":"INPUT!MG104","v":""},{"$f":"INPUT!MH104","v":""},{"$f":"INPUT!MI104","v":""}]
[null,{"$f":"INPUT!EA105","v":""},{"$f":"INPUT!EB105","v":""},{"$f":"INPUT!EC105","v":""},{"$f":"INPUT!ED105","v":""},{"$f":"INPUT!EE105","v":""},{"$f":"INPUT!EF105","v":""},{"$f":"INPUT!EG105","v":""},"",null,{"$f":"INPUT!EY105","v":""},{"$f":"INPUT!EZ105","v":""},{"$f":"INPUT!FA105","v":""},{"$f":"INPUT!FB105","v":""},{"$f":"INPUT!FC105","v":""},{"$f":"INPUT!FD105","v":""},{"$f":"INPUT!FE105","v":""},"",null,{"$f":"INPUT!FW105","v":""},{"$f":"INPUT!FX105","v":""},{"$f":"INPUT!FY105","v":""},{"$f":"INPUT!FZ105","v":""},{"$f":"INPUT!GA105","v":""},{"$f":"INPUT!GB105","v":""},{"$f":"INPUT!GC105","v":""},null,{"$f":"INPUT!GY105","v":""},{"$f":"INPUT!GZ105","v":""},{"$f":"INPUT!HA105","v":""},{"$f":"INPUT!HB105","v":""},{"$f":"INPUT!HC105","v":""},{"$f":"INPUT!HD105","v":""},{"$f":"INPUT!HE105","v":""},{"$f":"INPUT!HF105","v":""},{"$f":"INPUT!HG105","v":""},null,{"$f":"INPUT!IA105","v":""},{"$f":"INPUT!IB105","v":""},{"$f":"INPUT!IC105","v":""},{"$f":"INPUT!ID105","v":""},{"$f":"INPUT!IE105","v":""},{"$f":"INPUT!IF105","v":""},{"$f":"INPUT!IG105","v":""},{"$f":"INPUT!IH105","v":""},null,{"$f":"INPUT!IZ105","v":""},{"$f":"INPUT!JA105","v":""},{"$f":"INPUT!JB105","v":""},{"$f":"INPUT!JC105","v":""},{"$f":"INPUT!JD105","v":""},{"$f":"INPUT!JE105","v":""},{"$f":"INPUT!JF105","v":""},"",null,{"$f":"INPUT!JX105","v":""},{"$f":"INPUT!JY105","v":""},{"$f":"INPUT!JZ105","v":""},{"$f":"INPUT!KA105","v":""},{"$f":"INPUT!KB105","v":""},{"$f":"INPUT!KC105","v":""},{"$f":"INPUT!KD105","v":""},"",null,{"$f":"INPUT!KZ105","v":""},{"$f":"INPUT!LA105","v":""},{"$f":"INPUT!LB105","v":""},{"$f":"INPUT!LC105","v":""},{"$f":"INPUT!LD105","v":""},{"$f":"INPUT!LE105","v":""},{"$f":"INPUT!LF105","v":""},{"$f":"INPUT!LG105","v":""},{"$f":"INPUT!LH105","v":""},null,{"$f":"INPUT!MB105","v":""},{"$f":"INPUT!MC105","v":""},{"$f":"INPUT!MD105","v":""},{"$f":"INPUT!ME105","v":""},{"$f":"INPUT!MF105","v":""},{"$f":"INPUT!MG105","v":""},{"$f":"INPUT!MH105","v":""},{"$f":"INPUT!MI105","v":""}]
[null,{"$f":"INPUT!EA106","v":""},{"$f":"INPUT!EB106","v":""},{"$f":"INPUT!EC106","v":""},{"$f":"INPUT!ED106","v":""},{"$f":"INPUT!EE106","v":""},{"$f":"INPUT!EF106","v":""},{"$f":"INPUT!EG106","v":""},"",null,{"$f":"INPUT!EY106","v":""},{"$f":"INPUT!EZ106","v":""},{"$f":"INPUT!FA106","v":""},{"$f":"INPUT!FB106","v":""},{"$f":"INPUT!FC106","v":""},{"$f":"INPUT!FD106","v":""},{"$f":"INPUT!FE106","v":""},"",null,{"$f":"INPUT!FW106","v":""},{"$f":"INPUT!FX106","v":""},{"$f":"INPUT!FY106","v":""},{"$f":"INPUT!FZ106","v":""},{"$f":"INPUT!GA106","v":""},{"$f":"INPUT!GB106","v":""},{"$f":"INPUT!GC106","v":""},null,{"$f":"INPUT!GY106","v":""},{"$f":"INPUT!GZ106","v":""},{"$f":"INPUT!HA106","v":""},{"$f":"INPUT!HB106","v":""},{"$f":"INPUT!HC106","v":""},{"$f":"INPUT!HD106","v":""},{"$f":"INPUT!HE106","v":""},{"$f":"INPUT!HF106","v":""},{"$f":"INPUT!HG106","v":""},null,{"$f":"INPUT!IA106","v":""},{"$f":"INPUT!IB106","v":""},{"$f":"INPUT!IC106","v":""},{"$f":"INPUT!ID106","v":""},{"$f":"INPUT!IE106","v":""},{"$f":"INPUT!IF106","v":""},{"$f":"INPUT!IG106","v":""},{"$f":"INPUT!IH106","v":""},null,{"$f":"INPUT!IZ106","v":""},{"$f":"INPUT!JA106","v":""},{"$f":"INPUT!JB106","v":""},{"$f":"INPUT!JC106","v":""},{"$f":"INPUT!JD106","v":""},{"$f":"INPUT!JE106","v":""},{"$f":"INPUT!JF106","v":""},"",null,{"$f":"INPUT!JX106","v":""},{"$f":"INPUT!JY106","v":""},{"$f":"INPUT!JZ106","v":""},{"$f":"INPUT!KA106","v":""},{"$f":"INPUT!KB106","v":""},{"$f":"INPUT!KC106","v":""},{"$f":"INPUT!KD106","v":""},"",null,{"$f":"INPUT!KZ106","v":""},{"$f":"INPUT!LA106","v":""},{"$f":"INPUT!LB106","v":""},{"$f":"INPUT!LC106","v":""},{"$f":"INPUT!LD106","v":""},{"$f":"INPUT!LE106","v":""},{"$f":"INPUT!LF106","v":""},{"$f":"INPUT!LG106","v":""},{"$f":"INPUT!LH106","v":""},null,{"$f":"INPUT!MB106","v":""},{"$f":"INPUT!MC106","v":""},{"$f":"INPUT!MD106","v":""},{"$f":"INPUT!ME106","v":""},{"$f":"INPUT!MF106","v":""},{"$f":"INPUT!MG106","v":""},{"$f":"INPUT!MH106","v":""},{"$f":"INPUT!MI106","v":""}]
[null,{"$f":"INPUT!EA107","v":""},{"$f":"INPUT!EB107","v":""},{"$f":"INPUT!EC107","v":""},{"$f":"INPUT!ED107","v":""},{"$f":"INPUT!EE107","v":""},{"$f":"INPUT!EF107","v":""},{"$f":"INPUT!EG107","v":""},"",null,{"$f":"INPUT!EY107","v":""},{"$f":"INPUT!EZ107","v":""},{"$f":"INPUT!FA107","v":""},{"$f":"INPUT!FB107","v":""},{"$f":"INPUT!FC107","v":""},{"$f":"INPUT!FD107","v":""},{"$f":"INPUT!FE107","v":""},"",null,{"$f":"INPUT!FW107","v":""},{"$f":"INPUT!FX107","v":""},{"$f":"INPUT!FY107","v":""},{"$f":"INPUT!FZ107","v":""},{"$f":"INPUT!GA107","v":""},{"$f":"INPUT!GB107","v":""},{"$f":"INPUT!GC107","v":""},null,{"$f":"INPUT!GY107","v":""},{"$f":"INPUT!GZ107","v":""},{"$f":"INPUT!HA107","v":""},{"$f":"INPUT!HB107","v":""},{"$f":"INPUT!HC107","v":""},{"$f":"INPUT!HD107","v":""},{"$f":"INPUT!HE107","v":""},{"$f":"INPUT!HF107","v":""},{"$f":"INPUT!HG107","v":""},null,{"$f":"INPUT!IA107","v":""},{"$f":"INPUT!IB107","v":""},{"$f":"INPUT!IC107","v":""},{"$f":"INPUT!ID107","v":""},{"$f":"INPUT!IE107","v":""},{"$f":"INPUT!IF107","v":""},{"$f":"INPUT!IG107","v":""},{"$f":"INPUT!IH107","v":""},null,{"$f":"INPUT!IZ107","v":""},{"$f":"INPUT!JA107","v":""},{"$f":"INPUT!JB107","v":""},{"$f":"INPUT!JC107","v":""},{"$f":"INPUT!JD107","v":""},{"$f":"INPUT!JE107","v":""},{"$f":"INPUT!JF107","v":""},"",null,{"$f":"INPUT!JX107","v":""},{"$f":"INPUT!JY107","v":""},{"$f":"INPUT!JZ107","v":""},{"$f":"INPUT!KA107","v":""},{"$f":"INPUT!KB107","v":""},{"$f":"INPUT!KC107","v":""},{"$f":"INPUT!KD107","v":""},"",null,{"$f":"INPUT!KZ107","v":""},{"$f":"INPUT!LA107","v":""},{"$f":"INPUT!LB107","v":""},{"$f":"INPUT!LC107","v":""},{"$f":"INPUT!LD107","v":""},{"$f":"INPUT!LE107","v":""},{"$f":"INPUT!LF107","v":""},{"$f":"INPUT!LG107","v":""},{"$f":"INPUT!LH107","v":""},null,{"$f":"INPUT!MB107","v":""},{"$f":"INPUT!MC107","v":""},{"$f":"INPUT!MD107","v":""},{"$f":"INPUT!ME107","v":""},{"$f":"INPUT!MF107","v":""},{"$f":"INPUT!MG107","v":""},{"$f":"INPUT!MH107","v":""},{"$f":"INPUT!MI107","v":""}]
[null,{"$f":"INPUT!EA108","v":""},{"$f":"INPUT!EB108","v":""},{"$f":"INPUT!EC108","v":""},{"$f":"INPUT!ED108","v":""},{"$f":"INPUT!EE108","v":""},{"$f":"INPUT!EF108","v":""},{"$f":"INPUT!EG108","v":""},"",null,{"$f":"INPUT!EY108","v":""},{"$f":"INPUT!EZ108","v":""},{"$f":"INPUT!FA108","v":""},{"$f":"INPUT!FB108","v":""},{"$f":"INPUT!FC108","v":""},{"$f":"INPUT!FD108","v":""},{"$f":"INPUT!FE108","v":""},"",null,{"$f":"INPUT!FW108","v":""},{"$f":"INPUT!FX108","v":""},{"$f":"INPUT!FY108","v":""},{"$f":"INPUT!FZ108","v":""},{"$f":"INPUT!GA108","v":""},{"$f":"INPUT!GB108","v":""},{"$f":"INPUT!GC108","v":""},null,{"$f":"INPUT!GY108","v":""},{"$f":"INPUT!GZ108","v":""},{"$f":"INPUT!HA108","v":""},{"$f":"INPUT!HB108","v":""},{"$f":"INPUT!HC108","v":""},{"$f":"INPUT!HD108","v":""},{"$f":"INPUT!HE108","v":""},{"$f":"INPUT!HF108","v":""},{"$f":"INPUT!HG108","v":""},null,{"$f":"INPUT!IA108","v":""},{"$f":"INPUT!IB108","v":""},{"$f":"INPUT!IC108","v":""},{"$f":"INPUT!ID108","v":""},{"$f":"INPUT!IE108","v":""},{"$f":"INPUT!IF108","v":""},{"$f":"INPUT!IG108","v":""},{"$f":"INPUT!IH108","v":""},null,{"$f":"INPUT!IZ108","v":""},{"$f":"INPUT!JA108","v":""},{"$f":"INPUT!JB108","v":""},{"$f":"INPUT!JC108","v":""},{"$f":"INPUT!JD108","v":""},{"$f":"INPUT!JE108","v":""},{"$f":"INPUT!JF108","v":""},"",null,{"$f":"INPUT!JX108","v":""},{"$f":"INPUT!JY108","v":""},{"$f":"INPUT!JZ108","v":""},{"$f":"INPUT!KA108","v":""},{"$f":"INPUT!KB108","v":""},{"$f":"INPUT!KC108","v":""},{"$f":"INPUT!KD108","v":""},"",null,{"$f":"INPUT!KZ108","v":""},{"$f":"INPUT!LA108","v":""},{"$f":"INPUT!LB108","v":""},{"$f":"INPUT!LC108","v":""},{"$f":"INPUT!LD108","v":""},{"$f":"INPUT!LE108","v":""},{"$f":"INPUT!LF108","v":""},{"$f":"INPUT!LG108","v":""},{"$f":"INPUT!LH108","v":""},null,{"$f":"INPUT!MB108","v":""},{"$f":"INPUT!MC108","v":""},{"$f":"INPUT!MD108","v":""},{"$f":"INPUT!ME108","v":""},{"$f":"INPUT!MF108","v":""},{"$f":"INPUT!MG108","v":""},{"$f":"INPUT!MH108","v":""},{"$f":"INPUT!MI108","v":""}]
[null,{"$f":"INPUT!EA109","v":""},{"$f":"INPUT!EB109","v":""},{"$f":"INPUT!EC109","v":""},{"$f":"INPUT!ED109","v":""},{"$f":"INPUT!EE109","v":""},{"$f":"INPUT!EF109","v":""},{"$f":"INPUT!EG109","v":""},"",null,{"$f":"INPUT!EY109","v":""},{"$f":"INPUT!EZ109","v":""},{"$f":"INPUT!FA109","v":""},{"$f":"INPUT!FB109","v":""},{"$f":"INPUT!FC109","v":""},{"$f":"INPUT!FD109","v":""},{"$f":"INPUT!FE109","v":""},"",null,{"$f":"INPUT!FW109","v":""},{"$f":"INPUT!FX109","v":""},{"$f":"INPUT!FY109","v":""},{"$f":"INPUT!FZ109","v":""},{"$f":"INPUT!GA109","v":""},{"$f":"INPUT!GB109","v":""},{"$f":"INPUT!GC109","v":""},null,{"$f":"INPUT!GY109","v":""},{"$f":"INPUT!GZ109","v":""},{"$f":"INPUT!HA109","v":""},{"$f":"INPUT!HB109","v":""},{"$f":"INPUT!HC109","v":""},{"$f":"INPUT!HD109","v":""},{"$f":"INPUT!HE109","v":""},{"$f":"INPUT!HF109","v":""},{"$f":"INPUT!HG109","v":""},null,{"$f":"INPUT!IA109","v":""},{"$f":"INPUT!IB109","v":""},{"$f":"INPUT!IC109","v":""},{"$f":"INPUT!ID109","v":""},{"$f":"INPUT!IE109","v":""},{"$f":"INPUT!IF109","v":""},{"$f":"INPUT!IG109","v":""},{"$f":"INPUT!IH109","v":""},null,{"$f":"INPUT!IZ109","v":""},{"$f":"INPUT!JA109","v":""},{"$f":"INPUT!JB109","v":""},{"$f":"INPUT!JC109","v":""},{"$f":"INPUT!JD109","v":""},{"$f":"INPUT!JE109","v":""},{"$f":"INPUT!JF109","v":""},"",null,{"$f":"INPUT!JX109","v":""},{"$f":"INPUT!JY109","v":""},{"$f":"INPUT!JZ109","v":""},{"$f":"INPUT!KA109","v":""},{"$f":"INPUT!KB109","v":""},{"$f":"INPUT!KC109","v":""},{"$f":"INPUT!KD109","v":""},"",null,{"$f":"INPUT!KZ109","v":""},{"$f":"INPUT!LA109","v":""},{"$f":"INPUT!LB109","v":""},{"$f":"INPUT!LC109","v":""},{"$f":"INPUT!LD109","v":""},{"$f":"INPUT!LE109","v":""},{"$f":"INPUT!LF109","v":""},{"$f":"INPUT!LG109","v":""},{"$f":"INPUT!LH109","v":""},null,{"$f":"INPUT!MB109","v":""},{"$f":"INPUT!MC109","v":""},{"$f":"INPUT!MD109","v":""},{"$f":"INPUT!ME109","v":""},{"$f":"INPUT!MF109","v":""},{"$f":"INPUT!MG109","v":""},{"$f":"INPUT!MH109","v":""},{"$f":"INPUT!MI109","v":""}]
[null,{"$f":"INPUT!EA110","v":""},{"$f":"INPUT!EB110","v":""},{"$f":"INPUT!EC110","v":""},{"$f":"INPUT!ED110","v":""},{"$f":"INPUT!EE110","v":""},{"$f":"INPUT!EF110","v":""},{"$f":"INPUT!EG110","v":""},"",null,{"$f":"INPUT!EY110","v":""},{"$f":"INPUT!EZ110","v":""},{"$f":"INPUT!FA110","v":""},{"$f":"INPUT!FB110","v":""},{"$f":"INPUT!FC110","v":""},{"$f":"INPUT!FD110","v":""},{"$f":"INPUT!FE110","v":""},"",null,{"$f":"INPUT!FW110","v":""},{"$f":"INPUT!FX110","v":""},{"$f":"INPUT!FY110","v":""},{"$f":"INPUT!FZ110","v":""},{"$f":"INPUT!GA110","v":""},{"$f":"INPUT!GB110","v":""},{"$f":"INPUT!GC110","v":""},null,{"$f":"INPUT!GY110","v":""},{"$f":"INPUT!GZ110","v":""},{"$f":"INPUT!HA110","v":""},{"$f":"INPUT!HB110","v":""},{"$f":"INPUT!HC110","v":""},{"$f":"INPUT!HD110","v":""},{"$f":"INPUT!HE110","v":""},{"$f":"INPUT!HF110","v":""},{"$f":"INPUT!HG110","v":""},null,{"$f":"INPUT!IA110","v":""},{"$f":"INPUT!IB110","v":""},{"$f":"INPUT!IC110","v":""},{"$f":"INPUT!ID110","v":""},{"$f":"INPUT!IE110","v":""},{"$f":"INPUT!IF110","v":""},{"$f":"INPUT!IG110","v":""},{"$f":"INPUT!IH110","v":""},null,{"$f":"INPUT!IZ110","v":""},{"$f":"INPUT!JA110","v":""},{"$f":"INPUT!JB110","v":""},{"$f":"INPUT!JC110","v":""},{"$f":"INPUT!JD110","v":""},{"$f":"INPUT!JE110","v":""},{"$f":"INPUT!JF110","v":""},"",null,{"$f":"INPUT!JX110","v":""},{"$f":"INPUT!JY110","v":""},{"$f":"INPUT!JZ110","v":""},{"$f":"INPUT!KA110","v":""},{"$f":"INPUT!KB110","v":""},{"$f":"INPUT!KC110","v":""},{"$f":"INPUT!KD110","v":""},"",null,{"$f":"INPUT!KZ110","v":""},{"$f":"INPUT!LA110","v":""},{"$f":"INPUT!LB110","v":""},{"$f":"INPUT!LC110","v":""},{"$f":"INPUT!LD110","v":""},{"$f":"INPUT!LE110","v":""},{"$f":"INPUT!LF110","v":""},{"$f":"INPUT!LG110","v":""},{"$f":"INPUT!LH110","v":""},null,{"$f":"INPUT!MB110","v":""},{"$f":"INPUT!MC110","v":""},{"$f":"INPUT!MD110","v":""},{"$f":"INPUT!ME110","v":""},{"$f":"INPUT!MF110","v":""},{"$f":"INPUT!MG110","v":""},{"$f":"INPUT!MH110","v":""},{"$f":"INPUT!MI110","v":""}]
[null,{"$f":"INPUT!EA111","v":""},{"$f":"INPUT!EB111","v":""},{"$f":"INPUT!EC111","v":""},{"$f":"INPUT!ED111","v":""},{"$f":"INPUT!EE111","v":""},{"$f":"INPUT!EF111","v":""},{"$f":"INPUT!EG111","v":""},"",null,{"$f":"INPUT!EY111","v":""},{"$f":"INPUT!EZ111","v":""},{"$f":"INPUT!FA111","v":""},{"$f":"INPUT!FB111","v":""},{"$f":"INPUT!FC111","v":""},{"$f":"INPUT!FD111","v":""},{"$f":"INPUT!FE111","v":""},"",null,{"$f":"INPUT!FW111","v":""},{"$f":"INPUT!FX111","v":""},{"$f":"INPUT!FY111","v":""},{"$f":"INPUT!FZ111","v":""},{"$f":"INPUT!GA111","v":""},{"$f":"INPUT!GB111","v":""},{"$f":"INPUT!GC111","v":""},null,{"$f":"INPUT!GY111","v":""},{"$f":"INPUT!GZ111","v":""},{"$f":"INPUT!HA111","v":""},{"$f":"INPUT!HB111","v":""},{"$f":"INPUT!HC111","v":""},{"$f":"INPUT!HD111","v":""},{"$f":"INPUT!HE111","v":""},{"$f":"INPUT!HF111","v":""},{"$f":"INPUT!HG111","v":""},null,{"$f":"INPUT!IA111","v":""},{"$f":"INPUT!IB111","v":""},{"$f":"INPUT!IC111","v":""},{"$f":"INPUT!ID111","v":""},{"$f":"INPUT!IE111","v":""},{"$f":"INPUT!IF111","v":""},{"$f":"INPUT!IG111","v":""},{"$f":"INPUT!IH111","v":""},null,{"$f":"INPUT!IZ111","v":""},{"$f":"INPUT!JA111","v":""},{"$f":"INPUT!JB111","v":""},{"$f":"INPUT!JC111","v":""},{"$f":"INPUT!JD111","v":""},{"$f":"INPUT!JE111","v":""},{"$f":"INPUT!JF111","v":""},"",null,{"$f":"INPUT!JX111","v":""},{"$f":"INPUT!JY111","v":""},{"$f":"INPUT!JZ111","v":""},{"$f":"INPUT!KA111","v":""},{"$f":"INPUT!KB111","v":""},{"$f":"INPUT!KC111","v":""},{"$f":"INPUT!KD111","v":""},"",null,{"$f":"INPUT!KZ111","v":""},{"$f":"INPUT!LA111","v":""},{"$f":"INPUT!LB111","v":""},{"$f":"INPUT!LC111","v":""},{"$f":"INPUT!LD111","v":""},{"$f":"INPUT!LE111","v":""},{"$f":"INPUT!LF111","v":""},{"$f":"INPUT!LG111","v":""},{"$f":"INPUT!LH111","v":""},null,{"$f":"INPUT!MB111","v":""},{"$f":"INPUT!MC111","v":""},{"$f":"INPUT!MD111","v":""},{"$f":"INPUT!ME111","v":""},{"$f":"INPUT!MF111","v":""},{"$f":"INPUT!MG111","v":""},{"$f":"INPUT!MH111","v":""},{"$f":"INPUT!MI111","v":""}]
[null,{"$f":"INPUT!EA112","v":""},{"$f":"INPUT!EB112","v":""},{"$f":"INPUT!EC112","v":""},{"$f":"INPUT!ED112","v":""},{"$f":"INPUT!EE112","v":""},{"$f":"INPUT!EF112","v":""},{"$f":"INPUT!EG112","v":""},"",null,{"$f":"INPUT!EY112","v":""},{"$f":"INPUT!EZ112","v":""},{"$f":"INPUT!FA112","v":""},{"$f":"INPUT!FB112","v":""},{"$f":"INPUT!FC112","v":""},{"$f":"INPUT!FD112","v":""},{"$f":"INPUT!FE112","v":""},"",null,{"$f":"INPUT!FW112","v":""},{"$f":"INPUT!FX112","v":""},{"$f":"INPUT!FY112","v":""},{"$f":"INPUT!FZ112","v":""},{"$f":"INPUT!GA112","v":""},{"$f":"INPUT!GB112","v":""},{"$f":"INPUT!GC112","v":""},null,{"$f":"INPUT!GY112","v":""},{"$f":"INPUT!GZ112","v":""},{"$f":"INPUT!HA112","v":""},{"$f":"INPUT!HB112","v":""},{"$f":"INPUT!HC112","v":""},{"$f":"INPUT!HD112","v":""},{"$f":"INPUT!HE112","v":""},{"$f":"INPUT!HF112","v":""},{"$f":"INPUT!HG112","v":""},null,{"$f":"INPUT!IA112","v":""},{"$f":"INPUT!IB112","v":""},{"$f":"INPUT!IC112","v":""},{"$f":"INPUT!ID112","v":""},{"$f":"INPUT!IE112","v":""},{"$f":"INPUT!IF112","v":""},{"$f":"INPUT!IG112","v":""},{"$f":"INPUT!IH112","v":""},null,{"$f":"INPUT!IZ112","v":""},{"$f":"INPUT!JA112","v":""},{"$f":"INPUT!JB112","v":""},{"$f":"INPUT!JC112","v":""},{"$f":"INPUT!JD112","v":""},{"$f":"INPUT!JE112","v":""},{"$f":"INPUT!JF112","v":""},"",null,{"$f":"INPUT!JX112","v":""},{"$f":"INPUT!JY112","v":""},{"$f":"INPUT!JZ112","v":""},{"$f":"INPUT!KA112","v":""},{"$f":"INPUT!KB112","v":""},{"$f":"INPUT!KC112","v":""},{"$f":"INPUT!KD112","v":""},"",null,{"$f":"INPUT!KZ112","v":""},{"$f":"INPUT!LA112","v":""},{"$f":"INPUT!LB112","v":""},{"$f":"INPUT!LC112","v":""},{"$f":"INPUT!LD112","v":""},{"$f":"INPUT!LE112","v":""},{"$f":"INPUT!LF112","v":""},{"$f":"INPUT!LG112","v":""},{"$f":"INPUT!LH112","v":""},null,{"$f":"INPUT!MB112","v":""},{"$f":"INPUT!MC112","v":""},{"$f":"INPUT!MD112","v":""},{"$f":"INPUT!ME112","v":""},{"$f":"INPUT!MF112","v":""},{"$f":"INPUT!MG112","v":""},{"$f":"INPUT!MH112","v":""},{"$f":"INPUT!MI112","v":""}]
[null,{"$f":"INPUT!EA113","v":""},{"$f":"INPUT!EB113","v":""},{"$f":"INPUT!EC113","v":""},{"$f":"INPUT!ED113","v":""},{"$f":"INPUT!EE113","v":""},{"$f":"INPUT!EF113","v":""},{"$f":"INPUT!EG113","v":""},"",null,{"$f":"INPUT!EY113","v":""},{"$f":"INPUT!EZ113","v":""},{"$f":"INPUT!FA113","v":""},{"$f":"INPUT!FB113","v":""},{"$f":"INPUT!FC113","v":""},{"$f":"INPUT!FD113","v":""},{"$f":"INPUT!FE113","v":""},"",null,{"$f":"INPUT!FW113","v":""},{"$f":"INPUT!FX113","v":""},{"$f":"INPUT!FY113","v":""},{"$f":"INPUT!FZ113","v":""},{"$f":"INPUT!GA113","v":""},{"$f":"INPUT!GB113","v":""},{"$f":"INPUT!GC113","v":""},null,{"$f":"INPUT!GY113","v":""},{"$f":"INPUT!GZ113","v":""},{"$f":"INPUT!HA113","v":""},{"$f":"INPUT!HB113","v":""},{"$f":"INPUT!HC113","v":""},{"$f":"INPUT!HD113","v":""},{"$f":"INPUT!HE113","v":""},{"$f":"INPUT!HF113","v":""},{"$f":"INPUT!HG113","v":""},null,{"$f":"INPUT!IA113","v":""},{"$f":"INPUT!IB113","v":""},{"$f":"INPUT!IC113","v":""},{"$f":"INPUT!ID113","v":""},{"$f":"INPUT!IE113","v":""},{"$f":"INPUT!IF113","v":""},{"$f":"INPUT!IG113","v":""},{"$f":"INPUT!IH113","v":""},null,{"$f":"INPUT!IZ113","v":""},{"$f":"INPUT!JA113","v":""},{"$f":"INPUT!JB113","v":""},{"$f":"INPUT!JC113","v":""},{"$f":"INPUT!JD113","v":""},{"$f":"INPUT!JE113","v":""},{"$f":"INPUT!JF113","v":""},"",null,{"$f":"INPUT!JX113","v":""},{"$f":"INPUT!JY113","v":""},{"$f":"INPUT!JZ113","v":""},{"$f":"INPUT!KA113","v":""},{"$f":"INPUT!KB113","v":""},{"$f":"INPUT!KC113","v":""},{"$f":"INPUT!KD113","v":""},"",null,{"$f":"INPUT!KZ113","v":""},{"$f":"INPUT!LA113","v":""},{"$f":"INPUT!LB113","v":""},{"$f":"INPUT!LC113","v":""},{"$f":"INPUT!LD113","v":""},{"$f":"INPUT!LE113","v":""},{"$f":"INPUT!LF113","v":""},{"$f":"INPUT!LG113","v":""},{"$f":"INPUT!LH113","v":""},null,{"$f":"INPUT!MB113","v":""},{"$f":"INPUT!MC113","v":""},{"$f":"INPUT!MD113","v":""},{"$f":"INPUT!ME113","v":""},{"$f":"INPUT!MF113","v":""},{"$f":"INPUT!MG113","v":""},{"$f":"INPUT!MH113","v":""},{"$f":"INPUT!MI113","v":""}]
[null,{"$f":"INPUT!EA114","v":""},{"$f":"INPUT!EB114","v":""},{"$f":"INPUT!EC114","v":""},{"$f":"INPUT!ED114","v":""},{"$f":"INPUT!EE114","v":""},{"$f":"INPUT!EF114","v":""},{"$f":"INPUT!EG114","v":""},"",null,{"$f":"INPUT!EY114","v":""},{"$f":"INPUT!EZ114","v":""},{"$f":"INPUT!FA114","v":""},{"$f":"INPUT!FB114","v":""},{"$f":"INPUT!FC114","v":""},{"$f":"INPUT!FD114","v":""},{"$f":"INPUT!FE114","v":""},"",null,{"$f":"INPUT!FW114","v":""},{"$f":"INPUT!FX114","v":""},{"$f":"INPUT!FY114","v":""},{"$f":"INPUT!FZ114","v":""},{"$f":"INPUT!GA114","v":""},{"$f":"INPUT!GB114","v":""},{"$f":"INPUT!GC114","v":""},null,{"$f":"INPUT!GY114","v":""},{"$f":"INPUT!GZ114","v":""},{"$f":"INPUT!HA114","v":""},{"$f":"INPUT!HB114","v":""},{"$f":"INPUT!HC114","v":""},{"$f":"INPUT!HD114","v":""},{"$f":"INPUT!HE114","v":""},{"$f":"INPUT!HF114","v":""},{"$f":"INPUT!HG114","v":""},null,{"$f":"INPUT!IA114","v":""},{"$f":"INPUT!IB114","v":""},{"$f":"INPUT!IC114","v":""},{"$f":"INPUT!ID114","v":""},{"$f":"INPUT!IE114","v":""},{"$f":"INPUT!IF114","v":""},{"$f":"INPUT!IG114","v":""},{"$f":"INPUT!IH114","v":""},null,{"$f":"INPUT!IZ114","v":""},{"$f":"INPUT!JA114","v":""},{"$f":"INPUT!JB114","v":""},{"$f":"INPUT!JC114","v":""},{"$f":"INPUT!JD114","v":""},{"$f":"INPUT!JE114","v":""},{"$f":"INPUT!JF114","v":""},"",null,{"$f":"INPUT!JX114","v":""},{"$f":"INPUT!JY114","v":""},{"$f":"INPUT!JZ114","v":""},{"$f":"INPUT!KA114","v":""},{"$f":"INPUT!KB114","v":""},{"$f":"INPUT!KC114","v":""},{"$f":"INPUT!KD114","v":""},"",null,{"$f":"INPUT!KZ114","v":""},{"$f":"INPUT!LA114","v":""},{"$f":"INPUT!LB114","v":""},{"$f":"INPUT!LC114","v":""},{"$f":"INPUT!LD114","v":""},{"$f":"INPUT!LE114","v":""},{"$f":"INPUT!LF114","v":""},{"$f":"INPUT!LG114","v":""},{"$f":"INPUT!LH114","v":""},null,{"$f":"INPUT!MB114","v":""},{"$f":"INPUT!MC114","v":""},{"$f":"INPUT!MD114","v":""},{"$f":"INPUT!ME114","v":""},{"$f":"INPUT!MF114","v":""},{"$f":"INPUT!MG114","v":""},{"$f":"INPUT!MH114","v":""},{"$f":"INPUT!MI114","v":""}]
[null,{"$f":"INPUT!EA115","v":""},{"$f":"INPUT!EB115","v":""},{"$f":"INPUT!EC115","v":""},{"$f":"INPUT!ED115","v":""},{"$f":"INPUT!EE115","v":""},{"$f":"INPUT!EF115","v":""},{"$f":"INPUT!EG115","v":""},"",null,{"$f":"INPUT!EY115","v":""},{"$f":"INPUT!EZ115","v":""},{"$f":"INPUT!FA115","v":""},{"$f":"INPUT!FB115","v":""},{"$f":"INPUT!FC115","v":""},{"$f":"INPUT!FD115","v":""},{"$f":"INPUT!FE115","v":""},"",null,{"$f":"INPUT!FW115","v":""},{"$f":"INPUT!FX115","v":""},{"$f":"INPUT!FY115","v":""},{"$f":"INPUT!FZ115","v":""},{"$f":"INPUT!GA115","v":""},{"$f":"INPUT!GB115","v":""},{"$f":"INPUT!GC115","v":""},null,{"$f":"INPUT!GY115","v":""},{"$f":"INPUT!GZ115","v":""},{"$f":"INPUT!HA115","v":""},{"$f":"INPUT!HB115","v":""},{"$f":"INPUT!HC115","v":""},{"$f":"INPUT!HD115","v":""},{"$f":"INPUT!HE115","v":""},{"$f":"INPUT!HF115","v":""},{"$f":"INPUT!HG115","v":""},null,{"$f":"INPUT!IA115","v":""},{"$f":"INPUT!IB115","v":""},{"$f":"INPUT!IC115","v":""},{"$f":"INPUT!ID115","v":""},{"$f":"INPUT!IE115","v":""},{"$f":"INPUT!IF115","v":""},{"$f":"INPUT!IG115","v":""},{"$f":"INPUT!IH115","v":""},null,{"$f":"INPUT!IZ115","v":""},{"$f":"INPUT!JA115","v":""},{"$f":"INPUT!JB115","v":""},{"$f":"INPUT!JC115","v":""},{"$f":"INPUT!JD115","v":""},{"$f":"INPUT!JE115","v":""},{"$f":"INPUT!JF115","v":""},"",null,{"$f":"INPUT!JX115","v":""},{"$f":"INPUT!JY115","v":""},{"$f":"INPUT!JZ115","v":""},{"$f":"INPUT!KA115","v":""},{"$f":"INPUT!KB115","v":""},{"$f":"INPUT!KC115","v":""},{"$f":"INPUT!KD115","v":""},"",null,{"$f":"INPUT!KZ115","v":""},{"$f":"INPUT!LA115","v":""},{"$f":"INPUT!LB115","v":""},{"$f":"INPUT!LC115","v":""},{"$f":"INPUT!LD115","v":""},{"$f":"INPUT!LE115","v":""},{"$f":"INPUT!LF115","v":""},{"$f":"INPUT!LG115","v":""},{"$f":"INPUT!LH115","v":""},null,{"$f":"INPUT!MB115","v":""},{"$f":"INPUT!MC115","v":""},{"$f":"INPUT!MD115","v":""},{"$f":"INPUT!ME115","v":""},{"$f":"INPUT!MF115","v":""},{"$f":"INPUT!MG115","v":""},{"$f":"INPUT!MH115","v":""},{"$f":"INPUT!MI115","v":""}]
[null,{"$f":"INPUT!EA116","v":""},{"$f":"INPUT!EB116","v":""},{"$f":"INPUT!EC116","v":""},{"$f":"INPUT!ED116","v":""},{"$f":"INPUT!EE116","v":""},{"$f":"INPUT!EF116","v":""},{"$f":"INPUT!EG116","v":""},"",null,{"$f":"INPUT!EY116","v":""},{"$f":"INPUT!EZ116","v":""},{"$f":"INPUT!FA116","v":""},{"$f":"INPUT!FB116","v":""},{"$f":"INPUT!FC116","v":""},{"$f":"INPUT!FD116","v":""},{"$f":"INPUT!FE116","v":""},"",null,{"$f":"INPUT!FW116","v":""},{"$f":"INPUT!FX116","v":""},{"$f":"INPUT!FY116","v":""},{"$f":"INPUT!FZ116","v":""},{"$f":"INPUT!GA116","v":""},{"$f":"INPUT!GB116","v":""},{"$f":"INPUT!GC116","v":""},null,{"$f":"INPUT!GY116","v":""},{"$f":"INPUT!GZ116","v":""},{"$f":"INPUT!HA116","v":""},{"$f":"INPUT!HB116","v":""},{"$f":"INPUT!HC116","v":""},{"$f":"INPUT!HD116","v":""},{"$f":"INPUT!HE116","v":""},{"$f":"INPUT!HF116","v":""},{"$f":"INPUT!HG116","v":""},null,{"$f":"INPUT!IA116","v":""},{"$f":"INPUT!IB116","v":""},{"$f":"INPUT!IC116","v":""},{"$f":"INPUT!ID116","v":""},{"$f":"INPUT!IE116","v":""},{"$f":"INPUT!IF116","v":""},{"$f":"INPUT!IG116","v":""},{"$f":"INPUT!IH116","v":""},null,{"$f":"INPUT!IZ116","v":""},{"$f":"INPUT!JA116","v":""},{"$f":"INPUT!JB116","v":""},{"$f":"INPUT!JC116","v":""},{"$f":"INPUT!JD116","v":""},{"$f":"INPUT!JE116","v":""},{"$f":"INPUT!JF116","v":""},"",null,{"$f":"INPUT!JX116","v":""},{"$f":"INPUT!JY116","v":""},{"$f":"INPUT!JZ116","v":""},{"$f":"INPUT!KA116","v":""},{"$f":"INPUT!KB116","v":""},{"$f":"INPUT!KC116","v":""},{"$f":"INPUT!KD116","v":""},"",null,{"$f":"INPUT!KZ116","v":""},{"$f":"INPUT!LA116","v":""},{"$f":"INPUT!LB116","v":""},{"$f":"INPUT!LC116","v":""},{"$f":"INPUT!LD116","v":""},{"$f":"INPUT!LE116","v":""},{"$f":"INPUT!LF116","v":""},{"$f":"INPUT!LG116","v":""},{"$f":"INPUT!LH116","v":""},null,{"$f":"INPUT!MB116","v":""},{"$f":"INPUT!MC116","v":""},{"$f":"INPUT!MD116","v":""},{"$f":"INPUT!ME116","v":""},{"$f":"INPUT!MF116","v":""},{"$f":"INPUT!MG116","v":""},{"$f":"INPUT!MH116","v":""},{"$f":"INPUT!MI116","v":""}]
[null,{"$f":"INPUT!EA117","v":""},{"$f":"INPUT!EB117","v":""},{"$f":"INPUT!EC117","v":""},{"$f":"INPUT!ED117","v":""},{"$f":"INPUT!EE117","v":""},{"$f":"INPUT!EF117","v":""},{"$f":"INPUT!EG117","v":""},"",null,{"$f":"INPUT!EY117","v":""},{"$f":"INPUT!EZ117","v":""},{"$f":"INPUT!FA117","v":""},{"$f":"INPUT!FB117","v":""},{"$f":"INPUT!FC117","v":""},{"$f":"INPUT!FD117","v":""},{"$f":"INPUT!FE117","v":""},"",null,{"$f":"INPUT!FW117","v":""},{"$f":"INPUT!FX117","v":""},{"$f":"INPUT!FY117","v":""},{"$f":"INPUT!FZ117","v":""},{"$f":"INPUT!GA117","v":""},{"$f":"INPUT!GB117","v":""},{"$f":"INPUT!GC117","v":""},null,{"$f":"INPUT!GY117","v":""},{"$f":"INPUT!GZ117","v":""},{"$f":"INPUT!HA117","v":""},{"$f":"INPUT!HB117","v":""},{"$f":"INPUT!HC117","v":""},{"$f":"INPUT!HD117","v":""},{"$f":"INPUT!HE117","v":""},{"$f":"INPUT!HF117","v":""},{"$f":"INPUT!HG117","v":""},null,{"$f":"INPUT!IA117","v":""},{"$f":"INPUT!IB117","v":""},{"$f":"INPUT!IC117","v":""},{"$f":"INPUT!ID117","v":""},{"$f":"INPUT!IE117","v":""},{"$f":"INPUT!IF117","v":""},{"$f":"INPUT!IG117","v":""},{"$f":"INPUT!IH117","v":""},null,{"$f":"INPUT!IZ117","v":""},{"$f":"INPUT!JA117","v":""},{"$f":"INPUT!JB117","v":""},{"$f":"INPUT!JC117","v":""},{"$f":"INPUT!JD117","v":""},{"$f":"INPUT!JE117","v":""},{"$f":"INPUT!JF117","v":""},"",null,{"$f":"INPUT!JX117","v":""},{"$f":"INPUT!JY117","v":""},{"$f":"INPUT!JZ117","v":""},{"$f":"INPUT!KA117","v":""},{"$f":"INPUT!KB117","v":""},{"$f":"INPUT!KC117","v":""},{"$f":"INPUT!KD117","v":""},"",null,{"$f":"INPUT!KZ117","v":""},{"$f":"INPUT!LA117","v":""},{"$f":"INPUT!LB117","v":""},{"$f":"INPUT!LC117","v":""},{"$f":"INPUT!LD117","v":""},{"$f":"INPUT!LE117","v":""},{"$f":"INPUT!LF117","v":""},{"$f":"INPUT!LG117","v":""},{"$f":"INPUT!LH117","v":""},null,{"$f":"INPUT!MB117","v":""},{"$f":"INPUT!MC117","v":""},{"$f":"INPUT!MD117","v":""},{"$f":"INPUT!ME117","v":""},{"$f":"INPUT!MF117","v":""},{"$f":"INPUT!MG117","v":""},{"$f":"INPUT!MH117","v":""},{"$f":"INPUT!MI117","v":""}]
[null,{"$f":"INPUT!EA118","v":""},{"$f":"INPUT!EB118","v":""},{"$f":"INPUT!EC118","v":""},{"$f":"INPUT!ED118","v":""},{"$f":"INPUT!EE118","v":""},{"$f":"INPUT!EF118","v":""},{"$f":"INPUT!EG118","v":""},"",null,{"$f":"INPUT!EY118","v":""},{"$f":"INPUT!EZ118","v":""},{"$f":"INPUT!FA118","v":""},{"$f":"INPUT!FB118","v":""},{"$f":"INPUT!FC118","v":""},{"$f":"INPUT!FD118","v":""},{"$f":"INPUT!FE118","v":""},"",null,{"$f":"INPUT!FW118","v":""},{"$f":"INPUT!FX118","v":""},{"$f":"INPUT!FY118","v":""},{"$f":"INPUT!FZ118","v":""},{"$f":"INPUT!GA118","v":""},{"$f":"INPUT!GB118","v":""},{"$f":"INPUT!GC118","v":""},null,{"$f":"INPUT!GY118","v":""},{"$f":"INPUT!GZ118","v":""},{"$f":"INPUT!HA118","v":""},{"$f":"INPUT!HB118","v":""},{"$f":"INPUT!HC118","v":""},{"$f":"INPUT!HD118","v":""},{"$f":"INPUT!HE118","v":""},{"$f":"INPUT!HF118","v":""},{"$f":"INPUT!HG118","v":""},null,{"$f":"INPUT!IA118","v":""},{"$f":"INPUT!IB118","v":""},{"$f":"INPUT!IC118","v":""},{"$f":"INPUT!ID118","v":""},{"$f":"INPUT!IE118","v":""},{"$f":"INPUT!IF118","v":""},{"$f":"INPUT!IG118","v":""},{"$f":"INPUT!IH118","v":""},null,{"$f":"INPUT!IZ118","v":""},{"$f":"INPUT!JA118","v":""},{"$f":"INPUT!JB118","v":""},{"$f":"INPUT!JC118","v":""},{"$f":"INPUT!JD118","v":""},{"$f":"INPUT!JE118","v":""},{"$f":"INPUT!JF118","v":""},"",null,{"$f":"INPUT!JX118","v":""},{"$f":"INPUT!JY118","v":""},{"$f":"INPUT!JZ118","v":""},{"$f":"INPUT!KA118","v":""},{"$f":"INPUT!KB118","v":""},{"$f":"INPUT!KC118","v":""},{"$f":"INPUT!KD118","v":""},"",null,{"$f":"INPUT!KZ118","v":""},{"$f":"INPUT!LA118","v":""},{"$f":"INPUT!LB118","v":""},{"$f":"INPUT!LC118","v":""},{"$f":"INPUT!LD118","v":""},{"$f":"INPUT!LE118","v":""},{"$f":"INPUT!LF118","v":""},{"$f":"INPUT!LG118","v":""},{"$f":"INPUT!LH118","v":""},null,{"$f":"INPUT!MB118","v":""},{"$f":"INPUT!MC118","v":""},{"$f":"INPUT!MD118","v":""},{"$f":"INPUT!ME118","v":""},{"$f":"INPUT!MF118","v":""},{"$f":"INPUT!MG118","v":""},{"$f":"INPUT!MH118","v":""},{"$f":"INPUT!MI118","v":""}]
[null,{"$f":"INPUT!EA119","v":""},{"$f":"INPUT!EB119","v":""},{"$f":"INPUT!EC119","v":""},{"$f":"INPUT!ED119","v":""},{"$f":"INPUT!EE119","v":""},{"$f":"INPUT!EF119","v":""},{"$f":"INPUT!EG119","v":""},"",null,{"$f":"INPUT!EY119","v":""},{"$f":"INPUT!EZ119","v":""},{"$f":"INPUT!FA119","v":""},{"$f":"INPUT!FB119","v":""},{"$f":"INPUT!FC119","v":""},{"$f":"INPUT!FD119","v":""},{"$f":"INPUT!FE119","v":""},"",null,{"$f":"INPUT!FW119","v":""},{"$f":"INPUT!FX119","v":""},{"$f":"INPUT!FY119","v":""},{"$f":"INPUT!FZ119","v":""},{"$f":"INPUT!GA119","v":""},{"$f":"INPUT!GB119","v":""},{"$f":"INPUT!GC119","v":""},null,{"$f":"INPUT!GY119","v":""},{"$f":"INPUT!GZ119","v":""},{"$f":"INPUT!HA119","v":""},{"$f":"INPUT!HB119","v":""},{"$f":"INPUT!HC119","v":""},{"$f":"INPUT!HD119","v":""},{"$f":"INPUT!HE119","v":""},{"$f":"INPUT!HF119","v":""},{"$f":"INPUT!HG119","v":""},null,{"$f":"INPUT!IA119","v":""},{"$f":"INPUT!IB119","v":""},{"$f":"INPUT!IC119","v":""},{"$f":"INPUT!ID119","v":""},{"$f":"INPUT!IE119","v":""},{"$f":"INPUT!IF119","v":""},{"$f":"INPUT!IG119","v":""},{"$f":"INPUT!IH119","v":""},null,{"$f":"INPUT!IZ119","v":""},{"$f":"INPUT!JA119","v":""},{"$f":"INPUT!JB119","v":""},{"$f":"INPUT!JC119","v":""},{"$f":"INPUT!JD119","v":""},{"$f":"INPUT!JE119","v":""},{"$f":"INPUT!JF119","v":""},"",null,{"$f":"INPUT!JX119","v":""},{"$f":"INPUT!JY119","v":""},{"$f":"INPUT!JZ119","v":""},{"$f":"INPUT!KA119","v":""},{"$f":"INPUT!KB119","v":""},{"$f":"INPUT!KC119","v":""},{"$f":"INPUT!KD119","v":""},"",null,{"$f":"INPUT!KZ119","v":""},{"$f":"INPUT!LA119","v":""},{"$f":"INPUT!LB119","v":""},{"$f":"INPUT!LC119","v":""},{"$f":"INPUT!LD119","v":""},{"$f":"INPUT!LE119","v":""},{"$f":"INPUT!LF119","v":""},{"$f":"INPUT!LG119","v":""},{"$f":"INPUT!LH119","v":""},null,{"$f":"INPUT!MB119","v":""},{"$f":"INPUT!MC119","v":""},{"$f":"INPUT!MD119","v":""},{"$f":"INPUT!ME119","v":""},{"$f":"INPUT!MF119","v":""},{"$f":"INPUT!MG119","v":""},{"$f":"INPUT!MH119","v":""},{"$f":"INPUT!MI119","v":""}]
[null,{"$f":"INPUT!EA120","v":""},{"$f":"INPUT!EB120","v":""},{"$f":"INPUT!EC120","v":""},{"$f":"INPUT!ED120","v":""},{"$f":"INPUT!EE120","v":""},{"$f":"INPUT!EF120","v":""},{"$f":"INPUT!EG120","v":""},"",null,{"$f":"INPUT!EY120","v":""},{"$f":"INPUT!EZ120","v":""},{"$f":"INPUT!FA120","v":""},{"$f":"INPUT!FB120","v":""},{"$f":"INPUT!FC120","v":""},{"$f":"INPUT!FD120","v":""},{"$f":"INPUT!FE120","v":""},"",null,{"$f":"INPUT!FW120","v":""},{"$f":"INPUT!FX120","v":""},{"$f":"INPUT!FY120","v":""},{"$f":"INPUT!FZ120","v":""},{"$f":"INPUT!GA120","v":""},{"$f":"INPUT!GB120","v":""},{"$f":"INPUT!GC120","v":""},null,{"$f":"INPUT!GY120","v":""},{"$f":"INPUT!GZ120","v":""},{"$f":"INPUT!HA120","v":""},{"$f":"INPUT!HB120","v":""},{"$f":"INPUT!HC120","v":""},{"$f":"INPUT!HD120","v":""},{"$f":"INPUT!HE120","v":""},{"$f":"INPUT!HF120","v":""},{"$f":"INPUT!HG120","v":""},null,{"$f":"INPUT!IA120","v":""},{"$f":"INPUT!IB120","v":""},{"$f":"INPUT!IC120","v":""},{"$f":"INPUT!ID120","v":""},{"$f":"INPUT!IE120","v":""},{"$f":"INPUT!IF120","v":""},{"$f":"INPUT!IG120","v":""},{"$f":"INPUT!IH120","v":""},null,{"$f":"INPUT!IZ120","v":""},{"$f":"INPUT!JA120","v":""},{"$f":"INPUT!JB120","v":""},{"$f":"INPUT!JC120","v":""},{"$f":"INPUT!JD120","v":""},{"$f":"INPUT!JE120","v":""},{"$f":"INPUT!JF120","v":""},"",null,{"$f":"INPUT!JX120","v":""},{"$f":"INPUT!JY120","v":""},{"$f":"INPUT!JZ120","v":""},{"$f":"INPUT!KA120","v":""},{"$f":"INPUT!KB120","v":""},{"$f":"INPUT!KC120","v":""},{"$f":"INPUT!KD120","v":""},"",null,{"$f":"INPUT!KZ120","v":""},{"$f":"INPUT!LA120","v":""},{"$f":"INPUT!LB120","v":""},{"$f":"INPUT!LC120","v":""},{"$f":"INPUT!LD120","v":""},{"$f":"INPUT!LE120","v":""},{"$f":"INPUT!LF120","v":""},{"$f":"INPUT!LG120","v":""},{"$f":"INPUT!LH120","v":""},null,{"$f":"INPUT!MB120","v":""},{"$f":"INPUT!MC120","v":""},{"$f":"INPUT!MD120","v":""},{"$f":"INPUT!ME120","v":""},{"$f":"INPUT!MF120","v":""},{"$f":"INPUT!MG120","v":""},{"$f":"INPUT!MH120","v":""},{"$f":"INPUT!MI120","v":""}]
[null,{"$f":"INPUT!EA121","v":""},{"$f":"INPUT!EB121","v":""},{"$f":"INPUT!EC121","v":""},{"$f":"INPUT!ED121","v":""},{"$f":"INPUT!EE121","v":""},{"$f":"INPUT!EF121","v":""},{"$f":"INPUT!EG121","v":""},"",null,{"$f":"INPUT!EY121","v":""},{"$f":"INPUT!EZ121","v":""},{"$f":"INPUT!FA121","v":""},{"$f":"INPUT!FB121","v":""},{"$f":"INPUT!FC121","v":""},{"$f":"INPUT!FD121","v":""},{"$f":"INPUT!FE121","v":""},"",null,{"$f":"INPUT!FW121","v":""},{"$f":"INPUT!FX121","v":""},{"$f":"INPUT!FY121","v":""},{"$f":"INPUT!FZ121","v":""},{"$f":"INPUT!GA121","v":""},{"$f":"INPUT!GB121","v":""},{"$f":"INPUT!GC121","v":""},null,{"$f":"INPUT!GY121","v":""},{"$f":"INPUT!GZ121","v":""},{"$f":"INPUT!HA121","v":""},{"$f":"INPUT!HB121","v":""},{"$f":"INPUT!HC121","v":""},{"$f":"INPUT!HD121","v":""},{"$f":"INPUT!HE121","v":""},{"$f":"INPUT!HF121","v":""},{"$f":"INPUT!HG121","v":""},null,{"$f":"INPUT!IA121","v":""},{"$f":"INPUT!IB121","v":""},{"$f":"INPUT!IC121","v":""},{"$f":"INPUT!ID121","v":""},{"$f":"INPUT!IE121","v":""},{"$f":"INPUT!IF121","v":""},{"$f":"INPUT!IG121","v":""},{"$f":"INPUT!IH121","v":""},null,{"$f":"INPUT!IZ121","v":""},{"$f":"INPUT!JA121","v":""},{"$f":"INPUT!JB121","v":""},{"$f":"INPUT!JC121","v":""},{"$f":"INPUT!JD121","v":""},{"$f":"INPUT!JE121","v":""},{"$f":"INPUT!JF121","v":""},"",null,{"$f":"INPUT!JX121","v":""},{"$f":"INPUT!JY121","v":""},{"$f":"INPUT!JZ121","v":""},{"$f":"INPUT!KA121","v":""},{"$f":"INPUT!KB121","v":""},{"$f":"INPUT!KC121","v":""},{"$f":"INPUT!KD121","v":""},"",null,{"$f":"INPUT!KZ121","v":""},{"$f":"INPUT!LA121","v":""},{"$f":"INPUT!LB121","v":""},{"$f":"INPUT!LC121","v":""},{"$f":"INPUT!LD121","v":""},{"$f":"INPUT!LE121","v":""},{"$f":"INPUT!LF121","v":""},{"$f":"INPUT!LG121","v":""},{"$f":"INPUT!LH121","v":""},null,{"$f":"INPUT!MB121","v":""},{"$f":"INPUT!MC121","v":""},{"$f":"INPUT!MD121","v":""},{"$f":"INPUT!ME121","v":""},{"$f":"INPUT!MF121","v":""},{"$f":"INPUT!MG121","v":""},{"$f":"INPUT!MH121","v":""},{"$f":"INPUT!MI121","v":""}]
[null,{"$f":"INPUT!EA122","v":""},{"$f":"INPUT!EB122","v":""},{"$f":"INPUT!EC122","v":""},{"$f":"INPUT!ED122","v":""},{"$f":"INPUT!EE122","v":""},{"$f":"INPUT!EF122","v":""},{"$f":"INPUT!EG122","v":""},"",null,{"$f":"INPUT!EY122","v":""},{"$f":"INPUT!EZ122","v":""},{"$f":"INPUT!FA122","v":""},{"$f":"INPUT!FB122","v":""},{"$f":"INPUT!FC122","v":""},{"$f":"INPUT!FD122","v":""},{"$f":"INPUT!FE122","v":""},"",null,{"$f":"INPUT!FW122","v":""},{"$f":"INPUT!FX122","v":""},{"$f":"INPUT!FY122","v":""},{"$f":"INPUT!FZ122","v":""},{"$f":"INPUT!GA122","v":""},{"$f":"INPUT!GB122","v":""},{"$f":"INPUT!GC122","v":""},null,{"$f":"INPUT!GY122","v":""},{"$f":"INPUT!GZ122","v":""},{"$f":"INPUT!HA122","v":""},{"$f":"INPUT!HB122","v":""},{"$f":"INPUT!HC122","v":""},{"$f":"INPUT!HD122","v":""},{"$f":"INPUT!HE122","v":""},{"$f":"INPUT!HF122","v":""},{"$f":"INPUT!HG122","v":""},null,{"$f":"INPUT!IA122","v":""},{"$f":"INPUT!IB122","v":""},{"$f":"INPUT!IC122","v":""},{"$f":"INPUT!ID122","v":""},{"$f":"INPUT!IE122","v":""},{"$f":"INPUT!IF122","v":""},{"$f":"INPUT!IG122","v":""},{"$f":"INPUT!IH122","v":""},null,{"$f":"INPUT!IZ122","v":""},{"$f":"INPUT!JA122","v":""},{"$f":"INPUT!JB122","v":""},{"$f":"INPUT!JC122","v":""},{"$f":"INPUT!JD122","v":""},{"$f":"INPUT!JE122","v":""},{"$f":"INPUT!JF122","v":""},"",null,{"$f":"INPUT!JX122","v":""},{"$f":"INPUT!JY122","v":""},{"$f":"INPUT!JZ122","v":""},{"$f":"INPUT!KA122","v":""},{"$f":"INPUT!KB122","v":""},{"$f":"INPUT!KC122","v":""},{"$f":"INPUT!KD122","v":""},"",null,{"$f":"INPUT!KZ122","v":""},{"$f":"INPUT!LA122","v":""},{"$f":"INPUT!LB122","v":""},{"$f":"INPUT!LC122","v":""},{"$f":"INPUT!LD122","v":""},{"$f":"INPUT!LE122","v":""},{"$f":"INPUT!LF122","v":""},{"$f":"INPUT!LG122","v":""},{"$f":"INPUT!LH122","v":""},null,{"$f":"INPUT!MB122","v":""},{"$f":"INPUT!MC122","v":""},{"$f":"INPUT!MD122","v":""},{"$f":"INPUT!ME122","v":""},{"$f":"INPUT!MF122","v":""},{"$f":"INPUT!MG122","v":""},{"$f":"INPUT!MH122","v":""},{"$f":"INPUT!MI122","v":""}]
[null,{"$f":"INPUT!EA123","v":""},{"$f":"INPUT!EB123","v":""},{"$f":"INPUT!EC123","v":""},{"$f":"INPUT!ED123","v":""},{"$f":"INPUT!EE123","v":""},{"$f":"INPUT!EF123","v":""},{"$f":"INPUT!EG123","v":""},"",null,{"$f":"INPUT!EY123","v":""},{"$f":"INPUT!EZ123","v":""},{"$f":"INPUT!FA123","v":""},{"$f":"INPUT!FB123","v":""},{"$f":"INPUT!FC123","v":""},{"$f":"INPUT!FD123","v":""},{"$f":"INPUT!FE123","v":""},"",null,{"$f":"INPUT!FW123","v":""},{"$f":"INPUT!FX123","v":""},{"$f":"INPUT!FY123","v":""},{"$f":"INPUT!FZ123","v":""},{"$f":"INPUT!GA123","v":""},{"$f":"INPUT!GB123","v":""},{"$f":"INPUT!GC123","v":""},null,{"$f":"INPUT!GY123","v":""},{"$f":"INPUT!GZ123","v":""},{"$f":"INPUT!HA123","v":""},{"$f":"INPUT!HB123","v":""},{"$f":"INPUT!HC123","v":""},{"$f":"INPUT!HD123","v":""},{"$f":"INPUT!HE123","v":""},{"$f":"INPUT!HF123","v":""},{"$f":"INPUT!HG123","v":""},null,{"$f":"INPUT!IA123","v":""},{"$f":"INPUT!IB123","v":""},{"$f":"INPUT!IC123","v":""},{"$f":"INPUT!ID123","v":""},{"$f":"INPUT!IE123","v":""},{"$f":"INPUT!IF123","v":""},{"$f":"INPUT!IG123","v":""},{"$f":"INPUT!IH123","v":""},null,{"$f":"INPUT!IZ123","v":""},{"$f":"INPUT!JA123","v":""},{"$f":"INPUT!JB123","v":""},{"$f":"INPUT!JC123","v":""},{"$f":"INPUT!JD123","v":""},{"$f":"INPUT!JE123","v":""},{"$f":"INPUT!JF123","v":""},"",null,{"$f":"INPUT!JX123","v":""},{"$f":"INPUT!JY123","v":""},{"$f":"INPUT!JZ123","v":""},{"$f":"INPUT!KA123","v":""},{"$f":"INPUT!KB123","v":""},{"$f":"INPUT!KC123","v":""},{"$f":"INPUT!KD123","v":""},"",null,{"$f":"INPUT!KZ123","v":""},{"$f":"INPUT!LA123","v":""},{"$f":"INPUT!LB123","v":""},{"$f":"INPUT!LC123","v":""},{"$f":"INPUT!LD123","v":""},{"$f":"INPUT!LE123","v":""},{"$f":"INPUT!LF123","v":""},{"$f":"INPUT!LG123","v":""},{"$f":"INPUT!LH123","v":""},null,{"$f":"INPUT!MB123","v":""},{"$f":"INPUT!MC123","v":""},{"$f":"INPUT!MD123","v":""},{"$f":"INPUT!ME123","v":""},{"$f":"INPUT!MF123","v":""},{"$f":"INPUT!MG123","v":""},{"$f":"INPUT!MH123","v":""},{"$f":"INPUT!MI123","v":""}]
[null,{"$f":"INPUT!EA124","v":""},{"$f":"INPUT!EB124","v":""},{"$f":"INPUT!EC124","v":""},{"$f":"INPUT!ED124","v":""},{"$f":"INPUT!EE124","v":""},{"$f":"INPUT!EF124","v":""},{"$f":"INPUT!EG124","v":""},"",null,{"$f":"INPUT!EY124","v":""},{"$f":"INPUT!EZ124","v":""},{"$f":"INPUT!FA124","v":""},{"$f":"INPUT!FB124","v":""},{"$f":"INPUT!FC124","v":""},{"$f":"INPUT!FD124","v":""},{"$f":"INPUT!FE124","v":""},"",null,{"$f":"INPUT!FW124","v":""},{"$f":"INPUT!FX124","v":""},{"$f":"INPUT!FY124","v":""},{"$f":"INPUT!FZ124","v":""},{"$f":"INPUT!GA124","v":""},{"$f":"INPUT!GB124","v":""},{"$f":"INPUT!GC124","v":""},null,{"$f":"INPUT!GY124","v":""},{"$f":"INPUT!GZ124","v":""},{"$f":"INPUT!HA124","v":""},{"$f":"INPUT!HB124","v":""},{"$f":"INPUT!HC124","v":""},{"$f":"INPUT!HD124","v":""},{"$f":"INPUT!HE124","v":""},{"$f":"INPUT!HF124","v":""},{"$f":"INPUT!HG124","v":""},null,{"$f":"INPUT!IA124","v":""},{"$f":"INPUT!IB124","v":""},{"$f":"INPUT!IC124","v":""},{"$f":"INPUT!ID124","v":""},{"$f":"INPUT!IE124","v":""},{"$f":"INPUT!IF124","v":""},{"$f":"INPUT!IG124","v":""},{"$f":"INPUT!IH124","v":""},null,{"$f":"INPUT!IZ124","v":""},{"$f":"INPUT!JA124","v":""},{"$f":"INPUT!JB124","v":""},{"$f":"INPUT!JC124","v":""},{"$f":"INPUT!JD124","v":""},{"$f":"INPUT!JE124","v":""},{"$f":"INPUT!JF124","v":""},"",null,{"$f":"INPUT!JX124","v":""},{"$f":"INPUT!JY124","v":""},{"$f":"INPUT!JZ124","v":""},{"$f":"INPUT!KA124","v":""},{"$f":"INPUT!KB124","v":""},{"$f":"INPUT!KC124","v":""},{"$f":"INPUT!KD124","v":""},"",null,{"$f":"INPUT!KZ124","v":""},{"$f":"INPUT!LA124","v":""},{"$f":"INPUT!LB124","v":""},{"$f":"INPUT!LC124","v":""},{"$f":"INPUT!LD124","v":""},{"$f":"INPUT!LE124","v":""},{"$f":"INPUT!LF124","v":""},{"$f":"INPUT!LG124","v":""},{"$f":"INPUT!LH124","v":""},null,{"$f":"INPUT!MB124","v":""},{"$f":"INPUT!MC124","v":""},{"$f":"INPUT!MD124","v":""},{"$f":"INPUT!ME124","v":""},{"$f":"INPUT!MF124","v":""},{"$f":"INPUT!MG124","v":""},{"$f":"INPUT!MH124","v":""},{"$f":"INPUT!MI124","v":""}]
[null,{"$f":"INPUT!EA125","v":""},{"$f":"INPUT!EB125","v":""},{"$f":"INPUT!EC125","v":""},{"$f":"INPUT!ED125","v":""},{"$f":"INPUT!EE125","v":""},{"$f":"INPUT!EF125","v":""},{"$f":"INPUT!EG125","v":""},"",null,{"$f":"INPUT!EY125","v":""},{"$f":"INPUT!EZ125","v":""},{"$f":"INPUT!FA125","v":""},{"$f":"INPUT!FB125","v":""},{"$f":"INPUT!FC125","v":""},{"$f":"INPUT!FD125","v":""},{"$f":"INPUT!FE125","v":""},"",null,{"$f":"INPUT!FW125","v":""},{"$f":"INPUT!FX125","v":""},{"$f":"INPUT!FY125","v":""},{"$f":"INPUT!FZ125","v":""},{"$f":"INPUT!GA125","v":""},{"$f":"INPUT!GB125","v":""},{"$f":"INPUT!GC125","v":""},null,{"$f":"INPUT!GY125","v":""},{"$f":"INPUT!GZ125","v":""},{"$f":"INPUT!HA125","v":""},{"$f":"INPUT!HB125","v":""},{"$f":"INPUT!HC125","v":""},{"$f":"INPUT!HD125","v":""},{"$f":"INPUT!HE125","v":""},{"$f":"INPUT!HF125","v":""},{"$f":"INPUT!HG125","v":""},null,{"$f":"INPUT!IA125","v":""},{"$f":"INPUT!IB125","v":""},{"$f":"INPUT!IC125","v":""},{"$f":"INPUT!ID125","v":""},{"$f":"INPUT!IE125","v":""},{"$f":"INPUT!IF125","v":""},{"$f":"INPUT!IG125","v":""},{"$f":"INPUT!IH125","v":""},null,{"$f":"INPUT!IZ125","v":""},{"$f":"INPUT!JA125","v":""},{"$f":"INPUT!JB125","v":""},{"$f":"INPUT!JC125","v":""},{"$f":"INPUT!JD125","v":""},{"$f":"INPUT!JE125","v":""},{"$f":"INPUT!JF125","v":""},"",null,{"$f":"INPUT!JX125","v":""},{"$f":"INPUT!JY125","v":""},{"$f":"INPUT!JZ125","v":""},{"$f":"INPUT!KA125","v":""},{"$f":"INPUT!KB125","v":""},{"$f":"INPUT!KC125","v":""},{"$f":"INPUT!KD125","v":""},"",null,{"$f":"INPUT!KZ125","v":""},{"$f":"INPUT!LA125","v":""},{"$f":"INPUT!LB125","v":""},{"$f":"INPUT!LC125","v":""},{"$f":"INPUT!LD125","v":""},{"$f":"INPUT!LE125","v":""},{"$f":"INPUT!LF125","v":""},{"$f":"INPUT!LG125","v":""},{"$f":"INPUT!LH125","v":""},null,{"$f":"INPUT!MB125","v":""},{"$f":"INPUT!MC125","v":""},{"$f":"INPUT!MD125","v":""},{"$f":"INPUT!ME125","v":""},{"$f":"INPUT!MF125","v":""},{"$f":"INPUT!MG125","v":""},{"$f":"INPUT!MH125","v":""},{"$f":"INPUT!MI125","v":""}]
[null,{"$f":"INPUT!EA126","v":""},{"$f":"INPUT!EB126","v":""},{"$f":"INPUT!EC126","v":""},{"$f":"INPUT!ED126","v":""},{"$f":"INPUT!EE126","v":""},{"$f":"INPUT!EF126","v":""},{"$f":"INPUT!EG126","v":""},"",null,{"$f":"INPUT!EY126","v":""},{"$f":"INPUT!EZ126","v":""},{"$f":"INPUT!FA126","v":""},{"$f":"INPUT!FB126","v":""},{"$f":"INPUT!FC126","v":""},{"$f":"INPUT!FD126","v":""},{"$f":"INPUT!FE126","v":""},"",null,{"$f":"INPUT!FW126","v":""},{"$f":"INPUT!FX126","v":""},{"$f":"INPUT!FY126","v":""},{"$f":"INPUT!FZ126","v":""},{"$f":"INPUT!GA126","v":""},{"$f":"INPUT!GB126","v":""},{"$f":"INPUT!GC126","v":""},null,{"$f":"INPUT!GY126","v":""},{"$f":"INPUT!GZ126","v":""},{"$f":"INPUT!HA126","v":""},{"$f":"INPUT!HB126","v":""},{"$f":"INPUT!HC126","v":""},{"$f":"INPUT!HD126","v":""},{"$f":"INPUT!HE126","v":""},{"$f":"INPUT!HF126","v":""},{"$f":"INPUT!HG126","v":""},null,{"$f":"INPUT!IA126","v":""},{"$f":"INPUT!IB126","v":""},{"$f":"INPUT!IC126","v":""},{"$f":"INPUT!ID126","v":""},{"$f":"INPUT!IE126","v":""},{"$f":"INPUT!IF126","v":""},{"$f":"INPUT!IG126","v":""},{"$f":"INPUT!IH126","v":""},null,{"$f":"INPUT!IZ126","v":""},{"$f":"INPUT!JA126","v":""},{"$f":"INPUT!JB126","v":""},{"$f":"INPUT!JC126","v":""},{"$f":"INPUT!JD126","v":""},{"$f":"INPUT!JE126","v":""},{"$f":"INPUT!JF126","v":""},"",null,{"$f":"INPUT!JX126","v":""},{"$f":"INPUT!JY126","v":""},{"$f":"INPUT!JZ126","v":""},{"$f":"INPUT!KA126","v":""},{"$f":"INPUT!KB126","v":""},{"$f":"INPUT!KC126","v":""},{"$f":"INPUT!KD126","v":""},"",null,{"$f":"INPUT!KZ126","v":""},{"$f":"INPUT!LA126","v":""},{"$f":"INPUT!LB126","v":""},{"$f":"INPUT!LC126","v":""},{"$f":"INPUT!LD126","v":""},{"$f":"INPUT!LE126","v":""},{"$f":"INPUT!LF126","v":""},{"$f":"INPUT!LG126","v":""},{"$f":"INPUT!LH126","v":""},null,{"$f":"INPUT!MB126","v":""},{"$f":"INPUT!MC126","v":""},{"$f":"INPUT!MD126","v":""},{"$f":"INPUT!ME126","v":""},{"$f":"INPUT!MF126","v":""},{"$f":"INPUT!MG126","v":""},{"$f":"INPUT!MH126","v":""},{"$f":"INPUT!MI126","v":""}]
[null,{"$f":"INPUT!EA127","v":""},{"$f":"INPUT!EB127","v":""},{"$f":"INPUT!EC127","v":""},{"$f":"INPUT!ED127","v":""},{"$f":"INPUT!EE127","v":""},{"$f":"INPUT!EF127","v":""},{"$f":"INPUT!EG127","v":""},"",null,{"$f":"INPUT!EY127","v":""},{"$f":"INPUT!EZ127","v":""},{"$f":"INPUT!FA127","v":""},{"$f":"INPUT!FB127","v":""},{"$f":"INPUT!FC127","v":""},{"$f":"INPUT!FD127","v":""},{"$f":"INPUT!FE127","v":""},"",null,{"$f":"INPUT!FW127","v":""},{"$f":"INPUT!FX127","v":""},{"$f":"INPUT!FY127","v":""},{"$f":"INPUT!FZ127","v":""},{"$f":"INPUT!GA127","v":""},{"$f":"INPUT!GB127","v":""},{"$f":"INPUT!GC127","v":""},null,{"$f":"INPUT!GY127","v":""},{"$f":"INPUT!GZ127","v":""},{"$f":"INPUT!HA127","v":""},{"$f":"INPUT!HB127","v":""},{"$f":"INPUT!HC127","v":""},{"$f":"INPUT!HD127","v":""},{"$f":"INPUT!HE127","v":""},{"$f":"INPUT!HF127","v":""},{"$f":"INPUT!HG127","v":""},null,{"$f":"INPUT!IA127","v":""},{"$f":"INPUT!IB127","v":""},{"$f":"INPUT!IC127","v":""},{"$f":"INPUT!ID127","v":""},{"$f":"INPUT!IE127","v":""},{"$f":"INPUT!IF127","v":""},{"$f":"INPUT!IG127","v":""},{"$f":"INPUT!IH127","v":""},null,{"$f":"INPUT!IZ127","v":""},{"$f":"INPUT!JA127","v":""},{"$f":"INPUT!JB127","v":""},{"$f":"INPUT!JC127","v":""},{"$f":"INPUT!JD127","v":""},{"$f":"INPUT!JE127","v":""},{"$f":"INPUT!JF127","v":""},"",null,{"$f":"INPUT!JX127","v":""},{"$f":"INPUT!JY127","v":""},{"$f":"INPUT!JZ127","v":""},{"$f":"INPUT!KA127","v":""},{"$f":"INPUT!KB127","v":""},{"$f":"INPUT!KC127","v":""},{"$f":"INPUT!KD127","v":""},"",null,{"$f":"INPUT!KZ127","v":""},{"$f":"INPUT!LA127","v":""},{"$f":"INPUT!LB127","v":""},{"$f":"INPUT!LC127","v":""},{"$f":"INPUT!LD127","v":""},{"$f":"INPUT!LE127","v":""},{"$f":"INPUT!LF127","v":""},{"$f":"INPUT!LG127","v":""},{"$f":"INPUT!LH127","v":""},null,{"$f":"INPUT!MB127","v":""},{"$f":"INPUT!MC127","v":""},{"$f":"INPUT!MD127","v":""},{"$f":"INPUT!ME127","v":""},{"$f":"INPUT!MF127","v":""},{"$f":"INPUT!MG127","v":""},{"$f":"INPUT!MH127","v":""},{"$f":"INPUT!MI127","v":""}]
[null,{"$f":"INPUT!EA128","v":""},{"$f":"INPUT!EB128","v":""},{"$f":"INPUT!EC128","v":""},{"$f":"INPUT!ED128","v":""},{"$f":"INPUT!EE128","v":""},{"$f":"INPUT!EF128","v":""},{"$f":"INPUT!EG128","v":""},"",null,{"$f":"INPUT!EY128","v":""},{"$f":"INPUT!EZ128","v":""},{"$f":"INPUT!FA128","v":""},{"$f":"INPUT!FB128","v":""},{"$f":"INPUT!FC128","v":""},{"$f":"INPUT!FD128","v":""},{"$f":"INPUT!FE128","v":""},"",null,{"$f":"INPUT!FW128","v":""},{"$f":"INPUT!FX128","v":""},{"$f":"INPUT!FY128","v":""},{"$f":"INPUT!FZ128","v":""},{"$f":"INPUT!GA128","v":""},{"$f":"INPUT!GB128","v":""},{"$f":"INPUT!GC128","v":""},null,{"$f":"INPUT!GY128","v":""},{"$f":"INPUT!GZ128","v":""},{"$f":"INPUT!HA128","v":""},{"$f":"INPUT!HB128","v":""},{"$f":"INPUT!HC128","v":""},{"$f":"INPUT!HD128","v":""},{"$f":"INPUT!HE128","v":""},{"$f":"INPUT!HF128","v":""},{"$f":"INPUT!HG128","v":""},null,{"$f":"INPUT!IA128","v":""},{"$f":"INPUT!IB128","v":""},{"$f":"INPUT!IC128","v":""},{"$f":"INPUT!ID128","v":""},{"$f":"INPUT!IE128","v":""},{"$f":"INPUT!IF128","v":""},{"$f":"INPUT!IG128","v":""},{"$f":"INPUT!IH128","v":""},null,{"$f":"INPUT!IZ128","v":""},{"$f":"INPUT!JA128","v":""},{"$f":"INPUT!JB128","v":""},{"$f":"INPUT!JC128","v":""},{"$f":"INPUT!JD128","v":""},{"$f":"INPUT!JE128","v":""},{"$f":"INPUT!JF128","v":""},"",null,{"$f":"INPUT!JX128","v":""},{"$f":"INPUT!JY128","v":""},{"$f":"INPUT!JZ128","v":""},{"$f":"INPUT!KA128","v":""},{"$f":"INPUT!KB128","v":""},{"$f":"INPUT!KC128","v":""},{"$f":"INPUT!KD128","v":""},"",null,{"$f":"INPUT!KZ128","v":""},{"$f":"INPUT!LA128","v":""},{"$f":"INPUT!LB128","v":""},{"$f":"INPUT!LC128","v":""},{"$f":"INPUT!LD128","v":""},{"$f":"INPUT!LE128","v":""},{"$f":"INPUT!LF128","v":""},{"$f":"INPUT!LG128","v":""},{"$f":"INPUT!LH128","v":""},null,{"$f":"INPUT!MB128","v":""},{"$f":"INPUT!MC128","v":""},{"$f":"INPUT!MD128","v":""},{"$f":"INPUT!ME128","v":""},{"$f":"INPUT!MF128","v":""},{"$f":"INPUT!MG128","v":""},{"$f":"INPUT!MH128","v":""},{"$f":"INPUT!MI128","v":""}]
[null,{"$f":"INPUT!EA129","v":""},{"$f":"INPUT!EB129","v":""},{"$f":"INPUT!EC129","v":""},{"$f":"INPUT!ED129","v":""},{"$f":"INPUT!EE129","v":""},{"$f":"INPUT!EF129","v":""},{"$f":"INPUT!EG129","v":""},"",null,{"$f":"INPUT!EY129","v":""},{"$f":"INPUT!EZ129","v":""},{"$f":"INPUT!FA129","v":""},{"$f":"INPUT!FB129","v":""},{"$f":"INPUT!FC129","v":""},{"$f":"INPUT!FD129","v":""},{"$f":"INPUT!FE129","v":""},"",null,{"$f":"INPUT!FW129","v":""},{"$f":"INPUT!FX129","v":""},{"$f":"INPUT!FY129","v":""},{"$f":"INPUT!FZ129","v":""},{"$f":"INPUT!GA129","v":""},{"$f":"INPUT!GB129","v":""},{"$f":"INPUT!GC129","v":""},null,{"$f":"INPUT!GY129","v":""},{"$f":"INPUT!GZ129","v":""},{"$f":"INPUT!HA129","v":""},{"$f":"INPUT!HB129","v":""},{"$f":"INPUT!HC129","v":""},{"$f":"INPUT!HD129","v":""},{"$f":"INPUT!HE129","v":""},{"$f":"INPUT!HF129","v":""},{"$f":"INPUT!HG129","v":""},null,{"$f":"INPUT!IA129","v":""},{"$f":"INPUT!IB129","v":""},{"$f":"INPUT!IC129","v":""},{"$f":"INPUT!ID129","v":""},{"$f":"INPUT!IE129","v":""},{"$f":"INPUT!IF129","v":""},{"$f":"INPUT!IG129","v":""},{"$f":"INPUT!IH129","v":""},null,{"$f":"INPUT!IZ129","v":""},{"$f":"INPUT!JA129","v":""},{"$f":"INPUT!JB129","v":""},{"$f":"INPUT!JC129","v":""},{"$f":"INPUT!JD129","v":""},{"$f":"INPUT!JE129","v":""},{"$f":"INPUT!JF129","v":""},"",null,{"$f":"INPUT!JX129","v":""},{"$f":"INPUT!JY129","v":""},{"$f":"INPUT!JZ129","v":""},{"$f":"INPUT!KA129","v":""},{"$f":"INPUT!KB129","v":""},{"$f":"INPUT!KC129","v":""},{"$f":"INPUT!KD129","v":""},"",null,{"$f":"INPUT!KZ129","v":""},{"$f":"INPUT!LA129","v":""},{"$f":"INPUT!LB129","v":""},{"$f":"INPUT!LC129","v":""},{"$f":"INPUT!LD129","v":""},{"$f":"INPUT!LE129","v":""},{"$f":"INPUT!LF129","v":""},{"$f":"INPUT!LG129","v":""},{"$f":"INPUT!LH129","v":""},null,{"$f":"INPUT!MB129","v":""},{"$f":"INPUT!MC129","v":""},{"$f":"INPUT!MD129","v":""},{"$f":"INPUT!ME129","v":""},{"$f":"INPUT!MF129","v":""},{"$f":"INPUT!MG129","v":""},{"$f":"INPUT!MH129","v":""},{"$f":"INPUT!MI129","v":""}]
[null,{"$f":"INPUT!EA130","v":""},{"$f":"INPUT!EB130","v":""},{"$f":"INPUT!EC130","v":""},{"$f":"INPUT!ED130","v":""},{"$f":"INPUT!EE130","v":""},{"$f":"INPUT!EF130","v":""},{"$f":"INPUT!EG130","v":""},"",null,{"$f":"INPUT!EY130","v":""},{"$f":"INPUT!EZ130","v":""},{"$f":"INPUT!FA130","v":""},{"$f":"INPUT!FB130","v":""},{"$f":"INPUT!FC130","v":""},{"$f":"INPUT!FD130","v":""},{"$f":"INPUT!FE130","v":""},"",null,{"$f":"INPUT!FW130","v":""},{"$f":"INPUT!FX130","v":""},{"$f":"INPUT!FY130","v":""},{"$f":"INPUT!FZ130","v":""},{"$f":"INPUT!GA130","v":""},{"$f":"INPUT!GB130","v":""},{"$f":"INPUT!GC130","v":""},null,{"$f":"INPUT!GY130","v":""},{"$f":"INPUT!GZ130","v":""},{"$f":"INPUT!HA130","v":""},{"$f":"INPUT!HB130","v":""},{"$f":"INPUT!HC130","v":""},{"$f":"INPUT!HD130","v":""},{"$f":"INPUT!HE130","v":""},{"$f":"INPUT!HF130","v":""},{"$f":"INPUT!HG130","v":""},null,{"$f":"INPUT!IA130","v":""},{"$f":"INPUT!IB130","v":""},{"$f":"INPUT!IC130","v":""},{"$f":"INPUT!ID130","v":""},{"$f":"INPUT!IE130","v":""},{"$f":"INPUT!IF130","v":""},{"$f":"INPUT!IG130","v":""},{"$f":"INPUT!IH130","v":""},null,{"$f":"INPUT!IZ130","v":""},{"$f":"INPUT!JA130","v":""},{"$f":"INPUT!JB130","v":""},{"$f":"INPUT!JC130","v":""},{"$f":"INPUT!JD130","v":""},{"$f":"INPUT!JE130","v":""},{"$f":"INPUT!JF130","v":""},"",null,{"$f":"INPUT!JX130","v":""},{"$f":"INPUT!JY130","v":""},{"$f":"INPUT!JZ130","v":""},{"$f":"INPUT!KA130","v":""},{"$f":"INPUT!KB130","v":""},{"$f":"INPUT!KC130","v":""},{"$f":"INPUT!KD130","v":""},"",null,{"$f":"INPUT!KZ130","v":""},{"$f":"INPUT!LA130","v":""},{"$f":"INPUT!LB130","v":""},{"$f":"INPUT!LC130","v":""},{"$f":"INPUT!LD130","v":""},{"$f":"INPUT!LE130","v":""},{"$f":"INPUT!LF130","v":""},{"$f":"INPUT!LG130","v":""},{"$f":"INPUT!LH130","v":""},null,{"$f":"INPUT!MB130","v":""},{"$f":"INPUT!MC130","v":""},{"$f":"INPUT!MD130","v":""},{"$f":"INPUT!ME130","v":""},{"$f":"INPUT!MF130","v":""},{"$f":"INPUT!MG130","v":""},{"$f":"INPUT!MH130","v":""},{"$f":"INPUT!MI130","v":""}]
[null,{"$f":"INPUT!EA131","v":""},{"$f":"INPUT!EB131","v":""},{"$f":"INPUT!EC131","v":""},{"$f":"INPUT!ED131","v":""},{"$f":"INPUT!EE131","v":""},{"$f":"INPUT!EF131","v":""},{"$f":"INPUT!EG131","v":""},"",null,{"$f":"INPUT!EY131","v":""},{"$f":"INPUT!EZ131","v":""},{"$f":"INPUT!FA131","v":""},{"$f":"INPUT!FB131","v":""},{"$f":"INPUT!FC131","v":""},{"$f":"INPUT!FD131","v":""},{"$f":"INPUT!FE131","v":""},"",null,{"$f":"INPUT!FW131","v":""},{"$f":"INPUT!FX131","v":""},{"$f":"INPUT!FY131","v":""},{"$f":"INPUT!FZ131","v":""},{"$f":"INPUT!GA131","v":""},{"$f":"INPUT!GB131","v":""},{"$f":"INPUT!GC131","v":""},null,{"$f":"INPUT!GY131","v":""},{"$f":"INPUT!GZ131","v":""},{"$f":"INPUT!HA131","v":""},{"$f":"INPUT!HB131","v":""},{"$f":"INPUT!HC131","v":""},{"$f":"INPUT!HD131","v":""},{"$f":"INPUT!HE131","v":""},{"$f":"INPUT!HF131","v":""},{"$f":"INPUT!HG131","v":""},null,{"$f":"INPUT!IA131","v":""},{"$f":"INPUT!IB131","v":""},{"$f":"INPUT!IC131","v":""},{"$f":"INPUT!ID131","v":""},{"$f":"INPUT!IE131","v":""},{"$f":"INPUT!IF131","v":""},{"$f":"INPUT!IG131","v":""},{"$f":"INPUT!IH131","v":""},null,{"$f":"INPUT!IZ131","v":""},{"$f":"INPUT!JA131","v":""},{"$f":"INPUT!JB131","v":""},{"$f":"INPUT!JC131","v":""},{"$f":"INPUT!JD131","v":""},{"$f":"INPUT!JE131","v":""},{"$f":"INPUT!JF131","v":""},"",null,{"$f":"INPUT!JX131","v":""},{"$f":"INPUT!JY131","v":""},{"$f":"INPUT!JZ131","v":""},{"$f":"INPUT!KA131","v":""},{"$f":"INPUT!KB131","v":""},{"$f":"INPUT!KC131","v":""},{"$f":"INPUT!KD131","v":""},"",null,{"$f":"INPUT!KZ131","v":""},{"$f":"INPUT!LA131","v":""},{"$f":"INPUT!LB131","v":""},{"$f":"INPUT!LC131","v":""},{"$f":"INPUT!LD131","v":""},{"$f":"INPUT!LE131","v":""},{"$f":"INPUT!LF131","v":""},{"$f":"INPUT!LG131","v":""},{"$f":"INPUT!LH131","v":""},null,{"$f":"INPUT!MB131","v":""},{"$f":"INPUT!MC131","v":""},{"$f":"INPUT!MD131","v":""},{"$f":"INPUT!ME131","v":""},{"$f":"INPUT!MF131","v":""},{"$f":"INPUT!MG131","v":""},{"$f":"INPUT!MH131","v":""},{"$f":"INPUT!MI131","v":""}]
[null,{"$f":"INPUT!EA132","v":""},{"$f":"INPUT!EB132","v":""},{"$f":"INPUT!EC132","v":""},{"$f":"INPUT!ED132","v":""},{"$f":"INPUT!EE132","v":""},{"$f":"INPUT!EF132","v":""},{"$f":"INPUT!EG132","v":""},"",null,{"$f":"INPUT!EY132","v":""},{"$f":"INPUT!EZ132","v":""},{"$f":"INPUT!FA132","v":""},{"$f":"INPUT!FB132","v":""},{"$f":"INPUT!FC132","v":""},{"$f":"INPUT!FD132","v":""},{"$f":"INPUT!FE132","v":""},"",null,{"$f":"INPUT!FW132","v":""},{"$f":"INPUT!FX132","v":""},{"$f":"INPUT!FY132","v":""},{"$f":"INPUT!FZ132","v":""},{"$f":"INPUT!GA132","v":""},{"$f":"INPUT!GB132","v":""},{"$f":"INPUT!GC132","v":""},null,{"$f":"INPUT!GY132","v":""},{"$f":"INPUT!GZ132","v":""},{"$f":"INPUT!HA132","v":""},{"$f":"INPUT!HB132","v":""},{"$f":"INPUT!HC132","v":""},{"$f":"INPUT!HD132","v":""},{"$f":"INPUT!HE132","v":""},{"$f":"INPUT!HF132","v":""},{"$f":"INPUT!HG132","v":""},null,{"$f":"INPUT!IA132","v":""},{"$f":"INPUT!IB132","v":""},{"$f":"INPUT!IC132","v":""},{"$f":"INPUT!ID132","v":""},{"$f":"INPUT!IE132","v":""},{"$f":"INPUT!IF132","v":""},{"$f":"INPUT!IG132","v":""},{"$f":"INPUT!IH132","v":""},null,{"$f":"INPUT!IZ132","v":""},{"$f":"INPUT!JA132","v":""},{"$f":"INPUT!JB132","v":""},{"$f":"INPUT!JC132","v":""},{"$f":"INPUT!JD132","v":""},{"$f":"INPUT!JE132","v":""},{"$f":"INPUT!JF132","v":""},"",null,{"$f":"INPUT!JX132","v":""},{"$f":"INPUT!JY132","v":""},{"$f":"INPUT!JZ132","v":""},{"$f":"INPUT!KA132","v":""},{"$f":"INPUT!KB132","v":""},{"$f":"INPUT!KC132","v":""},{"$f":"INPUT!KD132","v":""},"",null,{"$f":"INPUT!KZ132","v":""},{"$f":"INPUT!LA132","v":""},{"$f":"INPUT!LB132","v":""},{"$f":"INPUT!LC132","v":""},{"$f":"INPUT!LD132","v":""},{"$f":"INPUT!LE132","v":""},{"$f":"INPUT!LF132","v":""},{"$f":"INPUT!LG132","v":""},{"$f":"INPUT!LH132","v":""},null,{"$f":"INPUT!MB132","v":""},{"$f":"INPUT!MC132","v":""},{"$f":"INPUT!MD132","v":""},{"$f":"INPUT!ME132","v":""},{"$f":"INPUT!MF132","v":""},{"$f":"INPUT!MG132","v":""},{"$f":"INPUT!MH132","v":""},{"$f":"INPUT!MI132","v":""}]
[null,{"$f":"INPUT!EA133","v":""},{"$f":"INPUT!EB133","v":""},{"$f":"INPUT!EC133","v":""},{"$f":"INPUT!ED133","v":""},{"$f":"INPUT!EE133","v":""},{"$f":"INPUT!EF133","v":""},{"$f":"INPUT!EG133","v":""},"",null,{"$f":"INPUT!EY133","v":""},{"$f":"INPUT!EZ133","v":""},{"$f":"INPUT!FA133","v":""},{"$f":"INPUT!FB133","v":""},{"$f":"INPUT!FC133","v":""},{"$f":"INPUT!FD133","v":""},{"$f":"INPUT!FE133","v":""},"",null,{"$f":"INPUT!FW133","v":""},{"$f":"INPUT!FX133","v":""},{"$f":"INPUT!FY133","v":""},{"$f":"INPUT!FZ133","v":""},{"$f":"INPUT!GA133","v":""},{"$f":"INPUT!GB133","v":""},{"$f":"INPUT!GC133","v":""},null,{"$f":"INPUT!GY133","v":""},{"$f":"INPUT!GZ133","v":""},{"$f":"INPUT!HA133","v":""},{"$f":"INPUT!HB133","v":""},{"$f":"INPUT!HC133","v":""},{"$f":"INPUT!HD133","v":""},{"$f":"INPUT!HE133","v":""},{"$f":"INPUT!HF133","v":""},{"$f":"INPUT!HG133","v":""},null,{"$f":"INPUT!IA133","v":""},{"$f":"INPUT!IB133","v":""},{"$f":"INPUT!IC133","v":""},{"$f":"INPUT!ID133","v":""},{"$f":"INPUT!IE133","v":""},{"$f":"INPUT!IF133","v":""},{"$f":"INPUT!IG133","v":""},{"$f":"INPUT!IH133","v":""},null,{"$f":"INPUT!IZ133","v":""},{"$f":"INPUT!JA133","v":""},{"$f":"INPUT!JB133","v":""},{"$f":"INPUT!JC133","v":""},{"$f":"INPUT!JD133","v":""},{"$f":"INPUT!JE133","v":""},{"$f":"INPUT!JF133","v":""},"",null,{"$f":"INPUT!JX133","v":""},{"$f":"INPUT!JY133","v":""},{"$f":"INPUT!JZ133","v":""},{"$f":"INPUT!KA133","v":""},{"$f":"INPUT!KB133","v":""},{"$f":"INPUT!KC133","v":""},{"$f":"INPUT!KD133","v":""},"",null,{"$f":"INPUT!KZ133","v":""},{"$f":"INPUT!LA133","v":""},{"$f":"INPUT!LB133","v":""},{"$f":"INPUT!LC133","v":""},{"$f":"INPUT!LD133","v":""},{"$f":"INPUT!LE133","v":""},{"$f":"INPUT!LF133","v":""},{"$f":"INPUT!LG133","v":""},{"$f":"INPUT!LH133","v":""},null,{"$f":"INPUT!MB133","v":""},{"$f":"INPUT!MC133","v":""},{"$f":"INPUT!MD133","v":""},{"$f":"INPUT!ME133","v":""},{"$f":"INPUT!MF133","v":""},{"$f":"INPUT!MG133","v":""},{"$f":"INPUT!MH133","v":""},{"$f":"INPUT!MI133","v":""}]
[null,{"$f":"INPUT!EA134","v":""},{"$f":"INPUT!EB134","v":""},{"$f":"INPUT!EC134","v":""},{"$f":"INPUT!ED134","v":""},{"$f":"INPUT!EE134","v":""},{"$f":"INPUT!EF134","v":""},{"$f":"INPUT!EG134","v":""},"",null,{"$f":"INPUT!EY134","v":""},{"$f":"INPUT!EZ134","v":""},{"$f":"INPUT!FA134","v":""},{"$f":"INPUT!FB134","v":""},{"$f":"INPUT!FC134","v":""},{"$f":"INPUT!FD134","v":""},{"$f":"INPUT!FE134","v":""},"",null,{"$f":"INPUT!FW134","v":""},{"$f":"INPUT!FX134","v":""},{"$f":"INPUT!FY134","v":""},{"$f":"INPUT!FZ134","v":""},{"$f":"INPUT!GA134","v":""},{"$f":"INPUT!GB134","v":""},{"$f":"INPUT!GC134","v":""},null,{"$f":"INPUT!GY134","v":""},{"$f":"INPUT!GZ134","v":""},{"$f":"INPUT!HA134","v":""},{"$f":"INPUT!HB134","v":""},{"$f":"INPUT!HC134","v":""},{"$f":"INPUT!HD134","v":""},{"$f":"INPUT!HE134","v":""},{"$f":"INPUT!HF134","v":""},{"$f":"INPUT!HG134","v":""},null,{"$f":"INPUT!IA134","v":""},{"$f":"INPUT!IB134","v":""},{"$f":"INPUT!IC134","v":""},{"$f":"INPUT!ID134","v":""},{"$f":"INPUT!IE134","v":""},{"$f":"INPUT!IF134","v":""},{"$f":"INPUT!IG134","v":""},{"$f":"INPUT!IH134","v":""},null,{"$f":"INPUT!IZ134","v":""},{"$f":"INPUT!JA134","v":""},{"$f":"INPUT!JB134","v":""},{"$f":"INPUT!JC134","v":""},{"$f":"INPUT!JD134","v":""},{"$f":"INPUT!JE134","v":""},{"$f":"INPUT!JF134","v":""},"",null,{"$f":"INPUT!JX134","v":""},{"$f":"INPUT!JY134","v":""},{"$f":"INPUT!JZ134","v":""},{"$f":"INPUT!KA134","v":""},{"$f":"INPUT!KB134","v":""},{"$f":"INPUT!KC134","v":""},{"$f":"INPUT!KD134","v":""},"",null,{"$f":"INPUT!KZ134","v":""},{"$f":"INPUT!LA134","v":""},{"$f":"INPUT!LB134","v":""},{"$f":"INPUT!LC134","v":""},{"$f":"INPUT!LD134","v":""},{"$f":"INPUT!LE134","v":""},{"$f":"INPUT!LF134","v":""},{"$f":"INPUT!LG134","v":""},{"$f":"INPUT!LH134","v":""},null,{"$f":"INPUT!MB134","v":""},{"$f":"INPUT!MC134","v":""},{"$f":"INPUT!MD134","v":""},{"$f":"INPUT!ME134","v":""},{"$f":"INPUT!MF134","v":""},{"$f":"INPUT!MG134","v":""},{"$f":"INPUT!MH134","v":""},{"$f":"INPUT!MI134","v":""}]
[null,{"$f":"INPUT!EA135","v":""},{"$f":"INPUT!EB135","v":""},{"$f":"INPUT!EC135","v":""},{"$f":"INPUT!ED135","v":""},{"$f":"INPUT!EE135","v":""},{"$f":"INPUT!EF135","v":""},{"$f":"INPUT!EG135","v":""},"",null,{"$f":"INPUT!EY135","v":""},{"$f":"INPUT!EZ135","v":""},{"$f":"INPUT!FA135","v":""},{"$f":"INPUT!FB135","v":""},{"$f":"INPUT!FC135","v":""},{"$f":"INPUT!FD135","v":""},{"$f":"INPUT!FE135","v":""},"",null,{"$f":"INPUT!FW135","v":""},{"$f":"INPUT!FX135","v":""},{"$f":"INPUT!FY135","v":""},{"$f":"INPUT!FZ135","v":""},{"$f":"INPUT!GA135","v":""},{"$f":"INPUT!GB135","v":""},{"$f":"INPUT!GC135","v":""},null,{"$f":"INPUT!GY135","v":""},{"$f":"INPUT!GZ135","v":""},{"$f":"INPUT!HA135","v":""},{"$f":"INPUT!HB135","v":""},{"$f":"INPUT!HC135","v":""},{"$f":"INPUT!HD135","v":""},{"$f":"INPUT!HE135","v":""},{"$f":"INPUT!HF135","v":""},{"$f":"INPUT!HG135","v":""},null,{"$f":"INPUT!IA135","v":""},{"$f":"INPUT!IB135","v":""},{"$f":"INPUT!IC135","v":""},{"$f":"INPUT!ID135","v":""},{"$f":"INPUT!IE135","v":""},{"$f":"INPUT!IF135","v":""},{"$f":"INPUT!IG135","v":""},{"$f":"INPUT!IH135","v":""},null,{"$f":"INPUT!IZ135","v":""},{"$f":"INPUT!JA135","v":""},{"$f":"INPUT!JB135","v":""},{"$f":"INPUT!JC135","v":""},{"$f":"INPUT!JD135","v":""},{"$f":"INPUT!JE135","v":""},{"$f":"INPUT!JF135","v":""},"",null,{"$f":"INPUT!JX135","v":""},{"$f":"INPUT!JY135","v":""},{"$f":"INPUT!JZ135","v":""},{"$f":"INPUT!KA135","v":""},{"$f":"INPUT!KB135","v":""},{"$f":"INPUT!KC135","v":""},{"$f":"INPUT!KD135","v":""},"",null,{"$f":"INPUT!KZ135","v":""},{"$f":"INPUT!LA135","v":""},{"$f":"INPUT!LB135","v":""},{"$f":"INPUT!LC135","v":""},{"$f":"INPUT!LD135","v":""},{"$f":"INPUT!LE135","v":""},{"$f":"INPUT!LF135","v":""},{"$f":"INPUT!LG135","v":""},{"$f":"INPUT!LH135","v":""},null,{"$f":"INPUT!MB135","v":""},{"$f":"INPUT!MC135","v":""},{"$f":"INPUT!MD135","v":""},{"$f":"INPUT!ME135","v":""},{"$f":"INPUT!MF135","v":""},{"$f":"INPUT!MG135","v":""},{"$f":"INPUT!MH135","v":""},{"$f":"INPUT!MI135","v":""}]
[null,{"$f":"INPUT!EA136","v":""},{"$f":"INPUT!EB136","v":""},{"$f":"INPUT!EC136","v":""},{"$f":"INPUT!ED136","v":""},{"$f":"INPUT!EE136","v":""},{"$f":"INPUT!EF136","v":""},{"$f":"INPUT!EG136","v":""},"",null,{"$f":"INPUT!EY136","v":""},{"$f":"INPUT!EZ136","v":""},{"$f":"INPUT!FA136","v":""},{"$f":"INPUT!FB136","v":""},{"$f":"INPUT!FC136","v":""},{"$f":"INPUT!FD136","v":""},{"$f":"INPUT!FE136","v":""},"",null,{"$f":"INPUT!FW136","v":""},{"$f":"INPUT!FX136","v":""},{"$f":"INPUT!FY136","v":""},{"$f":"INPUT!FZ136","v":""},{"$f":"INPUT!GA136","v":""},{"$f":"INPUT!GB136","v":""},{"$f":"INPUT!GC136","v":""},null,{"$f":"INPUT!GY136","v":""},{"$f":"INPUT!GZ136","v":""},{"$f":"INPUT!HA136","v":""},{"$f":"INPUT!HB136","v":""},{"$f":"INPUT!HC136","v":""},{"$f":"INPUT!HD136","v":""},{"$f":"INPUT!HE136","v":""},{"$f":"INPUT!HF136","v":""},{"$f":"INPUT!HG136","v":""},null,{"$f":"INPUT!IA136","v":""},{"$f":"INPUT!IB136","v":""},{"$f":"INPUT!IC136","v":""},{"$f":"INPUT!ID136","v":""},{"$f":"INPUT!IE136","v":""},{"$f":"INPUT!IF136","v":""},{"$f":"INPUT!IG136","v":""},{"$f":"INPUT!IH136","v":""},null,{"$f":"INPUT!IZ136","v":""},{"$f":"INPUT!JA136","v":""},{"$f":"INPUT!JB136","v":""},{"$f":"INPUT!JC136","v":""},{"$f":"INPUT!JD136","v":""},{"$f":"INPUT!JE136","v":""},{"$f":"INPUT!JF136","v":""},"",null,{"$f":"INPUT!JX136","v":""},{"$f":"INPUT!JY136","v":""},{"$f":"INPUT!JZ136","v":""},{"$f":"INPUT!KA136","v":""},{"$f":"INPUT!KB136","v":""},{"$f":"INPUT!KC136","v":""},{"$f":"INPUT!KD136","v":""},"",null,{"$f":"INPUT!KZ136","v":""},{"$f":"INPUT!LA136","v":""},{"$f":"INPUT!LB136","v":""},{"$f":"INPUT!LC136","v":""},{"$f":"INPUT!LD136","v":""},{"$f":"INPUT!LE136","v":""},{"$f":"INPUT!LF136","v":""},{"$f":"INPUT!LG136","v":""},{"$f":"INPUT!LH136","v":""},null,{"$f":"INPUT!MB136","v":""},{"$f":"INPUT!MC136","v":""},{"$f":"INPUT!MD136","v":""},{"$f":"INPUT!ME136","v":""},{"$f":"INPUT!MF136","v":""},{"$f":"INPUT!MG136","v":""},{"$f":"INPUT!MH136","v":""},{"$f":"INPUT!MI136","v":""}]
[null,{"$f":"INPUT!EA137","v":""},{"$f":"INPUT!EB137","v":""},{"$f":"INPUT!EC137","v":""},{"$f":"INPUT!ED137","v":""},{"$f":"INPUT!EE137","v":""},{"$f":"INPUT!EF137","v":""},{"$f":"INPUT!EG137","v":""},"",null,{"$f":"INPUT!EY137","v":""},{"$f":"INPUT!EZ137","v":""},{"$f":"INPUT!FA137","v":""},{"$f":"INPUT!FB137","v":""},{"$f":"INPUT!FC137","v":""},{"$f":"INPUT!FD137","v":""},{"$f":"INPUT!FE137","v":""},"",null,{"$f":"INPUT!FW137","v":""},{"$f":"INPUT!FX137","v":""},{"$f":"INPUT!FY137","v":""},{"$f":"INPUT!FZ137","v":""},{"$f":"INPUT!GA137","v":""},{"$f":"INPUT!GB137","v":""},{"$f":"INPUT!GC137","v":""},null,{"$f":"INPUT!GY137","v":""},{"$f":"INPUT!GZ137","v":""},{"$f":"INPUT!HA137","v":""},{"$f":"INPUT!HB137","v":""},{"$f":"INPUT!HC137","v":""},{"$f":"INPUT!HD137","v":""},{"$f":"INPUT!HE137","v":""},{"$f":"INPUT!HF137","v":""},{"$f":"INPUT!HG137","v":""},null,{"$f":"INPUT!IA137","v":""},{"$f":"INPUT!IB137","v":""},{"$f":"INPUT!IC137","v":""},{"$f":"INPUT!ID137","v":""},{"$f":"INPUT!IE137","v":""},{"$f":"INPUT!IF137","v":""},{"$f":"INPUT!IG137","v":""},{"$f":"INPUT!IH137","v":""},null,{"$f":"INPUT!IZ137","v":""},{"$f":"INPUT!JA137","v":""},{"$f":"INPUT!JB137","v":""},{"$f":"INPUT!JC137","v":""},{"$f":"INPUT!JD137","v":""},{"$f":"INPUT!JE137","v":""},{"$f":"INPUT!JF137","v":""},"",null,{"$f":"INPUT!JX137","v":""},{"$f":"INPUT!JY137","v":""},{"$f":"INPUT!JZ137","v":""},{"$f":"INPUT!KA137","v":""},{"$f":"INPUT!KB137","v":""},{"$f":"INPUT!KC137","v":""},{"$f":"INPUT!KD137","v":""},"",null,{"$f":"INPUT!KZ137","v":""},{"$f":"INPUT!LA137","v":""},{"$f":"INPUT!LB137","v":""},{"$f":"INPUT!LC137","v":""},{"$f":"INPUT!LD137","v":""},{"$f":"INPUT!LE137","v":""},{"$f":"INPUT!LF137","v":""},{"$f":"INPUT!LG137","v":""},{"$f":"INPUT!LH137","v":""},null,{"$f":"INPUT!MB137","v":""},{"$f":"INPUT!MC137","v":""},{"$f":"INPUT!MD137","v":""},{"$f":"INPUT!ME137","v":""},{"$f":"INPUT!MF137","v":""},{"$f":"INPUT!MG137","v":""},{"$f":"INPUT!MH137","v":""},{"$f":"INPUT!MI137","v":""}]
[null,{"$f":"INPUT!EA138","v":""},{"$f":"INPUT!EB138","v":""},{"$f":"INPUT!EC138","v":""},{"$f":"INPUT!ED138","v":""},{"$f":"INPUT!EE138","v":""},{"$f":"INPUT!EF138","v":""},{"$f":"INPUT!EG138","v":""},"",null,{"$f":"INPUT!EY138","v":""},{"$f":"INPUT!EZ138","v":""},{"$f":"INPUT!FA138","v":""},{"$f":"INPUT!FB138","v":""},{"$f":"INPUT!FC138","v":""},{"$f":"INPUT!FD138","v":""},{"$f":"INPUT!FE138","v":""},"",null,{"$f":"INPUT!FW138","v":""},{"$f":"INPUT!FX138","v":""},{"$f":"INPUT!FY138","v":""},{"$f":"INPUT!FZ138","v":""},{"$f":"INPUT!GA138","v":""},{"$f":"INPUT!GB138","v":""},{"$f":"INPUT!GC138","v":""},null,{"$f":"INPUT!GY138","v":""},{"$f":"INPUT!GZ138","v":""},{"$f":"INPUT!HA138","v":""},{"$f":"INPUT!HB138","v":""},{"$f":"INPUT!HC138","v":""},{"$f":"INPUT!HD138","v":""},{"$f":"INPUT!HE138","v":""},{"$f":"INPUT!HF138","v":""},{"$f":"INPUT!HG138","v":""},null,{"$f":"INPUT!IA138","v":""},{"$f":"INPUT!IB138","v":""},{"$f":"INPUT!IC138","v":""},{"$f":"INPUT!ID138","v":""},{"$f":"INPUT!IE138","v":""},{"$f":"INPUT!IF138","v":""},{"$f":"INPUT!IG138","v":""},{"$f":"INPUT!IH138","v":""},null,{"$f":"INPUT!IZ138","v":""},{"$f":"INPUT!JA138","v":""},{"$f":"INPUT!JB138","v":""},{"$f":"INPUT!JC138","v":""},{"$f":"INPUT!JD138","v":""},{"$f":"INPUT!JE138","v":""},{"$f":"INPUT!JF138","v":""},"",null,{"$f":"INPUT!JX138","v":""},{"$f":"INPUT!JY138","v":""},{"$f":"INPUT!JZ138","v":""},{"$f":"INPUT!KA138","v":""},{"$f":"INPUT!KB138","v":""},{"$f":"INPUT!KC138","v":""},{"$f":"INPUT!KD138","v":""},"",null,{"$f":"INPUT!KZ138","v":""},{"$f":"INPUT!LA138","v":""},{"$f":"INPUT!LB138","v":""},{"$f":"INPUT!LC138","v":""},{"$f":"INPUT!LD138","v":""},{"$f":"INPUT!LE138","v":""},{"$f":"INPUT!LF138","v":""},{"$f":"INPUT!LG138","v":""},{"$f":"INPUT!LH138","v":""},null,{"$f":"INPUT!MB138","v":""},{"$f":"INPUT!MC138","v":""},{"$f":"INPUT!MD138","v":""},{"$f":"INPUT!ME138","v":""},{"$f":"INPUT!MF138","v":""},{"$f":"INPUT!MG138","v":""},{"$f":"INPUT!MH138","v":""},{"$f":"INPUT!MI138","v":""}]
[null,{"$f":"INPUT!EA139","v":""},{"$f":"INPUT!EB139","v":""},{"$f":"INPUT!EC139","v":""},{"$f":"INPUT!ED139","v":""},{"$f":"INPUT!EE139","v":""},{"$f":"INPUT!EF139","v":""},{"$f":"INPUT!EG139","v":""},{"$f":"IF(ISNUMBER($H139),1/$H139,\"\")","v":""},null,{"$f":"INPUT!EY139","v":""},{"$f":"INPUT!EZ139","v":""},{"$f":"INPUT!FA139","v":""},{"$f":"INPUT!FB139","v":""},{"$f":"INPUT!FC139","v":""},{"$f":"INPUT!FD139","v":""},{"$f":"INPUT!FE139","v":""},{"$f":"IF(ISNUMBER($Q139),1/$Q139,\"\")","v":""},null,{"$f":"INPUT!FW139","v":""},{"$f":"INPUT!FX139","v":""},{"$f":"INPUT!FY139","v":""},{"$f":"INPUT!FZ139","v":""},{"$f":"INPUT!GA139","v":""},{"$f":"INPUT!GB139","v":""},{"$f":"INPUT!GC139","v":""},null,{"$f":"INPUT!GY139","v":""},{"$f":"INPUT!GZ139","v":""},{"$f":"INPUT!HA139","v":""},{"$f":"INPUT!HB139","v":""},{"$f":"INPUT!HC139","v":""},{"$f":"INPUT!HD139","v":""},{"$f":"INPUT!HE139","v":""},{"$f":"INPUT!HF139","v":""},{"$f":"INPUT!HG139","v":""},null,{"$f":"INPUT!IA139","v":""},{"$f":"INPUT!IB139","v":""},{"$f":"INPUT!IC139","v":""},{"$f":"INPUT!ID139","v":""},{"$f":"INPUT!IE139","v":""},{"$f":"INPUT!IF139","v":""},{"$f":"INPUT!IG139","v":""},{"$f":"INPUT!IH139","v":""},null,{"$f":"INPUT!IZ139","v":""},{"$f":"INPUT!JA139","v":""},{"$f":"INPUT!JB139","v":""},{"$f":"INPUT!JC139","v":""},{"$f":"INPUT!JD139","v":""},{"$f":"INPUT!JE139","v":""},{"$f":"INPUT!JF139","v":""},{"$f":"IF(ISNUMBER($BA139),1/$BA139,\"\")","v":""},null,{"$f":"INPUT!JX139","v":""},{"$f":"INPUT!JY139","v":""},{"$f":"INPUT!JZ139","v":""},{"$f":"INPUT!KA139","v":""},{"$f":"INPUT!KB139","v":""},{"$f":"INPUT!KC139","v":""},{"$f":"INPUT!KD139","v":""},{"$f":"IF(ISNUMBER($BJ139),1/$BJ139,\"\")","v":""},null,{"$f":"INPUT!KZ139","v":""},{"$f":"INPUT!LA139","v":""},{"$f":"INPUT!LB139","v":""},{"$f":"INPUT!LC139","v":""},{"$f":"INPUT!LD139","v":""},{"$f":"INPUT!LE139","v":""},{"$f":"INPUT!LF139","v":""},{"$f":"INPUT!LG139","v":""},{"$f":"INPUT!LH139","v":""},null,{"$f":"INPUT!MB139","v":""},{"$f":"INPUT!MC139","v":""},{"$f":"INPUT!MD139","v":""},{"$f":"INPUT!ME139","v":""},{"$f":"INPUT!MF139","v":""},{"$f":"INPUT!MG139","v":""},{"$f":"INPUT!MH139","v":""},{"$f":"INPUT!MI139","v":""}]
[null,{"$f":"INPUT!EA140","v":""},{"$f":"INPUT!EB140","v":""},{"$f":"INPUT!EC140","v":""},{"$f":"INPUT!ED140","v":""},{"$f":"INPUT!EE140","v":""},{"$f":"INPUT!EF140","v":""},{"$f":"INPUT!EG140","v":""},"",null,{"$f":"INPUT!EY140","v":""},{"$f":"INPUT!EZ140","v":""},{"$f":"INPUT!FA140","v":""},{"$f":"INPUT!FB140","v":""},{"$f":"INPUT!FC140","v":""},{"$f":"INPUT!FD140","v":""},{"$f":"INPUT!FE140","v":""},"",null,{"$f":"INPUT!FW140","v":""},{"$f":"INPUT!FX140","v":""},{"$f":"INPUT!FY140","v":""},{"$f":"INPUT!FZ140","v":""},{"$f":"INPUT!GA140","v":""},{"$f":"INPUT!GB140","v":""},{"$f":"INPUT!GC140","v":""},null,{"$f":"INPUT!GY140","v":""},{"$f":"INPUT!GZ140","v":""},{"$f":"INPUT!HA140","v":""},{"$f":"INPUT!HB140","v":""},{"$f":"INPUT!HC140","v":""},{"$f":"INPUT!HD140","v":""},{"$f":"INPUT!HE140","v":""},{"$f":"INPUT!HF140","v":""},{"$f":"INPUT!HG140","v":""},null,{"$f":"INPUT!IA140","v":""},{"$f":"INPUT!IB140","v":""},{"$f":"INPUT!IC140","v":""},{"$f":"INPUT!ID140","v":""},{"$f":"INPUT!IE140","v":""},{"$f":"INPUT!IF140","v":""},{"$f":"INPUT!IG140","v":""},{"$f":"INPUT!IH140","v":""},null,{"$f":"INPUT!IZ140","v":""},{"$f":"INPUT!JA140","v":""},{"$f":"INPUT!JB140","v":""},{"$f":"INPUT!JC140","v":""},{"$f":"INPUT!JD140","v":""},{"$f":"INPUT!JE140","v":""},{"$f":"INPUT!JF140","v":""},"",null,{"$f":"INPUT!JX140","v":""},{"$f":"INPUT!JY140","v":""},{"$f":"INPUT!JZ140","v":""},{"$f":"INPUT!KA140","v":""},{"$f":"INPUT!KB140","v":""},{"$f":"INPUT!KC140","v":""},{"$f":"INPUT!KD140","v":""},"",null,{"$f":"INPUT!KZ140","v":""},{"$f":"INPUT!LA140","v":""},{"$f":"INPUT!LB140","v":""},{"$f":"INPUT!LC140","v":""},{"$f":"INPUT!LD140","v":""},{"$f":"INPUT!LE140","v":""},{"$f":"INPUT!LF140","v":""},{"$f":"INPUT!LG140","v":""},{"$f":"INPUT!LH140","v":""},null,{"$f":"INPUT!MB140","v":""},{"$f":"INPUT!MC140","v":""},{"$f":"INPUT!MD140","v":""},{"$f":"INPUT!ME140","v":""},{"$f":"INPUT!MF140","v":""},{"$f":"INPUT!MG140","v":""},{"$f":"INPUT!MH140","v":""},{"$f":"INPUT!MI140","v":""}]
[null,{"$f":"INPUT!EA141","v":""},{"$f":"INPUT!EB141","v":""},{"$f":"INPUT!EC141","v":""},{"$f":"INPUT!ED141","v":""},{"$f":"INPUT!EE141","v":""},{"$f":"INPUT!EF141","v":""},{"$f":"INPUT!EG141","v":""},"",null,{"$f":"INPUT!EY141","v":""},{"$f":"INPUT!EZ141","v":""},{"$f":"INPUT!FA141","v":""},{"$f":"INPUT!FB141","v":""},{"$f":"INPUT!FC141","v":""},{"$f":"INPUT!FD141","v":""},{"$f":"INPUT!FE141","v":""},"",null,{"$f":"INPUT!FW141","v":""},{"$f":"INPUT!FX141","v":""},{"$f":"INPUT!FY141","v":""},{"$f":"INPUT!FZ141","v":""},{"$f":"INPUT!GA141","v":""},{"$f":"INPUT!GB141","v":""},{"$f":"INPUT!GC141","v":""},null,{"$f":"INPUT!GY141","v":""},{"$f":"INPUT!GZ141","v":""},{"$f":"INPUT!HA141","v":""},{"$f":"INPUT!HB141","v":""},{"$f":"INPUT!HC141","v":""},{"$f":"INPUT!HD141","v":""},{"$f":"INPUT!HE141","v":""},{"$f":"INPUT!HF141","v":""},{"$f":"INPUT!HG141","v":""},null,{"$f":"INPUT!IA141","v":""},{"$f":"INPUT!IB141","v":""},{"$f":"INPUT!IC141","v":""},{"$f":"INPUT!ID141","v":""},{"$f":"INPUT!IE141","v":""},{"$f":"INPUT!IF141","v":""},{"$f":"INPUT!IG141","v":""},{"$f":"INPUT!IH141","v":""},null,{"$f":"INPUT!IZ141","v":""},{"$f":"INPUT!JA141","v":""},{"$f":"INPUT!JB141","v":""},{"$f":"INPUT!JC141","v":""},{"$f":"INPUT!JD141","v":""},{"$f":"INPUT!JE141","v":""},{"$f":"INPUT!JF141","v":""},"",null,{"$f":"INPUT!JX141","v":""},{"$f":"INPUT!JY141","v":""},{"$f":"INPUT!JZ141","v":""},{"$f":"INPUT!KA141","v":""},{"$f":"INPUT!KB141","v":""},{"$f":"INPUT!KC141","v":""},{"$f":"INPUT!KD141","v":""},"",null,{"$f":"INPUT!KZ141","v":""},{"$f":"INPUT!LA141","v":""},{"$f":"INPUT!LB141","v":""},{"$f":"INPUT!LC141","v":""},{"$f":"INPUT!LD141","v":""},{"$f":"INPUT!LE141","v":""},{"$f":"INPUT!LF141","v":""},{"$f":"INPUT!LG141","v":""},{"$f":"INPUT!LH141","v":""},null,{"$f":"INPUT!MB141","v":""},{"$f":"INPUT!MC141","v":""},{"$f":"INPUT!MD141","v":""},{"$f":"INPUT!ME141","v":""},{"$f":"INPUT!MF141","v":""},{"$f":"INPUT!MG141","v":""},{"$f":"INPUT!MH141","v":""},{"$f":"INPUT!MI141","v":""}]
[null,{"$f":"INPUT!EA142","v":""},{"$f":"INPUT!EB142","v":""},{"$f":"INPUT!EC142","v":""},{"$f":"INPUT!ED142","v":""},{"$f":"INPUT!EE142","v":""},{"$f":"INPUT!EF142","v":""},{"$f":"INPUT!EG142","v":""},"",null,{"$f":"INPUT!EY142","v":""},{"$f":"INPUT!EZ142","v":""},{"$f":"INPUT!FA142","v":""},{"$f":"INPUT!FB142","v":""},{"$f":"INPUT!FC142","v":""},{"$f":"INPUT!FD142","v":""},{"$f":"INPUT!FE142","v":""},"",null,{"$f":"INPUT!FW142","v":""},{"$f":"INPUT!FX142","v":""},{"$f":"INPUT!FY142","v":""},{"$f":"INPUT!FZ142","v":""},{"$f":"INPUT!GA142","v":""},{"$f":"INPUT!GB142","v":""},{"$f":"INPUT!GC142","v":""},null,{"$f":"INPUT!GY142","v":""},{"$f":"INPUT!GZ142","v":""},{"$f":"INPUT!HA142","v":""},{"$f":"INPUT!HB142","v":""},{"$f":"INPUT!HC142","v":""},{"$f":"INPUT!HD142","v":""},{"$f":"INPUT!HE142","v":""},{"$f":"INPUT!HF142","v":""},{"$f":"INPUT!HG142","v":""},null,{"$f":"INPUT!IA142","v":""},{"$f":"INPUT!IB142","v":""},{"$f":"INPUT!IC142","v":""},{"$f":"INPUT!ID142","v":""},{"$f":"INPUT!IE142","v":""},{"$f":"INPUT!IF142","v":""},{"$f":"INPUT!IG142","v":""},{"$f":"INPUT!IH142","v":""},null,{"$f":"INPUT!IZ142","v":""},{"$f":"INPUT!JA142","v":""},{"$f":"INPUT!JB142","v":""},{"$f":"INPUT!JC142","v":""},{"$f":"INPUT!JD142","v":""},{"$f":"INPUT!JE142","v":""},{"$f":"INPUT!JF142","v":""},"",null,{"$f":"INPUT!JX142","v":""},{"$f":"INPUT!JY142","v":""},{"$f":"INPUT!JZ142","v":""},{"$f":"INPUT!KA142","v":""},{"$f":"INPUT!KB142","v":""},{"$f":"INPUT!KC142","v":""},{"$f":"INPUT!KD142","v":""},"",null,{"$f":"INPUT!KZ142","v":""},{"$f":"INPUT!LA142","v":""},{"$f":"INPUT!LB142","v":""},{"$f":"INPUT!LC142","v":""},{"$f":"INPUT!LD142","v":""},{"$f":"INPUT!LE142","v":""},{"$f":"INPUT!LF142","v":""},{"$f":"INPUT!LG142","v":""},{"$f":"INPUT!LH142","v":""},null,{"$f":"INPUT!MB142","v":""},{"$f":"INPUT!MC142","v":""},{"$f":"INPUT!MD142","v":""},{"$f":"INPUT!ME142","v":""},{"$f":"INPUT!MF142","v":""},{"$f":"INPUT!MG142","v":""},{"$f":"INPUT!MH142","v":""},{"$f":"INPUT!MI142","v":""}]
[null,{"$f":"INPUT!EA143","v":""},{"$f":"INPUT!EB143","v":""},{"$f":"INPUT!EC143","v":""},{"$f":"INPUT!ED143","v":""},{"$f":"INPUT!EE143","v":""},{"$f":"INPUT!EF143","v":""},{"$f":"INPUT!EG143","v":""},"",null,{"$f":"INPUT!EY143","v":""},{"$f":"INPUT!EZ143","v":""},{"$f":"INPUT!FA143","v":""},{"$f":"INPUT!FB143","v":""},{"$f":"INPUT!FC143","v":""},{"$f":"INPUT!FD143","v":""},{"$f":"INPUT!FE143","v":""},"",null,{"$f":"INPUT!FW143","v":""},{"$f":"INPUT!FX143","v":""},{"$f":"INPUT!FY143","v":""},{"$f":"INPUT!FZ143","v":""},{"$f":"INPUT!GA143","v":""},{"$f":"INPUT!GB143","v":""},{"$f":"INPUT!GC143","v":""},null,{"$f":"INPUT!GY143","v":""},{"$f":"INPUT!GZ143","v":""},{"$f":"INPUT!HA143","v":""},{"$f":"INPUT!HB143","v":""},{"$f":"INPUT!HC143","v":""},{"$f":"INPUT!HD143","v":""},{"$f":"INPUT!HE143","v":""},{"$f":"INPUT!HF143","v":""},{"$f":"INPUT!HG143","v":""},null,{"$f":"INPUT!IA143","v":""},{"$f":"INPUT!IB143","v":""},{"$f":"INPUT!IC143","v":""},{"$f":"INPUT!ID143","v":""},{"$f":"INPUT!IE143","v":""},{"$f":"INPUT!IF143","v":""},{"$f":"INPUT!IG143","v":""},{"$f":"INPUT!IH143","v":""},null,{"$f":"INPUT!IZ143","v":""},{"$f":"INPUT!JA143","v":""},{"$f":"INPUT!JB143","v":""},{"$f":"INPUT!JC143","v":""},{"$f":"INPUT!JD143","v":""},{"$f":"INPUT!JE143","v":""},{"$f":"INPUT!JF143","v":""},"",null,{"$f":"INPUT!JX143","v":""},{"$f":"INPUT!JY143","v":""},{"$f":"INPUT!JZ143","v":""},{"$f":"INPUT!KA143","v":""},{"$f":"INPUT!KB143","v":""},{"$f":"INPUT!KC143","v":""},{"$f":"INPUT!KD143","v":""},"",null,{"$f":"INPUT!KZ143","v":""},{"$f":"INPUT!LA143","v":""},{"$f":"INPUT!LB143","v":""},{"$f":"INPUT!LC143","v":""},{"$f":"INPUT!LD143","v":""},{"$f":"INPUT!LE143","v":""},{"$f":"INPUT!LF143","v":""},{"$f":"INPUT!LG143","v":""},{"$f":"INPUT!LH143","v":""},null,{"$f":"INPUT!MB143","v":""},{"$f":"INPUT!MC143","v":""},{"$f":"INPUT!MD143","v":""},{"$f":"INPUT!ME143","v":""},{"$f":"INPUT!MF143","v":""},{"$f":"INPUT!MG143","v":""},{"$f":"INPUT!MH143","v":""},{"$f":"INPUT!MI143","v":""}]
[null,{"$f":"INPUT!EA144","v":""},{"$f":"INPUT!EB144","v":""},{"$f":"INPUT!EC144","v":""},{"$f":"INPUT!ED144","v":""},{"$f":"INPUT!EE144","v":""},{"$f":"INPUT!EF144","v":""},{"$f":"INPUT!EG144","v":""},"",null,{"$f":"INPUT!EY144","v":""},{"$f":"INPUT!EZ144","v":""},{"$f":"INPUT!FA144","v":""},{"$f":"INPUT!FB144","v":""},{"$f":"INPUT!FC144","v":""},{"$f":"INPUT!FD144","v":""},{"$f":"INPUT!FE144","v":""},"",null,{"$f":"INPUT!FW144","v":""},{"$f":"INPUT!FX144","v":""},{"$f":"INPUT!FY144","v":""},{"$f":"INPUT!FZ144","v":""},{"$f":"INPUT!GA144","v":""},{"$f":"INPUT!GB144","v":""},{"$f":"INPUT!GC144","v":""},null,{"$f":"INPUT!GY144","v":""},{"$f":"INPUT!GZ144","v":""},{"$f":"INPUT!HA144","v":""},{"$f":"INPUT!HB144","v":""},{"$f":"INPUT!HC144","v":""},{"$f":"INPUT!HD144","v":""},{"$f":"INPUT!HE144","v":""},{"$f":"INPUT!HF144","v":""},{"$f":"INPUT!HG144","v":""},null,{"$f":"INPUT!IA144","v":""},{"$f":"INPUT!IB144","v":""},{"$f":"INPUT!IC144","v":""},{"$f":"INPUT!ID144","v":""},{"$f":"INPUT!IE144","v":""},{"$f":"INPUT!IF144","v":""},{"$f":"INPUT!IG144","v":""},{"$f":"INPUT!IH144","v":""},null,{"$f":"INPUT!IZ144","v":""},{"$f":"INPUT!JA144","v":""},{"$f":"INPUT!JB144","v":""},{"$f":"INPUT!JC144","v":""},{"$f":"INPUT!JD144","v":""},{"$f":"INPUT!JE144","v":""},{"$f":"INPUT!JF144","v":""},"",null,{"$f":"INPUT!JX144","v":""},{"$f":"INPUT!JY144","v":""},{"$f":"INPUT!JZ144","v":""},{"$f":"INPUT!KA144","v":""},{"$f":"INPUT!KB144","v":""},{"$f":"INPUT!KC144","v":""},{"$f":"INPUT!KD144","v":""},"",null,{"$f":"INPUT!KZ144","v":""},{"$f":"INPUT!LA144","v":""},{"$f":"INPUT!LB144","v":""},{"$f":"INPUT!LC144","v":""},{"$f":"INPUT!LD144","v":""},{"$f":"INPUT!LE144","v":""},{"$f":"INPUT!LF144","v":""},{"$f":"INPUT!LG144","v":""},{"$f":"INPUT!LH144","v":""},null,{"$f":"INPUT!MB144","v":""},{"$f":"INPUT!MC144","v":""},{"$f":"INPUT!MD144","v":""},{"$f":"INPUT!ME144","v":""},{"$f":"INPUT!MF144","v":""},{"$f":"INPUT!MG144","v":""},{"$f":"INPUT!MH144","v":""},{"$f":"INPUT!MI144","v":""}]
[null,{"$f":"INPUT!EA145","v":""},{"$f":"INPUT!EB145","v":""},{"$f":"INPUT!EC145","v":""},{"$f":"INPUT!ED145","v":""},{"$f":"INPUT!EE145","v":""},{"$f":"INPUT!EF145","v":""},{"$f":"INPUT!EG145","v":""},"",null,{"$f":"INPUT!EY145","v":""},{"$f":"INPUT!EZ145","v":""},{"$f":"INPUT!FA145","v":""},{"$f":"INPUT!FB145","v":""},{"$f":"INPUT!FC145","v":""},{"$f":"INPUT!FD145","v":""},{"$f":"INPUT!FE145","v":""},"",null,{"$f":"INPUT!FW145","v":""},{"$f":"INPUT!FX145","v":""},{"$f":"INPUT!FY145","v":""},{"$f":"INPUT!FZ145","v":""},{"$f":"INPUT!GA145","v":""},{"$f":"INPUT!GB145","v":""},{"$f":"INPUT!GC145","v":""},null,{"$f":"INPUT!GY145","v":""},{"$f":"INPUT!GZ145","v":""},{"$f":"INPUT!HA145","v":""},{"$f":"INPUT!HB145","v":""},{"$f":"INPUT!HC145","v":""},{"$f":"INPUT!HD145","v":""},{"$f":"INPUT!HE145","v":""},{"$f":"INPUT!HF145","v":""},{"$f":"INPUT!HG145","v":""},null,{"$f":"INPUT!IA145","v":""},{"$f":"INPUT!IB145","v":""},{"$f":"INPUT!IC145","v":""},{"$f":"INPUT!ID145","v":""},{"$f":"INPUT!IE145","v":""},{"$f":"INPUT!IF145","v":""},{"$f":"INPUT!IG145","v":""},{"$f":"INPUT!IH145","v":""},null,{"$f":"INPUT!IZ145","v":""},{"$f":"INPUT!JA145","v":""},{"$f":"INPUT!JB145","v":""},{"$f":"INPUT!JC145","v":""},{"$f":"INPUT!JD145","v":""},{"$f":"INPUT!JE145","v":""},{"$f":"INPUT!JF145","v":""},"",null,{"$f":"INPUT!JX145","v":""},{"$f":"INPUT!JY145","v":""},{"$f":"INPUT!JZ145","v":""},{"$f":"INPUT!KA145","v":""},{"$f":"INPUT!KB145","v":""},{"$f":"INPUT!KC145","v":""},{"$f":"INPUT!KD145","v":""},"",null,{"$f":"INPUT!KZ145","v":""},{"$f":"INPUT!LA145","v":""},{"$f":"INPUT!LB145","v":""},{"$f":"INPUT!LC145","v":""},{"$f":"INPUT!LD145","v":""},{"$f":"INPUT!LE145","v":""},{"$f":"INPUT!LF145","v":""},{"$f":"INPUT!LG145","v":""},{"$f":"INPUT!LH145","v":""},null,{"$f":"INPUT!MB145","v":""},{"$f":"INPUT!MC145","v":""},{"$f":"INPUT!MD145","v":""},{"$f":"INPUT!ME145","v":""},{"$f":"INPUT!MF145","v":""},{"$f":"INPUT!MG145","v":""},{"$f":"INPUT!MH145","v":""},{"$f":"INPUT!MI145","v":""}]
[null,{"$f":"INPUT!EA146","v":""},{"$f":"INPUT!EB146","v":""},{"$f":"INPUT!EC146","v":""},{"$f":"INPUT!ED146","v":""},{"$f":"INPUT!EE146","v":""},{"$f":"INPUT!EF146","v":""},{"$f":"INPUT!EG146","v":""},"",null,{"$f":"INPUT!EY146","v":""},{"$f":"INPUT!EZ146","v":""},{"$f":"INPUT!FA146","v":""},{"$f":"INPUT!FB146","v":""},{"$f":"INPUT!FC146","v":""},{"$f":"INPUT!FD146","v":""},{"$f":"INPUT!FE146","v":""},"",null,{"$f":"INPUT!FW146","v":""},{"$f":"INPUT!FX146","v":""},{"$f":"INPUT!FY146","v":""},{"$f":"INPUT!FZ146","v":""},{"$f":"INPUT!GA146","v":""},{"$f":"INPUT!GB146","v":""},{"$f":"INPUT!GC146","v":""},null,{"$f":"INPUT!GY146","v":""},{"$f":"INPUT!GZ146","v":""},{"$f":"INPUT!HA146","v":""},{"$f":"INPUT!HB146","v":""},{"$f":"INPUT!HC146","v":""},{"$f":"INPUT!HD146","v":""},{"$f":"INPUT!HE146","v":""},{"$f":"INPUT!HF146","v":""},{"$f":"INPUT!HG146","v":""},null,{"$f":"INPUT!IA146","v":""},{"$f":"INPUT!IB146","v":""},{"$f":"INPUT!IC146","v":""},{"$f":"INPUT!ID146","v":""},{"$f":"INPUT!IE146","v":""},{"$f":"INPUT!IF146","v":""},{"$f":"INPUT!IG146","v":""},{"$f":"INPUT!IH146","v":""},null,{"$f":"INPUT!IZ146","v":""},{"$f":"INPUT!JA146","v":""},{"$f":"INPUT!JB146","v":""},{"$f":"INPUT!JC146","v":""},{"$f":"INPUT!JD146","v":""},{"$f":"INPUT!JE146","v":""},{"$f":"INPUT!JF146","v":""},"",null,{"$f":"INPUT!JX146","v":""},{"$f":"INPUT!JY146","v":""},{"$f":"INPUT!JZ146","v":""},{"$f":"INPUT!KA146","v":""},{"$f":"INPUT!KB146","v":""},{"$f":"INPUT!KC146","v":""},{"$f":"INPUT!KD146","v":""},"",null,{"$f":"INPUT!KZ146","v":""},{"$f":"INPUT!LA146","v":""},{"$f":"INPUT!LB146","v":""},{"$f":"INPUT!LC146","v":""},{"$f":"INPUT!LD146","v":""},{"$f":"INPUT!LE146","v":""},{"$f":"INPUT!LF146","v":""},{"$f":"INPUT!LG146","v":""},{"$f":"INPUT!LH146","v":""},null,{"$f":"INPUT!MB146","v":""},{"$f":"INPUT!MC146","v":""},{"$f":"INPUT!MD146","v":""},{"$f":"INPUT!ME146","v":""},{"$f":"INPUT!MF146","v":""},{"$f":"INPUT!MG146","v":""},{"$f":"INPUT!MH146","v":""},{"$f":"INPUT!MI146","v":""}]
[null,{"$f":"INPUT!EA147","v":""},{"$f":"INPUT!EB147","v":""},{"$f":"INPUT!EC147","v":""},{"$f":"INPUT!ED147","v":""},{"$f":"INPUT!EE147","v":""},{"$f":"INPUT!EF147","v":""},{"$f":"INPUT!EG147","v":""},"",null,{"$f":"INPUT!EY147","v":""},{"$f":"INPUT!EZ147","v":""},{"$f":"INPUT!FA147","v":""},{"$f":"INPUT!FB147","v":""},{"$f":"INPUT!FC147","v":""},{"$f":"INPUT!FD147","v":""},{"$f":"INPUT!FE147","v":""},"",null,{"$f":"INPUT!FW147","v":""},{"$f":"INPUT!FX147","v":""},{"$f":"INPUT!FY147","v":""},{"$f":"INPUT!FZ147","v":""},{"$f":"INPUT!GA147","v":""},{"$f":"INPUT!GB147","v":""},{"$f":"INPUT!GC147","v":""},null,{"$f":"INPUT!GY147","v":""},{"$f":"INPUT!GZ147","v":""},{"$f":"INPUT!HA147","v":""},{"$f":"INPUT!HB147","v":""},{"$f":"INPUT!HC147","v":""},{"$f":"INPUT!HD147","v":""},{"$f":"INPUT!HE147","v":""},{"$f":"INPUT!HF147","v":""},{"$f":"INPUT!HG147","v":""},null,{"$f":"INPUT!IA147","v":""},{"$f":"INPUT!IB147","v":""},{"$f":"INPUT!IC147","v":""},{"$f":"INPUT!ID147","v":""},{"$f":"INPUT!IE147","v":""},{"$f":"INPUT!IF147","v":""},{"$f":"INPUT!IG147","v":""},{"$f":"INPUT!IH147","v":""},null,{"$f":"INPUT!IZ147","v":""},{"$f":"INPUT!JA147","v":""},{"$f":"INPUT!JB147","v":""},{"$f":"INPUT!JC147","v":""},{"$f":"INPUT!JD147","v":""},{"$f":"INPUT!JE147","v":""},{"$f":"INPUT!JF147","v":""},"",null,{"$f":"INPUT!JX147","v":""},{"$f":"INPUT!JY147","v":""},{"$f":"INPUT!JZ147","v":""},{"$f":"INPUT!KA147","v":""},{"$f":"INPUT!KB147","v":""},{"$f":"INPUT!KC147","v":""},{"$f":"INPUT!KD147","v":""},"",null,{"$f":"INPUT!KZ147","v":""},{"$f":"INPUT!LA147","v":""},{"$f":"INPUT!LB147","v":""},{"$f":"INPUT!LC147","v":""},{"$f":"INPUT!LD147","v":""},{"$f":"INPUT!LE147","v":""},{"$f":"INPUT!LF147","v":""},{"$f":"INPUT!LG147","v":""},{"$f":"INPUT!LH147","v":""},null,{"$f":"INPUT!MB147","v":""},{"$f":"INPUT!MC147","v":""},{"$f":"INPUT!MD147","v":""},{"$f":"INPUT!ME147","v":""},{"$f":"INPUT!MF147","v":""},{"$f":"INPUT!MG147","v":""},{"$f":"INPUT!MH147","v":""},{"$f":"INPUT!MI147","v":""}]
[null,{"$f":"INPUT!EA148","v":""},{"$f":"INPUT!EB148","v":""},{"$f":"INPUT!EC148","v":""},{"$f":"INPUT!ED148","v":""},{"$f":"INPUT!EE148","v":""},{"$f":"INPUT!EF148","v":""},{"$f":"INPUT!EG148","v":""},"",null,{"$f":"INPUT!EY148","v":""},{"$f":"INPUT!EZ148","v":""},{"$f":"INPUT!FA148","v":""},{"$f":"INPUT!FB148","v":""},{"$f":"INPUT!FC148","v":""},{"$f":"INPUT!FD148","v":""},{"$f":"INPUT!FE148","v":""},"",null,{"$f":"INPUT!FW148","v":""},{"$f":"INPUT!FX148","v":""},{"$f":"INPUT!FY148","v":""},{"$f":"INPUT!FZ148","v":""},{"$f":"INPUT!GA148","v":""},{"$f":"INPUT!GB148","v":""},{"$f":"INPUT!GC148","v":""},null,{"$f":"INPUT!GY148","v":""},{"$f":"INPUT!GZ148","v":""},{"$f":"INPUT!HA148","v":""},{"$f":"INPUT!HB148","v":""},{"$f":"INPUT!HC148","v":""},{"$f":"INPUT!HD148","v":""},{"$f":"INPUT!HE148","v":""},{"$f":"INPUT!HF148","v":""},{"$f":"INPUT!HG148","v":""},null,{"$f":"INPUT!IA148","v":""},{"$f":"INPUT!IB148","v":""},{"$f":"INPUT!IC148","v":""},{"$f":"INPUT!ID148","v":""},{"$f":"INPUT!IE148","v":""},{"$f":"INPUT!IF148","v":""},{"$f":"INPUT!IG148","v":""},{"$f":"INPUT!IH148","v":""},null,{"$f":"INPUT!IZ148","v":""},{"$f":"INPUT!JA148","v":""},{"$f":"INPUT!JB148","v":""},{"$f":"INPUT!JC148","v":""},{"$f":"INPUT!JD148","v":""},{"$f":"INPUT!JE148","v":""},{"$f":"INPUT!JF148","v":""},"",null,{"$f":"INPUT!JX148","v":""},{"$f":"INPUT!JY148","v":""},{"$f":"INPUT!JZ148","v":""},{"$f":"INPUT!KA148","v":""},{"$f":"INPUT!KB148","v":""},{"$f":"INPUT!KC148","v":""},{"$f":"INPUT!KD148","v":""},"",null,{"$f":"INPUT!KZ148","v":""},{"$f":"INPUT!LA148","v":""},{"$f":"INPUT!LB148","v":""},{"$f":"INPUT!LC148","v":""},{"$f":"INPUT!LD148","v":""},{"$f":"INPUT!LE148","v":""},{"$f":"INPUT!LF148","v":""},{"$f":"INPUT!LG148","v":""},{"$f":"INPUT!LH148","v":""},null,{"$f":"INPUT!MB148","v":""},{"$f":"INPUT!MC148","v":""},{"$f":"INPUT!MD148","v":""},{"$f":"INPUT!ME148","v":""},{"$f":"INPUT!MF148","v":""},{"$f":"INPUT!MG148","v":""},{"$f":"INPUT!MH148","v":""},{"$f":"INPUT!MI148","v":""}]
[null,{"$f":"INPUT!EA149","v":""},{"$f":"INPUT!EB149","v":""},{"$f":"INPUT!EC149","v":""},{"$f":"INPUT!ED149","v":""},{"$f":"INPUT!EE149","v":""},{"$f":"INPUT!EF149","v":""},{"$f":"INPUT!EG149","v":""},"",null,{"$f":"INPUT!EY149","v":""},{"$f":"INPUT!EZ149","v":""},{"$f":"INPUT!FA149","v":""},{"$f":"INPUT!FB149","v":""},{"$f":"INPUT!FC149","v":""},{"$f":"INPUT!FD149","v":""},{"$f":"INPUT!FE149","v":""},"",null,{"$f":"INPUT!FW149","v":""},{"$f":"INPUT!FX149","v":""},{"$f":"INPUT!FY149","v":""},{"$f":"INPUT!FZ149","v":""},{"$f":"INPUT!GA149","v":""},{"$f":"INPUT!GB149","v":""},{"$f":"INPUT!GC149","v":""},null,{"$f":"INPUT!GY149","v":""},{"$f":"INPUT!GZ149","v":""},{"$f":"INPUT!HA149","v":""},{"$f":"INPUT!HB149","v":""},{"$f":"INPUT!HC149","v":""},{"$f":"INPUT!HD149","v":""},{"$f":"INPUT!HE149","v":""},{"$f":"INPUT!HF149","v":""},{"$f":"INPUT!HG149","v":""},null,{"$f":"INPUT!IA149","v":""},{"$f":"INPUT!IB149","v":""},{"$f":"INPUT!IC149","v":""},{"$f":"INPUT!ID149","v":""},{"$f":"INPUT!IE149","v":""},{"$f":"INPUT!IF149","v":""},{"$f":"INPUT!IG149","v":""},{"$f":"INPUT!IH149","v":""},null,{"$f":"INPUT!IZ149","v":""},{"$f":"INPUT!JA149","v":""},{"$f":"INPUT!JB149","v":""},{"$f":"INPUT!JC149","v":""},{"$f":"INPUT!JD149","v":""},{"$f":"INPUT!JE149","v":""},{"$f":"INPUT!JF149","v":""},"",null,{"$f":"INPUT!JX149","v":""},{"$f":"INPUT!JY149","v":""},{"$f":"INPUT!JZ149","v":""},{"$f":"INPUT!KA149","v":""},{"$f":"INPUT!KB149","v":""},{"$f":"INPUT!KC149","v":""},{"$f":"INPUT!KD149","v":""},"",null,{"$f":"INPUT!KZ149","v":""},{"$f":"INPUT!LA149","v":""},{"$f":"INPUT!LB149","v":""},{"$f":"INPUT!LC149","v":""},{"$f":"INPUT!LD149","v":""},{"$f":"INPUT!LE149","v":""},{"$f":"INPUT!LF149","v":""},{"$f":"INPUT!LG149","v":""},{"$f":"INPUT!LH149","v":""},null,{"$f":"INPUT!MB149","v":""},{"$f":"INPUT!MC149","v":""},{"$f":"INPUT!MD149","v":""},{"$f":"INPUT!ME149","v":""},{"$f":"INPUT!MF149","v":""},{"$f":"INPUT!MG149","v":""},{"$f":"INPUT!MH149","v":""},{"$f":"INPUT!MI149","v":""}]
[null,{"$f":"INPUT!EA150","v":""},{"$f":"INPUT!EB150","v":""},{"$f":"INPUT!EC150","v":""},{"$f":"INPUT!ED150","v":""},{"$f":"INPUT!EE150","v":""},{"$f":"INPUT!EF150","v":""},{"$f":"INPUT!EG150","v":""},"",null,{"$f":"INPUT!EY150","v":""},{"$f":"INPUT!EZ150","v":""},{"$f":"INPUT!FA150","v":""},{"$f":"INPUT!FB150","v":""},{"$f":"INPUT!FC150","v":""},{"$f":"INPUT!FD150","v":""},{"$f":"INPUT!FE150","v":""},"",null,{"$f":"INPUT!FW150","v":""},{"$f":"INPUT!FX150","v":""},{"$f":"INPUT!FY150","v":""},{"$f":"INPUT!FZ150","v":""},{"$f":"INPUT!GA150","v":""},{"$f":"INPUT!GB150","v":""},{"$f":"INPUT!GC150","v":""},null,{"$f":"INPUT!GY150","v":""},{"$f":"INPUT!GZ150","v":""},{"$f":"INPUT!HA150","v":""},{"$f":"INPUT!HB150","v":""},{"$f":"INPUT!HC150","v":""},{"$f":"INPUT!HD150","v":""},{"$f":"INPUT!HE150","v":""},{"$f":"INPUT!HF150","v":""},{"$f":"INPUT!HG150","v":""},null,{"$f":"INPUT!IA150","v":""},{"$f":"INPUT!IB150","v":""},{"$f":"INPUT!IC150","v":""},{"$f":"INPUT!ID150","v":""},{"$f":"INPUT!IE150","v":""},{"$f":"INPUT!IF150","v":""},{"$f":"INPUT!IG150","v":""},{"$f":"INPUT!IH150","v":""},null,{"$f":"INPUT!IZ150","v":""},{"$f":"INPUT!JA150","v":""},{"$f":"INPUT!JB150","v":""},{"$f":"INPUT!JC150","v":""},{"$f":"INPUT!JD150","v":""},{"$f":"INPUT!JE150","v":""},{"$f":"INPUT!JF150","v":""},"",null,{"$f":"INPUT!JX150","v":""},{"$f":"INPUT!JY150","v":""},{"$f":"INPUT!JZ150","v":""},{"$f":"INPUT!KA150","v":""},{"$f":"INPUT!KB150","v":""},{"$f":"INPUT!KC150","v":""},{"$f":"INPUT!KD150","v":""},"",null,{"$f":"INPUT!KZ150","v":""},{"$f":"INPUT!LA150","v":""},{"$f":"INPUT!LB150","v":""},{"$f":"INPUT!LC150","v":""},{"$f":"INPUT!LD150","v":""},{"$f":"INPUT!LE150","v":""},{"$f":"INPUT!LF150","v":""},{"$f":"INPUT!LG150","v":""},{"$f":"INPUT!LH150","v":""},null,{"$f":"INPUT!MB150","v":""},{"$f":"INPUT!MC150","v":""},{"$f":"INPUT!MD150","v":""},{"$f":"INPUT!ME150","v":""},{"$f":"INPUT!MF150","v":""},{"$f":"INPUT!MG150","v":""},{"$f":"INPUT!MH150","v":""},{"$f":"INPUT!MI150","v":""}]
[null,{"$f":"INPUT!EA151","v":""},{"$f":"INPUT!EB151","v":""},{"$f":"INPUT!EC151","v":""},{"$f":"INPUT!ED151","v":""},{"$f":"INPUT!EE151","v":""},{"$f":"INPUT!EF151","v":""},{"$f":"INPUT!EG151","v":""},"",null,{"$f":"INPUT!EY151","v":""},{"$f":"INPUT!EZ151","v":""},{"$f":"INPUT!FA151","v":""},{"$f":"INPUT!FB151","v":""},{"$f":"INPUT!FC151","v":""},{"$f":"INPUT!FD151","v":""},{"$f":"INPUT!FE151","v":""},"",null,{"$f":"INPUT!FW151","v":""},{"$f":"INPUT!FX151","v":""},{"$f":"INPUT!FY151","v":""},{"$f":"INPUT!FZ151","v":""},{"$f":"INPUT!GA151","v":""},{"$f":"INPUT!GB151","v":""},{"$f":"INPUT!GC151","v":""},null,{"$f":"INPUT!GY151","v":""},{"$f":"INPUT!GZ151","v":""},{"$f":"INPUT!HA151","v":""},{"$f":"INPUT!HB151","v":""},{"$f":"INPUT!HC151","v":""},{"$f":"INPUT!HD151","v":""},{"$f":"INPUT!HE151","v":""},{"$f":"INPUT!HF151","v":""},{"$f":"INPUT!HG151","v":""},null,{"$f":"INPUT!IA151","v":""},{"$f":"INPUT!IB151","v":""},{"$f":"INPUT!IC151","v":""},{"$f":"INPUT!ID151","v":""},{"$f":"INPUT!IE151","v":""},{"$f":"INPUT!IF151","v":""},{"$f":"INPUT!IG151","v":""},{"$f":"INPUT!IH151","v":""},null,{"$f":"INPUT!IZ151","v":""},{"$f":"INPUT!JA151","v":""},{"$f":"INPUT!JB151","v":""},{"$f":"INPUT!JC151","v":""},{"$f":"INPUT!JD151","v":""},{"$f":"INPUT!JE151","v":""},{"$f":"INPUT!JF151","v":""},"",null,{"$f":"INPUT!JX151","v":""},{"$f":"INPUT!JY151","v":""},{"$f":"INPUT!JZ151","v":""},{"$f":"INPUT!KA151","v":""},{"$f":"INPUT!KB151","v":""},{"$f":"INPUT!KC151","v":""},{"$f":"INPUT!KD151","v":""},"",null,{"$f":"INPUT!KZ151","v":""},{"$f":"INPUT!LA151","v":""},{"$f":"INPUT!LB151","v":""},{"$f":"INPUT!LC151","v":""},{"$f":"INPUT!LD151","v":""},{"$f":"INPUT!LE151","v":""},{"$f":"INPUT!LF151","v":""},{"$f":"INPUT!LG151","v":""},{"$f":"INPUT!LH151","v":""},null,{"$f":"INPUT!MB151","v":""},{"$f":"INPUT!MC151","v":""},{"$f":"INPUT!MD151","v":""},{"$f":"INPUT!ME151","v":""},{"$f":"INPUT!MF151","v":""},{"$f":"INPUT!MG151","v":""},{"$f":"INPUT!MH151","v":""},{"$f":"INPUT!MI151","v":""}]
[null,{"$f":"INPUT!EA152","v":""},{"$f":"INPUT!EB152","v":""},{"$f":"INPUT!EC152","v":""},{"$f":"INPUT!ED152","v":""},{"$f":"INPUT!EE152","v":""},{"$f":"INPUT!EF152","v":""},{"$f":"INPUT!EG152","v":""},"",null,{"$f":"INPUT!EY152","v":""},{"$f":"INPUT!EZ152","v":""},{"$f":"INPUT!FA152","v":""},{"$f":"INPUT!FB152","v":""},{"$f":"INPUT!FC152","v":""},{"$f":"INPUT!FD152","v":""},{"$f":"INPUT!FE152","v":""},"",null,{"$f":"INPUT!FW152","v":""},{"$f":"INPUT!FX152","v":""},{"$f":"INPUT!FY152","v":""},{"$f":"INPUT!FZ152","v":""},{"$f":"INPUT!GA152","v":""},{"$f":"INPUT!GB152","v":""},{"$f":"INPUT!GC152","v":""},null,{"$f":"INPUT!GY152","v":""},{"$f":"INPUT!GZ152","v":""},{"$f":"INPUT!HA152","v":""},{"$f":"INPUT!HB152","v":""},{"$f":"INPUT!HC152","v":""},{"$f":"INPUT!HD152","v":""},{"$f":"INPUT!HE152","v":""},{"$f":"INPUT!HF152","v":""},{"$f":"INPUT!HG152","v":""},null,{"$f":"INPUT!IA152","v":""},{"$f":"INPUT!IB152","v":""},{"$f":"INPUT!IC152","v":""},{"$f":"INPUT!ID152","v":""},{"$f":"INPUT!IE152","v":""},{"$f":"INPUT!IF152","v":""},{"$f":"INPUT!IG152","v":""},{"$f":"INPUT!IH152","v":""},null,{"$f":"INPUT!IZ152","v":""},{"$f":"INPUT!JA152","v":""},{"$f":"INPUT!JB152","v":""},{"$f":"INPUT!JC152","v":""},{"$f":"INPUT!JD152","v":""},{"$f":"INPUT!JE152","v":""},{"$f":"INPUT!JF152","v":""},"",null,{"$f":"INPUT!JX152","v":""},{"$f":"INPUT!JY152","v":""},{"$f":"INPUT!JZ152","v":""},{"$f":"INPUT!KA152","v":""},{"$f":"INPUT!KB152","v":""},{"$f":"INPUT!KC152","v":""},{"$f":"INPUT!KD152","v":""},"",null,{"$f":"INPUT!KZ152","v":""},{"$f":"INPUT!LA152","v":""},{"$f":"INPUT!LB152","v":""},{"$f":"INPUT!LC152","v":""},{"$f":"INPUT!LD152","v":""},{"$f":"INPUT!LE152","v":""},{"$f":"INPUT!LF152","v":""},{"$f":"INPUT!LG152","v":""},{"$f":"INPUT!LH152","v":""},null,{"$f":"INPUT!MB152","v":""},{"$f":"INPUT!MC152","v":""},{"$f":"INPUT!MD152","v":""},{"$f":"INPUT!ME152","v":""},{"$f":"INPUT!MF152","v":""},{"$f":"INPUT!MG152","v":""},{"$f":"INPUT!MH152","v":""},{"$f":"INPUT!MI152","v":""}]
[null,{"$f":"INPUT!EA153","v":""},{"$f":"INPUT!EB153","v":""},{"$f":"INPUT!EC153","v":""},{"$f":"INPUT!ED153","v":""},{"$f":"INPUT!EE153","v":""},{"$f":"INPUT!EF153","v":""},{"$f":"INPUT!EG153","v":""},"",null,{"$f":"INPUT!EY153","v":""},{"$f":"INPUT!EZ153","v":""},{"$f":"INPUT!FA153","v":""},{"$f":"INPUT!FB153","v":""},{"$f":"INPUT!FC153","v":""},{"$f":"INPUT!FD153","v":""},{"$f":"INPUT!FE153","v":""},"",null,{"$f":"INPUT!FW153","v":""},{"$f":"INPUT!FX153","v":""},{"$f":"INPUT!FY153","v":""},{"$f":"INPUT!FZ153","v":""},{"$f":"INPUT!GA153","v":""},{"$f":"INPUT!GB153","v":""},{"$f":"INPUT!GC153","v":""},null,{"$f":"INPUT!GY153","v":""},{"$f":"INPUT!GZ153","v":""},{"$f":"INPUT!HA153","v":""},{"$f":"INPUT!HB153","v":""},{"$f":"INPUT!HC153","v":""},{"$f":"INPUT!HD153","v":""},{"$f":"INPUT!HE153","v":""},{"$f":"INPUT!HF153","v":""},{"$f":"INPUT!HG153","v":""},null,{"$f":"INPUT!IA153","v":""},{"$f":"INPUT!IB153","v":""},{"$f":"INPUT!IC153","v":""},{"$f":"INPUT!ID153","v":""},{"$f":"INPUT!IE153","v":""},{"$f":"INPUT!IF153","v":""},{"$f":"INPUT!IG153","v":""},{"$f":"INPUT!IH153","v":""},null,{"$f":"INPUT!IZ153","v":""},{"$f":"INPUT!JA153","v":""},{"$f":"INPUT!JB153","v":""},{"$f":"INPUT!JC153","v":""},{"$f":"INPUT!JD153","v":""},{"$f":"INPUT!JE153","v":""},{"$f":"INPUT!JF153","v":""},"",null,{"$f":"INPUT!JX153","v":""},{"$f":"INPUT!JY153","v":""},{"$f":"INPUT!JZ153","v":""},{"$f":"INPUT!KA153","v":""},{"$f":"INPUT!KB153","v":""},{"$f":"INPUT!KC153","v":""},{"$f":"INPUT!KD153","v":""},"",null,{"$f":"INPUT!KZ153","v":""},{"$f":"INPUT!LA153","v":""},{"$f":"INPUT!LB153","v":""},{"$f":"INPUT!LC153","v":""},{"$f":"INPUT!LD153","v":""},{"$f":"INPUT!LE153","v":""},{"$f":"INPUT!LF153","v":""},{"$f":"INPUT!LG153","v":""},{"$f":"INPUT!LH153","v":""},null,{"$f":"INPUT!MB153","v":""},{"$f":"INPUT!MC153","v":""},{"$f":"INPUT!MD153","v":""},{"$f":"INPUT!ME153","v":""},{"$f":"INPUT!MF153","v":""},{"$f":"INPUT!MG153","v":""},{"$f":"INPUT!MH153","v":""},{"$f":"INPUT!MI153","v":""}]
[null,{"$f":"INPUT!EA154","v":""},{"$f":"INPUT!EB154","v":""},{"$f":"INPUT!EC154","v":""},{"$f":"INPUT!ED154","v":""},{"$f":"INPUT!EE154","v":""},{"$f":"INPUT!EF154","v":""},{"$f":"INPUT!EG154","v":""},"",null,{"$f":"INPUT!EY154","v":""},{"$f":"INPUT!EZ154","v":""},{"$f":"INPUT!FA154","v":""},{"$f":"INPUT!FB154","v":""},{"$f":"INPUT!FC154","v":""},{"$f":"INPUT!FD154","v":""},{"$f":"INPUT!FE154","v":""},"",null,{"$f":"INPUT!FW154","v":""},{"$f":"INPUT!FX154","v":""},{"$f":"INPUT!FY154","v":""},{"$f":"INPUT!FZ154","v":""},{"$f":"INPUT!GA154","v":""},{"$f":"INPUT!GB154","v":""},{"$f":"INPUT!GC154","v":""},null,{"$f":"INPUT!GY154","v":""},{"$f":"INPUT!GZ154","v":""},{"$f":"INPUT!HA154","v":""},{"$f":"INPUT!HB154","v":""},{"$f":"INPUT!HC154","v":""},{"$f":"INPUT!HD154","v":""},{"$f":"INPUT!HE154","v":""},{"$f":"INPUT!HF154","v":""},{"$f":"INPUT!HG154","v":""},null,{"$f":"INPUT!IA154","v":""},{"$f":"INPUT!IB154","v":""},{"$f":"INPUT!IC154","v":""},{"$f":"INPUT!ID154","v":""},{"$f":"INPUT!IE154","v":""},{"$f":"INPUT!IF154","v":""},{"$f":"INPUT!IG154","v":""},{"$f":"INPUT!IH154","v":""},null,{"$f":"INPUT!IZ154","v":""},{"$f":"INPUT!JA154","v":""},{"$f":"INPUT!JB154","v":""},{"$f":"INPUT!JC154","v":""},{"$f":"INPUT!JD154","v":""},{"$f":"INPUT!JE154","v":""},{"$f":"INPUT!JF154","v":""},"",null,{"$f":"INPUT!JX154","v":""},{"$f":"INPUT!JY154","v":""},{"$f":"INPUT!JZ154","v":""},{"$f":"INPUT!KA154","v":""},{"$f":"INPUT!KB154","v":""},{"$f":"INPUT!KC154","v":""},{"$f":"INPUT!KD154","v":""},"",null,{"$f":"INPUT!KZ154","v":""},{"$f":"INPUT!LA154","v":""},{"$f":"INPUT!LB154","v":""},{"$f":"INPUT!LC154","v":""},{"$f":"INPUT!LD154","v":""},{"$f":"INPUT!LE154","v":""},{"$f":"INPUT!LF154","v":""},{"$f":"INPUT!LG154","v":""},{"$f":"INPUT!LH154","v":""},null,{"$f":"INPUT!MB154","v":""},{"$f":"INPUT!MC154","v":""},{"$f":"INPUT!MD154","v":""},{"$f":"INPUT!ME154","v":""},{"$f":"INPUT!MF154","v":""},{"$f":"INPUT!MG154","v":""},{"$f":"INPUT!MH154","v":""},{"$f":"INPUT!MI154","v":""}]
[null,{"$f":"INPUT!EA155","v":""},{"$f":"INPUT!EB155","v":""},{"$f":"INPUT!EC155","v":""},{"$f":"INPUT!ED155","v":""},{"$f":"INPUT!EE155","v":""},{"$f":"INPUT!EF155","v":""},{"$f":"INPUT!EG155","v":""},"",null,{"$f":"INPUT!EY155","v":""},{"$f":"INPUT!EZ155","v":""},{"$f":"INPUT!FA155","v":""},{"$f":"INPUT!FB155","v":""},{"$f":"INPUT!FC155","v":""},{"$f":"INPUT!FD155","v":""},{"$f":"INPUT!FE155","v":""},"",null,{"$f":"INPUT!FW155","v":""},{"$f":"INPUT!FX155","v":""},{"$f":"INPUT!FY155","v":""},{"$f":"INPUT!FZ155","v":""},{"$f":"INPUT!GA155","v":""},{"$f":"INPUT!GB155","v":""},{"$f":"INPUT!GC155","v":""},null,{"$f":"INPUT!GY155","v":""},{"$f":"INPUT!GZ155","v":""},{"$f":"INPUT!HA155","v":""},{"$f":"INPUT!HB155","v":""},{"$f":"INPUT!HC155","v":""},{"$f":"INPUT!HD155","v":""},{"$f":"INPUT!HE155","v":""},{"$f":"INPUT!HF155","v":""},{"$f":"INPUT!HG155","v":""},null,{"$f":"INPUT!IA155","v":""},{"$f":"INPUT!IB155","v":""},{"$f":"INPUT!IC155","v":""},{"$f":"INPUT!ID155","v":""},{"$f":"INPUT!IE155","v":""},{"$f":"INPUT!IF155","v":""},{"$f":"INPUT!IG155","v":""},{"$f":"INPUT!IH155","v":""},null,{"$f":"INPUT!IZ155","v":""},{"$f":"INPUT!JA155","v":""},{"$f":"INPUT!JB155","v":""},{"$f":"INPUT!JC155","v":""},{"$f":"INPUT!JD155","v":""},{"$f":"INPUT!JE155","v":""},{"$f":"INPUT!JF155","v":""},"",null,{"$f":"INPUT!JX155","v":""},{"$f":"INPUT!JY155","v":""},{"$f":"INPUT!JZ155","v":""},{"$f":"INPUT!KA155","v":""},{"$f":"INPUT!KB155","v":""},{"$f":"INPUT!KC155","v":""},{"$f":"INPUT!KD155","v":""},"",null,{"$f":"INPUT!KZ155","v":""},{"$f":"INPUT!LA155","v":""},{"$f":"INPUT!LB155","v":""},{"$f":"INPUT!LC155","v":""},{"$f":"INPUT!LD155","v":""},{"$f":"INPUT!LE155","v":""},{"$f":"INPUT!LF155","v":""},{"$f":"INPUT!LG155","v":""},{"$f":"INPUT!LH155","v":""},null,{"$f":"INPUT!MB155","v":""},{"$f":"INPUT!MC155","v":""},{"$f":"INPUT!MD155","v":""},{"$f":"INPUT!ME155","v":""},{"$f":"INPUT!MF155","v":""},{"$f":"INPUT!MG155","v":""},{"$f":"INPUT!MH155","v":""},{"$f":"INPUT!MI155","v":""}]
[null,{"$f":"INPUT!EA156","v":""},{"$f":"INPUT!EB156","v":""},{"$f":"INPUT!EC156","v":""},{"$f":"INPUT!ED156","v":""},{"$f":"INPUT!EE156","v":""},{"$f":"INPUT!EF156","v":""},{"$f":"INPUT!EG156","v":""},"",null,{"$f":"INPUT!EY156","v":""},{"$f":"INPUT!EZ156","v":""},{"$f":"INPUT!FA156","v":""},{"$f":"INPUT!FB156","v":""},{"$f":"INPUT!FC156","v":""},{"$f":"INPUT!FD156","v":""},{"$f":"INPUT!FE156","v":""},"",null,{"$f":"INPUT!FW156","v":""},{"$f":"INPUT!FX156","v":""},{"$f":"INPUT!FY156","v":""},{"$f":"INPUT!FZ156","v":""},{"$f":"INPUT!GA156","v":""},{"$f":"INPUT!GB156","v":""},{"$f":"INPUT!GC156","v":""},null,{"$f":"INPUT!GY156","v":""},{"$f":"INPUT!GZ156","v":""},{"$f":"INPUT!HA156","v":""},{"$f":"INPUT!HB156","v":""},{"$f":"INPUT!HC156","v":""},{"$f":"INPUT!HD156","v":""},{"$f":"INPUT!HE156","v":""},{"$f":"INPUT!HF156","v":""},{"$f":"INPUT!HG156","v":""},null,{"$f":"INPUT!IA156","v":""},{"$f":"INPUT!IB156","v":""},{"$f":"INPUT!IC156","v":""},{"$f":"INPUT!ID156","v":""},{"$f":"INPUT!IE156","v":""},{"$f":"INPUT!IF156","v":""},{"$f":"INPUT!IG156","v":""},{"$f":"INPUT!IH156","v":""},null,{"$f":"INPUT!IZ156","v":""},{"$f":"INPUT!JA156","v":""},{"$f":"INPUT!JB156","v":""},{"$f":"INPUT!JC156","v":""},{"$f":"INPUT!JD156","v":""},{"$f":"INPUT!JE156","v":""},{"$f":"INPUT!JF156","v":""},"",null,{"$f":"INPUT!JX156","v":""},{"$f":"INPUT!JY156","v":""},{"$f":"INPUT!JZ156","v":""},{"$f":"INPUT!KA156","v":""},{"$f":"INPUT!KB156","v":""},{"$f":"INPUT!KC156","v":""},{"$f":"INPUT!KD156","v":""},"",null,{"$f":"INPUT!KZ156","v":""},{"$f":"INPUT!LA156","v":""},{"$f":"INPUT!LB156","v":""},{"$f":"INPUT!LC156","v":""},{"$f":"INPUT!LD156","v":""},{"$f":"INPUT!LE156","v":""},{"$f":"INPUT!LF156","v":""},{"$f":"INPUT!LG156","v":""},{"$f":"INPUT!LH156","v":""},null,{"$f":"INPUT!MB156","v":""},{"$f":"INPUT!MC156","v":""},{"$f":"INPUT!MD156","v":""},{"$f":"INPUT!ME156","v":""},{"$f":"INPUT!MF156","v":""},{"$f":"INPUT!MG156","v":""},{"$f":"INPUT!MH156","v":""},{"$f":"INPUT!MI156","v":""}]
[null,{"$f":"INPUT!EA157","v":""},{"$f":"INPUT!EB157","v":""},{"$f":"INPUT!EC157","v":""},{"$f":"INPUT!ED157","v":""},{"$f":"INPUT!EE157","v":""},{"$f":"INPUT!EF157","v":""},{"$f":"INPUT!EG157","v":""},"",null,{"$f":"INPUT!EY157","v":""},{"$f":"INPUT!EZ157","v":""},{"$f":"INPUT!FA157","v":""},{"$f":"INPUT!FB157","v":""},{"$f":"INPUT!FC157","v":""},{"$f":"INPUT!FD157","v":""},{"$f":"INPUT!FE157","v":""},"",null,{"$f":"INPUT!FW157","v":""},{"$f":"INPUT!FX157","v":""},{"$f":"INPUT!FY157","v":""},{"$f":"INPUT!FZ157","v":""},{"$f":"INPUT!GA157","v":""},{"$f":"INPUT!GB157","v":""},{"$f":"INPUT!GC157","v":""},null,{"$f":"INPUT!GY157","v":""},{"$f":"INPUT!GZ157","v":""},{"$f":"INPUT!HA157","v":""},{"$f":"INPUT!HB157","v":""},{"$f":"INPUT!HC157","v":""},{"$f":"INPUT!HD157","v":""},{"$f":"INPUT!HE157","v":""},{"$f":"INPUT!HF157","v":""},{"$f":"INPUT!HG157","v":""},null,{"$f":"INPUT!IA157","v":""},{"$f":"INPUT!IB157","v":""},{"$f":"INPUT!IC157","v":""},{"$f":"INPUT!ID157","v":""},{"$f":"INPUT!IE157","v":""},{"$f":"INPUT!IF157","v":""},{"$f":"INPUT!IG157","v":""},{"$f":"INPUT!IH157","v":""},null,{"$f":"INPUT!IZ157","v":""},{"$f":"INPUT!JA157","v":""},{"$f":"INPUT!JB157","v":""},{"$f":"INPUT!JC157","v":""},{"$f":"INPUT!JD157","v":""},{"$f":"INPUT!JE157","v":""},{"$f":"INPUT!JF157","v":""},"",null,{"$f":"INPUT!JX157","v":""},{"$f":"INPUT!JY157","v":""},{"$f":"INPUT!JZ157","v":""},{"$f":"INPUT!KA157","v":""},{"$f":"INPUT!KB157","v":""},{"$f":"INPUT!KC157","v":""},{"$f":"INPUT!KD157","v":""},"",null,{"$f":"INPUT!KZ157","v":""},{"$f":"INPUT!LA157","v":""},{"$f":"INPUT!LB157","v":""},{"$f":"INPUT!LC157","v":""},{"$f":"INPUT!LD157","v":""},{"$f":"INPUT!LE157","v":""},{"$f":"INPUT!LF157","v":""},{"$f":"INPUT!LG157","v":""},{"$f":"INPUT!LH157","v":""},null,{"$f":"INPUT!MB157","v":""},{"$f":"INPUT!MC157","v":""},{"$f":"INPUT!MD157","v":""},{"$f":"INPUT!ME157","v":""},{"$f":"INPUT!MF157","v":""},{"$f":"INPUT!MG157","v":""},{"$f":"INPUT!MH157","v":""},{"$f":"INPUT!MI157","v":""}]
[null,{"$f":"INPUT!EA158","v":""},{"$f":"INPUT!EB158","v":""},{"$f":"INPUT!EC158","v":""},{"$f":"INPUT!ED158","v":""},{"$f":"INPUT!EE158","v":""},{"$f":"INPUT!EF158","v":""},{"$f":"INPUT!EG158","v":""},"",null,{"$f":"INPUT!EY158","v":""},{"$f":"INPUT!EZ158","v":""},{"$f":"INPUT!FA158","v":""},{"$f":"INPUT!FB158","v":""},{"$f":"INPUT!FC158","v":""},{"$f":"INPUT!FD158","v":""},{"$f":"INPUT!FE158","v":""},"",null,{"$f":"INPUT!FW158","v":""},{"$f":"INPUT!FX158","v":""},{"$f":"INPUT!FY158","v":""},{"$f":"INPUT!FZ158","v":""},{"$f":"INPUT!GA158","v":""},{"$f":"INPUT!GB158","v":""},{"$f":"INPUT!GC158","v":""},null,{"$f":"INPUT!GY158","v":""},{"$f":"INPUT!GZ158","v":""},{"$f":"INPUT!HA158","v":""},{"$f":"INPUT!HB158","v":""},{"$f":"INPUT!HC158","v":""},{"$f":"INPUT!HD158","v":""},{"$f":"INPUT!HE158","v":""},{"$f":"INPUT!HF158","v":""},{"$f":"INPUT!HG158","v":""},null,{"$f":"INPUT!IA158","v":""},{"$f":"INPUT!IB158","v":""},{"$f":"INPUT!IC158","v":""},{"$f":"INPUT!ID158","v":""},{"$f":"INPUT!IE158","v":""},{"$f":"INPUT!IF158","v":""},{"$f":"INPUT!IG158","v":""},{"$f":"INPUT!IH158","v":""},null,{"$f":"INPUT!IZ158","v":""},{"$f":"INPUT!JA158","v":""},{"$f":"INPUT!JB158","v":""},{"$f":"INPUT!JC158","v":""},{"$f":"INPUT!JD158","v":""},{"$f":"INPUT!JE158","v":""},{"$f":"INPUT!JF158","v":""},"",null,{"$f":"INPUT!JX158","v":""},{"$f":"INPUT!JY158","v":""},{"$f":"INPUT!JZ158","v":""},{"$f":"INPUT!KA158","v":""},{"$f":"INPUT!KB158","v":""},{"$f":"INPUT!KC158","v":""},{"$f":"INPUT!KD158","v":""},"",null,{"$f":"INPUT!KZ158","v":""},{"$f":"INPUT!LA158","v":""},{"$f":"INPUT!LB158","v":""},{"$f":"INPUT!LC158","v":""},{"$f":"INPUT!LD158","v":""},{"$f":"INPUT!LE158","v":""},{"$f":"INPUT!LF158","v":""},{"$f":"INPUT!LG158","v":""},{"$f":"INPUT!LH158","v":""},null,{"$f":"INPUT!MB158","v":""},{"$f":"INPUT!MC158","v":""},{"$f":"INPUT!MD158","v":""},{"$f":"INPUT!ME158","v":""},{"$f":"INPUT!MF158","v":""},{"$f":"INPUT!MG158","v":""},{"$f":"INPUT!MH158","v":""},{"$f":"INPUT!MI158","v":""}]
[null,{"$f":"INPUT!EA159","v":""},{"$f":"INPUT!EB159","v":""},{"$f":"INPUT!EC159","v":""},{"$f":"INPUT!ED159","v":""},{"$f":"INPUT!EE159","v":""},{"$f":"INPUT!EF159","v":""},{"$f":"INPUT!EG159","v":""},"",null,{"$f":"INPUT!EY159","v":""},{"$f":"INPUT!EZ159","v":""},{"$f":"INPUT!FA159","v":""},{"$f":"INPUT!FB159","v":""},{"$f":"INPUT!FC159","v":""},{"$f":"INPUT!FD159","v":""},{"$f":"INPUT!FE159","v":""},"",null,{"$f":"INPUT!FW159","v":""},{"$f":"INPUT!FX159","v":""},{"$f":"INPUT!FY159","v":""},{"$f":"INPUT!FZ159","v":""},{"$f":"INPUT!GA159","v":""},{"$f":"INPUT!GB159","v":""},{"$f":"INPUT!GC159","v":""},null,{"$f":"INPUT!GY159","v":""},{"$f":"INPUT!GZ159","v":""},{"$f":"INPUT!HA159","v":""},{"$f":"INPUT!HB159","v":""},{"$f":"INPUT!HC159","v":""},{"$f":"INPUT!HD159","v":""},{"$f":"INPUT!HE159","v":""},{"$f":"INPUT!HF159","v":""},{"$f":"INPUT!HG159","v":""},null,{"$f":"INPUT!IA159","v":""},{"$f":"INPUT!IB159","v":""},{"$f":"INPUT!IC159","v":""},{"$f":"INPUT!ID159","v":""},{"$f":"INPUT!IE159","v":""},{"$f":"INPUT!IF159","v":""},{"$f":"INPUT!IG159","v":""},{"$f":"INPUT!IH159","v":""},null,{"$f":"INPUT!IZ159","v":""},{"$f":"INPUT!JA159","v":""},{"$f":"INPUT!JB159","v":""},{"$f":"INPUT!JC159","v":""},{"$f":"INPUT!JD159","v":""},{"$f":"INPUT!JE159","v":""},{"$f":"INPUT!JF159","v":""},"",null,{"$f":"INPUT!JX159","v":""},{"$f":"INPUT!JY159","v":""},{"$f":"INPUT!JZ159","v":""},{"$f":"INPUT!KA159","v":""},{"$f":"INPUT!KB159","v":""},{"$f":"INPUT!KC159","v":""},{"$f":"INPUT!KD159","v":""},"",null,{"$f":"INPUT!KZ159","v":""},{"$f":"INPUT!LA159","v":""},{"$f":"INPUT!LB159","v":""},{"$f":"INPUT!LC159","v":""},{"$f":"INPUT!LD159","v":""},{"$f":"INPUT!LE159","v":""},{"$f":"INPUT!LF159","v":""},{"$f":"INPUT!LG159","v":""},{"$f":"INPUT!LH159","v":""},null,{"$f":"INPUT!MB159","v":""},{"$f":"INPUT!MC159","v":""},{"$f":"INPUT!MD159","v":""},{"$f":"INPUT!ME159","v":""},{"$f":"INPUT!MF159","v":""},{"$f":"INPUT!MG159","v":""},{"$f":"INPUT!MH159","v":""},{"$f":"INPUT!MI159","v":""}]
[null,{"$f":"INPUT!EA160","v":""},{"$f":"INPUT!EB160","v":""},{"$f":"INPUT!EC160","v":""},{"$f":"INPUT!ED160","v":""},{"$f":"INPUT!EE160","v":""},{"$f":"INPUT!EF160","v":""},{"$f":"INPUT!EG160","v":""},"",null,{"$f":"INPUT!EY160","v":""},{"$f":"INPUT!EZ160","v":""},{"$f":"INPUT!FA160","v":""},{"$f":"INPUT!FB160","v":""},{"$f":"INPUT!FC160","v":""},{"$f":"INPUT!FD160","v":""},{"$f":"INPUT!FE160","v":""},"",null,{"$f":"INPUT!FW160","v":""},{"$f":"INPUT!FX160","v":""},{"$f":"INPUT!FY160","v":""},{"$f":"INPUT!FZ160","v":""},{"$f":"INPUT!GA160","v":""},{"$f":"INPUT!GB160","v":""},{"$f":"INPUT!GC160","v":""},null,{"$f":"INPUT!GY160","v":""},{"$f":"INPUT!GZ160","v":""},{"$f":"INPUT!HA160","v":""},{"$f":"INPUT!HB160","v":""},{"$f":"INPUT!HC160","v":""},{"$f":"INPUT!HD160","v":""},{"$f":"INPUT!HE160","v":""},{"$f":"INPUT!HF160","v":""},{"$f":"INPUT!HG160","v":""},null,{"$f":"INPUT!IA160","v":""},{"$f":"INPUT!IB160","v":""},{"$f":"INPUT!IC160","v":""},{"$f":"INPUT!ID160","v":""},{"$f":"INPUT!IE160","v":""},{"$f":"INPUT!IF160","v":""},{"$f":"INPUT!IG160","v":""},{"$f":"INPUT!IH160","v":""},null,{"$f":"INPUT!IZ160","v":""},{"$f":"INPUT!JA160","v":""},{"$f":"INPUT!JB160","v":""},{"$f":"INPUT!JC160","v":""},{"$f":"INPUT!JD160","v":""},{"$f":"INPUT!JE160","v":""},{"$f":"INPUT!JF160","v":""},"",null,{"$f":"INPUT!JX160","v":""},{"$f":"INPUT!JY160","v":""},{"$f":"INPUT!JZ160","v":""},{"$f":"INPUT!KA160","v":""},{"$f":"INPUT!KB160","v":""},{"$f":"INPUT!KC160","v":""},{"$f":"INPUT!KD160","v":""},"",null,{"$f":"INPUT!KZ160","v":""},{"$f":"INPUT!LA160","v":""},{"$f":"INPUT!LB160","v":""},{"$f":"INPUT!LC160","v":""},{"$f":"INPUT!LD160","v":""},{"$f":"INPUT!LE160","v":""},{"$f":"INPUT!LF160","v":""},{"$f":"INPUT!LG160","v":""},{"$f":"INPUT!LH160","v":""},null,{"$f":"INPUT!MB160","v":""},{"$f":"INPUT!MC160","v":""},{"$f":"INPUT!MD160","v":""},{"$f":"INPUT!ME160","v":""},{"$f":"INPUT!MF160","v":""},{"$f":"INPUT!MG160","v":""},{"$f":"INPUT!MH160","v":""},{"$f":"INPUT!MI160","v":""}]
[null,{"$f":"INPUT!EA161","v":""},{"$f":"INPUT!EB161","v":""},{"$f":"INPUT!EC161","v":""},{"$f":"INPUT!ED161","v":""},{"$f":"INPUT!EE161","v":""},{"$f":"INPUT!EF161","v":""},{"$f":"INPUT!EG161","v":""},"",null,{"$f":"INPUT!EY161","v":""},{"$f":"INPUT!EZ161","v":""},{"$f":"INPUT!FA161","v":""},{"$f":"INPUT!FB161","v":""},{"$f":"INPUT!FC161","v":""},{"$f":"INPUT!FD161","v":""},{"$f":"INPUT!FE161","v":""},"",null,{"$f":"INPUT!FW161","v":""},{"$f":"INPUT!FX161","v":""},{"$f":"INPUT!FY161","v":""},{"$f":"INPUT!FZ161","v":""},{"$f":"INPUT!GA161","v":""},{"$f":"INPUT!GB161","v":""},{"$f":"INPUT!GC161","v":""},null,{"$f":"INPUT!GY161","v":""},{"$f":"INPUT!GZ161","v":""},{"$f":"INPUT!HA161","v":""},{"$f":"INPUT!HB161","v":""},{"$f":"INPUT!HC161","v":""},{"$f":"INPUT!HD161","v":""},{"$f":"INPUT!HE161","v":""},{"$f":"INPUT!HF161","v":""},{"$f":"INPUT!HG161","v":""},null,{"$f":"INPUT!IA161","v":""},{"$f":"INPUT!IB161","v":""},{"$f":"INPUT!IC161","v":""},{"$f":"INPUT!ID161","v":""},{"$f":"INPUT!IE161","v":""},{"$f":"INPUT!IF161","v":""},{"$f":"INPUT!IG161","v":""},{"$f":"INPUT!IH161","v":""},null,{"$f":"INPUT!IZ161","v":""},{"$f":"INPUT!JA161","v":""},{"$f":"INPUT!JB161","v":""},{"$f":"INPUT!JC161","v":""},{"$f":"INPUT!JD161","v":""},{"$f":"INPUT!JE161","v":""},{"$f":"INPUT!JF161","v":""},"",null,{"$f":"INPUT!JX161","v":""},{"$f":"INPUT!JY161","v":""},{"$f":"INPUT!JZ161","v":""},{"$f":"INPUT!KA161","v":""},{"$f":"INPUT!KB161","v":""},{"$f":"INPUT!KC161","v":""},{"$f":"INPUT!KD161","v":""},"",null,{"$f":"INPUT!KZ161","v":""},{"$f":"INPUT!LA161","v":""},{"$f":"INPUT!LB161","v":""},{"$f":"INPUT!LC161","v":""},{"$f":"INPUT!LD161","v":""},{"$f":"INPUT!LE161","v":""},{"$f":"INPUT!LF161","v":""},{"$f":"INPUT!LG161","v":""},{"$f":"INPUT!LH161","v":""},null,{"$f":"INPUT!MB161","v":""},{"$f":"INPUT!MC161","v":""},{"$f":"INPUT!MD161","v":""},{"$f":"INPUT!ME161","v":""},{"$f":"INPUT!MF161","v":""},{"$f":"INPUT!MG161","v":""},{"$f":"INPUT!MH161","v":""},{"$f":"INPUT!MI161","v":""}]
[null,{"$f":"INPUT!EA162","v":""},{"$f":"INPUT!EB162","v":""},{"$f":"INPUT!EC162","v":""},{"$f":"INPUT!ED162","v":""},{"$f":"INPUT!EE162","v":""},{"$f":"INPUT!EF162","v":""},{"$f":"INPUT!EG162","v":""},"",null,{"$f":"INPUT!EY162","v":""},{"$f":"INPUT!EZ162","v":""},{"$f":"INPUT!FA162","v":""},{"$f":"INPUT!FB162","v":""},{"$f":"INPUT!FC162","v":""},{"$f":"INPUT!FD162","v":""},{"$f":"INPUT!FE162","v":""},"",null,{"$f":"INPUT!FW162","v":""},{"$f":"INPUT!FX162","v":""},{"$f":"INPUT!FY162","v":""},{"$f":"INPUT!FZ162","v":""},{"$f":"INPUT!GA162","v":""},{"$f":"INPUT!GB162","v":""},{"$f":"INPUT!GC162","v":""},null,{"$f":"INPUT!GY162","v":""},{"$f":"INPUT!GZ162","v":""},{"$f":"INPUT!HA162","v":""},{"$f":"INPUT!HB162","v":""},{"$f":"INPUT!HC162","v":""},{"$f":"INPUT!HD162","v":""},{"$f":"INPUT!HE162","v":""},{"$f":"INPUT!HF162","v":""},{"$f":"INPUT!HG162","v":""},null,{"$f":"INPUT!IA162","v":""},{"$f":"INPUT!IB162","v":""},{"$f":"INPUT!IC162","v":""},{"$f":"INPUT!ID162","v":""},{"$f":"INPUT!IE162","v":""},{"$f":"INPUT!IF162","v":""},{"$f":"INPUT!IG162","v":""},{"$f":"INPUT!IH162","v":""},null,{"$f":"INPUT!IZ162","v":""},{"$f":"INPUT!JA162","v":""},{"$f":"INPUT!JB162","v":""},{"$f":"INPUT!JC162","v":""},{"$f":"INPUT!JD162","v":""},{"$f":"INPUT!JE162","v":""},{"$f":"INPUT!JF162","v":""},"",null,{"$f":"INPUT!JX162","v":""},{"$f":"INPUT!JY162","v":""},{"$f":"INPUT!JZ162","v":""},{"$f":"INPUT!KA162","v":""},{"$f":"INPUT!KB162","v":""},{"$f":"INPUT!KC162","v":""},{"$f":"INPUT!KD162","v":""},"",null,{"$f":"INPUT!KZ162","v":""},{"$f":"INPUT!LA162","v":""},{"$f":"INPUT!LB162","v":""},{"$f":"INPUT!LC162","v":""},{"$f":"INPUT!LD162","v":""},{"$f":"INPUT!LE162","v":""},{"$f":"INPUT!LF162","v":""},{"$f":"INPUT!LG162","v":""},{"$f":"INPUT!LH162","v":""},null,{"$f":"INPUT!MB162","v":""},{"$f":"INPUT!MC162","v":""},{"$f":"INPUT!MD162","v":""},{"$f":"INPUT!ME162","v":""},{"$f":"INPUT!MF162","v":""},{"$f":"INPUT!MG162","v":""},{"$f":"INPUT!MH162","v":""},{"$f":"INPUT!MI162","v":""}]
[null,{"$f":"INPUT!EA163","v":""},{"$f":"INPUT!EB163","v":""},{"$f":"INPUT!EC163","v":""},{"$f":"INPUT!ED163","v":""},{"$f":"INPUT!EE163","v":""},{"$f":"INPUT!EF163","v":""},{"$f":"INPUT!EG163","v":""},"",null,{"$f":"INPUT!EY163","v":""},{"$f":"INPUT!EZ163","v":""},{"$f":"INPUT!FA163","v":""},{"$f":"INPUT!FB163","v":""},{"$f":"INPUT!FC163","v":""},{"$f":"INPUT!FD163","v":""},{"$f":"INPUT!FE163","v":""},"",null,{"$f":"INPUT!FW163","v":""},{"$f":"INPUT!FX163","v":""},{"$f":"INPUT!FY163","v":""},{"$f":"INPUT!FZ163","v":""},{"$f":"INPUT!GA163","v":""},{"$f":"INPUT!GB163","v":""},{"$f":"INPUT!GC163","v":""},null,{"$f":"INPUT!GY163","v":""},{"$f":"INPUT!GZ163","v":""},{"$f":"INPUT!HA163","v":""},{"$f":"INPUT!HB163","v":""},{"$f":"INPUT!HC163","v":""},{"$f":"INPUT!HD163","v":""},{"$f":"INPUT!HE163","v":""},{"$f":"INPUT!HF163","v":""},{"$f":"INPUT!HG163","v":""},null,{"$f":"INPUT!IA163","v":""},{"$f":"INPUT!IB163","v":""},{"$f":"INPUT!IC163","v":""},{"$f":"INPUT!ID163","v":""},{"$f":"INPUT!IE163","v":""},{"$f":"INPUT!IF163","v":""},{"$f":"INPUT!IG163","v":""},{"$f":"INPUT!IH163","v":""},null,{"$f":"INPUT!IZ163","v":""},{"$f":"INPUT!JA163","v":""},{"$f":"INPUT!JB163","v":""},{"$f":"INPUT!JC163","v":""},{"$f":"INPUT!JD163","v":""},{"$f":"INPUT!JE163","v":""},{"$f":"INPUT!JF163","v":""},"",null,{"$f":"INPUT!JX163","v":""},{"$f":"INPUT!JY163","v":""},{"$f":"INPUT!JZ163","v":""},{"$f":"INPUT!KA163","v":""},{"$f":"INPUT!KB163","v":""},{"$f":"INPUT!KC163","v":""},{"$f":"INPUT!KD163","v":""},"",null,{"$f":"INPUT!KZ163","v":""},{"$f":"INPUT!LA163","v":""},{"$f":"INPUT!LB163","v":""},{"$f":"INPUT!LC163","v":""},{"$f":"INPUT!LD163","v":""},{"$f":"INPUT!LE163","v":""},{"$f":"INPUT!LF163","v":""},{"$f":"INPUT!LG163","v":""},{"$f":"INPUT!LH163","v":""},null,{"$f":"INPUT!MB163","v":""},{"$f":"INPUT!MC163","v":""},{"$f":"INPUT!MD163","v":""},{"$f":"INPUT!ME163","v":""},{"$f":"INPUT!MF163","v":""},{"$f":"INPUT!MG163","v":""},{"$f":"INPUT!MH163","v":""},{"$f":"INPUT!MI163","v":""}]
[null,{"$f":"INPUT!EA164","v":""},{"$f":"INPUT!EB164","v":""},{"$f":"INPUT!EC164","v":""},{"$f":"INPUT!ED164","v":""},{"$f":"INPUT!EE164","v":""},{"$f":"INPUT!EF164","v":""},{"$f":"INPUT!EG164","v":""},"",null,{"$f":"INPUT!EY164","v":""},{"$f":"INPUT!EZ164","v":""},{"$f":"INPUT!FA164","v":""},{"$f":"INPUT!FB164","v":""},{"$f":"INPUT!FC164","v":""},{"$f":"INPUT!FD164","v":""},{"$f":"INPUT!FE164","v":""},"",null,{"$f":"INPUT!FW164","v":""},{"$f":"INPUT!FX164","v":""},{"$f":"INPUT!FY164","v":""},{"$f":"INPUT!FZ164","v":""},{"$f":"INPUT!GA164","v":""},{"$f":"INPUT!GB164","v":""},{"$f":"INPUT!GC164","v":""},null,{"$f":"INPUT!GY164","v":""},{"$f":"INPUT!GZ164","v":""},{"$f":"INPUT!HA164","v":""},{"$f":"INPUT!HB164","v":""},{"$f":"INPUT!HC164","v":""},{"$f":"INPUT!HD164","v":""},{"$f":"INPUT!HE164","v":""},{"$f":"INPUT!HF164","v":""},{"$f":"INPUT!HG164","v":""},null,{"$f":"INPUT!IA164","v":""},{"$f":"INPUT!IB164","v":""},{"$f":"INPUT!IC164","v":""},{"$f":"INPUT!ID164","v":""},{"$f":"INPUT!IE164","v":""},{"$f":"INPUT!IF164","v":""},{"$f":"INPUT!IG164","v":""},{"$f":"INPUT!IH164","v":""},null,{"$f":"INPUT!IZ164","v":""},{"$f":"INPUT!JA164","v":""},{"$f":"INPUT!JB164","v":""},{"$f":"INPUT!JC164","v":""},{"$f":"INPUT!JD164","v":""},{"$f":"INPUT!JE164","v":""},{"$f":"INPUT!JF164","v":""},"",null,{"$f":"INPUT!JX164","v":""},{"$f":"INPUT!JY164","v":""},{"$f":"INPUT!JZ164","v":""},{"$f":"INPUT!KA164","v":""},{"$f":"INPUT!KB164","v":""},{"$f":"INPUT!KC164","v":""},{"$f":"INPUT!KD164","v":""},"",null,{"$f":"INPUT!KZ164","v":""},{"$f":"INPUT!LA164","v":""},{"$f":"INPUT!LB164","v":""},{"$f":"INPUT!LC164","v":""},{"$f":"INPUT!LD164","v":""},{"$f":"INPUT!LE164","v":""},{"$f":"INPUT!LF164","v":""},{"$f":"INPUT!LG164","v":""},{"$f":"INPUT!LH164","v":""},null,{"$f":"INPUT!MB164","v":""},{"$f":"INPUT!MC164","v":""},{"$f":"INPUT!MD164","v":""},{"$f":"INPUT!ME164","v":""},{"$f":"INPUT!MF164","v":""},{"$f":"INPUT!MG164","v":""},{"$f":"INPUT!MH164","v":""},{"$f":"INPUT!MI164","v":""}]
[null,{"$f":"INPUT!EA165","v":""},{"$f":"INPUT!EB165","v":""},{"$f":"INPUT!EC165","v":""},{"$f":"INPUT!ED165","v":""},{"$f":"INPUT!EE165","v":""},{"$f":"INPUT!EF165","v":""},{"$f":"INPUT!EG165","v":""},"",null,{"$f":"INPUT!EY165","v":""},{"$f":"INPUT!EZ165","v":""},{"$f":"INPUT!FA165","v":""},{"$f":"INPUT!FB165","v":""},{"$f":"INPUT!FC165","v":""},{"$f":"INPUT!FD165","v":""},{"$f":"INPUT!FE165","v":""},"",null,{"$f":"INPUT!FW165","v":""},{"$f":"INPUT!FX165","v":""},{"$f":"INPUT!FY165","v":""},{"$f":"INPUT!FZ165","v":""},{"$f":"INPUT!GA165","v":""},{"$f":"INPUT!GB165","v":""},{"$f":"INPUT!GC165","v":""},null,{"$f":"INPUT!GY165","v":""},{"$f":"INPUT!GZ165","v":""},{"$f":"INPUT!HA165","v":""},{"$f":"INPUT!HB165","v":""},{"$f":"INPUT!HC165","v":""},{"$f":"INPUT!HD165","v":""},{"$f":"INPUT!HE165","v":""},{"$f":"INPUT!HF165","v":""},{"$f":"INPUT!HG165","v":""},null,{"$f":"INPUT!IA165","v":""},{"$f":"INPUT!IB165","v":""},{"$f":"INPUT!IC165","v":""},{"$f":"INPUT!ID165","v":""},{"$f":"INPUT!IE165","v":""},{"$f":"INPUT!IF165","v":""},{"$f":"INPUT!IG165","v":""},{"$f":"INPUT!IH165","v":""},null,{"$f":"INPUT!IZ165","v":""},{"$f":"INPUT!JA165","v":""},{"$f":"INPUT!JB165","v":""},{"$f":"INPUT!JC165","v":""},{"$f":"INPUT!JD165","v":""},{"$f":"INPUT!JE165","v":""},{"$f":"INPUT!JF165","v":""},"",null,{"$f":"INPUT!JX165","v":""},{"$f":"INPUT!JY165","v":""},{"$f":"INPUT!JZ165","v":""},{"$f":"INPUT!KA165","v":""},{"$f":"INPUT!KB165","v":""},{"$f":"INPUT!KC165","v":""},{"$f":"INPUT!KD165","v":""},"",null,{"$f":"INPUT!KZ165","v":""},{"$f":"INPUT!LA165","v":""},{"$f":"INPUT!LB165","v":""},{"$f":"INPUT!LC165","v":""},{"$f":"INPUT!LD165","v":""},{"$f":"INPUT!LE165","v":""},{"$f":"INPUT!LF165","v":""},{"$f":"INPUT!LG165","v":""},{"$f":"INPUT!LH165","v":""},null,{"$f":"INPUT!MB165","v":""},{"$f":"INPUT!MC165","v":""},{"$f":"INPUT!MD165","v":""},{"$f":"INPUT!ME165","v":""},{"$f":"INPUT!MF165","v":""},{"$f":"INPUT!MG165","v":""},{"$f":"INPUT!MH165","v":""},{"$f":"INPUT!MI165","v":""}]
[null,{"$f":"INPUT!EA166","v":""},{"$f":"INPUT!EB166","v":""},{"$f":"INPUT!EC166","v":""},{"$f":"INPUT!ED166","v":""},{"$f":"INPUT!EE166","v":""},{"$f":"INPUT!EF166","v":""},{"$f":"INPUT!EG166","v":""},"",null,{"$f":"INPUT!EY166","v":""},{"$f":"INPUT!EZ166","v":""},{"$f":"INPUT!FA166","v":""},{"$f":"INPUT!FB166","v":""},{"$f":"INPUT!FC166","v":""},{"$f":"INPUT!FD166","v":""},{"$f":"INPUT!FE166","v":""},"",null,{"$f":"INPUT!FW166","v":""},{"$f":"INPUT!FX166","v":""},{"$f":"INPUT!FY166","v":""},{"$f":"INPUT!FZ166","v":""},{"$f":"INPUT!GA166","v":""},{"$f":"INPUT!GB166","v":""},{"$f":"INPUT!GC166","v":""},null,{"$f":"INPUT!GY166","v":""},{"$f":"INPUT!GZ166","v":""},{"$f":"INPUT!HA166","v":""},{"$f":"INPUT!HB166","v":""},{"$f":"INPUT!HC166","v":""},{"$f":"INPUT!HD166","v":""},{"$f":"INPUT!HE166","v":""},{"$f":"INPUT!HF166","v":""},{"$f":"INPUT!HG166","v":""},null,{"$f":"INPUT!IA166","v":""},{"$f":"INPUT!IB166","v":""},{"$f":"INPUT!IC166","v":""},{"$f":"INPUT!ID166","v":""},{"$f":"INPUT!IE166","v":""},{"$f":"INPUT!IF166","v":""},{"$f":"INPUT!IG166","v":""},{"$f":"INPUT!IH166","v":""},null,{"$f":"INPUT!IZ166","v":""},{"$f":"INPUT!JA166","v":""},{"$f":"INPUT!JB166","v":""},{"$f":"INPUT!JC166","v":""},{"$f":"INPUT!JD166","v":""},{"$f":"INPUT!JE166","v":""},{"$f":"INPUT!JF166","v":""},"",null,{"$f":"INPUT!JX166","v":""},{"$f":"INPUT!JY166","v":""},{"$f":"INPUT!JZ166","v":""},{"$f":"INPUT!KA166","v":""},{"$f":"INPUT!KB166","v":""},{"$f":"INPUT!KC166","v":""},{"$f":"INPUT!KD166","v":""},"",null,{"$f":"INPUT!KZ166","v":""},{"$f":"INPUT!LA166","v":""},{"$f":"INPUT!LB166","v":""},{"$f":"INPUT!LC166","v":""},{"$f":"INPUT!LD166","v":""},{"$f":"INPUT!LE166","v":""},{"$f":"INPUT!LF166","v":""},{"$f":"INPUT!LG166","v":""},{"$f":"INPUT!LH166","v":""},null,{"$f":"INPUT!MB166","v":""},{"$f":"INPUT!MC166","v":""},{"$f":"INPUT!MD166","v":""},{"$f":"INPUT!ME166","v":""},{"$f":"INPUT!MF166","v":""},{"$f":"INPUT!MG166","v":""},{"$f":"INPUT!MH166","v":""},{"$f":"INPUT!MI166","v":""}]
[null,{"$f":"INPUT!EA167","v":""},{"$f":"INPUT!EB167","v":""},{"$f":"INPUT!EC167","v":""},{"$f":"INPUT!ED167","v":""},{"$f":"INPUT!EE167","v":""},{"$f":"INPUT!EF167","v":""},{"$f":"INPUT!EG167","v":""},"",null,{"$f":"INPUT!EY167","v":""},{"$f":"INPUT!EZ167","v":""},{"$f":"INPUT!FA167","v":""},{"$f":"INPUT!FB167","v":""},{"$f":"INPUT!FC167","v":""},{"$f":"INPUT!FD167","v":""},{"$f":"INPUT!FE167","v":""},"",null,{"$f":"INPUT!FW167","v":""},{"$f":"INPUT!FX167","v":""},{"$f":"INPUT!FY167","v":""},{"$f":"INPUT!FZ167","v":""},{"$f":"INPUT!GA167","v":""},{"$f":"INPUT!GB167","v":""},{"$f":"INPUT!GC167","v":""},null,{"$f":"INPUT!GY167","v":""},{"$f":"INPUT!GZ167","v":""},{"$f":"INPUT!HA167","v":""},{"$f":"INPUT!HB167","v":""},{"$f":"INPUT!HC167","v":""},{"$f":"INPUT!HD167","v":""},{"$f":"INPUT!HE167","v":""},{"$f":"INPUT!HF167","v":""},{"$f":"INPUT!HG167","v":""},null,{"$f":"INPUT!IA167","v":""},{"$f":"INPUT!IB167","v":""},{"$f":"INPUT!IC167","v":""},{"$f":"INPUT!ID167","v":""},{"$f":"INPUT!IE167","v":""},{"$f":"INPUT!IF167","v":""},{"$f":"INPUT!IG167","v":""},{"$f":"INPUT!IH167","v":""},null,{"$f":"INPUT!IZ167","v":""},{"$f":"INPUT!JA167","v":""},{"$f":"INPUT!JB167","v":""},{"$f":"INPUT!JC167","v":""},{"$f":"INPUT!JD167","v":""},{"$f":"INPUT!JE167","v":""},{"$f":"INPUT!JF167","v":""},"",null,{"$f":"INPUT!JX167","v":""},{"$f":"INPUT!JY167","v":""},{"$f":"INPUT!JZ167","v":""},{"$f":"INPUT!KA167","v":""},{"$f":"INPUT!KB167","v":""},{"$f":"INPUT!KC167","v":""},{"$f":"INPUT!KD167","v":""},"",null,{"$f":"INPUT!KZ167","v":""},{"$f":"INPUT!LA167","v":""},{"$f":"INPUT!LB167","v":""},{"$f":"INPUT!LC167","v":""},{"$f":"INPUT!LD167","v":""},{"$f":"INPUT!LE167","v":""},{"$f":"INPUT!LF167","v":""},{"$f":"INPUT!LG167","v":""},{"$f":"INPUT!LH167","v":""},null,{"$f":"INPUT!MB167","v":""},{"$f":"INPUT!MC167","v":""},{"$f":"INPUT!MD167","v":""},{"$f":"INPUT!ME167","v":""},{"$f":"INPUT!MF167","v":""},{"$f":"INPUT!MG167","v":""},{"$f":"INPUT!MH167","v":""},{"$f":"INPUT!MI167","v":""}]
[null,{"$f":"INPUT!EA168","v":""},{"$f":"INPUT!EB168","v":""},{"$f":"INPUT!EC168","v":""},{"$f":"INPUT!ED168","v":""},{"$f":"INPUT!EE168","v":""},{"$f":"INPUT!EF168","v":""},{"$f":"INPUT!EG168","v":""},"",null,{"$f":"INPUT!EY168","v":""},{"$f":"INPUT!EZ168","v":""},{"$f":"INPUT!FA168","v":""},{"$f":"INPUT!FB168","v":""},{"$f":"INPUT!FC168","v":""},{"$f":"INPUT!FD168","v":""},{"$f":"INPUT!FE168","v":""},"",null,{"$f":"INPUT!FW168","v":""},{"$f":"INPUT!FX168","v":""},{"$f":"INPUT!FY168","v":""},{"$f":"INPUT!FZ168","v":""},{"$f":"INPUT!GA168","v":""},{"$f":"INPUT!GB168","v":""},{"$f":"INPUT!GC168","v":""},null,{"$f":"INPUT!GY168","v":""},{"$f":"INPUT!GZ168","v":""},{"$f":"INPUT!HA168","v":""},{"$f":"INPUT!HB168","v":""},{"$f":"INPUT!HC168","v":""},{"$f":"INPUT!HD168","v":""},{"$f":"INPUT!HE168","v":""},{"$f":"INPUT!HF168","v":""},{"$f":"INPUT!HG168","v":""},null,{"$f":"INPUT!IA168","v":""},{"$f":"INPUT!IB168","v":""},{"$f":"INPUT!IC168","v":""},{"$f":"INPUT!ID168","v":""},{"$f":"INPUT!IE168","v":""},{"$f":"INPUT!IF168","v":""},{"$f":"INPUT!IG168","v":""},{"$f":"INPUT!IH168","v":""},null,{"$f":"INPUT!IZ168","v":""},{"$f":"INPUT!JA168","v":""},{"$f":"INPUT!JB168","v":""},{"$f":"INPUT!JC168","v":""},{"$f":"INPUT!JD168","v":""},{"$f":"INPUT!JE168","v":""},{"$f":"INPUT!JF168","v":""},"",null,{"$f":"INPUT!JX168","v":""},{"$f":"INPUT!JY168","v":""},{"$f":"INPUT!JZ168","v":""},{"$f":"INPUT!KA168","v":""},{"$f":"INPUT!KB168","v":""},{"$f":"INPUT!KC168","v":""},{"$f":"INPUT!KD168","v":""},"",null,{"$f":"INPUT!KZ168","v":""},{"$f":"INPUT!LA168","v":""},{"$f":"INPUT!LB168","v":""},{"$f":"INPUT!LC168","v":""},{"$f":"INPUT!LD168","v":""},{"$f":"INPUT!LE168","v":""},{"$f":"INPUT!LF168","v":""},{"$f":"INPUT!LG168","v":""},{"$f":"INPUT!LH168","v":""},null,{"$f":"INPUT!MB168","v":""},{"$f":"INPUT!MC168","v":""},{"$f":"INPUT!MD168","v":""},{"$f":"INPUT!ME168","v":""},{"$f":"INPUT!MF168","v":""},{"$f":"INPUT!MG168","v":""},{"$f":"INPUT!MH168","v":""},{"$f":"INPUT!MI168","v":""}]
[null,{"$f":"INPUT!EA169","v":""},{"$f":"INPUT!EB169","v":""},{"$f":"INPUT!EC169","v":""},{"$f":"INPUT!ED169","v":""},{"$f":"INPUT!EE169","v":""},{"$f":"INPUT!EF169","v":""},{"$f":"INPUT!EG169","v":""},"",null,{"$f":"INPUT!EY169","v":""},{"$f":"INPUT!EZ169","v":""},{"$f":"INPUT!FA169","v":""},{"$f":"INPUT!FB169","v":""},{"$f":"INPUT!FC169","v":""},{"$f":"INPUT!FD169","v":""},{"$f":"INPUT!FE169","v":""},"",null,{"$f":"INPUT!FW169","v":""},{"$f":"INPUT!FX169","v":""},{"$f":"INPUT!FY169","v":""},{"$f":"INPUT!FZ169","v":""},{"$f":"INPUT!GA169","v":""},{"$f":"INPUT!GB169","v":""},{"$f":"INPUT!GC169","v":""},null,{"$f":"INPUT!GY169","v":""},{"$f":"INPUT!GZ169","v":""},{"$f":"INPUT!HA169","v":""},{"$f":"INPUT!HB169","v":""},{"$f":"INPUT!HC169","v":""},{"$f":"INPUT!HD169","v":""},{"$f":"INPUT!HE169","v":""},{"$f":"INPUT!HF169","v":""},{"$f":"INPUT!HG169","v":""},null,{"$f":"INPUT!IA169","v":""},{"$f":"INPUT!IB169","v":""},{"$f":"INPUT!IC169","v":""},{"$f":"INPUT!ID169","v":""},{"$f":"INPUT!IE169","v":""},{"$f":"INPUT!IF169","v":""},{"$f":"INPUT!IG169","v":""},{"$f":"INPUT!IH169","v":""},null,{"$f":"INPUT!IZ169","v":""},{"$f":"INPUT!JA169","v":""},{"$f":"INPUT!JB169","v":""},{"$f":"INPUT!JC169","v":""},{"$f":"INPUT!JD169","v":""},{"$f":"INPUT!JE169","v":""},{"$f":"INPUT!JF169","v":""},"",null,{"$f":"INPUT!JX169","v":""},{"$f":"INPUT!JY169","v":""},{"$f":"INPUT!JZ169","v":""},{"$f":"INPUT!KA169","v":""},{"$f":"INPUT!KB169","v":""},{"$f":"INPUT!KC169","v":""},{"$f":"INPUT!KD169","v":""},"",null,{"$f":"INPUT!KZ169","v":""},{"$f":"INPUT!LA169","v":""},{"$f":"INPUT!LB169","v":""},{"$f":"INPUT!LC169","v":""},{"$f":"INPUT!LD169","v":""},{"$f":"INPUT!LE169","v":""},{"$f":"INPUT!LF169","v":""},{"$f":"INPUT!LG169","v":""},{"$f":"INPUT!LH169","v":""},null,{"$f":"INPUT!MB169","v":""},{"$f":"INPUT!MC169","v":""},{"$f":"INPUT!MD169","v":""},{"$f":"INPUT!ME169","v":""},{"$f":"INPUT!MF169","v":""},{"$f":"INPUT!MG169","v":""},{"$f":"INPUT!MH169","v":""},{"$f":"INPUT!MI169","v":""}]
[null,{"$f":"INPUT!EA170","v":""},{"$f":"INPUT!EB170","v":""},{"$f":"INPUT!EC170","v":""},{"$f":"INPUT!ED170","v":""},{"$f":"INPUT!EE170","v":""},{"$f":"INPUT!EF170","v":""},{"$f":"INPUT!EG170","v":""},"",null,{"$f":"INPUT!EY170","v":""},{"$f":"INPUT!EZ170","v":""},{"$f":"INPUT!FA170","v":""},{"$f":"INPUT!FB170","v":""},{"$f":"INPUT!FC170","v":""},{"$f":"INPUT!FD170","v":""},{"$f":"INPUT!FE170","v":""},"",null,{"$f":"INPUT!FW170","v":""},{"$f":"INPUT!FX170","v":""},{"$f":"INPUT!FY170","v":""},{"$f":"INPUT!FZ170","v":""},{"$f":"INPUT!GA170","v":""},{"$f":"INPUT!GB170","v":""},{"$f":"INPUT!GC170","v":""},null,{"$f":"INPUT!GY170","v":""},{"$f":"INPUT!GZ170","v":""},{"$f":"INPUT!HA170","v":""},{"$f":"INPUT!HB170","v":""},{"$f":"INPUT!HC170","v":""},{"$f":"INPUT!HD170","v":""},{"$f":"INPUT!HE170","v":""},{"$f":"INPUT!HF170","v":""},{"$f":"INPUT!HG170","v":""},null,{"$f":"INPUT!IA170","v":""},{"$f":"INPUT!IB170","v":""},{"$f":"INPUT!IC170","v":""},{"$f":"INPUT!ID170","v":""},{"$f":"INPUT!IE170","v":""},{"$f":"INPUT!IF170","v":""},{"$f":"INPUT!IG170","v":""},{"$f":"INPUT!IH170","v":""},null,{"$f":"INPUT!IZ170","v":""},{"$f":"INPUT!JA170","v":""},{"$f":"INPUT!JB170","v":""},{"$f":"INPUT!JC170","v":""},{"$f":"INPUT!JD170","v":""},{"$f":"INPUT!JE170","v":""},{"$f":"INPUT!JF170","v":""},"",null,{"$f":"INPUT!JX170","v":""},{"$f":"INPUT!JY170","v":""},{"$f":"INPUT!JZ170","v":""},{"$f":"INPUT!KA170","v":""},{"$f":"INPUT!KB170","v":""},{"$f":"INPUT!KC170","v":""},{"$f":"INPUT!KD170","v":""},"",null,{"$f":"INPUT!KZ170","v":""},{"$f":"INPUT!LA170","v":""},{"$f":"INPUT!LB170","v":""},{"$f":"INPUT!LC170","v":""},{"$f":"INPUT!LD170","v":""},{"$f":"INPUT!LE170","v":""},{"$f":"INPUT!LF170","v":""},{"$f":"INPUT!LG170","v":""},{"$f":"INPUT!LH170","v":""},null,{"$f":"INPUT!MB170","v":""},{"$f":"INPUT!MC170","v":""},{"$f":"INPUT!MD170","v":""},{"$f":"INPUT!ME170","v":""},{"$f":"INPUT!MF170","v":""},{"$f":"INPUT!MG170","v":""},{"$f":"INPUT!MH170","v":""},{"$f":"INPUT!MI170","v":""}]
[null,{"$f":"INPUT!EA171","v":""},{"$f":"INPUT!EB171","v":""},{"$f":"INPUT!EC171","v":""},{"$f":"INPUT!ED171","v":""},{"$f":"INPUT!EE171","v":""},{"$f":"INPUT!EF171","v":""},{"$f":"INPUT!EG171","v":""},"",null,{"$f":"INPUT!EY171","v":""},{"$f":"INPUT!EZ171","v":""},{"$f":"INPUT!FA171","v":""},{"$f":"INPUT!FB171","v":""},{"$f":"INPUT!FC171","v":""},{"$f":"INPUT!FD171","v":""},{"$f":"INPUT!FE171","v":""},"",null,{"$f":"INPUT!FW171","v":""},{"$f":"INPUT!FX171","v":""},{"$f":"INPUT!FY171","v":""},{"$f":"INPUT!FZ171","v":""},{"$f":"INPUT!GA171","v":""},{"$f":"INPUT!GB171","v":""},{"$f":"INPUT!GC171","v":""},null,{"$f":"INPUT!GY171","v":""},{"$f":"INPUT!GZ171","v":""},{"$f":"INPUT!HA171","v":""},{"$f":"INPUT!HB171","v":""},{"$f":"INPUT!HC171","v":""},{"$f":"INPUT!HD171","v":""},{"$f":"INPUT!HE171","v":""},{"$f":"INPUT!HF171","v":""},{"$f":"INPUT!HG171","v":""},null,{"$f":"INPUT!IA171","v":""},{"$f":"INPUT!IB171","v":""},{"$f":"INPUT!IC171","v":""},{"$f":"INPUT!ID171","v":""},{"$f":"INPUT!IE171","v":""},{"$f":"INPUT!IF171","v":""},{"$f":"INPUT!IG171","v":""},{"$f":"INPUT!IH171","v":""},null,{"$f":"INPUT!IZ171","v":""},{"$f":"INPUT!JA171","v":""},{"$f":"INPUT!JB171","v":""},{"$f":"INPUT!JC171","v":""},{"$f":"INPUT!JD171","v":""},{"$f":"INPUT!JE171","v":""},{"$f":"INPUT!JF171","v":""},"",null,{"$f":"INPUT!JX171","v":""},{"$f":"INPUT!JY171","v":""},{"$f":"INPUT!JZ171","v":""},{"$f":"INPUT!KA171","v":""},{"$f":"INPUT!KB171","v":""},{"$f":"INPUT!KC171","v":""},{"$f":"INPUT!KD171","v":""},"",null,{"$f":"INPUT!KZ171","v":""},{"$f":"INPUT!LA171","v":""},{"$f":"INPUT!LB171","v":""},{"$f":"INPUT!LC171","v":""},{"$f":"INPUT!LD171","v":""},{"$f":"INPUT!LE171","v":""},{"$f":"INPUT!LF171","v":""},{"$f":"INPUT!LG171","v":""},{"$f":"INPUT!LH171","v":""},null,{"$f":"INPUT!MB171","v":""},{"$f":"INPUT!MC171","v":""},{"$f":"INPUT!MD171","v":""},{"$f":"INPUT!ME171","v":""},{"$f":"INPUT!MF171","v":""},{"$f":"INPUT!MG171","v":""},{"$f":"INPUT!MH171","v":""},{"$f":"INPUT!MI171","v":""}]
[null,{"$f":"INPUT!EA172","v":""},{"$f":"INPUT!EB172","v":""},{"$f":"INPUT!EC172","v":""},{"$f":"INPUT!ED172","v":""},{"$f":"INPUT!EE172","v":""},{"$f":"INPUT!EF172","v":""},{"$f":"INPUT!EG172","v":""},"",null,{"$f":"INPUT!EY172","v":""},{"$f":"INPUT!EZ172","v":""},{"$f":"INPUT!FA172","v":""},{"$f":"INPUT!FB172","v":""},{"$f":"INPUT!FC172","v":""},{"$f":"INPUT!FD172","v":""},{"$f":"INPUT!FE172","v":""},"",null,{"$f":"INPUT!FW172","v":""},{"$f":"INPUT!FX172","v":""},{"$f":"INPUT!FY172","v":""},{"$f":"INPUT!FZ172","v":""},{"$f":"INPUT!GA172","v":""},{"$f":"INPUT!GB172","v":""},{"$f":"INPUT!GC172","v":""},null,{"$f":"INPUT!GY172","v":""},{"$f":"INPUT!GZ172","v":""},{"$f":"INPUT!HA172","v":""},{"$f":"INPUT!HB172","v":""},{"$f":"INPUT!HC172","v":""},{"$f":"INPUT!HD172","v":""},{"$f":"INPUT!HE172","v":""},{"$f":"INPUT!HF172","v":""},{"$f":"INPUT!HG172","v":""},null,{"$f":"INPUT!IA172","v":""},{"$f":"INPUT!IB172","v":""},{"$f":"INPUT!IC172","v":""},{"$f":"INPUT!ID172","v":""},{"$f":"INPUT!IE172","v":""},{"$f":"INPUT!IF172","v":""},{"$f":"INPUT!IG172","v":""},{"$f":"INPUT!IH172","v":""},null,{"$f":"INPUT!IZ172","v":""},{"$f":"INPUT!JA172","v":""},{"$f":"INPUT!JB172","v":""},{"$f":"INPUT!JC172","v":""},{"$f":"INPUT!JD172","v":""},{"$f":"INPUT!JE172","v":""},{"$f":"INPUT!JF172","v":""},"",null,{"$f":"INPUT!JX172","v":""},{"$f":"INPUT!JY172","v":""},{"$f":"INPUT!JZ172","v":""},{"$f":"INPUT!KA172","v":""},{"$f":"INPUT!KB172","v":""},{"$f":"INPUT!KC172","v":""},{"$f":"INPUT!KD172","v":""},"",null,{"$f":"INPUT!KZ172","v":""},{"$f":"INPUT!LA172","v":""},{"$f":"INPUT!LB172","v":""},{"$f":"INPUT!LC172","v":""},{"$f":"INPUT!LD172","v":""},{"$f":"INPUT!LE172","v":""},{"$f":"INPUT!LF172","v":""},{"$f":"INPUT!LG172","v":""},{"$f":"INPUT!LH172","v":""},null,{"$f":"INPUT!MB172","v":""},{"$f":"INPUT!MC172","v":""},{"$f":"INPUT!MD172","v":""},{"$f":"INPUT!ME172","v":""},{"$f":"INPUT!MF172","v":""},{"$f":"INPUT!MG172","v":""},{"$f":"INPUT!MH172","v":""},{"$f":"INPUT!MI172","v":""}]
[null,{"$f":"INPUT!EA173","v":""},{"$f":"INPUT!EB173","v":""},{"$f":"INPUT!EC173","v":""},{"$f":"INPUT!ED173","v":""},{"$f":"INPUT!EE173","v":""},{"$f":"INPUT!EF173","v":""},{"$f":"INPUT!EG173","v":""},"",null,{"$f":"INPUT!EY173","v":""},{"$f":"INPUT!EZ173","v":""},{"$f":"INPUT!FA173","v":""},{"$f":"INPUT!FB173","v":""},{"$f":"INPUT!FC173","v":""},{"$f":"INPUT!FD173","v":""},{"$f":"INPUT!FE173","v":""},"",null,{"$f":"INPUT!FW173","v":""},{"$f":"INPUT!FX173","v":""},{"$f":"INPUT!FY173","v":""},{"$f":"INPUT!FZ173","v":""},{"$f":"INPUT!GA173","v":""},{"$f":"INPUT!GB173","v":""},{"$f":"INPUT!GC173","v":""},null,{"$f":"INPUT!GY173","v":""},{"$f":"INPUT!GZ173","v":""},{"$f":"INPUT!HA173","v":""},{"$f":"INPUT!HB173","v":""},{"$f":"INPUT!HC173","v":""},{"$f":"INPUT!HD173","v":""},{"$f":"INPUT!HE173","v":""},{"$f":"INPUT!HF173","v":""},{"$f":"INPUT!HG173","v":""},null,{"$f":"INPUT!IA173","v":""},{"$f":"INPUT!IB173","v":""},{"$f":"INPUT!IC173","v":""},{"$f":"INPUT!ID173","v":""},{"$f":"INPUT!IE173","v":""},{"$f":"INPUT!IF173","v":""},{"$f":"INPUT!IG173","v":""},{"$f":"INPUT!IH173","v":""},null,{"$f":"INPUT!IZ173","v":""},{"$f":"INPUT!JA173","v":""},{"$f":"INPUT!JB173","v":""},{"$f":"INPUT!JC173","v":""},{"$f":"INPUT!JD173","v":""},{"$f":"INPUT!JE173","v":""},{"$f":"INPUT!JF173","v":""},"",null,{"$f":"INPUT!JX173","v":""},{"$f":"INPUT!JY173","v":""},{"$f":"INPUT!JZ173","v":""},{"$f":"INPUT!KA173","v":""},{"$f":"INPUT!KB173","v":""},{"$f":"INPUT!KC173","v":""},{"$f":"INPUT!KD173","v":""},"",null,{"$f":"INPUT!KZ173","v":""},{"$f":"INPUT!LA173","v":""},{"$f":"INPUT!LB173","v":""},{"$f":"INPUT!LC173","v":""},{"$f":"INPUT!LD173","v":""},{"$f":"INPUT!LE173","v":""},{"$f":"INPUT!LF173","v":""},{"$f":"INPUT!LG173","v":""},{"$f":"INPUT!LH173","v":""},null,{"$f":"INPUT!MB173","v":""},{"$f":"INPUT!MC173","v":""},{"$f":"INPUT!MD173","v":""},{"$f":"INPUT!ME173","v":""},{"$f":"INPUT!MF173","v":""},{"$f":"INPUT!MG173","v":""},{"$f":"INPUT!MH173","v":""},{"$f":"INPUT!MI173","v":""}]
[null,{"$f":"INPUT!EA174","v":""},{"$f":"INPUT!EB174","v":""},{"$f":"INPUT!EC174","v":""},{"$f":"INPUT!ED174","v":""},{"$f":"INPUT!EE174","v":""},{"$f":"INPUT!EF174","v":""},{"$f":"INPUT!EG174","v":""},"",null,{"$f":"INPUT!EY174","v":""},{"$f":"INPUT!EZ174","v":""},{"$f":"INPUT!FA174","v":""},{"$f":"INPUT!FB174","v":""},{"$f":"INPUT!FC174","v":""},{"$f":"INPUT!FD174","v":""},{"$f":"INPUT!FE174","v":""},"",null,{"$f":"INPUT!FW174","v":""},{"$f":"INPUT!FX174","v":""},{"$f":"INPUT!FY174","v":""},{"$f":"INPUT!FZ174","v":""},{"$f":"INPUT!GA174","v":""},{"$f":"INPUT!GB174","v":""},{"$f":"INPUT!GC174","v":""},null,{"$f":"INPUT!GY174","v":""},{"$f":"INPUT!GZ174","v":""},{"$f":"INPUT!HA174","v":""},{"$f":"INPUT!HB174","v":""},{"$f":"INPUT!HC174","v":""},{"$f":"INPUT!HD174","v":""},{"$f":"INPUT!HE174","v":""},{"$f":"INPUT!HF174","v":""},{"$f":"INPUT!HG174","v":""},null,{"$f":"INPUT!IA174","v":""},{"$f":"INPUT!IB174","v":""},{"$f":"INPUT!IC174","v":""},{"$f":"INPUT!ID174","v":""},{"$f":"INPUT!IE174","v":""},{"$f":"INPUT!IF174","v":""},{"$f":"INPUT!IG174","v":""},{"$f":"INPUT!IH174","v":""},null,{"$f":"INPUT!IZ174","v":""},{"$f":"INPUT!JA174","v":""},{"$f":"INPUT!JB174","v":""},{"$f":"INPUT!JC174","v":""},{"$f":"INPUT!JD174","v":""},{"$f":"INPUT!JE174","v":""},{"$f":"INPUT!JF174","v":""},"",null,{"$f":"INPUT!JX174","v":""},{"$f":"INPUT!JY174","v":""},{"$f":"INPUT!JZ174","v":""},{"$f":"INPUT!KA174","v":""},{"$f":"INPUT!KB174","v":""},{"$f":"INPUT!KC174","v":""},{"$f":"INPUT!KD174","v":""},"",null,{"$f":"INPUT!KZ174","v":""},{"$f":"INPUT!LA174","v":""},{"$f":"INPUT!LB174","v":""},{"$f":"INPUT!LC174","v":""},{"$f":"INPUT!LD174","v":""},{"$f":"INPUT!LE174","v":""},{"$f":"INPUT!LF174","v":""},{"$f":"INPUT!LG174","v":""},{"$f":"INPUT!LH174","v":""},null,{"$f":"INPUT!MB174","v":""},{"$f":"INPUT!MC174","v":""},{"$f":"INPUT!MD174","v":""},{"$f":"INPUT!ME174","v":""},{"$f":"INPUT!MF174","v":""},{"$f":"INPUT!MG174","v":""},{"$f":"INPUT!MH174","v":""},{"$f":"INPUT!MI174","v":""}]
[null,{"$f":"INPUT!EA175","v":""},{"$f":"INPUT!EB175","v":""},{"$f":"INPUT!EC175","v":""},{"$f":"INPUT!ED175","v":""},{"$f":"INPUT!EE175","v":""},{"$f":"INPUT!EF175","v":""},{"$f":"INPUT!EG175","v":""},"",null,{"$f":"INPUT!EY175","v":""},{"$f":"INPUT!EZ175","v":""},{"$f":"INPUT!FA175","v":""},{"$f":"INPUT!FB175","v":""},{"$f":"INPUT!FC175","v":""},{"$f":"INPUT!FD175","v":""},{"$f":"INPUT!FE175","v":""},"",null,{"$f":"INPUT!FW175","v":""},{"$f":"INPUT!FX175","v":""},{"$f":"INPUT!FY175","v":""},{"$f":"INPUT!FZ175","v":""},{"$f":"INPUT!GA175","v":""},{"$f":"INPUT!GB175","v":""},{"$f":"INPUT!GC175","v":""},null,{"$f":"INPUT!GY175","v":""},{"$f":"INPUT!GZ175","v":""},{"$f":"INPUT!HA175","v":""},{"$f":"INPUT!HB175","v":""},{"$f":"INPUT!HC175","v":""},{"$f":"INPUT!HD175","v":""},{"$f":"INPUT!HE175","v":""},{"$f":"INPUT!HF175","v":""},{"$f":"INPUT!HG175","v":""},null,{"$f":"INPUT!IA175","v":""},{"$f":"INPUT!IB175","v":""},{"$f":"INPUT!IC175","v":""},{"$f":"INPUT!ID175","v":""},{"$f":"INPUT!IE175","v":""},{"$f":"INPUT!IF175","v":""},{"$f":"INPUT!IG175","v":""},{"$f":"INPUT!IH175","v":""},null,{"$f":"INPUT!IZ175","v":""},{"$f":"INPUT!JA175","v":""},{"$f":"INPUT!JB175","v":""},{"$f":"INPUT!JC175","v":""},{"$f":"INPUT!JD175","v":""},{"$f":"INPUT!JE175","v":""},{"$f":"INPUT!JF175","v":""},"",null,{"$f":"INPUT!JX175","v":""},{"$f":"INPUT!JY175","v":""},{"$f":"INPUT!JZ175","v":""},{"$f":"INPUT!KA175","v":""},{"$f":"INPUT!KB175","v":""},{"$f":"INPUT!KC175","v":""},{"$f":"INPUT!KD175","v":""},"",null,{"$f":"INPUT!KZ175","v":""},{"$f":"INPUT!LA175","v":""},{"$f":"INPUT!LB175","v":""},{"$f":"INPUT!LC175","v":""},{"$f":"INPUT!LD175","v":""},{"$f":"INPUT!LE175","v":""},{"$f":"INPUT!LF175","v":""},{"$f":"INPUT!LG175","v":""},{"$f":"INPUT!LH175","v":""},null,{"$f":"INPUT!MB175","v":""},{"$f":"INPUT!MC175","v":""},{"$f":"INPUT!MD175","v":""},{"$f":"INPUT!ME175","v":""},{"$f":"INPUT!MF175","v":""},{"$f":"INPUT!MG175","v":""},{"$f":"INPUT!MH175","v":""},{"$f":"INPUT!MI175","v":""}]
[null,{"$f":"INPUT!EA176","v":""},{"$f":"INPUT!EB176","v":""},{"$f":"INPUT!EC176","v":""},{"$f":"INPUT!ED176","v":""},{"$f":"INPUT!EE176","v":""},{"$f":"INPUT!EF176","v":""},{"$f":"INPUT!EG176","v":""},"",null,{"$f":"INPUT!EY176","v":""},{"$f":"INPUT!EZ176","v":""},{"$f":"INPUT!FA176","v":""},{"$f":"INPUT!FB176","v":""},{"$f":"INPUT!FC176","v":""},{"$f":"INPUT!FD176","v":""},{"$f":"INPUT!FE176","v":""},"",null,{"$f":"INPUT!FW176","v":""},{"$f":"INPUT!FX176","v":""},{"$f":"INPUT!FY176","v":""},{"$f":"INPUT!FZ176","v":""},{"$f":"INPUT!GA176","v":""},{"$f":"INPUT!GB176","v":""},{"$f":"INPUT!GC176","v":""},null,{"$f":"INPUT!GY176","v":""},{"$f":"INPUT!GZ176","v":""},{"$f":"INPUT!HA176","v":""},{"$f":"INPUT!HB176","v":""},{"$f":"INPUT!HC176","v":""},{"$f":"INPUT!HD176","v":""},{"$f":"INPUT!HE176","v":""},{"$f":"INPUT!HF176","v":""},{"$f":"INPUT!HG176","v":""},null,{"$f":"INPUT!IA176","v":""},{"$f":"INPUT!IB176","v":""},{"$f":"INPUT!IC176","v":""},{"$f":"INPUT!ID176","v":""},{"$f":"INPUT!IE176","v":""},{"$f":"INPUT!IF176","v":""},{"$f":"INPUT!IG176","v":""},{"$f":"INPUT!IH176","v":""},null,{"$f":"INPUT!IZ176","v":""},{"$f":"INPUT!JA176","v":""},{"$f":"INPUT!JB176","v":""},{"$f":"INPUT!JC176","v":""},{"$f":"INPUT!JD176","v":""},{"$f":"INPUT!JE176","v":""},{"$f":"INPUT!JF176","v":""},"",null,{"$f":"INPUT!JX176","v":""},{"$f":"INPUT!JY176","v":""},{"$f":"INPUT!JZ176","v":""},{"$f":"INPUT!KA176","v":""},{"$f":"INPUT!KB176","v":""},{"$f":"INPUT!KC176","v":""},{"$f":"INPUT!KD176","v":""},"",null,{"$f":"INPUT!KZ176","v":""},{"$f":"INPUT!LA176","v":""},{"$f":"INPUT!LB176","v":""},{"$f":"INPUT!LC176","v":""},{"$f":"INPUT!LD176","v":""},{"$f":"INPUT!LE176","v":""},{"$f":"INPUT!LF176","v":""},{"$f":"INPUT!LG176","v":""},{"$f":"INPUT!LH176","v":""},null,{"$f":"INPUT!MB176","v":""},{"$f":"INPUT!MC176","v":""},{"$f":"INPUT!MD176","v":""},{"$f":"INPUT!ME176","v":""},{"$f":"INPUT!MF176","v":""},{"$f":"INPUT!MG176","v":""},{"$f":"INPUT!MH176","v":""},{"$f":"INPUT!MI176","v":""}]
[null,{"$f":"INPUT!EA177","v":""},{"$f":"INPUT!EB177","v":""},{"$f":"INPUT!EC177","v":""},{"$f":"INPUT!ED177","v":""},{"$f":"INPUT!EE177","v":""},{"$f":"INPUT!EF177","v":""},{"$f":"INPUT!EG177","v":""},"",null,{"$f":"INPUT!EY177","v":""},{"$f":"INPUT!EZ177","v":""},{"$f":"INPUT!FA177","v":""},{"$f":"INPUT!FB177","v":""},{"$f":"INPUT!FC177","v":""},{"$f":"INPUT!FD177","v":""},{"$f":"INPUT!FE177","v":""},"",null,{"$f":"INPUT!FW177","v":""},{"$f":"INPUT!FX177","v":""},{"$f":"INPUT!FY177","v":""},{"$f":"INPUT!FZ177","v":""},{"$f":"INPUT!GA177","v":""},{"$f":"INPUT!GB177","v":""},{"$f":"INPUT!GC177","v":""},null,{"$f":"INPUT!GY177","v":""},{"$f":"INPUT!GZ177","v":""},{"$f":"INPUT!HA177","v":""},{"$f":"INPUT!HB177","v":""},{"$f":"INPUT!HC177","v":""},{"$f":"INPUT!HD177","v":""},{"$f":"INPUT!HE177","v":""},{"$f":"INPUT!HF177","v":""},{"$f":"INPUT!HG177","v":""},null,{"$f":"INPUT!IA177","v":""},{"$f":"INPUT!IB177","v":""},{"$f":"INPUT!IC177","v":""},{"$f":"INPUT!ID177","v":""},{"$f":"INPUT!IE177","v":""},{"$f":"INPUT!IF177","v":""},{"$f":"INPUT!IG177","v":""},{"$f":"INPUT!IH177","v":""},null,{"$f":"INPUT!IZ177","v":""},{"$f":"INPUT!JA177","v":""},{"$f":"INPUT!JB177","v":""},{"$f":"INPUT!JC177","v":""},{"$f":"INPUT!JD177","v":""},{"$f":"INPUT!JE177","v":""},{"$f":"INPUT!JF177","v":""},"",null,{"$f":"INPUT!JX177","v":""},{"$f":"INPUT!JY177","v":""},{"$f":"INPUT!JZ177","v":""},{"$f":"INPUT!KA177","v":""},{"$f":"INPUT!KB177","v":""},{"$f":"INPUT!KC177","v":""},{"$f":"INPUT!KD177","v":""},"",null,{"$f":"INPUT!KZ177","v":""},{"$f":"INPUT!LA177","v":""},{"$f":"INPUT!LB177","v":""},{"$f":"INPUT!LC177","v":""},{"$f":"INPUT!LD177","v":""},{"$f":"INPUT!LE177","v":""},{"$f":"INPUT!LF177","v":""},{"$f":"INPUT!LG177","v":""},{"$f":"INPUT!LH177","v":""},null,{"$f":"INPUT!MB177","v":""},{"$f":"INPUT!MC177","v":""},{"$f":"INPUT!MD177","v":""},{"$f":"INPUT!ME177","v":""},{"$f":"INPUT!MF177","v":""},{"$f":"INPUT!MG177","v":""},{"$f":"INPUT!MH177","v":""},{"$f":"INPUT!MI177","v":""}]
[null,{"$f":"INPUT!EA178","v":""},{"$f":"INPUT!EB178","v":""},{"$f":"INPUT!EC178","v":""},{"$f":"INPUT!ED178","v":""},{"$f":"INPUT!EE178","v":""},{"$f":"INPUT!EF178","v":""},{"$f":"INPUT!EG178","v":""},"",null,{"$f":"INPUT!EY178","v":""},{"$f":"INPUT!EZ178","v":""},{"$f":"INPUT!FA178","v":""},{"$f":"INPUT!FB178","v":""},{"$f":"INPUT!FC178","v":""},{"$f":"INPUT!FD178","v":""},{"$f":"INPUT!FE178","v":""},"",null,{"$f":"INPUT!FW178","v":""},{"$f":"INPUT!FX178","v":""},{"$f":"INPUT!FY178","v":""},{"$f":"INPUT!FZ178","v":""},{"$f":"INPUT!GA178","v":""},{"$f":"INPUT!GB178","v":""},{"$f":"INPUT!GC178","v":""},null,{"$f":"INPUT!GY178","v":""},{"$f":"INPUT!GZ178","v":""},{"$f":"INPUT!HA178","v":""},{"$f":"INPUT!HB178","v":""},{"$f":"INPUT!HC178","v":""},{"$f":"INPUT!HD178","v":""},{"$f":"INPUT!HE178","v":""},{"$f":"INPUT!HF178","v":""},{"$f":"INPUT!HG178","v":""},null,{"$f":"INPUT!IA178","v":""},{"$f":"INPUT!IB178","v":""},{"$f":"INPUT!IC178","v":""},{"$f":"INPUT!ID178","v":""},{"$f":"INPUT!IE178","v":""},{"$f":"INPUT!IF178","v":""},{"$f":"INPUT!IG178","v":""},{"$f":"INPUT!IH178","v":""},null,{"$f":"INPUT!IZ178","v":""},{"$f":"INPUT!JA178","v":""},{"$f":"INPUT!JB178","v":""},{"$f":"INPUT!JC178","v":""},{"$f":"INPUT!JD178","v":""},{"$f":"INPUT!JE178","v":""},{"$f":"INPUT!JF178","v":""},"",null,{"$f":"INPUT!JX178","v":""},{"$f":"INPUT!JY178","v":""},{"$f":"INPUT!JZ178","v":""},{"$f":"INPUT!KA178","v":""},{"$f":"INPUT!KB178","v":""},{"$f":"INPUT!KC178","v":""},{"$f":"INPUT!KD178","v":""},"",null,{"$f":"INPUT!KZ178","v":""},{"$f":"INPUT!LA178","v":""},{"$f":"INPUT!LB178","v":""},{"$f":"INPUT!LC178","v":""},{"$f":"INPUT!LD178","v":""},{"$f":"INPUT!LE178","v":""},{"$f":"INPUT!LF178","v":""},{"$f":"INPUT!LG178","v":""},{"$f":"INPUT!LH178","v":""},null,{"$f":"INPUT!MB178","v":""},{"$f":"INPUT!MC178","v":""},{"$f":"INPUT!MD178","v":""},{"$f":"INPUT!ME178","v":""},{"$f":"INPUT!MF178","v":""},{"$f":"INPUT!MG178","v":""},{"$f":"INPUT!MH178","v":""},{"$f":"INPUT!MI178","v":""}]
[null,{"$f":"INPUT!EA179","v":""},{"$f":"INPUT!EB179","v":""},{"$f":"INPUT!EC179","v":""},{"$f":"INPUT!ED179","v":""},{"$f":"INPUT!EE179","v":""},{"$f":"INPUT!EF179","v":""},{"$f":"INPUT!EG179","v":""},"",null,{"$f":"INPUT!EY179","v":""},{"$f":"INPUT!EZ179","v":""},{"$f":"INPUT!FA179","v":""},{"$f":"INPUT!FB179","v":""},{"$f":"INPUT!FC179","v":""},{"$f":"INPUT!FD179","v":""},{"$f":"INPUT!FE179","v":""},"",null,{"$f":"INPUT!FW179","v":""},{"$f":"INPUT!FX179","v":""},{"$f":"INPUT!FY179","v":""},{"$f":"INPUT!FZ179","v":""},{"$f":"INPUT!GA179","v":""},{"$f":"INPUT!GB179","v":""},{"$f":"INPUT!GC179","v":""},null,{"$f":"INPUT!GY179","v":""},{"$f":"INPUT!GZ179","v":""},{"$f":"INPUT!HA179","v":""},{"$f":"INPUT!HB179","v":""},{"$f":"INPUT!HC179","v":""},{"$f":"INPUT!HD179","v":""},{"$f":"INPUT!HE179","v":""},{"$f":"INPUT!HF179","v":""},{"$f":"INPUT!HG179","v":""},null,{"$f":"INPUT!IA179","v":""},{"$f":"INPUT!IB179","v":""},{"$f":"INPUT!IC179","v":""},{"$f":"INPUT!ID179","v":""},{"$f":"INPUT!IE179","v":""},{"$f":"INPUT!IF179","v":""},{"$f":"INPUT!IG179","v":""},{"$f":"INPUT!IH179","v":""},null,{"$f":"INPUT!IZ179","v":""},{"$f":"INPUT!JA179","v":""},{"$f":"INPUT!JB179","v":""},{"$f":"INPUT!JC179","v":""},{"$f":"INPUT!JD179","v":""},{"$f":"INPUT!JE179","v":""},{"$f":"INPUT!JF179","v":""},"",null,{"$f":"INPUT!JX179","v":""},{"$f":"INPUT!JY179","v":""},{"$f":"INPUT!JZ179","v":""},{"$f":"INPUT!KA179","v":""},{"$f":"INPUT!KB179","v":""},{"$f":"INPUT!KC179","v":""},{"$f":"INPUT!KD179","v":""},"",null,{"$f":"INPUT!KZ179","v":""},{"$f":"INPUT!LA179","v":""},{"$f":"INPUT!LB179","v":""},{"$f":"INPUT!LC179","v":""},{"$f":"INPUT!LD179","v":""},{"$f":"INPUT!LE179","v":""},{"$f":"INPUT!LF179","v":""},{"$f":"INPUT!LG179","v":""},{"$f":"INPUT!LH179","v":""},null,{"$f":"INPUT!MB179","v":""},{"$f":"INPUT!MC179","v":""},{"$f":"INPUT!MD179","v":""},{"$f":"INPUT!ME179","v":""},{"$f":"INPUT!MF179","v":""},{"$f":"INPUT!MG179","v":""},{"$f":"INPUT!MH179","v":""},{"$f":"INPUT!MI179","v":""}]
[null,{"$f":"INPUT!EA180","v":""},{"$f":"INPUT!EB180","v":""},{"$f":"INPUT!EC180","v":""},{"$f":"INPUT!ED180","v":""},{"$f":"INPUT!EE180","v":""},{"$f":"INPUT!EF180","v":""},{"$f":"INPUT!EG180","v":""},"",null,{"$f":"INPUT!EY180","v":""},{"$f":"INPUT!EZ180","v":""},{"$f":"INPUT!FA180","v":""},{"$f":"INPUT!FB180","v":""},{"$f":"INPUT!FC180","v":""},{"$f":"INPUT!FD180","v":""},{"$f":"INPUT!FE180","v":""},"",null,{"$f":"INPUT!FW180","v":""},{"$f":"INPUT!FX180","v":""},{"$f":"INPUT!FY180","v":""},{"$f":"INPUT!FZ180","v":""},{"$f":"INPUT!GA180","v":""},{"$f":"INPUT!GB180","v":""},{"$f":"INPUT!GC180","v":""},null,{"$f":"INPUT!GY180","v":""},{"$f":"INPUT!GZ180","v":""},{"$f":"INPUT!HA180","v":""},{"$f":"INPUT!HB180","v":""},{"$f":"INPUT!HC180","v":""},{"$f":"INPUT!HD180","v":""},{"$f":"INPUT!HE180","v":""},{"$f":"INPUT!HF180","v":""},{"$f":"INPUT!HG180","v":""},null,{"$f":"INPUT!IA180","v":""},{"$f":"INPUT!IB180","v":""},{"$f":"INPUT!IC180","v":""},{"$f":"INPUT!ID180","v":""},{"$f":"INPUT!IE180","v":""},{"$f":"INPUT!IF180","v":""},{"$f":"INPUT!IG180","v":""},{"$f":"INPUT!IH180","v":""},null,{"$f":"INPUT!IZ180","v":""},{"$f":"INPUT!JA180","v":""},{"$f":"INPUT!JB180","v":""},{"$f":"INPUT!JC180","v":""},{"$f":"INPUT!JD180","v":""},{"$f":"INPUT!JE180","v":""},{"$f":"INPUT!JF180","v":""},"",null,{"$f":"INPUT!JX180","v":""},{"$f":"INPUT!JY180","v":""},{"$f":"INPUT!JZ180","v":""},{"$f":"INPUT!KA180","v":""},{"$f":"INPUT!KB180","v":""},{"$f":"INPUT!KC180","v":""},{"$f":"INPUT!KD180","v":""},"",null,{"$f":"INPUT!KZ180","v":""},{"$f":"INPUT!LA180","v":""},{"$f":"INPUT!LB180","v":""},{"$f":"INPUT!LC180","v":""},{"$f":"INPUT!LD180","v":""},{"$f":"INPUT!LE180","v":""},{"$f":"INPUT!LF180","v":""},{"$f":"INPUT!LG180","v":""},{"$f":"INPUT!LH180","v":""},null,{"$f":"INPUT!MB180","v":""},{"$f":"INPUT!MC180","v":""},{"$f":"INPUT!MD180","v":""},{"$f":"INPUT!ME180","v":""},{"$f":"INPUT!MF180","v":""},{"$f":"INPUT!MG180","v":""},{"$f":"INPUT!MH180","v":""},{"$f":"INPUT!MI180","v":""}]
[null,{"$f":"INPUT!EA181","v":""},{"$f":"INPUT!EB181","v":""},{"$f":"INPUT!EC181","v":""},{"$f":"INPUT!ED181","v":""},{"$f":"INPUT!EE181","v":""},{"$f":"INPUT!EF181","v":""},{"$f":"INPUT!EG181","v":""},"",null,{"$f":"INPUT!EY181","v":""},{"$f":"INPUT!EZ181","v":""},{"$f":"INPUT!FA181","v":""},{"$f":"INPUT!FB181","v":""},{"$f":"INPUT!FC181","v":""},{"$f":"INPUT!FD181","v":""},{"$f":"INPUT!FE181","v":""},"",null,{"$f":"INPUT!FW181","v":""},{"$f":"INPUT!FX181","v":""},{"$f":"INPUT!FY181","v":""},{"$f":"INPUT!FZ181","v":""},{"$f":"INPUT!GA181","v":""},{"$f":"INPUT!GB181","v":""},{"$f":"INPUT!GC181","v":""},null,{"$f":"INPUT!GY181","v":""},{"$f":"INPUT!GZ181","v":""},{"$f":"INPUT!HA181","v":""},{"$f":"INPUT!HB181","v":""},{"$f":"INPUT!HC181","v":""},{"$f":"INPUT!HD181","v":""},{"$f":"INPUT!HE181","v":""},{"$f":"INPUT!HF181","v":""},{"$f":"INPUT!HG181","v":""},null,{"$f":"INPUT!IA181","v":""},{"$f":"INPUT!IB181","v":""},{"$f":"INPUT!IC181","v":""},{"$f":"INPUT!ID181","v":""},{"$f":"INPUT!IE181","v":""},{"$f":"INPUT!IF181","v":""},{"$f":"INPUT!IG181","v":""},{"$f":"INPUT!IH181","v":""},null,{"$f":"INPUT!IZ181","v":""},{"$f":"INPUT!JA181","v":""},{"$f":"INPUT!JB181","v":""},{"$f":"INPUT!JC181","v":""},{"$f":"INPUT!JD181","v":""},{"$f":"INPUT!JE181","v":""},{"$f":"INPUT!JF181","v":""},"",null,{"$f":"INPUT!JX181","v":""},{"$f":"INPUT!JY181","v":""},{"$f":"INPUT!JZ181","v":""},{"$f":"INPUT!KA181","v":""},{"$f":"INPUT!KB181","v":""},{"$f":"INPUT!KC181","v":""},{"$f":"INPUT!KD181","v":""},"",null,{"$f":"INPUT!KZ181","v":""},{"$f":"INPUT!LA181","v":""},{"$f":"INPUT!LB181","v":""},{"$f":"INPUT!LC181","v":""},{"$f":"INPUT!LD181","v":""},{"$f":"INPUT!LE181","v":""},{"$f":"INPUT!LF181","v":""},{"$f":"INPUT!LG181","v":""},{"$f":"INPUT!LH181","v":""},null,{"$f":"INPUT!MB181","v":""},{"$f":"INPUT!MC181","v":""},{"$f":"INPUT!MD181","v":""},{"$f":"INPUT!ME181","v":""},{"$f":"INPUT!MF181","v":""},{"$f":"INPUT!MG181","v":""},{"$f":"INPUT!MH181","v":""},{"$f":"INPUT!MI181","v":""}]
[null,{"$f":"INPUT!EA182","v":""},{"$f":"INPUT!EB182","v":""},{"$f":"INPUT!EC182","v":""},{"$f":"INPUT!ED182","v":""},{"$f":"INPUT!EE182","v":""},{"$f":"INPUT!EF182","v":""},{"$f":"INPUT!EG182","v":""},"",null,{"$f":"INPUT!EY182","v":""},{"$f":"INPUT!EZ182","v":""},{"$f":"INPUT!FA182","v":""},{"$f":"INPUT!FB182","v":""},{"$f":"INPUT!FC182","v":""},{"$f":"INPUT!FD182","v":""},{"$f":"INPUT!FE182","v":""},"",null,{"$f":"INPUT!FW182","v":""},{"$f":"INPUT!FX182","v":""},{"$f":"INPUT!FY182","v":""},{"$f":"INPUT!FZ182","v":""},{"$f":"INPUT!GA182","v":""},{"$f":"INPUT!GB182","v":""},{"$f":"INPUT!GC182","v":""},null,{"$f":"INPUT!GY182","v":""},{"$f":"INPUT!GZ182","v":""},{"$f":"INPUT!HA182","v":""},{"$f":"INPUT!HB182","v":""},{"$f":"INPUT!HC182","v":""},{"$f":"INPUT!HD182","v":""},{"$f":"INPUT!HE182","v":""},{"$f":"INPUT!HF182","v":""},{"$f":"INPUT!HG182","v":""},null,{"$f":"INPUT!IA182","v":""},{"$f":"INPUT!IB182","v":""},{"$f":"INPUT!IC182","v":""},{"$f":"INPUT!ID182","v":""},{"$f":"INPUT!IE182","v":""},{"$f":"INPUT!IF182","v":""},{"$f":"INPUT!IG182","v":""},{"$f":"INPUT!IH182","v":""},null,{"$f":"INPUT!IZ182","v":""},{"$f":"INPUT!JA182","v":""},{"$f":"INPUT!JB182","v":""},{"$f":"INPUT!JC182","v":""},{"$f":"INPUT!JD182","v":""},{"$f":"INPUT!JE182","v":""},{"$f":"INPUT!JF182","v":""},"",null,{"$f":"INPUT!JX182","v":""},{"$f":"INPUT!JY182","v":""},{"$f":"INPUT!JZ182","v":""},{"$f":"INPUT!KA182","v":""},{"$f":"INPUT!KB182","v":""},{"$f":"INPUT!KC182","v":""},{"$f":"INPUT!KD182","v":""},"",null,{"$f":"INPUT!KZ182","v":""},{"$f":"INPUT!LA182","v":""},{"$f":"INPUT!LB182","v":""},{"$f":"INPUT!LC182","v":""},{"$f":"INPUT!LD182","v":""},{"$f":"INPUT!LE182","v":""},{"$f":"INPUT!LF182","v":""},{"$f":"INPUT!LG182","v":""},{"$f":"INPUT!LH182","v":""},null,{"$f":"INPUT!MB182","v":""},{"$f":"INPUT!MC182","v":""},{"$f":"INPUT!MD182","v":""},{"$f":"INPUT!ME182","v":""},{"$f":"INPUT!MF182","v":""},{"$f":"INPUT!MG182","v":""},{"$f":"INPUT!MH182","v":""},{"$f":"INPUT!MI182","v":""}]
[null,{"$f":"INPUT!EA183","v":""},{"$f":"INPUT!EB183","v":""},{"$f":"INPUT!EC183","v":""},{"$f":"INPUT!ED183","v":""},{"$f":"INPUT!EE183","v":""},{"$f":"INPUT!EF183","v":""},{"$f":"INPUT!EG183","v":""},"",null,{"$f":"INPUT!EY183","v":""},{"$f":"INPUT!EZ183","v":""},{"$f":"INPUT!FA183","v":""},{"$f":"INPUT!FB183","v":""},{"$f":"INPUT!FC183","v":""},{"$f":"INPUT!FD183","v":""},{"$f":"INPUT!FE183","v":""},"",null,{"$f":"INPUT!FW183","v":""},{"$f":"INPUT!FX183","v":""},{"$f":"INPUT!FY183","v":""},{"$f":"INPUT!FZ183","v":""},{"$f":"INPUT!GA183","v":""},{"$f":"INPUT!GB183","v":""},{"$f":"INPUT!GC183","v":""},null,{"$f":"INPUT!GY183","v":""},{"$f":"INPUT!GZ183","v":""},{"$f":"INPUT!HA183","v":""},{"$f":"INPUT!HB183","v":""},{"$f":"INPUT!HC183","v":""},{"$f":"INPUT!HD183","v":""},{"$f":"INPUT!HE183","v":""},{"$f":"INPUT!HF183","v":""},{"$f":"INPUT!HG183","v":""},null,{"$f":"INPUT!IA183","v":""},{"$f":"INPUT!IB183","v":""},{"$f":"INPUT!IC183","v":""},{"$f":"INPUT!ID183","v":""},{"$f":"INPUT!IE183","v":""},{"$f":"INPUT!IF183","v":""},{"$f":"INPUT!IG183","v":""},{"$f":"INPUT!IH183","v":""},null,{"$f":"INPUT!IZ183","v":""},{"$f":"INPUT!JA183","v":""},{"$f":"INPUT!JB183","v":""},{"$f":"INPUT!JC183","v":""},{"$f":"INPUT!JD183","v":""},{"$f":"INPUT!JE183","v":""},{"$f":"INPUT!JF183","v":""},"",null,{"$f":"INPUT!JX183","v":""},{"$f":"INPUT!JY183","v":""},{"$f":"INPUT!JZ183","v":""},{"$f":"INPUT!KA183","v":""},{"$f":"INPUT!KB183","v":""},{"$f":"INPUT!KC183","v":""},{"$f":"INPUT!KD183","v":""},"",null,{"$f":"INPUT!KZ183","v":""},{"$f":"INPUT!LA183","v":""},{"$f":"INPUT!LB183","v":""},{"$f":"INPUT!LC183","v":""},{"$f":"INPUT!LD183","v":""},{"$f":"INPUT!LE183","v":""},{"$f":"INPUT!LF183","v":""},{"$f":"INPUT!LG183","v":""},{"$f":"INPUT!LH183","v":""},null,{"$f":"INPUT!MB183","v":""},{"$f":"INPUT!MC183","v":""},{"$f":"INPUT!MD183","v":""},{"$f":"INPUT!ME183","v":""},{"$f":"INPUT!MF183","v":""},{"$f":"INPUT!MG183","v":""},{"$f":"INPUT!MH183","v":""},{"$f":"INPUT!MI183","v":""}]
[null,{"$f":"INPUT!EA184","v":""},{"$f":"INPUT!EB184","v":""},{"$f":"INPUT!EC184","v":""},{"$f":"INPUT!ED184","v":""},{"$f":"INPUT!EE184","v":""},{"$f":"INPUT!EF184","v":""},{"$f":"INPUT!EG184","v":""},"",null,{"$f":"INPUT!EY184","v":""},{"$f":"INPUT!EZ184","v":""},{"$f":"INPUT!FA184","v":""},{"$f":"INPUT!FB184","v":""},{"$f":"INPUT!FC184","v":""},{"$f":"INPUT!FD184","v":""},{"$f":"INPUT!FE184","v":""},"",null,{"$f":"INPUT!FW184","v":""},{"$f":"INPUT!FX184","v":""},{"$f":"INPUT!FY184","v":""},{"$f":"INPUT!FZ184","v":""},{"$f":"INPUT!GA184","v":""},{"$f":"INPUT!GB184","v":""},{"$f":"INPUT!GC184","v":""},null,{"$f":"INPUT!GY184","v":""},{"$f":"INPUT!GZ184","v":""},{"$f":"INPUT!HA184","v":""},{"$f":"INPUT!HB184","v":""},{"$f":"INPUT!HC184","v":""},{"$f":"INPUT!HD184","v":""},{"$f":"INPUT!HE184","v":""},{"$f":"INPUT!HF184","v":""},{"$f":"INPUT!HG184","v":""},null,{"$f":"INPUT!IA184","v":""},{"$f":"INPUT!IB184","v":""},{"$f":"INPUT!IC184","v":""},{"$f":"INPUT!ID184","v":""},{"$f":"INPUT!IE184","v":""},{"$f":"INPUT!IF184","v":""},{"$f":"INPUT!IG184","v":""},{"$f":"INPUT!IH184","v":""},null,{"$f":"INPUT!IZ184","v":""},{"$f":"INPUT!JA184","v":""},{"$f":"INPUT!JB184","v":""},{"$f":"INPUT!JC184","v":""},{"$f":"INPUT!JD184","v":""},{"$f":"INPUT!JE184","v":""},{"$f":"INPUT!JF184","v":""},"",null,{"$f":"INPUT!JX184","v":""},{"$f":"INPUT!JY184","v":""},{"$f":"INPUT!JZ184","v":""},{"$f":"INPUT!KA184","v":""},{"$f":"INPUT!KB184","v":""},{"$f":"INPUT!KC184","v":""},{"$f":"INPUT!KD184","v":""},"",null,{"$f":"INPUT!KZ184","v":""},{"$f":"INPUT!LA184","v":""},{"$f":"INPUT!LB184","v":""},{"$f":"INPUT!LC184","v":""},{"$f":"INPUT!LD184","v":""},{"$f":"INPUT!LE184","v":""},{"$f":"INPUT!LF184","v":""},{"$f":"INPUT!LG184","v":""},{"$f":"INPUT!LH184","v":""},null,{"$f":"INPUT!MB184","v":""},{"$f":"INPUT!MC184","v":""},{"$f":"INPUT!MD184","v":""},{"$f":"INPUT!ME184","v":""},{"$f":"INPUT!MF184","v":""},{"$f":"INPUT!MG184","v":""},{"$f":"INPUT!MH184","v":""},{"$f":"INPUT!MI184","v":""}]
[null,{"$f":"INPUT!EA185","v":""},{"$f":"INPUT!EB185","v":""},{"$f":"INPUT!EC185","v":""},{"$f":"INPUT!ED185","v":""},{"$f":"INPUT!EE185","v":""},{"$f":"INPUT!EF185","v":""},{"$f":"INPUT!EG185","v":""},"",null,{"$f":"INPUT!EY185","v":""},{"$f":"INPUT!EZ185","v":""},{"$f":"INPUT!FA185","v":""},{"$f":"INPUT!FB185","v":""},{"$f":"INPUT!FC185","v":""},{"$f":"INPUT!FD185","v":""},{"$f":"INPUT!FE185","v":""},"",null,{"$f":"INPUT!FW185","v":""},{"$f":"INPUT!FX185","v":""},{"$f":"INPUT!FY185","v":""},{"$f":"INPUT!FZ185","v":""},{"$f":"INPUT!GA185","v":""},{"$f":"INPUT!GB185","v":""},{"$f":"INPUT!GC185","v":""},null,{"$f":"INPUT!GY185","v":""},{"$f":"INPUT!GZ185","v":""},{"$f":"INPUT!HA185","v":""},{"$f":"INPUT!HB185","v":""},{"$f":"INPUT!HC185","v":""},{"$f":"INPUT!HD185","v":""},{"$f":"INPUT!HE185","v":""},{"$f":"INPUT!HF185","v":""},{"$f":"INPUT!HG185","v":""},null,{"$f":"INPUT!IA185","v":""},{"$f":"INPUT!IB185","v":""},{"$f":"INPUT!IC185","v":""},{"$f":"INPUT!ID185","v":""},{"$f":"INPUT!IE185","v":""},{"$f":"INPUT!IF185","v":""},{"$f":"INPUT!IG185","v":""},{"$f":"INPUT!IH185","v":""},null,{"$f":"INPUT!IZ185","v":""},{"$f":"INPUT!JA185","v":""},{"$f":"INPUT!JB185","v":""},{"$f":"INPUT!JC185","v":""},{"$f":"INPUT!JD185","v":""},{"$f":"INPUT!JE185","v":""},{"$f":"INPUT!JF185","v":""},"",null,{"$f":"INPUT!JX185","v":""},{"$f":"INPUT!JY185","v":""},{"$f":"INPUT!JZ185","v":""},{"$f":"INPUT!KA185","v":""},{"$f":"INPUT!KB185","v":""},{"$f":"INPUT!KC185","v":""},{"$f":"INPUT!KD185","v":""},"",null,{"$f":"INPUT!KZ185","v":""},{"$f":"INPUT!LA185","v":""},{"$f":"INPUT!LB185","v":""},{"$f":"INPUT!LC185","v":""},{"$f":"INPUT!LD185","v":""},{"$f":"INPUT!LE185","v":""},{"$f":"INPUT!LF185","v":""},{"$f":"INPUT!LG185","v":""},{"$f":"INPUT!LH185","v":""},null,{"$f":"INPUT!MB185","v":""},{"$f":"INPUT!MC185","v":""},{"$f":"INPUT!MD185","v":""},{"$f":"INPUT!ME185","v":""},{"$f":"INPUT!MF185","v":""},{"$f":"INPUT!MG185","v":""},{"$f":"INPUT!MH185","v":""},{"$f":"INPUT!MI185","v":""}]
[null,{"$f":"INPUT!EA186","v":""},{"$f":"INPUT!EB186","v":""},{"$f":"INPUT!EC186","v":""},{"$f":"INPUT!ED186","v":""},{"$f":"INPUT!EE186","v":""},{"$f":"INPUT!EF186","v":""},{"$f":"INPUT!EG186","v":""},"",null,{"$f":"INPUT!EY186","v":""},{"$f":"INPUT!EZ186","v":""},{"$f":"INPUT!FA186","v":""},{"$f":"INPUT!FB186","v":""},{"$f":"INPUT!FC186","v":""},{"$f":"INPUT!FD186","v":""},{"$f":"INPUT!FE186","v":""},"",null,{"$f":"INPUT!FW186","v":""},{"$f":"INPUT!FX186","v":""},{"$f":"INPUT!FY186","v":""},{"$f":"INPUT!FZ186","v":""},{"$f":"INPUT!GA186","v":""},{"$f":"INPUT!GB186","v":""},{"$f":"INPUT!GC186","v":""},null,{"$f":"INPUT!GY186","v":""},{"$f":"INPUT!GZ186","v":""},{"$f":"INPUT!HA186","v":""},{"$f":"INPUT!HB186","v":""},{"$f":"INPUT!HC186","v":""},{"$f":"INPUT!HD186","v":""},{"$f":"INPUT!HE186","v":""},{"$f":"INPUT!HF186","v":""},{"$f":"INPUT!HG186","v":""},null,{"$f":"INPUT!IA186","v":""},{"$f":"INPUT!IB186","v":""},{"$f":"INPUT!IC186","v":""},{"$f":"INPUT!ID186","v":""},{"$f":"INPUT!IE186","v":""},{"$f":"INPUT!IF186","v":""},{"$f":"INPUT!IG186","v":""},{"$f":"INPUT!IH186","v":""},null,{"$f":"INPUT!IZ186","v":""},{"$f":"INPUT!JA186","v":""},{"$f":"INPUT!JB186","v":""},{"$f":"INPUT!JC186","v":""},{"$f":"INPUT!JD186","v":""},{"$f":"INPUT!JE186","v":""},{"$f":"INPUT!JF186","v":""},"",null,{"$f":"INPUT!JX186","v":""},{"$f":"INPUT!JY186","v":""},{"$f":"INPUT!JZ186","v":""},{"$f":"INPUT!KA186","v":""},{"$f":"INPUT!KB186","v":""},{"$f":"INPUT!KC186","v":""},{"$f":"INPUT!KD186","v":""},"",null,{"$f":"INPUT!KZ186","v":""},{"$f":"INPUT!LA186","v":""},{"$f":"INPUT!LB186","v":""},{"$f":"INPUT!LC186","v":""},{"$f":"INPUT!LD186","v":""},{"$f":"INPUT!LE186","v":""},{"$f":"INPUT!LF186","v":""},{"$f":"INPUT!LG186","v":""},{"$f":"INPUT!LH186","v":""},null,{"$f":"INPUT!MB186","v":""},{"$f":"INPUT!MC186","v":""},{"$f":"INPUT!MD186","v":""},{"$f":"INPUT!ME186","v":""},{"$f":"INPUT!MF186","v":""},{"$f":"INPUT!MG186","v":""},{"$f":"INPUT!MH186","v":""},{"$f":"INPUT!MI186","v":""}]
[null,{"$f":"INPUT!EA187","v":""},{"$f":"INPUT!EB187","v":""},{"$f":"INPUT!EC187","v":""},{"$f":"INPUT!ED187","v":""},{"$f":"INPUT!EE187","v":""},{"$f":"INPUT!EF187","v":""},{"$f":"INPUT!EG187","v":""},"",null,{"$f":"INPUT!EY187","v":""},{"$f":"INPUT!EZ187","v":""},{"$f":"INPUT!FA187","v":""},{"$f":"INPUT!FB187","v":""},{"$f":"INPUT!FC187","v":""},{"$f":"INPUT!FD187","v":""},{"$f":"INPUT!FE187","v":""},"",null,{"$f":"INPUT!FW187","v":""},{"$f":"INPUT!FX187","v":""},{"$f":"INPUT!FY187","v":""},{"$f":"INPUT!FZ187","v":""},{"$f":"INPUT!GA187","v":""},{"$f":"INPUT!GB187","v":""},{"$f":"INPUT!GC187","v":""},null,{"$f":"INPUT!GY187","v":""},{"$f":"INPUT!GZ187","v":""},{"$f":"INPUT!HA187","v":""},{"$f":"INPUT!HB187","v":""},{"$f":"INPUT!HC187","v":""},{"$f":"INPUT!HD187","v":""},{"$f":"INPUT!HE187","v":""},{"$f":"INPUT!HF187","v":""},{"$f":"INPUT!HG187","v":""},null,{"$f":"INPUT!IA187","v":""},{"$f":"INPUT!IB187","v":""},{"$f":"INPUT!IC187","v":""},{"$f":"INPUT!ID187","v":""},{"$f":"INPUT!IE187","v":""},{"$f":"INPUT!IF187","v":""},{"$f":"INPUT!IG187","v":""},{"$f":"INPUT!IH187","v":""},null,{"$f":"INPUT!IZ187","v":""},{"$f":"INPUT!JA187","v":""},{"$f":"INPUT!JB187","v":""},{"$f":"INPUT!JC187","v":""},{"$f":"INPUT!JD187","v":""},{"$f":"INPUT!JE187","v":""},{"$f":"INPUT!JF187","v":""},"",null,{"$f":"INPUT!JX187","v":""},{"$f":"INPUT!JY187","v":""},{"$f":"INPUT!JZ187","v":""},{"$f":"INPUT!KA187","v":""},{"$f":"INPUT!KB187","v":""},{"$f":"INPUT!KC187","v":""},{"$f":"INPUT!KD187","v":""},"",null,{"$f":"INPUT!KZ187","v":""},{"$f":"INPUT!LA187","v":""},{"$f":"INPUT!LB187","v":""},{"$f":"INPUT!LC187","v":""},{"$f":"INPUT!LD187","v":""},{"$f":"INPUT!LE187","v":""},{"$f":"INPUT!LF187","v":""},{"$f":"INPUT!LG187","v":""},{"$f":"INPUT!LH187","v":""},null,{"$f":"INPUT!MB187","v":""},{"$f":"INPUT!MC187","v":""},{"$f":"INPUT!MD187","v":""},{"$f":"INPUT!ME187","v":""},{"$f":"INPUT!MF187","v":""},{"$f":"INPUT!MG187","v":""},{"$f":"INPUT!MH187","v":""},{"$f":"INPUT!MI187","v":""}]
[null,{"$f":"INPUT!EA188","v":""},{"$f":"INPUT!EB188","v":""},{"$f":"INPUT!EC188","v":""},{"$f":"INPUT!ED188","v":""},{"$f":"INPUT!EE188","v":""},{"$f":"INPUT!EF188","v":""},{"$f":"INPUT!EG188","v":""},"",null,{"$f":"INPUT!EY188","v":""},{"$f":"INPUT!EZ188","v":""},{"$f":"INPUT!FA188","v":""},{"$f":"INPUT!FB188","v":""},{"$f":"INPUT!FC188","v":""},{"$f":"INPUT!FD188","v":""},{"$f":"INPUT!FE188","v":""},"",null,{"$f":"INPUT!FW188","v":""},{"$f":"INPUT!FX188","v":""},{"$f":"INPUT!FY188","v":""},{"$f":"INPUT!FZ188","v":""},{"$f":"INPUT!GA188","v":""},{"$f":"INPUT!GB188","v":""},{"$f":"INPUT!GC188","v":""},null,{"$f":"INPUT!GY188","v":""},{"$f":"INPUT!GZ188","v":""},{"$f":"INPUT!HA188","v":""},{"$f":"INPUT!HB188","v":""},{"$f":"INPUT!HC188","v":""},{"$f":"INPUT!HD188","v":""},{"$f":"INPUT!HE188","v":""},{"$f":"INPUT!HF188","v":""},{"$f":"INPUT!HG188","v":""},null,{"$f":"INPUT!IA188","v":""},{"$f":"INPUT!IB188","v":""},{"$f":"INPUT!IC188","v":""},{"$f":"INPUT!ID188","v":""},{"$f":"INPUT!IE188","v":""},{"$f":"INPUT!IF188","v":""},{"$f":"INPUT!IG188","v":""},{"$f":"INPUT!IH188","v":""},null,{"$f":"INPUT!IZ188","v":""},{"$f":"INPUT!JA188","v":""},{"$f":"INPUT!JB188","v":""},{"$f":"INPUT!JC188","v":""},{"$f":"INPUT!JD188","v":""},{"$f":"INPUT!JE188","v":""},{"$f":"INPUT!JF188","v":""},"",null,{"$f":"INPUT!JX188","v":""},{"$f":"INPUT!JY188","v":""},{"$f":"INPUT!JZ188","v":""},{"$f":"INPUT!KA188","v":""},{"$f":"INPUT!KB188","v":""},{"$f":"INPUT!KC188","v":""},{"$f":"INPUT!KD188","v":""},"",null,{"$f":"INPUT!KZ188","v":""},{"$f":"INPUT!LA188","v":""},{"$f":"INPUT!LB188","v":""},{"$f":"INPUT!LC188","v":""},{"$f":"INPUT!LD188","v":""},{"$f":"INPUT!LE188","v":""},{"$f":"INPUT!LF188","v":""},{"$f":"INPUT!LG188","v":""},{"$f":"INPUT!LH188","v":""},null,{"$f":"INPUT!MB188","v":""},{"$f":"INPUT!MC188","v":""},{"$f":"INPUT!MD188","v":""},{"$f":"INPUT!ME188","v":""},{"$f":"INPUT!MF188","v":""},{"$f":"INPUT!MG188","v":""},{"$f":"INPUT!MH188","v":""},{"$f":"INPUT!MI188","v":""}]
[null,{"$f":"INPUT!EA189","v":""},{"$f":"INPUT!EB189","v":""},{"$f":"INPUT!EC189","v":""},{"$f":"INPUT!ED189","v":""},{"$f":"INPUT!EE189","v":""},{"$f":"INPUT!EF189","v":""},{"$f":"INPUT!EG189","v":""},"",null,{"$f":"INPUT!EY189","v":""},{"$f":"INPUT!EZ189","v":""},{"$f":"INPUT!FA189","v":""},{"$f":"INPUT!FB189","v":""},{"$f":"INPUT!FC189","v":""},{"$f":"INPUT!FD189","v":""},{"$f":"INPUT!FE189","v":""},"",null,{"$f":"INPUT!FW189","v":""},{"$f":"INPUT!FX189","v":""},{"$f":"INPUT!FY189","v":""},{"$f":"INPUT!FZ189","v":""},{"$f":"INPUT!GA189","v":""},{"$f":"INPUT!GB189","v":""},{"$f":"INPUT!GC189","v":""},null,{"$f":"INPUT!GY189","v":""},{"$f":"INPUT!GZ189","v":""},{"$f":"INPUT!HA189","v":""},{"$f":"INPUT!HB189","v":""},{"$f":"INPUT!HC189","v":""},{"$f":"INPUT!HD189","v":""},{"$f":"INPUT!HE189","v":""},{"$f":"INPUT!HF189","v":""},{"$f":"INPUT!HG189","v":""},null,{"$f":"INPUT!IA189","v":""},{"$f":"INPUT!IB189","v":""},{"$f":"INPUT!IC189","v":""},{"$f":"INPUT!ID189","v":""},{"$f":"INPUT!IE189","v":""},{"$f":"INPUT!IF189","v":""},{"$f":"INPUT!IG189","v":""},{"$f":"INPUT!IH189","v":""},null,{"$f":"INPUT!IZ189","v":""},{"$f":"INPUT!JA189","v":""},{"$f":"INPUT!JB189","v":""},{"$f":"INPUT!JC189","v":""},{"$f":"INPUT!JD189","v":""},{"$f":"INPUT!JE189","v":""},{"$f":"INPUT!JF189","v":""},"",null,{"$f":"INPUT!JX189","v":""},{"$f":"INPUT!JY189","v":""},{"$f":"INPUT!JZ189","v":""},{"$f":"INPUT!KA189","v":""},{"$f":"INPUT!KB189","v":""},{"$f":"INPUT!KC189","v":""},{"$f":"INPUT!KD189","v":""},"",null,{"$f":"INPUT!KZ189","v":""},{"$f":"INPUT!LA189","v":""},{"$f":"INPUT!LB189","v":""},{"$f":"INPUT!LC189","v":""},{"$f":"INPUT!LD189","v":""},{"$f":"INPUT!LE189","v":""},{"$f":"INPUT!LF189","v":""},{"$f":"INPUT!LG189","v":""},{"$f":"INPUT!LH189","v":""},null,{"$f":"INPUT!MB189","v":""},{"$f":"INPUT!MC189","v":""},{"$f":"INPUT!MD189","v":""},{"$f":"INPUT!ME189","v":""},{"$f":"INPUT!MF189","v":""},{"$f":"INPUT!MG189","v":""},{"$f":"INPUT!MH189","v":""},{"$f":"INPUT!MI189","v":""}]
[null,{"$f":"INPUT!EA190","v":""},{"$f":"INPUT!EB190","v":""},{"$f":"INPUT!EC190","v":""},{"$f":"INPUT!ED190","v":""},{"$f":"INPUT!EE190","v":""},{"$f":"INPUT!EF190","v":""},{"$f":"INPUT!EG190","v":""},"",null,{"$f":"INPUT!EY190","v":""},{"$f":"INPUT!EZ190","v":""},{"$f":"INPUT!FA190","v":""},{"$f":"INPUT!FB190","v":""},{"$f":"INPUT!FC190","v":""},{"$f":"INPUT!FD190","v":""},{"$f":"INPUT!FE190","v":""},"",null,{"$f":"INPUT!FW190","v":""},{"$f":"INPUT!FX190","v":""},{"$f":"INPUT!FY190","v":""},{"$f":"INPUT!FZ190","v":""},{"$f":"INPUT!GA190","v":""},{"$f":"INPUT!GB190","v":""},{"$f":"INPUT!GC190","v":""},null,{"$f":"INPUT!GY190","v":""},{"$f":"INPUT!GZ190","v":""},{"$f":"INPUT!HA190","v":""},{"$f":"INPUT!HB190","v":""},{"$f":"INPUT!HC190","v":""},{"$f":"INPUT!HD190","v":""},{"$f":"INPUT!HE190","v":""},{"$f":"INPUT!HF190","v":""},{"$f":"INPUT!HG190","v":""},null,{"$f":"INPUT!IA190","v":""},{"$f":"INPUT!IB190","v":""},{"$f":"INPUT!IC190","v":""},{"$f":"INPUT!ID190","v":""},{"$f":"INPUT!IE190","v":""},{"$f":"INPUT!IF190","v":""},{"$f":"INPUT!IG190","v":""},{"$f":"INPUT!IH190","v":""},null,{"$f":"INPUT!IZ190","v":""},{"$f":"INPUT!JA190","v":""},{"$f":"INPUT!JB190","v":""},{"$f":"INPUT!JC190","v":""},{"$f":"INPUT!JD190","v":""},{"$f":"INPUT!JE190","v":""},{"$f":"INPUT!JF190","v":""},"",null,{"$f":"INPUT!JX190","v":""},{"$f":"INPUT!JY190","v":""},{"$f":"INPUT!JZ190","v":""},{"$f":"INPUT!KA190","v":""},{"$f":"INPUT!KB190","v":""},{"$f":"INPUT!KC190","v":""},{"$f":"INPUT!KD190","v":""},"",null,{"$f":"INPUT!KZ190","v":""},{"$f":"INPUT!LA190","v":""},{"$f":"INPUT!LB190","v":""},{"$f":"INPUT!LC190","v":""},{"$f":"INPUT!LD190","v":""},{"$f":"INPUT!LE190","v":""},{"$f":"INPUT!LF190","v":""},{"$f":"INPUT!LG190","v":""},{"$f":"INPUT!LH190","v":""},null,{"$f":"INPUT!MB190","v":""},{"$f":"INPUT!MC190","v":""},{"$f":"INPUT!MD190","v":""},{"$f":"INPUT!ME190","v":""},{"$f":"INPUT!MF190","v":""},{"$f":"INPUT!MG190","v":""},{"$f":"INPUT!MH190","v":""},{"$f":"INPUT!MI190","v":""}]
[null,{"$f":"INPUT!EA191","v":""},{"$f":"INPUT!EB191","v":""},{"$f":"INPUT!EC191","v":""},{"$f":"INPUT!ED191","v":""},{"$f":"INPUT!EE191","v":""},{"$f":"INPUT!EF191","v":""},{"$f":"INPUT!EG191","v":""},"",null,{"$f":"INPUT!EY191","v":""},{"$f":"INPUT!EZ191","v":""},{"$f":"INPUT!FA191","v":""},{"$f":"INPUT!FB191","v":""},{"$f":"INPUT!FC191","v":""},{"$f":"INPUT!FD191","v":""},{"$f":"INPUT!FE191","v":""},"",null,{"$f":"INPUT!FW191","v":""},{"$f":"INPUT!FX191","v":""},{"$f":"INPUT!FY191","v":""},{"$f":"INPUT!FZ191","v":""},{"$f":"INPUT!GA191","v":""},{"$f":"INPUT!GB191","v":""},{"$f":"INPUT!GC191","v":""},null,{"$f":"INPUT!GY191","v":""},{"$f":"INPUT!GZ191","v":""},{"$f":"INPUT!HA191","v":""},{"$f":"INPUT!HB191","v":""},{"$f":"INPUT!HC191","v":""},{"$f":"INPUT!HD191","v":""},{"$f":"INPUT!HE191","v":""},{"$f":"INPUT!HF191","v":""},{"$f":"INPUT!HG191","v":""},null,{"$f":"INPUT!IA191","v":""},{"$f":"INPUT!IB191","v":""},{"$f":"INPUT!IC191","v":""},{"$f":"INPUT!ID191","v":""},{"$f":"INPUT!IE191","v":""},{"$f":"INPUT!IF191","v":""},{"$f":"INPUT!IG191","v":""},{"$f":"INPUT!IH191","v":""},null,{"$f":"INPUT!IZ191","v":""},{"$f":"INPUT!JA191","v":""},{"$f":"INPUT!JB191","v":""},{"$f":"INPUT!JC191","v":""},{"$f":"INPUT!JD191","v":""},{"$f":"INPUT!JE191","v":""},{"$f":"INPUT!JF191","v":""},"",null,{"$f":"INPUT!JX191","v":""},{"$f":"INPUT!JY191","v":""},{"$f":"INPUT!JZ191","v":""},{"$f":"INPUT!KA191","v":""},{"$f":"INPUT!KB191","v":""},{"$f":"INPUT!KC191","v":""},{"$f":"INPUT!KD191","v":""},"",null,{"$f":"INPUT!KZ191","v":""},{"$f":"INPUT!LA191","v":""},{"$f":"INPUT!LB191","v":""},{"$f":"INPUT!LC191","v":""},{"$f":"INPUT!LD191","v":""},{"$f":"INPUT!LE191","v":""},{"$f":"INPUT!LF191","v":""},{"$f":"INPUT!LG191","v":""},{"$f":"INPUT!LH191","v":""},null,{"$f":"INPUT!MB191","v":""},{"$f":"INPUT!MC191","v":""},{"$f":"INPUT!MD191","v":""},{"$f":"INPUT!ME191","v":""},{"$f":"INPUT!MF191","v":""},{"$f":"INPUT!MG191","v":""},{"$f":"INPUT!MH191","v":""},{"$f":"INPUT!MI191","v":""}]
[null,{"$f":"INPUT!EA192","v":""},{"$f":"INPUT!EB192","v":""},{"$f":"INPUT!EC192","v":""},{"$f":"INPUT!ED192","v":""},{"$f":"INPUT!EE192","v":""},{"$f":"INPUT!EF192","v":""},{"$f":"INPUT!EG192","v":""},"",null,{"$f":"INPUT!EY192","v":""},{"$f":"INPUT!EZ192","v":""},{"$f":"INPUT!FA192","v":""},{"$f":"INPUT!FB192","v":""},{"$f":"INPUT!FC192","v":""},{"$f":"INPUT!FD192","v":""},{"$f":"INPUT!FE192","v":""},"",null,{"$f":"INPUT!FW192","v":""},{"$f":"INPUT!FX192","v":""},{"$f":"INPUT!FY192","v":""},{"$f":"INPUT!FZ192","v":""},{"$f":"INPUT!GA192","v":""},{"$f":"INPUT!GB192","v":""},{"$f":"INPUT!GC192","v":""},null,{"$f":"INPUT!GY192","v":""},{"$f":"INPUT!GZ192","v":""},{"$f":"INPUT!HA192","v":""},{"$f":"INPUT!HB192","v":""},{"$f":"INPUT!HC192","v":""},{"$f":"INPUT!HD192","v":""},{"$f":"INPUT!HE192","v":""},{"$f":"INPUT!HF192","v":""},{"$f":"INPUT!HG192","v":""},null,{"$f":"INPUT!IA192","v":""},{"$f":"INPUT!IB192","v":""},{"$f":"INPUT!IC192","v":""},{"$f":"INPUT!ID192","v":""},{"$f":"INPUT!IE192","v":""},{"$f":"INPUT!IF192","v":""},{"$f":"INPUT!IG192","v":""},{"$f":"INPUT!IH192","v":""},null,{"$f":"INPUT!IZ192","v":""},{"$f":"INPUT!JA192","v":""},{"$f":"INPUT!JB192","v":""},{"$f":"INPUT!JC192","v":""},{"$f":"INPUT!JD192","v":""},{"$f":"INPUT!JE192","v":""},{"$f":"INPUT!JF192","v":""},"",null,{"$f":"INPUT!JX192","v":""},{"$f":"INPUT!JY192","v":""},{"$f":"INPUT!JZ192","v":""},{"$f":"INPUT!KA192","v":""},{"$f":"INPUT!KB192","v":""},{"$f":"INPUT!KC192","v":""},{"$f":"INPUT!KD192","v":""},"",null,{"$f":"INPUT!KZ192","v":""},{"$f":"INPUT!LA192","v":""},{"$f":"INPUT!LB192","v":""},{"$f":"INPUT!LC192","v":""},{"$f":"INPUT!LD192","v":""},{"$f":"INPUT!LE192","v":""},{"$f":"INPUT!LF192","v":""},{"$f":"INPUT!LG192","v":""},{"$f":"INPUT!LH192","v":""},null,{"$f":"INPUT!MB192","v":""},{"$f":"INPUT!MC192","v":""},{"$f":"INPUT!MD192","v":""},{"$f":"INPUT!ME192","v":""},{"$f":"INPUT!MF192","v":""},{"$f":"INPUT!MG192","v":""},{"$f":"INPUT!MH192","v":""},{"$f":"INPUT!MI192","v":""}]
[null,{"$f":"INPUT!EA193","v":""},{"$f":"INPUT!EB193","v":""},{"$f":"INPUT!EC193","v":""},{"$f":"INPUT!ED193","v":""},{"$f":"INPUT!EE193","v":""},{"$f":"INPUT!EF193","v":""},{"$f":"INPUT!EG193","v":""},"",null,{"$f":"INPUT!EY193","v":""},{"$f":"INPUT!EZ193","v":""},{"$f":"INPUT!FA193","v":""},{"$f":"INPUT!FB193","v":""},{"$f":"INPUT!FC193","v":""},{"$f":"INPUT!FD193","v":""},{"$f":"INPUT!FE193","v":""},"",null,{"$f":"INPUT!FW193","v":""},{"$f":"INPUT!FX193","v":""},{"$f":"INPUT!FY193","v":""},{"$f":"INPUT!FZ193","v":""},{"$f":"INPUT!GA193","v":""},{"$f":"INPUT!GB193","v":""},{"$f":"INPUT!GC193","v":""},null,{"$f":"INPUT!GY193","v":""},{"$f":"INPUT!GZ193","v":""},{"$f":"INPUT!HA193","v":""},{"$f":"INPUT!HB193","v":""},{"$f":"INPUT!HC193","v":""},{"$f":"INPUT!HD193","v":""},{"$f":"INPUT!HE193","v":""},{"$f":"INPUT!HF193","v":""},{"$f":"INPUT!HG193","v":""},null,{"$f":"INPUT!IA193","v":""},{"$f":"INPUT!IB193","v":""},{"$f":"INPUT!IC193","v":""},{"$f":"INPUT!ID193","v":""},{"$f":"INPUT!IE193","v":""},{"$f":"INPUT!IF193","v":""},{"$f":"INPUT!IG193","v":""},{"$f":"INPUT!IH193","v":""},null,{"$f":"INPUT!IZ193","v":""},{"$f":"INPUT!JA193","v":""},{"$f":"INPUT!JB193","v":""},{"$f":"INPUT!JC193","v":""},{"$f":"INPUT!JD193","v":""},{"$f":"INPUT!JE193","v":""},{"$f":"INPUT!JF193","v":""},"",null,{"$f":"INPUT!JX193","v":""},{"$f":"INPUT!JY193","v":""},{"$f":"INPUT!JZ193","v":""},{"$f":"INPUT!KA193","v":""},{"$f":"INPUT!KB193","v":""},{"$f":"INPUT!KC193","v":""},{"$f":"INPUT!KD193","v":""},"",null,{"$f":"INPUT!KZ193","v":""},{"$f":"INPUT!LA193","v":""},{"$f":"INPUT!LB193","v":""},{"$f":"INPUT!LC193","v":""},{"$f":"INPUT!LD193","v":""},{"$f":"INPUT!LE193","v":""},{"$f":"INPUT!LF193","v":""},{"$f":"INPUT!LG193","v":""},{"$f":"INPUT!LH193","v":""},null,{"$f":"INPUT!MB193","v":""},{"$f":"INPUT!MC193","v":""},{"$f":"INPUT!MD193","v":""},{"$f":"INPUT!ME193","v":""},{"$f":"INPUT!MF193","v":""},{"$f":"INPUT!MG193","v":""},{"$f":"INPUT!MH193","v":""},{"$f":"INPUT!MI193","v":""}]
[null,{"$f":"INPUT!EA194","v":""},{"$f":"INPUT!EB194","v":""},{"$f":"INPUT!EC194","v":""},{"$f":"INPUT!ED194","v":""},{"$f":"INPUT!EE194","v":""},{"$f":"INPUT!EF194","v":""},{"$f":"INPUT!EG194","v":""},"",null,{"$f":"INPUT!EY194","v":""},{"$f":"INPUT!EZ194","v":""},{"$f":"INPUT!FA194","v":""},{"$f":"INPUT!FB194","v":""},{"$f":"INPUT!FC194","v":""},{"$f":"INPUT!FD194","v":""},{"$f":"INPUT!FE194","v":""},"",null,{"$f":"INPUT!FW194","v":""},{"$f":"INPUT!FX194","v":""},{"$f":"INPUT!FY194","v":""},{"$f":"INPUT!FZ194","v":""},{"$f":"INPUT!GA194","v":""},{"$f":"INPUT!GB194","v":""},{"$f":"INPUT!GC194","v":""},null,{"$f":"INPUT!GY194","v":""},{"$f":"INPUT!GZ194","v":""},{"$f":"INPUT!HA194","v":""},{"$f":"INPUT!HB194","v":""},{"$f":"INPUT!HC194","v":""},{"$f":"INPUT!HD194","v":""},{"$f":"INPUT!HE194","v":""},{"$f":"INPUT!HF194","v":""},{"$f":"INPUT!HG194","v":""},null,{"$f":"INPUT!IA194","v":""},{"$f":"INPUT!IB194","v":""},{"$f":"INPUT!IC194","v":""},{"$f":"INPUT!ID194","v":""},{"$f":"INPUT!IE194","v":""},{"$f":"INPUT!IF194","v":""},{"$f":"INPUT!IG194","v":""},{"$f":"INPUT!IH194","v":""},null,{"$f":"INPUT!IZ194","v":""},{"$f":"INPUT!JA194","v":""},{"$f":"INPUT!JB194","v":""},{"$f":"INPUT!JC194","v":""},{"$f":"INPUT!JD194","v":""},{"$f":"INPUT!JE194","v":""},{"$f":"INPUT!JF194","v":""},"",null,{"$f":"INPUT!JX194","v":""},{"$f":"INPUT!JY194","v":""},{"$f":"INPUT!JZ194","v":""},{"$f":"INPUT!KA194","v":""},{"$f":"INPUT!KB194","v":""},{"$f":"INPUT!KC194","v":""},{"$f":"INPUT!KD194","v":""},"",null,{"$f":"INPUT!KZ194","v":""},{"$f":"INPUT!LA194","v":""},{"$f":"INPUT!LB194","v":""},{"$f":"INPUT!LC194","v":""},{"$f":"INPUT!LD194","v":""},{"$f":"INPUT!LE194","v":""},{"$f":"INPUT!LF194","v":""},{"$f":"INPUT!LG194","v":""},{"$f":"INPUT!LH194","v":""},null,{"$f":"INPUT!MB194","v":""},{"$f":"INPUT!MC194","v":""},{"$f":"INPUT!MD194","v":""},{"$f":"INPUT!ME194","v":""},{"$f":"INPUT!MF194","v":""},{"$f":"INPUT!MG194","v":""},{"$f":"INPUT!MH194","v":""},{"$f":"INPUT!MI194","v":""}]
[null,{"$f":"INPUT!EA195","v":""},{"$f":"INPUT!EB195","v":""},{"$f":"INPUT!EC195","v":""},{"$f":"INPUT!ED195","v":""},{"$f":"INPUT!EE195","v":""},{"$f":"INPUT!EF195","v":""},{"$f":"INPUT!EG195","v":""},"",null,{"$f":"INPUT!EY195","v":""},{"$f":"INPUT!EZ195","v":""},{"$f":"INPUT!FA195","v":""},{"$f":"INPUT!FB195","v":""},{"$f":"INPUT!FC195","v":""},{"$f":"INPUT!FD195","v":""},{"$f":"INPUT!FE195","v":""},"",null,{"$f":"INPUT!FW195","v":""},{"$f":"INPUT!FX195","v":""},{"$f":"INPUT!FY195","v":""},{"$f":"INPUT!FZ195","v":""},{"$f":"INPUT!GA195","v":""},{"$f":"INPUT!GB195","v":""},{"$f":"INPUT!GC195","v":""},null,{"$f":"INPUT!GY195","v":""},{"$f":"INPUT!GZ195","v":""},{"$f":"INPUT!HA195","v":""},{"$f":"INPUT!HB195","v":""},{"$f":"INPUT!HC195","v":""},{"$f":"INPUT!HD195","v":""},{"$f":"INPUT!HE195","v":""},{"$f":"INPUT!HF195","v":""},{"$f":"INPUT!HG195","v":""},null,{"$f":"INPUT!IA195","v":""},{"$f":"INPUT!IB195","v":""},{"$f":"INPUT!IC195","v":""},{"$f":"INPUT!ID195","v":""},{"$f":"INPUT!IE195","v":""},{"$f":"INPUT!IF195","v":""},{"$f":"INPUT!IG195","v":""},{"$f":"INPUT!IH195","v":""},null,{"$f":"INPUT!IZ195","v":""},{"$f":"INPUT!JA195","v":""},{"$f":"INPUT!JB195","v":""},{"$f":"INPUT!JC195","v":""},{"$f":"INPUT!JD195","v":""},{"$f":"INPUT!JE195","v":""},{"$f":"INPUT!JF195","v":""},"",null,{"$f":"INPUT!JX195","v":""},{"$f":"INPUT!JY195","v":""},{"$f":"INPUT!JZ195","v":""},{"$f":"INPUT!KA195","v":""},{"$f":"INPUT!KB195","v":""},{"$f":"INPUT!KC195","v":""},{"$f":"INPUT!KD195","v":""},"",null,{"$f":"INPUT!KZ195","v":""},{"$f":"INPUT!LA195","v":""},{"$f":"INPUT!LB195","v":""},{"$f":"INPUT!LC195","v":""},{"$f":"INPUT!LD195","v":""},{"$f":"INPUT!LE195","v":""},{"$f":"INPUT!LF195","v":""},{"$f":"INPUT!LG195","v":""},{"$f":"INPUT!LH195","v":""},null,{"$f":"INPUT!MB195","v":""},{"$f":"INPUT!MC195","v":""},{"$f":"INPUT!MD195","v":""},{"$f":"INPUT!ME195","v":""},{"$f":"INPUT!MF195","v":""},{"$f":"INPUT!MG195","v":""},{"$f":"INPUT!MH195","v":""},{"$f":"INPUT!MI195","v":""}]
[null,{"$f":"INPUT!EA196","v":""},{"$f":"INPUT!EB196","v":""},{"$f":"INPUT!EC196","v":""},{"$f":"INPUT!ED196","v":""},{"$f":"INPUT!EE196","v":""},{"$f":"INPUT!EF196","v":""},{"$f":"INPUT!EG196","v":""},"",null,{"$f":"INPUT!EY196","v":""},{"$f":"INPUT!EZ196","v":""},{"$f":"INPUT!FA196","v":""},{"$f":"INPUT!FB196","v":""},{"$f":"INPUT!FC196","v":""},{"$f":"INPUT!FD196","v":""},{"$f":"INPUT!FE196","v":""},"",null,{"$f":"INPUT!FW196","v":""},{"$f":"INPUT!FX196","v":""},{"$f":"INPUT!FY196","v":""},{"$f":"INPUT!FZ196","v":""},{"$f":"INPUT!GA196","v":""},{"$f":"INPUT!GB196","v":""},{"$f":"INPUT!GC196","v":""},null,{"$f":"INPUT!GY196","v":""},{"$f":"INPUT!GZ196","v":""},{"$f":"INPUT!HA196","v":""},{"$f":"INPUT!HB196","v":""},{"$f":"INPUT!HC196","v":""},{"$f":"INPUT!HD196","v":""},{"$f":"INPUT!HE196","v":""},{"$f":"INPUT!HF196","v":""},{"$f":"INPUT!HG196","v":""},null,{"$f":"INPUT!IA196","v":""},{"$f":"INPUT!IB196","v":""},{"$f":"INPUT!IC196","v":""},{"$f":"INPUT!ID196","v":""},{"$f":"INPUT!IE196","v":""},{"$f":"INPUT!IF196","v":""},{"$f":"INPUT!IG196","v":""},{"$f":"INPUT!IH196","v":""},null,{"$f":"INPUT!IZ196","v":""},{"$f":"INPUT!JA196","v":""},{"$f":"INPUT!JB196","v":""},{"$f":"INPUT!JC196","v":""},{"$f":"INPUT!JD196","v":""},{"$f":"INPUT!JE196","v":""},{"$f":"INPUT!JF196","v":""},"",null,{"$f":"INPUT!JX196","v":""},{"$f":"INPUT!JY196","v":""},{"$f":"INPUT!JZ196","v":""},{"$f":"INPUT!KA196","v":""},{"$f":"INPUT!KB196","v":""},{"$f":"INPUT!KC196","v":""},{"$f":"INPUT!KD196","v":""},"",null,{"$f":"INPUT!KZ196","v":""},{"$f":"INPUT!LA196","v":""},{"$f":"INPUT!LB196","v":""},{"$f":"INPUT!LC196","v":""},{"$f":"INPUT!LD196","v":""},{"$f":"INPUT!LE196","v":""},{"$f":"INPUT!LF196","v":""},{"$f":"INPUT!LG196","v":""},{"$f":"INPUT!LH196","v":""},null,{"$f":"INPUT!MB196","v":""},{"$f":"INPUT!MC196","v":""},{"$f":"INPUT!MD196","v":""},{"$f":"INPUT!ME196","v":""},{"$f":"INPUT!MF196","v":""},{"$f":"INPUT!MG196","v":""},{"$f":"INPUT!MH196","v":""},{"$f":"INPUT!MI196","v":""}]
[null,{"$f":"INPUT!EA197","v":""},{"$f":"INPUT!EB197","v":""},{"$f":"INPUT!EC197","v":""},{"$f":"INPUT!ED197","v":""},{"$f":"INPUT!EE197","v":""},{"$f":"INPUT!EF197","v":""},{"$f":"INPUT!EG197","v":""},"",null,{"$f":"INPUT!EY197","v":""},{"$f":"INPUT!EZ197","v":""},{"$f":"INPUT!FA197","v":""},{"$f":"INPUT!FB197","v":""},{"$f":"INPUT!FC197","v":""},{"$f":"INPUT!FD197","v":""},{"$f":"INPUT!FE197","v":""},"",null,{"$f":"INPUT!FW197","v":""},{"$f":"INPUT!FX197","v":""},{"$f":"INPUT!FY197","v":""},{"$f":"INPUT!FZ197","v":""},{"$f":"INPUT!GA197","v":""},{"$f":"INPUT!GB197","v":""},{"$f":"INPUT!GC197","v":""},null,{"$f":"INPUT!GY197","v":""},{"$f":"INPUT!GZ197","v":""},{"$f":"INPUT!HA197","v":""},{"$f":"INPUT!HB197","v":""},{"$f":"INPUT!HC197","v":""},{"$f":"INPUT!HD197","v":""},{"$f":"INPUT!HE197","v":""},{"$f":"INPUT!HF197","v":""},{"$f":"INPUT!HG197","v":""},null,{"$f":"INPUT!IA197","v":""},{"$f":"INPUT!IB197","v":""},{"$f":"INPUT!IC197","v":""},{"$f":"INPUT!ID197","v":""},{"$f":"INPUT!IE197","v":""},{"$f":"INPUT!IF197","v":""},{"$f":"INPUT!IG197","v":""},{"$f":"INPUT!IH197","v":""},null,{"$f":"INPUT!IZ197","v":""},{"$f":"INPUT!JA197","v":""},{"$f":"INPUT!JB197","v":""},{"$f":"INPUT!JC197","v":""},{"$f":"INPUT!JD197","v":""},{"$f":"INPUT!JE197","v":""},{"$f":"INPUT!JF197","v":""},"",null,{"$f":"INPUT!JX197","v":""},{"$f":"INPUT!JY197","v":""},{"$f":"INPUT!JZ197","v":""},{"$f":"INPUT!KA197","v":""},{"$f":"INPUT!KB197","v":""},{"$f":"INPUT!KC197","v":""},{"$f":"INPUT!KD197","v":""},"",null,{"$f":"INPUT!KZ197","v":""},{"$f":"INPUT!LA197","v":""},{"$f":"INPUT!LB197","v":""},{"$f":"INPUT!LC197","v":""},{"$f":"INPUT!LD197","v":""},{"$f":"INPUT!LE197","v":""},{"$f":"INPUT!LF197","v":""},{"$f":"INPUT!LG197","v":""},{"$f":"INPUT!LH197","v":""},null,{"$f":"INPUT!MB197","v":""},{"$f":"INPUT!MC197","v":""},{"$f":"INPUT!MD197","v":""},{"$f":"INPUT!ME197","v":""},{"$f":"INPUT!MF197","v":""},{"$f":"INPUT!MG197","v":""},{"$f":"INPUT!MH197","v":""},{"$f":"INPUT!MI197","v":""}]
[null,{"$f":"INPUT!EA198","v":""},{"$f":"INPUT!EB198","v":""},{"$f":"INPUT!EC198","v":""},{"$f":"INPUT!ED198","v":""},{"$f":"INPUT!EE198","v":""},{"$f":"INPUT!EF198","v":""},{"$f":"INPUT!EG198","v":""},"",null,{"$f":"INPUT!EY198","v":""},{"$f":"INPUT!EZ198","v":""},{"$f":"INPUT!FA198","v":""},{"$f":"INPUT!FB198","v":""},{"$f":"INPUT!FC198","v":""},{"$f":"INPUT!FD198","v":""},{"$f":"INPUT!FE198","v":""},"",null,{"$f":"INPUT!FW198","v":""},{"$f":"INPUT!FX198","v":""},{"$f":"INPUT!FY198","v":""},{"$f":"INPUT!FZ198","v":""},{"$f":"INPUT!GA198","v":""},{"$f":"INPUT!GB198","v":""},{"$f":"INPUT!GC198","v":""},null,{"$f":"INPUT!GY198","v":""},{"$f":"INPUT!GZ198","v":""},{"$f":"INPUT!HA198","v":""},{"$f":"INPUT!HB198","v":""},{"$f":"INPUT!HC198","v":""},{"$f":"INPUT!HD198","v":""},{"$f":"INPUT!HE198","v":""},{"$f":"INPUT!HF198","v":""},{"$f":"INPUT!HG198","v":""},null,{"$f":"INPUT!IA198","v":""},{"$f":"INPUT!IB198","v":""},{"$f":"INPUT!IC198","v":""},{"$f":"INPUT!ID198","v":""},{"$f":"INPUT!IE198","v":""},{"$f":"INPUT!IF198","v":""},{"$f":"INPUT!IG198","v":""},{"$f":"INPUT!IH198","v":""},null,{"$f":"INPUT!IZ198","v":""},{"$f":"INPUT!JA198","v":""},{"$f":"INPUT!JB198","v":""},{"$f":"INPUT!JC198","v":""},{"$f":"INPUT!JD198","v":""},{"$f":"INPUT!JE198","v":""},{"$f":"INPUT!JF198","v":""},"",null,{"$f":"INPUT!JX198","v":""},{"$f":"INPUT!JY198","v":""},{"$f":"INPUT!JZ198","v":""},{"$f":"INPUT!KA198","v":""},{"$f":"INPUT!KB198","v":""},{"$f":"INPUT!KC198","v":""},{"$f":"INPUT!KD198","v":""},"",null,{"$f":"INPUT!KZ198","v":""},{"$f":"INPUT!LA198","v":""},{"$f":"INPUT!LB198","v":""},{"$f":"INPUT!LC198","v":""},{"$f":"INPUT!LD198","v":""},{"$f":"INPUT!LE198","v":""},{"$f":"INPUT!LF198","v":""},{"$f":"INPUT!LG198","v":""},{"$f":"INPUT!LH198","v":""},null,{"$f":"INPUT!MB198","v":""},{"$f":"INPUT!MC198","v":""},{"$f":"INPUT!MD198","v":""},{"$f":"INPUT!ME198","v":""},{"$f":"INPUT!MF198","v":""},{"$f":"INPUT!MG198","v":""},{"$f":"INPUT!MH198","v":""},{"$f":"INPUT!MI198","v":""}]
[null,{"$f":"INPUT!EA199","v":""},{"$f":"INPUT!EB199","v":""},{"$f":"INPUT!EC199","v":""},{"$f":"INPUT!ED199","v":""},{"$f":"INPUT!EE199","v":""},{"$f":"INPUT!EF199","v":""},{"$f":"INPUT!EG199","v":""},"",null,{"$f":"INPUT!EY199","v":""},{"$f":"INPUT!EZ199","v":""},{"$f":"INPUT!FA199","v":""},{"$f":"INPUT!FB199","v":""},{"$f":"INPUT!FC199","v":""},{"$f":"INPUT!FD199","v":""},{"$f":"INPUT!FE199","v":""},"",null,{"$f":"INPUT!FW199","v":""},{"$f":"INPUT!FX199","v":""},{"$f":"INPUT!FY199","v":""},{"$f":"INPUT!FZ199","v":""},{"$f":"INPUT!GA199","v":""},{"$f":"INPUT!GB199","v":""},{"$f":"INPUT!GC199","v":""},null,{"$f":"INPUT!GY199","v":""},{"$f":"INPUT!GZ199","v":""},{"$f":"INPUT!HA199","v":""},{"$f":"INPUT!HB199","v":""},{"$f":"INPUT!HC199","v":""},{"$f":"INPUT!HD199","v":""},{"$f":"INPUT!HE199","v":""},{"$f":"INPUT!HF199","v":""},{"$f":"INPUT!HG199","v":""},null,{"$f":"INPUT!IA199","v":""},{"$f":"INPUT!IB199","v":""},{"$f":"INPUT!IC199","v":""},{"$f":"INPUT!ID199","v":""},{"$f":"INPUT!IE199","v":""},{"$f":"INPUT!IF199","v":""},{"$f":"INPUT!IG199","v":""},{"$f":"INPUT!IH199","v":""},null,{"$f":"INPUT!IZ199","v":""},{"$f":"INPUT!JA199","v":""},{"$f":"INPUT!JB199","v":""},{"$f":"INPUT!JC199","v":""},{"$f":"INPUT!JD199","v":""},{"$f":"INPUT!JE199","v":""},{"$f":"INPUT!JF199","v":""},"",null,{"$f":"INPUT!JX199","v":""},{"$f":"INPUT!JY199","v":""},{"$f":"INPUT!JZ199","v":""},{"$f":"INPUT!KA199","v":""},{"$f":"INPUT!KB199","v":""},{"$f":"INPUT!KC199","v":""},{"$f":"INPUT!KD199","v":""},"",null,{"$f":"INPUT!KZ199","v":""},{"$f":"INPUT!LA199","v":""},{"$f":"INPUT!LB199","v":""},{"$f":"INPUT!LC199","v":""},{"$f":"INPUT!LD199","v":""},{"$f":"INPUT!LE199","v":""},{"$f":"INPUT!LF199","v":""},{"$f":"INPUT!LG199","v":""},{"$f":"INPUT!LH199","v":""},null,{"$f":"INPUT!MB199","v":""},{"$f":"INPUT!MC199","v":""},{"$f":"INPUT!MD199","v":""},{"$f":"INPUT!ME199","v":""},{"$f":"INPUT!MF199","v":""},{"$f":"INPUT!MG199","v":""},{"$f":"INPUT!MH199","v":""},{"$f":"INPUT!MI199","v":""}]
[null,{"$f":"INPUT!EA200","v":""},{"$f":"INPUT!EB200","v":""},{"$f":"INPUT!EC200","v":""},{"$f":"INPUT!ED200","v":""},{"$f":"INPUT!EE200","v":""},{"$f":"INPUT!EF200","v":""},{"$f":"INPUT!EG200","v":""},"",null,{"$f":"INPUT!EY200","v":""},{"$f":"INPUT!EZ200","v":""},{"$f":"INPUT!FA200","v":""},{"$f":"INPUT!FB200","v":""},{"$f":"INPUT!FC200","v":""},{"$f":"INPUT!FD200","v":""},{"$f":"INPUT!FE200","v":""},"",null,{"$f":"INPUT!FW200","v":""},{"$f":"INPUT!FX200","v":""},{"$f":"INPUT!FY200","v":""},{"$f":"INPUT!FZ200","v":""},{"$f":"INPUT!GA200","v":""},{"$f":"INPUT!GB200","v":""},{"$f":"INPUT!GC200","v":""},null,{"$f":"INPUT!GY200","v":""},{"$f":"INPUT!GZ200","v":""},{"$f":"INPUT!HA200","v":""},{"$f":"INPUT!HB200","v":""},{"$f":"INPUT!HC200","v":""},{"$f":"INPUT!HD200","v":""},{"$f":"INPUT!HE200","v":""},{"$f":"INPUT!HF200","v":""},{"$f":"INPUT!HG200","v":""},null,{"$f":"INPUT!IA200","v":""},{"$f":"INPUT!IB200","v":""},{"$f":"INPUT!IC200","v":""},{"$f":"INPUT!ID200","v":""},{"$f":"INPUT!IE200","v":""},{"$f":"INPUT!IF200","v":""},{"$f":"INPUT!IG200","v":""},{"$f":"INPUT!IH200","v":""},null,{"$f":"INPUT!IZ200","v":""},{"$f":"INPUT!JA200","v":""},{"$f":"INPUT!JB200","v":""},{"$f":"INPUT!JC200","v":""},{"$f":"INPUT!JD200","v":""},{"$f":"INPUT!JE200","v":""},{"$f":"INPUT!JF200","v":""},"",null,{"$f":"INPUT!JX200","v":""},{"$f":"INPUT!JY200","v":""},{"$f":"INPUT!JZ200","v":""},{"$f":"INPUT!KA200","v":""},{"$f":"INPUT!KB200","v":""},{"$f":"INPUT!KC200","v":""},{"$f":"INPUT!KD200","v":""},"",null,{"$f":"INPUT!KZ200","v":""},{"$f":"INPUT!LA200","v":""},{"$f":"INPUT!LB200","v":""},{"$f":"INPUT!LC200","v":""},{"$f":"INPUT!LD200","v":""},{"$f":"INPUT!LE200","v":""},{"$f":"INPUT!LF200","v":""},{"$f":"INPUT!LG200","v":""},{"$f":"INPUT!LH200","v":""},null,{"$f":"INPUT!MB200","v":""},{"$f":"INPUT!MC200","v":""},{"$f":"INPUT!MD200","v":""},{"$f":"INPUT!ME200","v":""},{"$f":"INPUT!MF200","v":""},{"$f":"INPUT!MG200","v":""},{"$f":"INPUT!MH200","v":""},{"$f":"INPUT!MI200","v":""}]
[null,{"$f":"INPUT!EA201","v":""},{"$f":"INPUT!EB201","v":""},{"$f":"INPUT!EC201","v":""},{"$f":"INPUT!ED201","v":""},{"$f":"INPUT!EE201","v":""},{"$f":"INPUT!EF201","v":""},{"$f":"INPUT!EG201","v":""},"",null,{"$f":"INPUT!EY201","v":""},{"$f":"INPUT!EZ201","v":""},{"$f":"INPUT!FA201","v":""},{"$f":"INPUT!FB201","v":""},{"$f":"INPUT!FC201","v":""},{"$f":"INPUT!FD201","v":""},{"$f":"INPUT!FE201","v":""},"",null,{"$f":"INPUT!FW201","v":""},{"$f":"INPUT!FX201","v":""},{"$f":"INPUT!FY201","v":""},{"$f":"INPUT!FZ201","v":""},{"$f":"INPUT!GA201","v":""},{"$f":"INPUT!GB201","v":""},{"$f":"INPUT!GC201","v":""},null,{"$f":"INPUT!GY201","v":""},{"$f":"INPUT!GZ201","v":""},{"$f":"INPUT!HA201","v":""},{"$f":"INPUT!HB201","v":""},{"$f":"INPUT!HC201","v":""},{"$f":"INPUT!HD201","v":""},{"$f":"INPUT!HE201","v":""},{"$f":"INPUT!HF201","v":""},{"$f":"INPUT!HG201","v":""},null,{"$f":"INPUT!IA201","v":""},{"$f":"INPUT!IB201","v":""},{"$f":"INPUT!IC201","v":""},{"$f":"INPUT!ID201","v":""},{"$f":"INPUT!IE201","v":""},{"$f":"INPUT!IF201","v":""},{"$f":"INPUT!IG201","v":""},{"$f":"INPUT!IH201","v":""},null,{"$f":"INPUT!IZ201","v":""},{"$f":"INPUT!JA201","v":""},{"$f":"INPUT!JB201","v":""},{"$f":"INPUT!JC201","v":""},{"$f":"INPUT!JD201","v":""},{"$f":"INPUT!JE201","v":""},{"$f":"INPUT!JF201","v":""},"",null,{"$f":"INPUT!JX201","v":""},{"$f":"INPUT!JY201","v":""},{"$f":"INPUT!JZ201","v":""},{"$f":"INPUT!KA201","v":""},{"$f":"INPUT!KB201","v":""},{"$f":"INPUT!KC201","v":""},{"$f":"INPUT!KD201","v":""},"",null,{"$f":"INPUT!KZ201","v":""},{"$f":"INPUT!LA201","v":""},{"$f":"INPUT!LB201","v":""},{"$f":"INPUT!LC201","v":""},{"$f":"INPUT!LD201","v":""},{"$f":"INPUT!LE201","v":""},{"$f":"INPUT!LF201","v":""},{"$f":"INPUT!LG201","v":""},{"$f":"INPUT!LH201","v":""},null,{"$f":"INPUT!MB201","v":""},{"$f":"INPUT!MC201","v":""},{"$f":"INPUT!MD201","v":""},{"$f":"INPUT!ME201","v":""},{"$f":"INPUT!MF201","v":""},{"$f":"INPUT!MG201","v":""},{"$f":"INPUT!MH201","v":""},{"$f":"INPUT!MI201","v":""}]
[null,{"$f":"INPUT!EA202","v":""},{"$f":"INPUT!EB202","v":""},{"$f":"INPUT!EC202","v":""},{"$f":"INPUT!ED202","v":""},{"$f":"INPUT!EE202","v":""},{"$f":"INPUT!EF202","v":""},{"$f":"INPUT!EG202","v":""},"",null,{"$f":"INPUT!EY202","v":""},{"$f":"INPUT!EZ202","v":""},{"$f":"INPUT!FA202","v":""},{"$f":"INPUT!FB202","v":""},{"$f":"INPUT!FC202","v":""},{"$f":"INPUT!FD202","v":""},{"$f":"INPUT!FE202","v":""},"",null,{"$f":"INPUT!FW202","v":""},{"$f":"INPUT!FX202","v":""},{"$f":"INPUT!FY202","v":""},{"$f":"INPUT!FZ202","v":""},{"$f":"INPUT!GA202","v":""},{"$f":"INPUT!GB202","v":""},{"$f":"INPUT!GC202","v":""},null,{"$f":"INPUT!GY202","v":""},{"$f":"INPUT!GZ202","v":""},{"$f":"INPUT!HA202","v":""},{"$f":"INPUT!HB202","v":""},{"$f":"INPUT!HC202","v":""},{"$f":"INPUT!HD202","v":""},{"$f":"INPUT!HE202","v":""},{"$f":"INPUT!HF202","v":""},{"$f":"INPUT!HG202","v":""},null,{"$f":"INPUT!IA202","v":""},{"$f":"INPUT!IB202","v":""},{"$f":"INPUT!IC202","v":""},{"$f":"INPUT!ID202","v":""},{"$f":"INPUT!IE202","v":""},{"$f":"INPUT!IF202","v":""},{"$f":"INPUT!IG202","v":""},{"$f":"INPUT!IH202","v":""},null,{"$f":"INPUT!IZ202","v":""},{"$f":"INPUT!JA202","v":""},{"$f":"INPUT!JB202","v":""},{"$f":"INPUT!JC202","v":""},{"$f":"INPUT!JD202","v":""},{"$f":"INPUT!JE202","v":""},{"$f":"INPUT!JF202","v":""},"",null,{"$f":"INPUT!JX202","v":""},{"$f":"INPUT!JY202","v":""},{"$f":"INPUT!JZ202","v":""},{"$f":"INPUT!KA202","v":""},{"$f":"INPUT!KB202","v":""},{"$f":"INPUT!KC202","v":""},{"$f":"INPUT!KD202","v":""},"",null,{"$f":"INPUT!KZ202","v":""},{"$f":"INPUT!LA202","v":""},{"$f":"INPUT!LB202","v":""},{"$f":"INPUT!LC202","v":""},{"$f":"INPUT!LD202","v":""},{"$f":"INPUT!LE202","v":""},{"$f":"INPUT!LF202","v":""},{"$f":"INPUT!LG202","v":""},{"$f":"INPUT!LH202","v":""},null,{"$f":"INPUT!MB202","v":""},{"$f":"INPUT!MC202","v":""},{"$f":"INPUT!MD202","v":""},{"$f":"INPUT!ME202","v":""},{"$f":"INPUT!MF202","v":""},{"$f":"INPUT!MG202","v":""},{"$f":"INPUT!MH202","v":""},{"$f":"INPUT!MI202","v":""}]
[null,{"$f":"INPUT!EA203","v":""},{"$f":"INPUT!EB203","v":""},{"$f":"INPUT!EC203","v":""},{"$f":"INPUT!ED203","v":""},{"$f":"INPUT!EE203","v":""},{"$f":"INPUT!EF203","v":""},{"$f":"INPUT!EG203","v":""},{"$f":"IF(ISNUMBER($H203),1/$H203,\"\")","v":""},null,{"$f":"INPUT!EY203","v":""},{"$f":"INPUT!EZ203","v":""},{"$f":"INPUT!FA203","v":""},{"$f":"INPUT!FB203","v":""},{"$f":"INPUT!FC203","v":""},{"$f":"INPUT!FD203","v":""},{"$f":"INPUT!FE203","v":""},{"$f":"IF(ISNUMBER($Q203),1/$Q203,\"\")","v":""},null,{"$f":"INPUT!FW203","v":""},{"$f":"INPUT!FX203","v":""},{"$f":"INPUT!FY203","v":""},{"$f":"INPUT!FZ203","v":""},{"$f":"INPUT!GA203","v":""},{"$f":"INPUT!GB203","v":""},{"$f":"INPUT!GC203","v":""},null,{"$f":"INPUT!GY203","v":""},{"$f":"INPUT!GZ203","v":""},{"$f":"INPUT!HA203","v":""},{"$f":"INPUT!HB203","v":""},{"$f":"INPUT!HC203","v":""},{"$f":"INPUT!HD203","v":""},{"$f":"INPUT!HE203","v":""},{"$f":"INPUT!HF203","v":""},{"$f":"INPUT!HG203","v":""},null,{"$f":"INPUT!IA203","v":""},{"$f":"INPUT!IB203","v":""},{"$f":"INPUT!IC203","v":""},{"$f":"INPUT!ID203","v":""},{"$f":"INPUT!IE203","v":""},{"$f":"INPUT!IF203","v":""},{"$f":"INPUT!IG203","v":""},{"$f":"INPUT!IH203","v":""},null,{"$f":"INPUT!IZ203","v":""},{"$f":"INPUT!JA203","v":""},{"$f":"INPUT!JB203","v":""},{"$f":"INPUT!JC203","v":""},{"$f":"INPUT!JD203","v":""},{"$f":"INPUT!JE203","v":""},{"$f":"INPUT!JF203","v":""},{"$f":"IF(ISNUMBER($BA203),1/$BA203,\"\")","v":""},null,{"$f":"INPUT!JX203","v":""},{"$f":"INPUT!JY203","v":""},{"$f":"INPUT!JZ203","v":""},{"$f":"INPUT!KA203","v":""},{"$f":"INPUT!KB203","v":""},{"$f":"INPUT!KC203","v":""},{"$f":"INPUT!KD203","v":""},{"$f":"IF(ISNUMBER($BJ203),1/$BJ203,\"\")","v":""},null,{"$f":"INPUT!KZ203","v":""},{"$f":"INPUT!LA203","v":""},{"$f":"INPUT!LB203","v":""},{"$f":"INPUT!LC203","v":""},{"$f":"INPUT!LD203","v":""},{"$f":"INPUT!LE203","v":""},{"$f":"INPUT!LF203","v":""},{"$f":"INPUT!LG203","v":""},{"$f":"INPUT!LH203","v":""},null,{"$f":"INPUT!MB203","v":""},{"$f":"INPUT!MC203","v":""},{"$f":"INPUT!MD203","v":""},{"$f":"INPUT!ME203","v":""},{"$f":"INPUT!MF203","v":""},{"$f":"INPUT!MG203","v":""},{"$f":"INPUT!MH203","v":""},{"$f":"INPUT!MI203","v":""}]
[null,{"$f":"INPUT!EA204","v":""},{"$f":"INPUT!EB204","v":""},{"$f":"INPUT!EC204","v":""},{"$f":"INPUT!ED204","v":""},{"$f":"INPUT!EE204","v":""},{"$f":"INPUT!EF204","v":""},{"$f":"INPUT!EG204","v":""},"",null,{"$f":"INPUT!EY204","v":""},{"$f":"INPUT!EZ204","v":""},{"$f":"INPUT!FA204","v":""},{"$f":"INPUT!FB204","v":""},{"$f":"INPUT!FC204","v":""},{"$f":"INPUT!FD204","v":""},{"$f":"INPUT!FE204","v":""},"",null,{"$f":"INPUT!FW204","v":""},{"$f":"INPUT!FX204","v":""},{"$f":"INPUT!FY204","v":""},{"$f":"INPUT!FZ204","v":""},{"$f":"INPUT!GA204","v":""},{"$f":"INPUT!GB204","v":""},{"$f":"INPUT!GC204","v":""},null,{"$f":"INPUT!GY204","v":""},{"$f":"INPUT!GZ204","v":""},{"$f":"INPUT!HA204","v":""},{"$f":"INPUT!HB204","v":""},{"$f":"INPUT!HC204","v":""},{"$f":"INPUT!HD204","v":""},{"$f":"INPUT!HE204","v":""},{"$f":"INPUT!HF204","v":""},{"$f":"INPUT!HG204","v":""},null,{"$f":"INPUT!IA204","v":""},{"$f":"INPUT!IB204","v":""},{"$f":"INPUT!IC204","v":""},{"$f":"INPUT!ID204","v":""},{"$f":"INPUT!IE204","v":""},{"$f":"INPUT!IF204","v":""},{"$f":"INPUT!IG204","v":""},{"$f":"INPUT!IH204","v":""},null,{"$f":"INPUT!IZ204","v":""},{"$f":"INPUT!JA204","v":""},{"$f":"INPUT!JB204","v":""},{"$f":"INPUT!JC204","v":""},{"$f":"INPUT!JD204","v":""},{"$f":"INPUT!JE204","v":""},{"$f":"INPUT!JF204","v":""},"",null,{"$f":"INPUT!JX204","v":""},{"$f":"INPUT!JY204","v":""},{"$f":"INPUT!JZ204","v":""},{"$f":"INPUT!KA204","v":""},{"$f":"INPUT!KB204","v":""},{"$f":"INPUT!KC204","v":""},{"$f":"INPUT!KD204","v":""},"",null,{"$f":"INPUT!KZ204","v":""},{"$f":"INPUT!LA204","v":""},{"$f":"INPUT!LB204","v":""},{"$f":"INPUT!LC204","v":""},{"$f":"INPUT!LD204","v":""},{"$f":"INPUT!LE204","v":""},{"$f":"INPUT!LF204","v":""},{"$f":"INPUT!LG204","v":""},{"$f":"INPUT!LH204","v":""},null,{"$f":"INPUT!MB204","v":""},{"$f":"INPUT!MC204","v":""},{"$f":"INPUT!MD204","v":""},{"$f":"INPUT!ME204","v":""},{"$f":"INPUT!MF204","v":""},{"$f":"INPUT!MG204","v":""},{"$f":"INPUT!MH204","v":""},{"$f":"INPUT!MI204","v":""}]
[null,{"$f":"INPUT!EA205","v":""},{"$f":"INPUT!EB205","v":""},{"$f":"INPUT!EC205","v":""},{"$f":"INPUT!ED205","v":""},{"$f":"INPUT!EE205","v":""},{"$f":"INPUT!EF205","v":""},{"$f":"INPUT!EG205","v":""},"",null,{"$f":"INPUT!EY205","v":""},{"$f":"INPUT!EZ205","v":""},{"$f":"INPUT!FA205","v":""},{"$f":"INPUT!FB205","v":""},{"$f":"INPUT!FC205","v":""},{"$f":"INPUT!FD205","v":""},{"$f":"INPUT!FE205","v":""},"",null,{"$f":"INPUT!FW205","v":""},{"$f":"INPUT!FX205","v":""},{"$f":"INPUT!FY205","v":""},{"$f":"INPUT!FZ205","v":""},{"$f":"INPUT!GA205","v":""},{"$f":"INPUT!GB205","v":""},{"$f":"INPUT!GC205","v":""},null,{"$f":"INPUT!GY205","v":""},{"$f":"INPUT!GZ205","v":""},{"$f":"INPUT!HA205","v":""},{"$f":"INPUT!HB205","v":""},{"$f":"INPUT!HC205","v":""},{"$f":"INPUT!HD205","v":""},{"$f":"INPUT!HE205","v":""},{"$f":"INPUT!HF205","v":""},{"$f":"INPUT!HG205","v":""},null,{"$f":"INPUT!IA205","v":""},{"$f":"INPUT!IB205","v":""},{"$f":"INPUT!IC205","v":""},{"$f":"INPUT!ID205","v":""},{"$f":"INPUT!IE205","v":""},{"$f":"INPUT!IF205","v":""},{"$f":"INPUT!IG205","v":""},{"$f":"INPUT!IH205","v":""},null,{"$f":"INPUT!IZ205","v":""},{"$f":"INPUT!JA205","v":""},{"$f":"INPUT!JB205","v":""},{"$f":"INPUT!JC205","v":""},{"$f":"INPUT!JD205","v":""},{"$f":"INPUT!JE205","v":""},{"$f":"INPUT!JF205","v":""},"",null,{"$f":"INPUT!JX205","v":""},{"$f":"INPUT!JY205","v":""},{"$f":"INPUT!JZ205","v":""},{"$f":"INPUT!KA205","v":""},{"$f":"INPUT!KB205","v":""},{"$f":"INPUT!KC205","v":""},{"$f":"INPUT!KD205","v":""},"",null,{"$f":"INPUT!KZ205","v":""},{"$f":"INPUT!LA205","v":""},{"$f":"INPUT!LB205","v":""},{"$f":"INPUT!LC205","v":""},{"$f":"INPUT!LD205","v":""},{"$f":"INPUT!LE205","v":""},{"$f":"INPUT!LF205","v":""},{"$f":"INPUT!LG205","v":""},{"$f":"INPUT!LH205","v":""},null,{"$f":"INPUT!MB205","v":""},{"$f":"INPUT!MC205","v":""},{"$f":"INPUT!MD205","v":""},{"$f":"INPUT!ME205","v":""},{"$f":"INPUT!MF205","v":""},{"$f":"INPUT!MG205","v":""},{"$f":"INPUT!MH205","v":""},{"$f":"INPUT!MI205","v":""}]
[null,{"$f":"INPUT!EA206","v":""},{"$f":"INPUT!EB206","v":""},{"$f":"INPUT!EC206","v":""},{"$f":"INPUT!ED206","v":""},{"$f":"INPUT!EE206","v":""},{"$f":"INPUT!EF206","v":""},{"$f":"INPUT!EG206","v":""},"",null,{"$f":"INPUT!EY206","v":""},{"$f":"INPUT!EZ206","v":""},{"$f":"INPUT!FA206","v":""},{"$f":"INPUT!FB206","v":""},{"$f":"INPUT!FC206","v":""},{"$f":"INPUT!FD206","v":""},{"$f":"INPUT!FE206","v":""},"",null,{"$f":"INPUT!FW206","v":""},{"$f":"INPUT!FX206","v":""},{"$f":"INPUT!FY206","v":""},{"$f":"INPUT!FZ206","v":""},{"$f":"INPUT!GA206","v":""},{"$f":"INPUT!GB206","v":""},{"$f":"INPUT!GC206","v":""},null,{"$f":"INPUT!GY206","v":""},{"$f":"INPUT!GZ206","v":""},{"$f":"INPUT!HA206","v":""},{"$f":"INPUT!HB206","v":""},{"$f":"INPUT!HC206","v":""},{"$f":"INPUT!HD206","v":""},{"$f":"INPUT!HE206","v":""},{"$f":"INPUT!HF206","v":""},{"$f":"INPUT!HG206","v":""},null,{"$f":"INPUT!IA206","v":""},{"$f":"INPUT!IB206","v":""},{"$f":"INPUT!IC206","v":""},{"$f":"INPUT!ID206","v":""},{"$f":"INPUT!IE206","v":""},{"$f":"INPUT!IF206","v":""},{"$f":"INPUT!IG206","v":""},{"$f":"INPUT!IH206","v":""},null,{"$f":"INPUT!IZ206","v":""},{"$f":"INPUT!JA206","v":""},{"$f":"INPUT!JB206","v":""},{"$f":"INPUT!JC206","v":""},{"$f":"INPUT!JD206","v":""},{"$f":"INPUT!JE206","v":""},{"$f":"INPUT!JF206","v":""},"",null,{"$f":"INPUT!JX206","v":""},{"$f":"INPUT!JY206","v":""},{"$f":"INPUT!JZ206","v":""},{"$f":"INPUT!KA206","v":""},{"$f":"INPUT!KB206","v":""},{"$f":"INPUT!KC206","v":""},{"$f":"INPUT!KD206","v":""},"",null,{"$f":"INPUT!KZ206","v":""},{"$f":"INPUT!LA206","v":""},{"$f":"INPUT!LB206","v":""},{"$f":"INPUT!LC206","v":""},{"$f":"INPUT!LD206","v":""},{"$f":"INPUT!LE206","v":""},{"$f":"INPUT!LF206","v":""},{"$f":"INPUT!LG206","v":""},{"$f":"INPUT!LH206","v":""},null,{"$f":"INPUT!MB206","v":""},{"$f":"INPUT!MC206","v":""},{"$f":"INPUT!MD206","v":""},{"$f":"INPUT!ME206","v":""},{"$f":"INPUT!MF206","v":""},{"$f":"INPUT!MG206","v":""},{"$f":"INPUT!MH206","v":""},{"$f":"INPUT!MI206","v":""}]
[null,{"$f":"INPUT!EA207","v":""},{"$f":"INPUT!EB207","v":""},{"$f":"INPUT!EC207","v":""},{"$f":"INPUT!ED207","v":""},{"$f":"INPUT!EE207","v":""},{"$f":"INPUT!EF207","v":""},{"$f":"INPUT!EG207","v":""},"",null,{"$f":"INPUT!EY207","v":""},{"$f":"INPUT!EZ207","v":""},{"$f":"INPUT!FA207","v":""},{"$f":"INPUT!FB207","v":""},{"$f":"INPUT!FC207","v":""},{"$f":"INPUT!FD207","v":""},{"$f":"INPUT!FE207","v":""},"",null,{"$f":"INPUT!FW207","v":""},{"$f":"INPUT!FX207","v":""},{"$f":"INPUT!FY207","v":""},{"$f":"INPUT!FZ207","v":""},{"$f":"INPUT!GA207","v":""},{"$f":"INPUT!GB207","v":""},{"$f":"INPUT!GC207","v":""},null,{"$f":"INPUT!GY207","v":""},{"$f":"INPUT!GZ207","v":""},{"$f":"INPUT!HA207","v":""},{"$f":"INPUT!HB207","v":""},{"$f":"INPUT!HC207","v":""},{"$f":"INPUT!HD207","v":""},{"$f":"INPUT!HE207","v":""},{"$f":"INPUT!HF207","v":""},{"$f":"INPUT!HG207","v":""},null,{"$f":"INPUT!IA207","v":""},{"$f":"INPUT!IB207","v":""},{"$f":"INPUT!IC207","v":""},{"$f":"INPUT!ID207","v":""},{"$f":"INPUT!IE207","v":""},{"$f":"INPUT!IF207","v":""},{"$f":"INPUT!IG207","v":""},{"$f":"INPUT!IH207","v":""},null,{"$f":"INPUT!IZ207","v":""},{"$f":"INPUT!JA207","v":""},{"$f":"INPUT!JB207","v":""},{"$f":"INPUT!JC207","v":""},{"$f":"INPUT!JD207","v":""},{"$f":"INPUT!JE207","v":""},{"$f":"INPUT!JF207","v":""},"",null,{"$f":"INPUT!JX207","v":""},{"$f":"INPUT!JY207","v":""},{"$f":"INPUT!JZ207","v":""},{"$f":"INPUT!KA207","v":""},{"$f":"INPUT!KB207","v":""},{"$f":"INPUT!KC207","v":""},{"$f":"INPUT!KD207","v":""},"",null,{"$f":"INPUT!KZ207","v":""},{"$f":"INPUT!LA207","v":""},{"$f":"INPUT!LB207","v":""},{"$f":"INPUT!LC207","v":""},{"$f":"INPUT!LD207","v":""},{"$f":"INPUT!LE207","v":""},{"$f":"INPUT!LF207","v":""},{"$f":"INPUT!LG207","v":""},{"$f":"INPUT!LH207","v":""},null,{"$f":"INPUT!MB207","v":""},{"$f":"INPUT!MC207","v":""},{"$f":"INPUT!MD207","v":""},{"$f":"INPUT!ME207","v":""},{"$f":"INPUT!MF207","v":""},{"$f":"INPUT!MG207","v":""},{"$f":"INPUT!MH207","v":""},{"$f":"INPUT!MI207","v":""}]
[null,{"$f":"INPUT!EA208","v":""},{"$f":"INPUT!EB208","v":""},{"$f":"INPUT!EC208","v":""},{"$f":"INPUT!ED208","v":""},{"$f":"INPUT!EE208","v":""},{"$f":"INPUT!EF208","v":""},{"$f":"INPUT!EG208","v":""},"",null,{"$f":"INPUT!EY208","v":""},{"$f":"INPUT!EZ208","v":""},{"$f":"INPUT!FA208","v":""},{"$f":"INPUT!FB208","v":""},{"$f":"INPUT!FC208","v":""},{"$f":"INPUT!FD208","v":""},{"$f":"INPUT!FE208","v":""},"",null,{"$f":"INPUT!FW208","v":""},{"$f":"INPUT!FX208","v":""},{"$f":"INPUT!FY208","v":""},{"$f":"INPUT!FZ208","v":""},{"$f":"INPUT!GA208","v":""},{"$f":"INPUT!GB208","v":""},{"$f":"INPUT!GC208","v":""},null,{"$f":"INPUT!GY208","v":""},{"$f":"INPUT!GZ208","v":""},{"$f":"INPUT!HA208","v":""},{"$f":"INPUT!HB208","v":""},{"$f":"INPUT!HC208","v":""},{"$f":"INPUT!HD208","v":""},{"$f":"INPUT!HE208","v":""},{"$f":"INPUT!HF208","v":""},{"$f":"INPUT!HG208","v":""},null,{"$f":"INPUT!IA208","v":""},{"$f":"INPUT!IB208","v":""},{"$f":"INPUT!IC208","v":""},{"$f":"INPUT!ID208","v":""},{"$f":"INPUT!IE208","v":""},{"$f":"INPUT!IF208","v":""},{"$f":"INPUT!IG208","v":""},{"$f":"INPUT!IH208","v":""},null,{"$f":"INPUT!IZ208","v":""},{"$f":"INPUT!JA208","v":""},{"$f":"INPUT!JB208","v":""},{"$f":"INPUT!JC208","v":""},{"$f":"INPUT!JD208","v":""},{"$f":"INPUT!JE208","v":""},{"$f":"INPUT!JF208","v":""},"",null,{"$f":"INPUT!JX208","v":""},{"$f":"INPUT!JY208","v":""},{"$f":"INPUT!JZ208","v":""},{"$f":"INPUT!KA208","v":""},{"$f":"INPUT!KB208","v":""},{"$f":"INPUT!KC208","v":""},{"$f":"INPUT!KD208","v":""},"",null,{"$f":"INPUT!KZ208","v":""},{"$f":"INPUT!LA208","v":""},{"$f":"INPUT!LB208","v":""},{"$f":"INPUT!LC208","v":""},{"$f":"INPUT!LD208","v":""},{"$f":"INPUT!LE208","v":""},{"$f":"INPUT!LF208","v":""},{"$f":"INPUT!LG208","v":""},{"$f":"INPUT!LH208","v":""},null,{"$f":"INPUT!MB208","v":""},{"$f":"INPUT!MC208","v":""},{"$f":"INPUT!MD208","v":""},{"$f":"INPUT!ME208","v":""},{"$f":"INPUT!MF208","v":""},{"$f":"INPUT!MG208","v":""},{"$f":"INPUT!MH208","v":""},{"$f":"INPUT!MI208","v":""}]
[null,{"$f":"INPUT!EA209","v":""},{"$f":"INPUT!EB209","v":""},{"$f":"INPUT!EC209","v":""},{"$f":"INPUT!ED209","v":""},{"$f":"INPUT!EE209","v":""},{"$f":"INPUT!EF209","v":""},{"$f":"INPUT!EG209","v":""},"",null,{"$f":"INPUT!EY209","v":""},{"$f":"INPUT!EZ209","v":""},{"$f":"INPUT!FA209","v":""},{"$f":"INPUT!FB209","v":""},{"$f":"INPUT!FC209","v":""},{"$f":"INPUT!FD209","v":""},{"$f":"INPUT!FE209","v":""},"",null,{"$f":"INPUT!FW209","v":""},{"$f":"INPUT!FX209","v":""},{"$f":"INPUT!FY209","v":""},{"$f":"INPUT!FZ209","v":""},{"$f":"INPUT!GA209","v":""},{"$f":"INPUT!GB209","v":""},{"$f":"INPUT!GC209","v":""},null,{"$f":"INPUT!GY209","v":""},{"$f":"INPUT!GZ209","v":""},{"$f":"INPUT!HA209","v":""},{"$f":"INPUT!HB209","v":""},{"$f":"INPUT!HC209","v":""},{"$f":"INPUT!HD209","v":""},{"$f":"INPUT!HE209","v":""},{"$f":"INPUT!HF209","v":""},{"$f":"INPUT!HG209","v":""},null,{"$f":"INPUT!IA209","v":""},{"$f":"INPUT!IB209","v":""},{"$f":"INPUT!IC209","v":""},{"$f":"INPUT!ID209","v":""},{"$f":"INPUT!IE209","v":""},{"$f":"INPUT!IF209","v":""},{"$f":"INPUT!IG209","v":""},{"$f":"INPUT!IH209","v":""},null,{"$f":"INPUT!IZ209","v":""},{"$f":"INPUT!JA209","v":""},{"$f":"INPUT!JB209","v":""},{"$f":"INPUT!JC209","v":""},{"$f":"INPUT!JD209","v":""},{"$f":"INPUT!JE209","v":""},{"$f":"INPUT!JF209","v":""},"",null,{"$f":"INPUT!JX209","v":""},{"$f":"INPUT!JY209","v":""},{"$f":"INPUT!JZ209","v":""},{"$f":"INPUT!KA209","v":""},{"$f":"INPUT!KB209","v":""},{"$f":"INPUT!KC209","v":""},{"$f":"INPUT!KD209","v":""},"",null,{"$f":"INPUT!KZ209","v":""},{"$f":"INPUT!LA209","v":""},{"$f":"INPUT!LB209","v":""},{"$f":"INPUT!LC209","v":""},{"$f":"INPUT!LD209","v":""},{"$f":"INPUT!LE209","v":""},{"$f":"INPUT!LF209","v":""},{"$f":"INPUT!LG209","v":""},{"$f":"INPUT!LH209","v":""},null,{"$f":"INPUT!MB209","v":""},{"$f":"INPUT!MC209","v":""},{"$f":"INPUT!MD209","v":""},{"$f":"INPUT!ME209","v":""},{"$f":"INPUT!MF209","v":""},{"$f":"INPUT!MG209","v":""},{"$f":"INPUT!MH209","v":""},{"$f":"INPUT!MI209","v":""}]
[null,{"$f":"INPUT!EA210","v":""},{"$f":"INPUT!EB210","v":""},{"$f":"INPUT!EC210","v":""},{"$f":"INPUT!ED210","v":""},{"$f":"INPUT!EE210","v":""},{"$f":"INPUT!EF210","v":""},{"$f":"INPUT!EG210","v":""},"",null,{"$f":"INPUT!EY210","v":""},{"$f":"INPUT!EZ210","v":""},{"$f":"INPUT!FA210","v":""},{"$f":"INPUT!FB210","v":""},{"$f":"INPUT!FC210","v":""},{"$f":"INPUT!FD210","v":""},{"$f":"INPUT!FE210","v":""},"",null,{"$f":"INPUT!FW210","v":""},{"$f":"INPUT!FX210","v":""},{"$f":"INPUT!FY210","v":""},{"$f":"INPUT!FZ210","v":""},{"$f":"INPUT!GA210","v":""},{"$f":"INPUT!GB210","v":""},{"$f":"INPUT!GC210","v":""},null,{"$f":"INPUT!GY210","v":""},{"$f":"INPUT!GZ210","v":""},{"$f":"INPUT!HA210","v":""},{"$f":"INPUT!HB210","v":""},{"$f":"INPUT!HC210","v":""},{"$f":"INPUT!HD210","v":""},{"$f":"INPUT!HE210","v":""},{"$f":"INPUT!HF210","v":""},{"$f":"INPUT!HG210","v":""},null,{"$f":"INPUT!IA210","v":""},{"$f":"INPUT!IB210","v":""},{"$f":"INPUT!IC210","v":""},{"$f":"INPUT!ID210","v":""},{"$f":"INPUT!IE210","v":""},{"$f":"INPUT!IF210","v":""},{"$f":"INPUT!IG210","v":""},{"$f":"INPUT!IH210","v":""},null,{"$f":"INPUT!IZ210","v":""},{"$f":"INPUT!JA210","v":""},{"$f":"INPUT!JB210","v":""},{"$f":"INPUT!JC210","v":""},{"$f":"INPUT!JD210","v":""},{"$f":"INPUT!JE210","v":""},{"$f":"INPUT!JF210","v":""},"",null,{"$f":"INPUT!JX210","v":""},{"$f":"INPUT!JY210","v":""},{"$f":"INPUT!JZ210","v":""},{"$f":"INPUT!KA210","v":""},{"$f":"INPUT!KB210","v":""},{"$f":"INPUT!KC210","v":""},{"$f":"INPUT!KD210","v":""},"",null,{"$f":"INPUT!KZ210","v":""},{"$f":"INPUT!LA210","v":""},{"$f":"INPUT!LB210","v":""},{"$f":"INPUT!LC210","v":""},{"$f":"INPUT!LD210","v":""},{"$f":"INPUT!LE210","v":""},{"$f":"INPUT!LF210","v":""},{"$f":"INPUT!LG210","v":""},{"$f":"INPUT!LH210","v":""},null,{"$f":"INPUT!MB210","v":""},{"$f":"INPUT!MC210","v":""},{"$f":"INPUT!MD210","v":""},{"$f":"INPUT!ME210","v":""},{"$f":"INPUT!MF210","v":""},{"$f":"INPUT!MG210","v":""},{"$f":"INPUT!MH210","v":""},{"$f":"INPUT!MI210","v":""}]
[null,{"$f":"INPUT!EA211","v":""},{"$f":"INPUT!EB211","v":""},{"$f":"INPUT!EC211","v":""},{"$f":"INPUT!ED211","v":""},{"$f":"INPUT!EE211","v":""},{"$f":"INPUT!EF211","v":""},{"$f":"INPUT!EG211","v":""},"",null,{"$f":"INPUT!EY211","v":""},{"$f":"INPUT!EZ211","v":""},{"$f":"INPUT!FA211","v":""},{"$f":"INPUT!FB211","v":""},{"$f":"INPUT!FC211","v":""},{"$f":"INPUT!FD211","v":""},{"$f":"INPUT!FE211","v":""},"",null,{"$f":"INPUT!FW211","v":""},{"$f":"INPUT!FX211","v":""},{"$f":"INPUT!FY211","v":""},{"$f":"INPUT!FZ211","v":""},{"$f":"INPUT!GA211","v":""},{"$f":"INPUT!GB211","v":""},{"$f":"INPUT!GC211","v":""},null,{"$f":"INPUT!GY211","v":""},{"$f":"INPUT!GZ211","v":""},{"$f":"INPUT!HA211","v":""},{"$f":"INPUT!HB211","v":""},{"$f":"INPUT!HC211","v":""},{"$f":"INPUT!HD211","v":""},{"$f":"INPUT!HE211","v":""},{"$f":"INPUT!HF211","v":""},{"$f":"INPUT!HG211","v":""},null,{"$f":"INPUT!IA211","v":""},{"$f":"INPUT!IB211","v":""},{"$f":"INPUT!IC211","v":""},{"$f":"INPUT!ID211","v":""},{"$f":"INPUT!IE211","v":""},{"$f":"INPUT!IF211","v":""},{"$f":"INPUT!IG211","v":""},{"$f":"INPUT!IH211","v":""},null,{"$f":"INPUT!IZ211","v":""},{"$f":"INPUT!JA211","v":""},{"$f":"INPUT!JB211","v":""},{"$f":"INPUT!JC211","v":""},{"$f":"INPUT!JD211","v":""},{"$f":"INPUT!JE211","v":""},{"$f":"INPUT!JF211","v":""},"",null,{"$f":"INPUT!JX211","v":""},{"$f":"INPUT!JY211","v":""},{"$f":"INPUT!JZ211","v":""},{"$f":"INPUT!KA211","v":""},{"$f":"INPUT!KB211","v":""},{"$f":"INPUT!KC211","v":""},{"$f":"INPUT!KD211","v":""},"",null,{"$f":"INPUT!KZ211","v":""},{"$f":"INPUT!LA211","v":""},{"$f":"INPUT!LB211","v":""},{"$f":"INPUT!LC211","v":""},{"$f":"INPUT!LD211","v":""},{"$f":"INPUT!LE211","v":""},{"$f":"INPUT!LF211","v":""},{"$f":"INPUT!LG211","v":""},{"$f":"INPUT!LH211","v":""},null,{"$f":"INPUT!MB211","v":""},{"$f":"INPUT!MC211","v":""},{"$f":"INPUT!MD211","v":""},{"$f":"INPUT!ME211","v":""},{"$f":"INPUT!MF211","v":""},{"$f":"INPUT!MG211","v":""},{"$f":"INPUT!MH211","v":""},{"$f":"INPUT!MI211","v":""}]
[null,{"$f":"INPUT!EA212","v":""},{"$f":"INPUT!EB212","v":""},{"$f":"INPUT!EC212","v":""},{"$f":"INPUT!ED212","v":""},{"$f":"INPUT!EE212","v":""},{"$f":"INPUT!EF212","v":""},{"$f":"INPUT!EG212","v":""},"",null,{"$f":"INPUT!EY212","v":""},{"$f":"INPUT!EZ212","v":""},{"$f":"INPUT!FA212","v":""},{"$f":"INPUT!FB212","v":""},{"$f":"INPUT!FC212","v":""},{"$f":"INPUT!FD212","v":""},{"$f":"INPUT!FE212","v":""},"",null,{"$f":"INPUT!FW212","v":""},{"$f":"INPUT!FX212","v":""},{"$f":"INPUT!FY212","v":""},{"$f":"INPUT!FZ212","v":""},{"$f":"INPUT!GA212","v":""},{"$f":"INPUT!GB212","v":""},{"$f":"INPUT!GC212","v":""},null,{"$f":"INPUT!GY212","v":""},{"$f":"INPUT!GZ212","v":""},{"$f":"INPUT!HA212","v":""},{"$f":"INPUT!HB212","v":""},{"$f":"INPUT!HC212","v":""},{"$f":"INPUT!HD212","v":""},{"$f":"INPUT!HE212","v":""},{"$f":"INPUT!HF212","v":""},{"$f":"INPUT!HG212","v":""},null,{"$f":"INPUT!IA212","v":""},{"$f":"INPUT!IB212","v":""},{"$f":"INPUT!IC212","v":""},{"$f":"INPUT!ID212","v":""},{"$f":"INPUT!IE212","v":""},{"$f":"INPUT!IF212","v":""},{"$f":"INPUT!IG212","v":""},{"$f":"INPUT!IH212","v":""},null,{"$f":"INPUT!IZ212","v":""},{"$f":"INPUT!JA212","v":""},{"$f":"INPUT!JB212","v":""},{"$f":"INPUT!JC212","v":""},{"$f":"INPUT!JD212","v":""},{"$f":"INPUT!JE212","v":""},{"$f":"INPUT!JF212","v":""},"",null,{"$f":"INPUT!JX212","v":""},{"$f":"INPUT!JY212","v":""},{"$f":"INPUT!JZ212","v":""},{"$f":"INPUT!KA212","v":""},{"$f":"INPUT!KB212","v":""},{"$f":"INPUT!KC212","v":""},{"$f":"INPUT!KD212","v":""},"",null,{"$f":"INPUT!KZ212","v":""},{"$f":"INPUT!LA212","v":""},{"$f":"INPUT!LB212","v":""},{"$f":"INPUT!LC212","v":""},{"$f":"INPUT!LD212","v":""},{"$f":"INPUT!LE212","v":""},{"$f":"INPUT!LF212","v":""},{"$f":"INPUT!LG212","v":""},{"$f":"INPUT!LH212","v":""},null,{"$f":"INPUT!MB212","v":""},{"$f":"INPUT!MC212","v":""},{"$f":"INPUT!MD212","v":""},{"$f":"INPUT!ME212","v":""},{"$f":"INPUT!MF212","v":""},{"$f":"INPUT!MG212","v":""},{"$f":"INPUT!MH212","v":""},{"$f":"INPUT!MI212","v":""}]
[null,{"$f":"INPUT!EA213","v":""},{"$f":"INPUT!EB213","v":""},{"$f":"INPUT!EC213","v":""},{"$f":"INPUT!ED213","v":""},{"$f":"INPUT!EE213","v":""},{"$f":"INPUT!EF213","v":""},{"$f":"INPUT!EG213","v":""},"",null,{"$f":"INPUT!EY213","v":""},{"$f":"INPUT!EZ213","v":""},{"$f":"INPUT!FA213","v":""},{"$f":"INPUT!FB213","v":""},{"$f":"INPUT!FC213","v":""},{"$f":"INPUT!FD213","v":""},{"$f":"INPUT!FE213","v":""},"",null,{"$f":"INPUT!FW213","v":""},{"$f":"INPUT!FX213","v":""},{"$f":"INPUT!FY213","v":""},{"$f":"INPUT!FZ213","v":""},{"$f":"INPUT!GA213","v":""},{"$f":"INPUT!GB213","v":""},{"$f":"INPUT!GC213","v":""},null,{"$f":"INPUT!GY213","v":""},{"$f":"INPUT!GZ213","v":""},{"$f":"INPUT!HA213","v":""},{"$f":"INPUT!HB213","v":""},{"$f":"INPUT!HC213","v":""},{"$f":"INPUT!HD213","v":""},{"$f":"INPUT!HE213","v":""},{"$f":"INPUT!HF213","v":""},{"$f":"INPUT!HG213","v":""},null,{"$f":"INPUT!IA213","v":""},{"$f":"INPUT!IB213","v":""},{"$f":"INPUT!IC213","v":""},{"$f":"INPUT!ID213","v":""},{"$f":"INPUT!IE213","v":""},{"$f":"INPUT!IF213","v":""},{"$f":"INPUT!IG213","v":""},{"$f":"INPUT!IH213","v":""},null,{"$f":"INPUT!IZ213","v":""},{"$f":"INPUT!JA213","v":""},{"$f":"INPUT!JB213","v":""},{"$f":"INPUT!JC213","v":""},{"$f":"INPUT!JD213","v":""},{"$f":"INPUT!JE213","v":""},{"$f":"INPUT!JF213","v":""},"",null,{"$f":"INPUT!JX213","v":""},{"$f":"INPUT!JY213","v":""},{"$f":"INPUT!JZ213","v":""},{"$f":"INPUT!KA213","v":""},{"$f":"INPUT!KB213","v":""},{"$f":"INPUT!KC213","v":""},{"$f":"INPUT!KD213","v":""},"",null,{"$f":"INPUT!KZ213","v":""},{"$f":"INPUT!LA213","v":""},{"$f":"INPUT!LB213","v":""},{"$f":"INPUT!LC213","v":""},{"$f":"INPUT!LD213","v":""},{"$f":"INPUT!LE213","v":""},{"$f":"INPUT!LF213","v":""},{"$f":"INPUT!LG213","v":""},{"$f":"INPUT!LH213","v":""},null,{"$f":"INPUT!MB213","v":""},{"$f":"INPUT!MC213","v":""},{"$f":"INPUT!MD213","v":""},{"$f":"INPUT!ME213","v":""},{"$f":"INPUT!MF213","v":""},{"$f":"INPUT!MG213","v":""},{"$f":"INPUT!MH213","v":""},{"$f":"INPUT!MI213","v":""}]
[null,{"$f":"INPUT!EA214","v":""},{"$f":"INPUT!EB214","v":""},{"$f":"INPUT!EC214","v":""},{"$f":"INPUT!ED214","v":""},{"$f":"INPUT!EE214","v":""},{"$f":"INPUT!EF214","v":""},{"$f":"INPUT!EG214","v":""},"",null,{"$f":"INPUT!EY214","v":""},{"$f":"INPUT!EZ214","v":""},{"$f":"INPUT!FA214","v":""},{"$f":"INPUT!FB214","v":""},{"$f":"INPUT!FC214","v":""},{"$f":"INPUT!FD214","v":""},{"$f":"INPUT!FE214","v":""},"",null,{"$f":"INPUT!FW214","v":""},{"$f":"INPUT!FX214","v":""},{"$f":"INPUT!FY214","v":""},{"$f":"INPUT!FZ214","v":""},{"$f":"INPUT!GA214","v":""},{"$f":"INPUT!GB214","v":""},{"$f":"INPUT!GC214","v":""},null,{"$f":"INPUT!GY214","v":""},{"$f":"INPUT!GZ214","v":""},{"$f":"INPUT!HA214","v":""},{"$f":"INPUT!HB214","v":""},{"$f":"INPUT!HC214","v":""},{"$f":"INPUT!HD214","v":""},{"$f":"INPUT!HE214","v":""},{"$f":"INPUT!HF214","v":""},{"$f":"INPUT!HG214","v":""},null,{"$f":"INPUT!IA214","v":""},{"$f":"INPUT!IB214","v":""},{"$f":"INPUT!IC214","v":""},{"$f":"INPUT!ID214","v":""},{"$f":"INPUT!IE214","v":""},{"$f":"INPUT!IF214","v":""},{"$f":"INPUT!IG214","v":""},{"$f":"INPUT!IH214","v":""},null,{"$f":"INPUT!IZ214","v":""},{"$f":"INPUT!JA214","v":""},{"$f":"INPUT!JB214","v":""},{"$f":"INPUT!JC214","v":""},{"$f":"INPUT!JD214","v":""},{"$f":"INPUT!JE214","v":""},{"$f":"INPUT!JF214","v":""},"",null,{"$f":"INPUT!JX214","v":""},{"$f":"INPUT!JY214","v":""},{"$f":"INPUT!JZ214","v":""},{"$f":"INPUT!KA214","v":""},{"$f":"INPUT!KB214","v":""},{"$f":"INPUT!KC214","v":""},{"$f":"INPUT!KD214","v":""},"",null,{"$f":"INPUT!KZ214","v":""},{"$f":"INPUT!LA214","v":""},{"$f":"INPUT!LB214","v":""},{"$f":"INPUT!LC214","v":""},{"$f":"INPUT!LD214","v":""},{"$f":"INPUT!LE214","v":""},{"$f":"INPUT!LF214","v":""},{"$f":"INPUT!LG214","v":""},{"$f":"INPUT!LH214","v":""},null,{"$f":"INPUT!MB214","v":""},{"$f":"INPUT!MC214","v":""},{"$f":"INPUT!MD214","v":""},{"$f":"INPUT!ME214","v":""},{"$f":"INPUT!MF214","v":""},{"$f":"INPUT!MG214","v":""},{"$f":"INPUT!MH214","v":""},{"$f":"INPUT!MI214","v":""}]
[null,{"$f":"INPUT!EA215","v":""},{"$f":"INPUT!EB215","v":""},{"$f":"INPUT!EC215","v":""},{"$f":"INPUT!ED215","v":""},{"$f":"INPUT!EE215","v":""},{"$f":"INPUT!EF215","v":""},{"$f":"INPUT!EG215","v":""},"",null,{"$f":"INPUT!EY215","v":""},{"$f":"INPUT!EZ215","v":""},{"$f":"INPUT!FA215","v":""},{"$f":"INPUT!FB215","v":""},{"$f":"INPUT!FC215","v":""},{"$f":"INPUT!FD215","v":""},{"$f":"INPUT!FE215","v":""},"",null,{"$f":"INPUT!FW215","v":""},{"$f":"INPUT!FX215","v":""},{"$f":"INPUT!FY215","v":""},{"$f":"INPUT!FZ215","v":""},{"$f":"INPUT!GA215","v":""},{"$f":"INPUT!GB215","v":""},{"$f":"INPUT!GC215","v":""},null,{"$f":"INPUT!GY215","v":""},{"$f":"INPUT!GZ215","v":""},{"$f":"INPUT!HA215","v":""},{"$f":"INPUT!HB215","v":""},{"$f":"INPUT!HC215","v":""},{"$f":"INPUT!HD215","v":""},{"$f":"INPUT!HE215","v":""},{"$f":"INPUT!HF215","v":""},{"$f":"INPUT!HG215","v":""},null,{"$f":"INPUT!IA215","v":""},{"$f":"INPUT!IB215","v":""},{"$f":"INPUT!IC215","v":""},{"$f":"INPUT!ID215","v":""},{"$f":"INPUT!IE215","v":""},{"$f":"INPUT!IF215","v":""},{"$f":"INPUT!IG215","v":""},{"$f":"INPUT!IH215","v":""},null,{"$f":"INPUT!IZ215","v":""},{"$f":"INPUT!JA215","v":""},{"$f":"INPUT!JB215","v":""},{"$f":"INPUT!JC215","v":""},{"$f":"INPUT!JD215","v":""},{"$f":"INPUT!JE215","v":""},{"$f":"INPUT!JF215","v":""},"",null,{"$f":"INPUT!JX215","v":""},{"$f":"INPUT!JY215","v":""},{"$f":"INPUT!JZ215","v":""},{"$f":"INPUT!KA215","v":""},{"$f":"INPUT!KB215","v":""},{"$f":"INPUT!KC215","v":""},{"$f":"INPUT!KD215","v":""},"",null,{"$f":"INPUT!KZ215","v":""},{"$f":"INPUT!LA215","v":""},{"$f":"INPUT!LB215","v":""},{"$f":"INPUT!LC215","v":""},{"$f":"INPUT!LD215","v":""},{"$f":"INPUT!LE215","v":""},{"$f":"INPUT!LF215","v":""},{"$f":"INPUT!LG215","v":""},{"$f":"INPUT!LH215","v":""},null,{"$f":"INPUT!MB215","v":""},{"$f":"INPUT!MC215","v":""},{"$f":"INPUT!MD215","v":""},{"$f":"INPUT!ME215","v":""},{"$f":"INPUT!MF215","v":""},{"$f":"INPUT!MG215","v":""},{"$f":"INPUT!MH215","v":""},{"$f":"INPUT!MI215","v":""}]
[null,{"$f":"INPUT!EA216","v":""},{"$f":"INPUT!EB216","v":""},{"$f":"INPUT!EC216","v":""},{"$f":"INPUT!ED216","v":""},{"$f":"INPUT!EE216","v":""},{"$f":"INPUT!EF216","v":""},{"$f":"INPUT!EG216","v":""},"",null,{"$f":"INPUT!EY216","v":""},{"$f":"INPUT!EZ216","v":""},{"$f":"INPUT!FA216","v":""},{"$f":"INPUT!FB216","v":""},{"$f":"INPUT!FC216","v":""},{"$f":"INPUT!FD216","v":""},{"$f":"INPUT!FE216","v":""},"",null,{"$f":"INPUT!FW216","v":""},{"$f":"INPUT!FX216","v":""},{"$f":"INPUT!FY216","v":""},{"$f":"INPUT!FZ216","v":""},{"$f":"INPUT!GA216","v":""},{"$f":"INPUT!GB216","v":""},{"$f":"INPUT!GC216","v":""},null,{"$f":"INPUT!GY216","v":""},{"$f":"INPUT!GZ216","v":""},{"$f":"INPUT!HA216","v":""},{"$f":"INPUT!HB216","v":""},{"$f":"INPUT!HC216","v":""},{"$f":"INPUT!HD216","v":""},{"$f":"INPUT!HE216","v":""},{"$f":"INPUT!HF216","v":""},{"$f":"INPUT!HG216","v":""},null,{"$f":"INPUT!IA216","v":""},{"$f":"INPUT!IB216","v":""},{"$f":"INPUT!IC216","v":""},{"$f":"INPUT!ID216","v":""},{"$f":"INPUT!IE216","v":""},{"$f":"INPUT!IF216","v":""},{"$f":"INPUT!IG216","v":""},{"$f":"INPUT!IH216","v":""},null,{"$f":"INPUT!IZ216","v":""},{"$f":"INPUT!JA216","v":""},{"$f":"INPUT!JB216","v":""},{"$f":"INPUT!JC216","v":""},{"$f":"INPUT!JD216","v":""},{"$f":"INPUT!JE216","v":""},{"$f":"INPUT!JF216","v":""},"",null,{"$f":"INPUT!JX216","v":""},{"$f":"INPUT!JY216","v":""},{"$f":"INPUT!JZ216","v":""},{"$f":"INPUT!KA216","v":""},{"$f":"INPUT!KB216","v":""},{"$f":"INPUT!KC216","v":""},{"$f":"INPUT!KD216","v":""},"",null,{"$f":"INPUT!KZ216","v":""},{"$f":"INPUT!LA216","v":""},{"$f":"INPUT!LB216","v":""},{"$f":"INPUT!LC216","v":""},{"$f":"INPUT!LD216","v":""},{"$f":"INPUT!LE216","v":""},{"$f":"INPUT!LF216","v":""},{"$f":"INPUT!LG216","v":""},{"$f":"INPUT!LH216","v":""},null,{"$f":"INPUT!MB216","v":""},{"$f":"INPUT!MC216","v":""},{"$f":"INPUT!MD216","v":""},{"$f":"INPUT!ME216","v":""},{"$f":"INPUT!MF216","v":""},{"$f":"INPUT!MG216","v":""},{"$f":"INPUT!MH216","v":""},{"$f":"INPUT!MI216","v":""}]
[null,{"$f":"INPUT!EA217","v":""},{"$f":"INPUT!EB217","v":""},{"$f":"INPUT!EC217","v":""},{"$f":"INPUT!ED217","v":""},{"$f":"INPUT!EE217","v":""},{"$f":"INPUT!EF217","v":""},{"$f":"INPUT!EG217","v":""},"",null,{"$f":"INPUT!EY217","v":""},{"$f":"INPUT!EZ217","v":""},{"$f":"INPUT!FA217","v":""},{"$f":"INPUT!FB217","v":""},{"$f":"INPUT!FC217","v":""},{"$f":"INPUT!FD217","v":""},{"$f":"INPUT!FE217","v":""},"",null,{"$f":"INPUT!FW217","v":""},{"$f":"INPUT!FX217","v":""},{"$f":"INPUT!FY217","v":""},{"$f":"INPUT!FZ217","v":""},{"$f":"INPUT!GA217","v":""},{"$f":"INPUT!GB217","v":""},{"$f":"INPUT!GC217","v":""},null,{"$f":"INPUT!GY217","v":""},{"$f":"INPUT!GZ217","v":""},{"$f":"INPUT!HA217","v":""},{"$f":"INPUT!HB217","v":""},{"$f":"INPUT!HC217","v":""},{"$f":"INPUT!HD217","v":""},{"$f":"INPUT!HE217","v":""},{"$f":"INPUT!HF217","v":""},{"$f":"INPUT!HG217","v":""},null,{"$f":"INPUT!IA217","v":""},{"$f":"INPUT!IB217","v":""},{"$f":"INPUT!IC217","v":""},{"$f":"INPUT!ID217","v":""},{"$f":"INPUT!IE217","v":""},{"$f":"INPUT!IF217","v":""},{"$f":"INPUT!IG217","v":""},{"$f":"INPUT!IH217","v":""},null,{"$f":"INPUT!IZ217","v":""},{"$f":"INPUT!JA217","v":""},{"$f":"INPUT!JB217","v":""},{"$f":"INPUT!JC217","v":""},{"$f":"INPUT!JD217","v":""},{"$f":"INPUT!JE217","v":""},{"$f":"INPUT!JF217","v":""},"",null,{"$f":"INPUT!JX217","v":""},{"$f":"INPUT!JY217","v":""},{"$f":"INPUT!JZ217","v":""},{"$f":"INPUT!KA217","v":""},{"$f":"INPUT!KB217","v":""},{"$f":"INPUT!KC217","v":""},{"$f":"INPUT!KD217","v":""},"",null,{"$f":"INPUT!KZ217","v":""},{"$f":"INPUT!LA217","v":""},{"$f":"INPUT!LB217","v":""},{"$f":"INPUT!LC217","v":""},{"$f":"INPUT!LD217","v":""},{"$f":"INPUT!LE217","v":""},{"$f":"INPUT!LF217","v":""},{"$f":"INPUT!LG217","v":""},{"$f":"INPUT!LH217","v":""},null,{"$f":"INPUT!MB217","v":""},{"$f":"INPUT!MC217","v":""},{"$f":"INPUT!MD217","v":""},{"$f":"INPUT!ME217","v":""},{"$f":"INPUT!MF217","v":""},{"$f":"INPUT!MG217","v":""},{"$f":"INPUT!MH217","v":""},{"$f":"INPUT!MI217","v":""}]
[null,{"$f":"INPUT!EA218","v":""},{"$f":"INPUT!EB218","v":""},{"$f":"INPUT!EC218","v":""},{"$f":"INPUT!ED218","v":""},{"$f":"INPUT!EE218","v":""},{"$f":"INPUT!EF218","v":""},{"$f":"INPUT!EG218","v":""},"",null,{"$f":"INPUT!EY218","v":""},{"$f":"INPUT!EZ218","v":""},{"$f":"INPUT!FA218","v":""},{"$f":"INPUT!FB218","v":""},{"$f":"INPUT!FC218","v":""},{"$f":"INPUT!FD218","v":""},{"$f":"INPUT!FE218","v":""},"",null,{"$f":"INPUT!FW218","v":""},{"$f":"INPUT!FX218","v":""},{"$f":"INPUT!FY218","v":""},{"$f":"INPUT!FZ218","v":""},{"$f":"INPUT!GA218","v":""},{"$f":"INPUT!GB218","v":""},{"$f":"INPUT!GC218","v":""},null,{"$f":"INPUT!GY218","v":""},{"$f":"INPUT!GZ218","v":""},{"$f":"INPUT!HA218","v":""},{"$f":"INPUT!HB218","v":""},{"$f":"INPUT!HC218","v":""},{"$f":"INPUT!HD218","v":""},{"$f":"INPUT!HE218","v":""},{"$f":"INPUT!HF218","v":""},{"$f":"INPUT!HG218","v":""},null,{"$f":"INPUT!IA218","v":""},{"$f":"INPUT!IB218","v":""},{"$f":"INPUT!IC218","v":""},{"$f":"INPUT!ID218","v":""},{"$f":"INPUT!IE218","v":""},{"$f":"INPUT!IF218","v":""},{"$f":"INPUT!IG218","v":""},{"$f":"INPUT!IH218","v":""},null,{"$f":"INPUT!IZ218","v":""},{"$f":"INPUT!JA218","v":""},{"$f":"INPUT!JB218","v":""},{"$f":"INPUT!JC218","v":""},{"$f":"INPUT!JD218","v":""},{"$f":"INPUT!JE218","v":""},{"$f":"INPUT!JF218","v":""},"",null,{"$f":"INPUT!JX218","v":""},{"$f":"INPUT!JY218","v":""},{"$f":"INPUT!JZ218","v":""},{"$f":"INPUT!KA218","v":""},{"$f":"INPUT!KB218","v":""},{"$f":"INPUT!KC218","v":""},{"$f":"INPUT!KD218","v":""},"",null,{"$f":"INPUT!KZ218","v":""},{"$f":"INPUT!LA218","v":""},{"$f":"INPUT!LB218","v":""},{"$f":"INPUT!LC218","v":""},{"$f":"INPUT!LD218","v":""},{"$f":"INPUT!LE218","v":""},{"$f":"INPUT!LF218","v":""},{"$f":"INPUT!LG218","v":""},{"$f":"INPUT!LH218","v":""},null,{"$f":"INPUT!MB218","v":""},{"$f":"INPUT!MC218","v":""},{"$f":"INPUT!MD218","v":""},{"$f":"INPUT!ME218","v":""},{"$f":"INPUT!MF218","v":""},{"$f":"INPUT!MG218","v":""},{"$f":"INPUT!MH218","v":""},{"$f":"INPUT!MI218","v":""}]
[null,{"$f":"INPUT!EA219","v":""},{"$f":"INPUT!EB219","v":""},{"$f":"INPUT!EC219","v":""},{"$f":"INPUT!ED219","v":""},{"$f":"INPUT!EE219","v":""},{"$f":"INPUT!EF219","v":""},{"$f":"INPUT!EG219","v":""},"",null,{"$f":"INPUT!EY219","v":""},{"$f":"INPUT!EZ219","v":""},{"$f":"INPUT!FA219","v":""},{"$f":"INPUT!FB219","v":""},{"$f":"INPUT!FC219","v":""},{"$f":"INPUT!FD219","v":""},{"$f":"INPUT!FE219","v":""},"",null,{"$f":"INPUT!FW219","v":""},{"$f":"INPUT!FX219","v":""},{"$f":"INPUT!FY219","v":""},{"$f":"INPUT!FZ219","v":""},{"$f":"INPUT!GA219","v":""},{"$f":"INPUT!GB219","v":""},{"$f":"INPUT!GC219","v":""},null,{"$f":"INPUT!GY219","v":""},{"$f":"INPUT!GZ219","v":""},{"$f":"INPUT!HA219","v":""},{"$f":"INPUT!HB219","v":""},{"$f":"INPUT!HC219","v":""},{"$f":"INPUT!HD219","v":""},{"$f":"INPUT!HE219","v":""},{"$f":"INPUT!HF219","v":""},{"$f":"INPUT!HG219","v":""},null,{"$f":"INPUT!IA219","v":""},{"$f":"INPUT!IB219","v":""},{"$f":"INPUT!IC219","v":""},{"$f":"INPUT!ID219","v":""},{"$f":"INPUT!IE219","v":""},{"$f":"INPUT!IF219","v":""},{"$f":"INPUT!IG219","v":""},{"$f":"INPUT!IH219","v":""},null,{"$f":"INPUT!IZ219","v":""},{"$f":"INPUT!JA219","v":""},{"$f":"INPUT!JB219","v":""},{"$f":"INPUT!JC219","v":""},{"$f":"INPUT!JD219","v":""},{"$f":"INPUT!JE219","v":""},{"$f":"INPUT!JF219","v":""},"",null,{"$f":"INPUT!JX219","v":""},{"$f":"INPUT!JY219","v":""},{"$f":"INPUT!JZ219","v":""},{"$f":"INPUT!KA219","v":""},{"$f":"INPUT!KB219","v":""},{"$f":"INPUT!KC219","v":""},{"$f":"INPUT!KD219","v":""},"",null,{"$f":"INPUT!KZ219","v":""},{"$f":"INPUT!LA219","v":""},{"$f":"INPUT!LB219","v":""},{"$f":"INPUT!LC219","v":""},{"$f":"INPUT!LD219","v":""},{"$f":"INPUT!LE219","v":""},{"$f":"INPUT!LF219","v":""},{"$f":"INPUT!LG219","v":""},{"$f":"INPUT!LH219","v":""},null,{"$f":"INPUT!MB219","v":""},{"$f":"INPUT!MC219","v":""},{"$f":"INPUT!MD219","v":""},{"$f":"INPUT!ME219","v":""},{"$f":"INPUT!MF219","v":""},{"$f":"INPUT!MG219","v":""},{"$f":"INPUT!MH219","v":""},{"$f":"INPUT!MI219","v":""}]
[null,{"$f":"INPUT!EA220","v":""},{"$f":"INPUT!EB220","v":""},{"$f":"INPUT!EC220","v":""},{"$f":"INPUT!ED220","v":""},{"$f":"INPUT!EE220","v":""},{"$f":"INPUT!EF220","v":""},{"$f":"INPUT!EG220","v":""},"",null,{"$f":"INPUT!EY220","v":""},{"$f":"INPUT!EZ220","v":""},{"$f":"INPUT!FA220","v":""},{"$f":"INPUT!FB220","v":""},{"$f":"INPUT!FC220","v":""},{"$f":"INPUT!FD220","v":""},{"$f":"INPUT!FE220","v":""},"",null,{"$f":"INPUT!FW220","v":""},{"$f":"INPUT!FX220","v":""},{"$f":"INPUT!FY220","v":""},{"$f":"INPUT!FZ220","v":""},{"$f":"INPUT!GA220","v":""},{"$f":"INPUT!GB220","v":""},{"$f":"INPUT!GC220","v":""},null,{"$f":"INPUT!GY220","v":""},{"$f":"INPUT!GZ220","v":""},{"$f":"INPUT!HA220","v":""},{"$f":"INPUT!HB220","v":""},{"$f":"INPUT!HC220","v":""},{"$f":"INPUT!HD220","v":""},{"$f":"INPUT!HE220","v":""},{"$f":"INPUT!HF220","v":""},{"$f":"INPUT!HG220","v":""},null,{"$f":"INPUT!IA220","v":""},{"$f":"INPUT!IB220","v":""},{"$f":"INPUT!IC220","v":""},{"$f":"INPUT!ID220","v":""},{"$f":"INPUT!IE220","v":""},{"$f":"INPUT!IF220","v":""},{"$f":"INPUT!IG220","v":""},{"$f":"INPUT!IH220","v":""},null,{"$f":"INPUT!IZ220","v":""},{"$f":"INPUT!JA220","v":""},{"$f":"INPUT!JB220","v":""},{"$f":"INPUT!JC220","v":""},{"$f":"INPUT!JD220","v":""},{"$f":"INPUT!JE220","v":""},{"$f":"INPUT!JF220","v":""},"",null,{"$f":"INPUT!JX220","v":""},{"$f":"INPUT!JY220","v":""},{"$f":"INPUT!JZ220","v":""},{"$f":"INPUT!KA220","v":""},{"$f":"INPUT!KB220","v":""},{"$f":"INPUT!KC220","v":""},{"$f":"INPUT!KD220","v":""},"",null,{"$f":"INPUT!KZ220","v":""},{"$f":"INPUT!LA220","v":""},{"$f":"INPUT!LB220","v":""},{"$f":"INPUT!LC220","v":""},{"$f":"INPUT!LD220","v":""},{"$f":"INPUT!LE220","v":""},{"$f":"INPUT!LF220","v":""},{"$f":"INPUT!LG220","v":""},{"$f":"INPUT!LH220","v":""},null,{"$f":"INPUT!MB220","v":""},{"$f":"INPUT!MC220","v":""},{"$f":"INPUT!MD220","v":""},{"$f":"INPUT!ME220","v":""},{"$f":"INPUT!MF220","v":""},{"$f":"INPUT!MG220","v":""},{"$f":"INPUT!MH220","v":""},{"$f":"INPUT!MI220","v":""}]
[null,{"$f":"INPUT!EA221","v":""},{"$f":"INPUT!EB221","v":""},{"$f":"INPUT!EC221","v":""},{"$f":"INPUT!ED221","v":""},{"$f":"INPUT!EE221","v":""},{"$f":"INPUT!EF221","v":""},{"$f":"INPUT!EG221","v":""},"",null,{"$f":"INPUT!EY221","v":""},{"$f":"INPUT!EZ221","v":""},{"$f":"INPUT!FA221","v":""},{"$f":"INPUT!FB221","v":""},{"$f":"INPUT!FC221","v":""},{"$f":"INPUT!FD221","v":""},{"$f":"INPUT!FE221","v":""},"",null,{"$f":"INPUT!FW221","v":""},{"$f":"INPUT!FX221","v":""},{"$f":"INPUT!FY221","v":""},{"$f":"INPUT!FZ221","v":""},{"$f":"INPUT!GA221","v":""},{"$f":"INPUT!GB221","v":""},{"$f":"INPUT!GC221","v":""},null,{"$f":"INPUT!GY221","v":""},{"$f":"INPUT!GZ221","v":""},{"$f":"INPUT!HA221","v":""},{"$f":"INPUT!HB221","v":""},{"$f":"INPUT!HC221","v":""},{"$f":"INPUT!HD221","v":""},{"$f":"INPUT!HE221","v":""},{"$f":"INPUT!HF221","v":""},{"$f":"INPUT!HG221","v":""},null,{"$f":"INPUT!IA221","v":""},{"$f":"INPUT!IB221","v":""},{"$f":"INPUT!IC221","v":""},{"$f":"INPUT!ID221","v":""},{"$f":"INPUT!IE221","v":""},{"$f":"INPUT!IF221","v":""},{"$f":"INPUT!IG221","v":""},{"$f":"INPUT!IH221","v":""},null,{"$f":"INPUT!IZ221","v":""},{"$f":"INPUT!JA221","v":""},{"$f":"INPUT!JB221","v":""},{"$f":"INPUT!JC221","v":""},{"$f":"INPUT!JD221","v":""},{"$f":"INPUT!JE221","v":""},{"$f":"INPUT!JF221","v":""},"",null,{"$f":"INPUT!JX221","v":""},{"$f":"INPUT!JY221","v":""},{"$f":"INPUT!JZ221","v":""},{"$f":"INPUT!KA221","v":""},{"$f":"INPUT!KB221","v":""},{"$f":"INPUT!KC221","v":""},{"$f":"INPUT!KD221","v":""},"",null,{"$f":"INPUT!KZ221","v":""},{"$f":"INPUT!LA221","v":""},{"$f":"INPUT!LB221","v":""},{"$f":"INPUT!LC221","v":""},{"$f":"INPUT!LD221","v":""},{"$f":"INPUT!LE221","v":""},{"$f":"INPUT!LF221","v":""},{"$f":"INPUT!LG221","v":""},{"$f":"INPUT!LH221","v":""},null,{"$f":"INPUT!MB221","v":""},{"$f":"INPUT!MC221","v":""},{"$f":"INPUT!MD221","v":""},{"$f":"INPUT!ME221","v":""},{"$f":"INPUT!MF221","v":""},{"$f":"INPUT!MG221","v":""},{"$f":"INPUT!MH221","v":""},{"$f":"INPUT!MI221","v":""}]
[null,{"$f":"INPUT!EA222","v":""},{"$f":"INPUT!EB222","v":""},{"$f":"INPUT!EC222","v":""},{"$f":"INPUT!ED222","v":""},{"$f":"INPUT!EE222","v":""},{"$f":"INPUT!EF222","v":""},{"$f":"INPUT!EG222","v":""},"",null,{"$f":"INPUT!EY222","v":""},{"$f":"INPUT!EZ222","v":""},{"$f":"INPUT!FA222","v":""},{"$f":"INPUT!FB222","v":""},{"$f":"INPUT!FC222","v":""},{"$f":"INPUT!FD222","v":""},{"$f":"INPUT!FE222","v":""},"",null,{"$f":"INPUT!FW222","v":""},{"$f":"INPUT!FX222","v":""},{"$f":"INPUT!FY222","v":""},{"$f":"INPUT!FZ222","v":""},{"$f":"INPUT!GA222","v":""},{"$f":"INPUT!GB222","v":""},{"$f":"INPUT!GC222","v":""},null,{"$f":"INPUT!GY222","v":""},{"$f":"INPUT!GZ222","v":""},{"$f":"INPUT!HA222","v":""},{"$f":"INPUT!HB222","v":""},{"$f":"INPUT!HC222","v":""},{"$f":"INPUT!HD222","v":""},{"$f":"INPUT!HE222","v":""},{"$f":"INPUT!HF222","v":""},{"$f":"INPUT!HG222","v":""},null,{"$f":"INPUT!IA222","v":""},{"$f":"INPUT!IB222","v":""},{"$f":"INPUT!IC222","v":""},{"$f":"INPUT!ID222","v":""},{"$f":"INPUT!IE222","v":""},{"$f":"INPUT!IF222","v":""},{"$f":"INPUT!IG222","v":""},{"$f":"INPUT!IH222","v":""},null,{"$f":"INPUT!IZ222","v":""},{"$f":"INPUT!JA222","v":""},{"$f":"INPUT!JB222","v":""},{"$f":"INPUT!JC222","v":""},{"$f":"INPUT!JD222","v":""},{"$f":"INPUT!JE222","v":""},{"$f":"INPUT!JF222","v":""},"",null,{"$f":"INPUT!JX222","v":""},{"$f":"INPUT!JY222","v":""},{"$f":"INPUT!JZ222","v":""},{"$f":"INPUT!KA222","v":""},{"$f":"INPUT!KB222","v":""},{"$f":"INPUT!KC222","v":""},{"$f":"INPUT!KD222","v":""},"",null,{"$f":"INPUT!KZ222","v":""},{"$f":"INPUT!LA222","v":""},{"$f":"INPUT!LB222","v":""},{"$f":"INPUT!LC222","v":""},{"$f":"INPUT!LD222","v":""},{"$f":"INPUT!LE222","v":""},{"$f":"INPUT!LF222","v":""},{"$f":"INPUT!LG222","v":""},{"$f":"INPUT!LH222","v":""},null,{"$f":"INPUT!MB222","v":""},{"$f":"INPUT!MC222","v":""},{"$f":"INPUT!MD222","v":""},{"$f":"INPUT!ME222","v":""},{"$f":"INPUT!MF222","v":""},{"$f":"INPUT!MG222","v":""},{"$f":"INPUT!MH222","v":""},{"$f":"INPUT!MI222","v":""}]
[null,{"$f":"INPUT!EA223","v":""},{"$f":"INPUT!EB223","v":""},{"$f":"INPUT!EC223","v":""},{"$f":"INPUT!ED223","v":""},{"$f":"INPUT!EE223","v":""},{"$f":"INPUT!EF223","v":""},{"$f":"INPUT!EG223","v":""},"",null,{"$f":"INPUT!EY223","v":""},{"$f":"INPUT!EZ223","v":""},{"$f":"INPUT!FA223","v":""},{"$f":"INPUT!FB223","v":""},{"$f":"INPUT!FC223","v":""},{"$f":"INPUT!FD223","v":""},{"$f":"INPUT!FE223","v":""},"",null,{"$f":"INPUT!FW223","v":""},{"$f":"INPUT!FX223","v":""},{"$f":"INPUT!FY223","v":""},{"$f":"INPUT!FZ223","v":""},{"$f":"INPUT!GA223","v":""},{"$f":"INPUT!GB223","v":""},{"$f":"INPUT!GC223","v":""},null,{"$f":"INPUT!GY223","v":""},{"$f":"INPUT!GZ223","v":""},{"$f":"INPUT!HA223","v":""},{"$f":"INPUT!HB223","v":""},{"$f":"INPUT!HC223","v":""},{"$f":"INPUT!HD223","v":""},{"$f":"INPUT!HE223","v":""},{"$f":"INPUT!HF223","v":""},{"$f":"INPUT!HG223","v":""},null,{"$f":"INPUT!IA223","v":""},{"$f":"INPUT!IB223","v":""},{"$f":"INPUT!IC223","v":""},{"$f":"INPUT!ID223","v":""},{"$f":"INPUT!IE223","v":""},{"$f":"INPUT!IF223","v":""},{"$f":"INPUT!IG223","v":""},{"$f":"INPUT!IH223","v":""},null,{"$f":"INPUT!IZ223","v":""},{"$f":"INPUT!JA223","v":""},{"$f":"INPUT!JB223","v":""},{"$f":"INPUT!JC223","v":""},{"$f":"INPUT!JD223","v":""},{"$f":"INPUT!JE223","v":""},{"$f":"INPUT!JF223","v":""},"",null,{"$f":"INPUT!JX223","v":""},{"$f":"INPUT!JY223","v":""},{"$f":"INPUT!JZ223","v":""},{"$f":"INPUT!KA223","v":""},{"$f":"INPUT!KB223","v":""},{"$f":"INPUT!KC223","v":""},{"$f":"INPUT!KD223","v":""},"",null,{"$f":"INPUT!KZ223","v":""},{"$f":"INPUT!LA223","v":""},{"$f":"INPUT!LB223","v":""},{"$f":"INPUT!LC223","v":""},{"$f":"INPUT!LD223","v":""},{"$f":"INPUT!LE223","v":""},{"$f":"INPUT!LF223","v":""},{"$f":"INPUT!LG223","v":""},{"$f":"INPUT!LH223","v":""},null,{"$f":"INPUT!MB223","v":""},{"$f":"INPUT!MC223","v":""},{"$f":"INPUT!MD223","v":""},{"$f":"INPUT!ME223","v":""},{"$f":"INPUT!MF223","v":""},{"$f":"INPUT!MG223","v":""},{"$f":"INPUT!MH223","v":""},{"$f":"INPUT!MI223","v":""}]
[null,{"$f":"INPUT!EA224","v":""},{"$f":"INPUT!EB224","v":""},{"$f":"INPUT!EC224","v":""},{"$f":"INPUT!ED224","v":""},{"$f":"INPUT!EE224","v":""},{"$f":"INPUT!EF224","v":""},{"$f":"INPUT!EG224","v":""},"",null,{"$f":"INPUT!EY224","v":""},{"$f":"INPUT!EZ224","v":""},{"$f":"INPUT!FA224","v":""},{"$f":"INPUT!FB224","v":""},{"$f":"INPUT!FC224","v":""},{"$f":"INPUT!FD224","v":""},{"$f":"INPUT!FE224","v":""},"",null,{"$f":"INPUT!FW224","v":""},{"$f":"INPUT!FX224","v":""},{"$f":"INPUT!FY224","v":""},{"$f":"INPUT!FZ224","v":""},{"$f":"INPUT!GA224","v":""},{"$f":"INPUT!GB224","v":""},{"$f":"INPUT!GC224","v":""},null,{"$f":"INPUT!GY224","v":""},{"$f":"INPUT!GZ224","v":""},{"$f":"INPUT!HA224","v":""},{"$f":"INPUT!HB224","v":""},{"$f":"INPUT!HC224","v":""},{"$f":"INPUT!HD224","v":""},{"$f":"INPUT!HE224","v":""},{"$f":"INPUT!HF224","v":""},{"$f":"INPUT!HG224","v":""},null,{"$f":"INPUT!IA224","v":""},{"$f":"INPUT!IB224","v":""},{"$f":"INPUT!IC224","v":""},{"$f":"INPUT!ID224","v":""},{"$f":"INPUT!IE224","v":""},{"$f":"INPUT!IF224","v":""},{"$f":"INPUT!IG224","v":""},{"$f":"INPUT!IH224","v":""},null,{"$f":"INPUT!IZ224","v":""},{"$f":"INPUT!JA224","v":""},{"$f":"INPUT!JB224","v":""},{"$f":"INPUT!JC224","v":""},{"$f":"INPUT!JD224","v":""},{"$f":"INPUT!JE224","v":""},{"$f":"INPUT!JF224","v":""},"",null,{"$f":"INPUT!JX224","v":""},{"$f":"INPUT!JY224","v":""},{"$f":"INPUT!JZ224","v":""},{"$f":"INPUT!KA224","v":""},{"$f":"INPUT!KB224","v":""},{"$f":"INPUT!KC224","v":""},{"$f":"INPUT!KD224","v":""},"",null,{"$f":"INPUT!KZ224","v":""},{"$f":"INPUT!LA224","v":""},{"$f":"INPUT!LB224","v":""},{"$f":"INPUT!LC224","v":""},{"$f":"INPUT!LD224","v":""},{"$f":"INPUT!LE224","v":""},{"$f":"INPUT!LF224","v":""},{"$f":"INPUT!LG224","v":""},{"$f":"INPUT!LH224","v":""},null,{"$f":"INPUT!MB224","v":""},{"$f":"INPUT!MC224","v":""},{"$f":"INPUT!MD224","v":""},{"$f":"INPUT!ME224","v":""},{"$f":"INPUT!MF224","v":""},{"$f":"INPUT!MG224","v":""},{"$f":"INPUT!MH224","v":""},{"$f":"INPUT!MI224","v":""}]
[null,{"$f":"INPUT!EA225","v":""},{"$f":"INPUT!EB225","v":""},{"$f":"INPUT!EC225","v":""},{"$f":"INPUT!ED225","v":""},{"$f":"INPUT!EE225","v":""},{"$f":"INPUT!EF225","v":""},{"$f":"INPUT!EG225","v":""},"",null,{"$f":"INPUT!EY225","v":""},{"$f":"INPUT!EZ225","v":""},{"$f":"INPUT!FA225","v":""},{"$f":"INPUT!FB225","v":""},{"$f":"INPUT!FC225","v":""},{"$f":"INPUT!FD225","v":""},{"$f":"INPUT!FE225","v":""},"",null,{"$f":"INPUT!FW225","v":""},{"$f":"INPUT!FX225","v":""},{"$f":"INPUT!FY225","v":""},{"$f":"INPUT!FZ225","v":""},{"$f":"INPUT!GA225","v":""},{"$f":"INPUT!GB225","v":""},{"$f":"INPUT!GC225","v":""},null,{"$f":"INPUT!GY225","v":""},{"$f":"INPUT!GZ225","v":""},{"$f":"INPUT!HA225","v":""},{"$f":"INPUT!HB225","v":""},{"$f":"INPUT!HC225","v":""},{"$f":"INPUT!HD225","v":""},{"$f":"INPUT!HE225","v":""},{"$f":"INPUT!HF225","v":""},{"$f":"INPUT!HG225","v":""},null,{"$f":"INPUT!IA225","v":""},{"$f":"INPUT!IB225","v":""},{"$f":"INPUT!IC225","v":""},{"$f":"INPUT!ID225","v":""},{"$f":"INPUT!IE225","v":""},{"$f":"INPUT!IF225","v":""},{"$f":"INPUT!IG225","v":""},{"$f":"INPUT!IH225","v":""},null,{"$f":"INPUT!IZ225","v":""},{"$f":"INPUT!JA225","v":""},{"$f":"INPUT!JB225","v":""},{"$f":"INPUT!JC225","v":""},{"$f":"INPUT!JD225","v":""},{"$f":"INPUT!JE225","v":""},{"$f":"INPUT!JF225","v":""},"",null,{"$f":"INPUT!JX225","v":""},{"$f":"INPUT!JY225","v":""},{"$f":"INPUT!JZ225","v":""},{"$f":"INPUT!KA225","v":""},{"$f":"INPUT!KB225","v":""},{"$f":"INPUT!KC225","v":""},{"$f":"INPUT!KD225","v":""},"",null,{"$f":"INPUT!KZ225","v":""},{"$f":"INPUT!LA225","v":""},{"$f":"INPUT!LB225","v":""},{"$f":"INPUT!LC225","v":""},{"$f":"INPUT!LD225","v":""},{"$f":"INPUT!LE225","v":""},{"$f":"INPUT!LF225","v":""},{"$f":"INPUT!LG225","v":""},{"$f":"INPUT!LH225","v":""},null,{"$f":"INPUT!MB225","v":""},{"$f":"INPUT!MC225","v":""},{"$f":"INPUT!MD225","v":""},{"$f":"INPUT!ME225","v":""},{"$f":"INPUT!MF225","v":""},{"$f":"INPUT!MG225","v":""},{"$f":"INPUT!MH225","v":""},{"$f":"INPUT!MI225","v":""}]
[null,{"$f":"INPUT!EA226","v":""},{"$f":"INPUT!EB226","v":""},{"$f":"INPUT!EC226","v":""},{"$f":"INPUT!ED226","v":""},{"$f":"INPUT!EE226","v":""},{"$f":"INPUT!EF226","v":""},{"$f":"INPUT!EG226","v":""},"",null,{"$f":"INPUT!EY226","v":""},{"$f":"INPUT!EZ226","v":""},{"$f":"INPUT!FA226","v":""},{"$f":"INPUT!FB226","v":""},{"$f":"INPUT!FC226","v":""},{"$f":"INPUT!FD226","v":""},{"$f":"INPUT!FE226","v":""},"",null,{"$f":"INPUT!FW226","v":""},{"$f":"INPUT!FX226","v":""},{"$f":"INPUT!FY226","v":""},{"$f":"INPUT!FZ226","v":""},{"$f":"INPUT!GA226","v":""},{"$f":"INPUT!GB226","v":""},{"$f":"INPUT!GC226","v":""},null,{"$f":"INPUT!GY226","v":""},{"$f":"INPUT!GZ226","v":""},{"$f":"INPUT!HA226","v":""},{"$f":"INPUT!HB226","v":""},{"$f":"INPUT!HC226","v":""},{"$f":"INPUT!HD226","v":""},{"$f":"INPUT!HE226","v":""},{"$f":"INPUT!HF226","v":""},{"$f":"INPUT!HG226","v":""},null,{"$f":"INPUT!IA226","v":""},{"$f":"INPUT!IB226","v":""},{"$f":"INPUT!IC226","v":""},{"$f":"INPUT!ID226","v":""},{"$f":"INPUT!IE226","v":""},{"$f":"INPUT!IF226","v":""},{"$f":"INPUT!IG226","v":""},{"$f":"INPUT!IH226","v":""},null,{"$f":"INPUT!IZ226","v":""},{"$f":"INPUT!JA226","v":""},{"$f":"INPUT!JB226","v":""},{"$f":"INPUT!JC226","v":""},{"$f":"INPUT!JD226","v":""},{"$f":"INPUT!JE226","v":""},{"$f":"INPUT!JF226","v":""},"",null,{"$f":"INPUT!JX226","v":""},{"$f":"INPUT!JY226","v":""},{"$f":"INPUT!JZ226","v":""},{"$f":"INPUT!KA226","v":""},{"$f":"INPUT!KB226","v":""},{"$f":"INPUT!KC226","v":""},{"$f":"INPUT!KD226","v":""},"",null,{"$f":"INPUT!KZ226","v":""},{"$f":"INPUT!LA226","v":""},{"$f":"INPUT!LB226","v":""},{"$f":"INPUT!LC226","v":""},{"$f":"INPUT!LD226","v":""},{"$f":"INPUT!LE226","v":""},{"$f":"INPUT!LF226","v":""},{"$f":"INPUT!LG226","v":""},{"$f":"INPUT!LH226","v":""},null,{"$f":"INPUT!MB226","v":""},{"$f":"INPUT!MC226","v":""},{"$f":"INPUT!MD226","v":""},{"$f":"INPUT!ME226","v":""},{"$f":"INPUT!MF226","v":""},{"$f":"INPUT!MG226","v":""},{"$f":"INPUT!MH226","v":""},{"$f":"INPUT!MI226","v":""}]
[null,{"$f":"INPUT!EA227","v":""},{"$f":"INPUT!EB227","v":""},{"$f":"INPUT!EC227","v":""},{"$f":"INPUT!ED227","v":""},{"$f":"INPUT!EE227","v":""},{"$f":"INPUT!EF227","v":""},{"$f":"INPUT!EG227","v":""},"",null,{"$f":"INPUT!EY227","v":""},{"$f":"INPUT!EZ227","v":""},{"$f":"INPUT!FA227","v":""},{"$f":"INPUT!FB227","v":""},{"$f":"INPUT!FC227","v":""},{"$f":"INPUT!FD227","v":""},{"$f":"INPUT!FE227","v":""},"",null,{"$f":"INPUT!FW227","v":""},{"$f":"INPUT!FX227","v":""},{"$f":"INPUT!FY227","v":""},{"$f":"INPUT!FZ227","v":""},{"$f":"INPUT!GA227","v":""},{"$f":"INPUT!GB227","v":""},{"$f":"INPUT!GC227","v":""},null,{"$f":"INPUT!GY227","v":""},{"$f":"INPUT!GZ227","v":""},{"$f":"INPUT!HA227","v":""},{"$f":"INPUT!HB227","v":""},{"$f":"INPUT!HC227","v":""},{"$f":"INPUT!HD227","v":""},{"$f":"INPUT!HE227","v":""},{"$f":"INPUT!HF227","v":""},{"$f":"INPUT!HG227","v":""},null,{"$f":"INPUT!IA227","v":""},{"$f":"INPUT!IB227","v":""},{"$f":"INPUT!IC227","v":""},{"$f":"INPUT!ID227","v":""},{"$f":"INPUT!IE227","v":""},{"$f":"INPUT!IF227","v":""},{"$f":"INPUT!IG227","v":""},{"$f":"INPUT!IH227","v":""},null,{"$f":"INPUT!IZ227","v":""},{"$f":"INPUT!JA227","v":""},{"$f":"INPUT!JB227","v":""},{"$f":"INPUT!JC227","v":""},{"$f":"INPUT!JD227","v":""},{"$f":"INPUT!JE227","v":""},{"$f":"INPUT!JF227","v":""},"",null,{"$f":"INPUT!JX227","v":""},{"$f":"INPUT!JY227","v":""},{"$f":"INPUT!JZ227","v":""},{"$f":"INPUT!KA227","v":""},{"$f":"INPUT!KB227","v":""},{"$f":"INPUT!KC227","v":""},{"$f":"INPUT!KD227","v":""},"",null,{"$f":"INPUT!KZ227","v":""},{"$f":"INPUT!LA227","v":""},{"$f":"INPUT!LB227","v":""},{"$f":"INPUT!LC227","v":""},{"$f":"INPUT!LD227","v":""},{"$f":"INPUT!LE227","v":""},{"$f":"INPUT!LF227","v":""},{"$f":"INPUT!LG227","v":""},{"$f":"INPUT!LH227","v":""},null,{"$f":"INPUT!MB227","v":""},{"$f":"INPUT!MC227","v":""},{"$f":"INPUT!MD227","v":""},{"$f":"INPUT!ME227","v":""},{"$f":"INPUT!MF227","v":""},{"$f":"INPUT!MG227","v":""},{"$f":"INPUT!MH227","v":""},{"$f":"INPUT!MI227","v":""}]
[null,{"$f":"INPUT!EA228","v":""},{"$f":"INPUT!EB228","v":""},{"$f":"INPUT!EC228","v":""},{"$f":"INPUT!ED228","v":""},{"$f":"INPUT!EE228","v":""},{"$f":"INPUT!EF228","v":""},{"$f":"INPUT!EG228","v":""},"",null,{"$f":"INPUT!EY228","v":""},{"$f":"INPUT!EZ228","v":""},{"$f":"INPUT!FA228","v":""},{"$f":"INPUT!FB228","v":""},{"$f":"INPUT!FC228","v":""},{"$f":"INPUT!FD228","v":""},{"$f":"INPUT!FE228","v":""},"",null,{"$f":"INPUT!FW228","v":""},{"$f":"INPUT!FX228","v":""},{"$f":"INPUT!FY228","v":""},{"$f":"INPUT!FZ228","v":""},{"$f":"INPUT!GA228","v":""},{"$f":"INPUT!GB228","v":""},{"$f":"INPUT!GC228","v":""},null,{"$f":"INPUT!GY228","v":""},{"$f":"INPUT!GZ228","v":""},{"$f":"INPUT!HA228","v":""},{"$f":"INPUT!HB228","v":""},{"$f":"INPUT!HC228","v":""},{"$f":"INPUT!HD228","v":""},{"$f":"INPUT!HE228","v":""},{"$f":"INPUT!HF228","v":""},{"$f":"INPUT!HG228","v":""},null,{"$f":"INPUT!IA228","v":""},{"$f":"INPUT!IB228","v":""},{"$f":"INPUT!IC228","v":""},{"$f":"INPUT!ID228","v":""},{"$f":"INPUT!IE228","v":""},{"$f":"INPUT!IF228","v":""},{"$f":"INPUT!IG228","v":""},{"$f":"INPUT!IH228","v":""},null,{"$f":"INPUT!IZ228","v":""},{"$f":"INPUT!JA228","v":""},{"$f":"INPUT!JB228","v":""},{"$f":"INPUT!JC228","v":""},{"$f":"INPUT!JD228","v":""},{"$f":"INPUT!JE228","v":""},{"$f":"INPUT!JF228","v":""},"",null,{"$f":"INPUT!JX228","v":""},{"$f":"INPUT!JY228","v":""},{"$f":"INPUT!JZ228","v":""},{"$f":"INPUT!KA228","v":""},{"$f":"INPUT!KB228","v":""},{"$f":"INPUT!KC228","v":""},{"$f":"INPUT!KD228","v":""},"",null,{"$f":"INPUT!KZ228","v":""},{"$f":"INPUT!LA228","v":""},{"$f":"INPUT!LB228","v":""},{"$f":"INPUT!LC228","v":""},{"$f":"INPUT!LD228","v":""},{"$f":"INPUT!LE228","v":""},{"$f":"INPUT!LF228","v":""},{"$f":"INPUT!LG228","v":""},{"$f":"INPUT!LH228","v":""},null,{"$f":"INPUT!MB228","v":""},{"$f":"INPUT!MC228","v":""},{"$f":"INPUT!MD228","v":""},{"$f":"INPUT!ME228","v":""},{"$f":"INPUT!MF228","v":""},{"$f":"INPUT!MG228","v":""},{"$f":"INPUT!MH228","v":""},{"$f":"INPUT!MI228","v":""}]
[null,{"$f":"INPUT!EA229","v":""},{"$f":"INPUT!EB229","v":""},{"$f":"INPUT!EC229","v":""},{"$f":"INPUT!ED229","v":""},{"$f":"INPUT!EE229","v":""},{"$f":"INPUT!EF229","v":""},{"$f":"INPUT!EG229","v":""},"",null,{"$f":"INPUT!EY229","v":""},{"$f":"INPUT!EZ229","v":""},{"$f":"INPUT!FA229","v":""},{"$f":"INPUT!FB229","v":""},{"$f":"INPUT!FC229","v":""},{"$f":"INPUT!FD229","v":""},{"$f":"INPUT!FE229","v":""},"",null,{"$f":"INPUT!FW229","v":""},{"$f":"INPUT!FX229","v":""},{"$f":"INPUT!FY229","v":""},{"$f":"INPUT!FZ229","v":""},{"$f":"INPUT!GA229","v":""},{"$f":"INPUT!GB229","v":""},{"$f":"INPUT!GC229","v":""},null,{"$f":"INPUT!GY229","v":""},{"$f":"INPUT!GZ229","v":""},{"$f":"INPUT!HA229","v":""},{"$f":"INPUT!HB229","v":""},{"$f":"INPUT!HC229","v":""},{"$f":"INPUT!HD229","v":""},{"$f":"INPUT!HE229","v":""},{"$f":"INPUT!HF229","v":""},{"$f":"INPUT!HG229","v":""},null,{"$f":"INPUT!IA229","v":""},{"$f":"INPUT!IB229","v":""},{"$f":"INPUT!IC229","v":""},{"$f":"INPUT!ID229","v":""},{"$f":"INPUT!IE229","v":""},{"$f":"INPUT!IF229","v":""},{"$f":"INPUT!IG229","v":""},{"$f":"INPUT!IH229","v":""},null,{"$f":"INPUT!IZ229","v":""},{"$f":"INPUT!JA229","v":""},{"$f":"INPUT!JB229","v":""},{"$f":"INPUT!JC229","v":""},{"$f":"INPUT!JD229","v":""},{"$f":"INPUT!JE229","v":""},{"$f":"INPUT!JF229","v":""},"",null,{"$f":"INPUT!JX229","v":""},{"$f":"INPUT!JY229","v":""},{"$f":"INPUT!JZ229","v":""},{"$f":"INPUT!KA229","v":""},{"$f":"INPUT!KB229","v":""},{"$f":"INPUT!KC229","v":""},{"$f":"INPUT!KD229","v":""},"",null,{"$f":"INPUT!KZ229","v":""},{"$f":"INPUT!LA229","v":""},{"$f":"INPUT!LB229","v":""},{"$f":"INPUT!LC229","v":""},{"$f":"INPUT!LD229","v":""},{"$f":"INPUT!LE229","v":""},{"$f":"INPUT!LF229","v":""},{"$f":"INPUT!LG229","v":""},{"$f":"INPUT!LH229","v":""},null,{"$f":"INPUT!MB229","v":""},{"$f":"INPUT!MC229","v":""},{"$f":"INPUT!MD229","v":""},{"$f":"INPUT!ME229","v":""},{"$f":"INPUT!MF229","v":""},{"$f":"INPUT!MG229","v":""},{"$f":"INPUT!MH229","v":""},{"$f":"INPUT!MI229","v":""}]
[null,{"$f":"INPUT!EA230","v":""},{"$f":"INPUT!EB230","v":""},{"$f":"INPUT!EC230","v":""},{"$f":"INPUT!ED230","v":""},{"$f":"INPUT!EE230","v":""},{"$f":"INPUT!EF230","v":""},{"$f":"INPUT!EG230","v":""},"",null,{"$f":"INPUT!EY230","v":""},{"$f":"INPUT!EZ230","v":""},{"$f":"INPUT!FA230","v":""},{"$f":"INPUT!FB230","v":""},{"$f":"INPUT!FC230","v":""},{"$f":"INPUT!FD230","v":""},{"$f":"INPUT!FE230","v":""},"",null,{"$f":"INPUT!FW230","v":""},{"$f":"INPUT!FX230","v":""},{"$f":"INPUT!FY230","v":""},{"$f":"INPUT!FZ230","v":""},{"$f":"INPUT!GA230","v":""},{"$f":"INPUT!GB230","v":""},{"$f":"INPUT!GC230","v":""},null,{"$f":"INPUT!GY230","v":""},{"$f":"INPUT!GZ230","v":""},{"$f":"INPUT!HA230","v":""},{"$f":"INPUT!HB230","v":""},{"$f":"INPUT!HC230","v":""},{"$f":"INPUT!HD230","v":""},{"$f":"INPUT!HE230","v":""},{"$f":"INPUT!HF230","v":""},{"$f":"INPUT!HG230","v":""},null,{"$f":"INPUT!IA230","v":""},{"$f":"INPUT!IB230","v":""},{"$f":"INPUT!IC230","v":""},{"$f":"INPUT!ID230","v":""},{"$f":"INPUT!IE230","v":""},{"$f":"INPUT!IF230","v":""},{"$f":"INPUT!IG230","v":""},{"$f":"INPUT!IH230","v":""},null,{"$f":"INPUT!IZ230","v":""},{"$f":"INPUT!JA230","v":""},{"$f":"INPUT!JB230","v":""},{"$f":"INPUT!JC230","v":""},{"$f":"INPUT!JD230","v":""},{"$f":"INPUT!JE230","v":""},{"$f":"INPUT!JF230","v":""},"",null,{"$f":"INPUT!JX230","v":""},{"$f":"INPUT!JY230","v":""},{"$f":"INPUT!JZ230","v":""},{"$f":"INPUT!KA230","v":""},{"$f":"INPUT!KB230","v":""},{"$f":"INPUT!KC230","v":""},{"$f":"INPUT!KD230","v":""},"",null,{"$f":"INPUT!KZ230","v":""},{"$f":"INPUT!LA230","v":""},{"$f":"INPUT!LB230","v":""},{"$f":"INPUT!LC230","v":""},{"$f":"INPUT!LD230","v":""},{"$f":"INPUT!LE230","v":""},{"$f":"INPUT!LF230","v":""},{"$f":"INPUT!LG230","v":""},{"$f":"INPUT!LH230","v":""},null,{"$f":"INPUT!MB230","v":""},{"$f":"INPUT!MC230","v":""},{"$f":"INPUT!MD230","v":""},{"$f":"INPUT!ME230","v":""},{"$f":"INPUT!MF230","v":""},{"$f":"INPUT!MG230","v":""},{"$f":"INPUT!MH230","v":""},{"$f":"INPUT!MI230","v":""}]
[null,{"$f":"INPUT!EA231","v":""},{"$f":"INPUT!EB231","v":""},{"$f":"INPUT!EC231","v":""},{"$f":"INPUT!ED231","v":""},{"$f":"INPUT!EE231","v":""},{"$f":"INPUT!EF231","v":""},{"$f":"INPUT!EG231","v":""},"",null,{"$f":"INPUT!EY231","v":""},{"$f":"INPUT!EZ231","v":""},{"$f":"INPUT!FA231","v":""},{"$f":"INPUT!FB231","v":""},{"$f":"INPUT!FC231","v":""},{"$f":"INPUT!FD231","v":""},{"$f":"INPUT!FE231","v":""},"",null,{"$f":"INPUT!FW231","v":""},{"$f":"INPUT!FX231","v":""},{"$f":"INPUT!FY231","v":""},{"$f":"INPUT!FZ231","v":""},{"$f":"INPUT!GA231","v":""},{"$f":"INPUT!GB231","v":""},{"$f":"INPUT!GC231","v":""},null,{"$f":"INPUT!GY231","v":""},{"$f":"INPUT!GZ231","v":""},{"$f":"INPUT!HA231","v":""},{"$f":"INPUT!HB231","v":""},{"$f":"INPUT!HC231","v":""},{"$f":"INPUT!HD231","v":""},{"$f":"INPUT!HE231","v":""},{"$f":"INPUT!HF231","v":""},{"$f":"INPUT!HG231","v":""},null,{"$f":"INPUT!IA231","v":""},{"$f":"INPUT!IB231","v":""},{"$f":"INPUT!IC231","v":""},{"$f":"INPUT!ID231","v":""},{"$f":"INPUT!IE231","v":""},{"$f":"INPUT!IF231","v":""},{"$f":"INPUT!IG231","v":""},{"$f":"INPUT!IH231","v":""},null,{"$f":"INPUT!IZ231","v":""},{"$f":"INPUT!JA231","v":""},{"$f":"INPUT!JB231","v":""},{"$f":"INPUT!JC231","v":""},{"$f":"INPUT!JD231","v":""},{"$f":"INPUT!JE231","v":""},{"$f":"INPUT!JF231","v":""},"",null,{"$f":"INPUT!JX231","v":""},{"$f":"INPUT!JY231","v":""},{"$f":"INPUT!JZ231","v":""},{"$f":"INPUT!KA231","v":""},{"$f":"INPUT!KB231","v":""},{"$f":"INPUT!KC231","v":""},{"$f":"INPUT!KD231","v":""},"",null,{"$f":"INPUT!KZ231","v":""},{"$f":"INPUT!LA231","v":""},{"$f":"INPUT!LB231","v":""},{"$f":"INPUT!LC231","v":""},{"$f":"INPUT!LD231","v":""},{"$f":"INPUT!LE231","v":""},{"$f":"INPUT!LF231","v":""},{"$f":"INPUT!LG231","v":""},{"$f":"INPUT!LH231","v":""},null,{"$f":"INPUT!MB231","v":""},{"$f":"INPUT!MC231","v":""},{"$f":"INPUT!MD231","v":""},{"$f":"INPUT!ME231","v":""},{"$f":"INPUT!MF231","v":""},{"$f":"INPUT!MG231","v":""},{"$f":"INPUT!MH231","v":""},{"$f":"INPUT!MI231","v":""}]
[null,{"$f":"INPUT!EA232","v":""},{"$f":"INPUT!EB232","v":""},{"$f":"INPUT!EC232","v":""},{"$f":"INPUT!ED232","v":""},{"$f":"INPUT!EE232","v":""},{"$f":"INPUT!EF232","v":""},{"$f":"INPUT!EG232","v":""},"",null,{"$f":"INPUT!EY232","v":""},{"$f":"INPUT!EZ232","v":""},{"$f":"INPUT!FA232","v":""},{"$f":"INPUT!FB232","v":""},{"$f":"INPUT!FC232","v":""},{"$f":"INPUT!FD232","v":""},{"$f":"INPUT!FE232","v":""},"",null,{"$f":"INPUT!FW232","v":""},{"$f":"INPUT!FX232","v":""},{"$f":"INPUT!FY232","v":""},{"$f":"INPUT!FZ232","v":""},{"$f":"INPUT!GA232","v":""},{"$f":"INPUT!GB232","v":""},{"$f":"INPUT!GC232","v":""},null,{"$f":"INPUT!GY232","v":""},{"$f":"INPUT!GZ232","v":""},{"$f":"INPUT!HA232","v":""},{"$f":"INPUT!HB232","v":""},{"$f":"INPUT!HC232","v":""},{"$f":"INPUT!HD232","v":""},{"$f":"INPUT!HE232","v":""},{"$f":"INPUT!HF232","v":""},{"$f":"INPUT!HG232","v":""},null,{"$f":"INPUT!IA232","v":""},{"$f":"INPUT!IB232","v":""},{"$f":"INPUT!IC232","v":""},{"$f":"INPUT!ID232","v":""},{"$f":"INPUT!IE232","v":""},{"$f":"INPUT!IF232","v":""},{"$f":"INPUT!IG232","v":""},{"$f":"INPUT!IH232","v":""},null,{"$f":"INPUT!IZ232","v":""},{"$f":"INPUT!JA232","v":""},{"$f":"INPUT!JB232","v":""},{"$f":"INPUT!JC232","v":""},{"$f":"INPUT!JD232","v":""},{"$f":"INPUT!JE232","v":""},{"$f":"INPUT!JF232","v":""},"",null,{"$f":"INPUT!JX232","v":""},{"$f":"INPUT!JY232","v":""},{"$f":"INPUT!JZ232","v":""},{"$f":"INPUT!KA232","v":""},{"$f":"INPUT!KB232","v":""},{"$f":"INPUT!KC232","v":""},{"$f":"INPUT!KD232","v":""},"",null,{"$f":"INPUT!KZ232","v":""},{"$f":"INPUT!LA232","v":""},{"$f":"INPUT!LB232","v":""},{"$f":"INPUT!LC232","v":""},{"$f":"INPUT!LD232","v":""},{"$f":"INPUT!LE232","v":""},{"$f":"INPUT!LF232","v":""},{"$f":"INPUT!LG232","v":""},{"$f":"INPUT!LH232","v":""},null,{"$f":"INPUT!MB232","v":""},{"$f":"INPUT!MC232","v":""},{"$f":"INPUT!MD232","v":""},{"$f":"INPUT!ME232","v":""},{"$f":"INPUT!MF232","v":""},{"$f":"INPUT!MG232","v":""},{"$f":"INPUT!MH232","v":""},{"$f":"INPUT!MI232","v":""}]
[null,{"$f":"INPUT!EA233","v":""},{"$f":"INPUT!EB233","v":""},{"$f":"INPUT!EC233","v":""},{"$f":"INPUT!ED233","v":""},{"$f":"INPUT!EE233","v":""},{"$f":"INPUT!EF233","v":""},{"$f":"INPUT!EG233","v":""},"",null,{"$f":"INPUT!EY233","v":""},{"$f":"INPUT!EZ233","v":""},{"$f":"INPUT!FA233","v":""},{"$f":"INPUT!FB233","v":""},{"$f":"INPUT!FC233","v":""},{"$f":"INPUT!FD233","v":""},{"$f":"INPUT!FE233","v":""},"",null,{"$f":"INPUT!FW233","v":""},{"$f":"INPUT!FX233","v":""},{"$f":"INPUT!FY233","v":""},{"$f":"INPUT!FZ233","v":""},{"$f":"INPUT!GA233","v":""},{"$f":"INPUT!GB233","v":""},{"$f":"INPUT!GC233","v":""},null,{"$f":"INPUT!GY233","v":""},{"$f":"INPUT!GZ233","v":""},{"$f":"INPUT!HA233","v":""},{"$f":"INPUT!HB233","v":""},{"$f":"INPUT!HC233","v":""},{"$f":"INPUT!HD233","v":""},{"$f":"INPUT!HE233","v":""},{"$f":"INPUT!HF233","v":""},{"$f":"INPUT!HG233","v":""},null,{"$f":"INPUT!IA233","v":""},{"$f":"INPUT!IB233","v":""},{"$f":"INPUT!IC233","v":""},{"$f":"INPUT!ID233","v":""},{"$f":"INPUT!IE233","v":""},{"$f":"INPUT!IF233","v":""},{"$f":"INPUT!IG233","v":""},{"$f":"INPUT!IH233","v":""},null,{"$f":"INPUT!IZ233","v":""},{"$f":"INPUT!JA233","v":""},{"$f":"INPUT!JB233","v":""},{"$f":"INPUT!JC233","v":""},{"$f":"INPUT!JD233","v":""},{"$f":"INPUT!JE233","v":""},{"$f":"INPUT!JF233","v":""},"",null,{"$f":"INPUT!JX233","v":""},{"$f":"INPUT!JY233","v":""},{"$f":"INPUT!JZ233","v":""},{"$f":"INPUT!KA233","v":""},{"$f":"INPUT!KB233","v":""},{"$f":"INPUT!KC233","v":""},{"$f":"INPUT!KD233","v":""},"",null,{"$f":"INPUT!KZ233","v":""},{"$f":"INPUT!LA233","v":""},{"$f":"INPUT!LB233","v":""},{"$f":"INPUT!LC233","v":""},{"$f":"INPUT!LD233","v":""},{"$f":"INPUT!LE233","v":""},{"$f":"INPUT!LF233","v":""},{"$f":"INPUT!LG233","v":""},{"$f":"INPUT!LH233","v":""},null,{"$f":"INPUT!MB233","v":""},{"$f":"INPUT!MC233","v":""},{"$f":"INPUT!MD233","v":""},{"$f":"INPUT!ME233","v":""},{"$f":"INPUT!MF233","v":""},{"$f":"INPUT!MG233","v":""},{"$f":"INPUT!MH233","v":""},{"$f":"INPUT!MI233","v":""}]
[null,{"$f":"INPUT!EA234","v":""},{"$f":"INPUT!EB234","v":""},{"$f":"INPUT!EC234","v":""},{"$f":"INPUT!ED234","v":""},{"$f":"INPUT!EE234","v":""},{"$f":"INPUT!EF234","v":""},{"$f":"INPUT!EG234","v":""},"",null,{"$f":"INPUT!EY234","v":""},{"$f":"INPUT!EZ234","v":""},{"$f":"INPUT!FA234","v":""},{"$f":"INPUT!FB234","v":""},{"$f":"INPUT!FC234","v":""},{"$f":"INPUT!FD234","v":""},{"$f":"INPUT!FE234","v":""},"",null,{"$f":"INPUT!FW234","v":""},{"$f":"INPUT!FX234","v":""},{"$f":"INPUT!FY234","v":""},{"$f":"INPUT!FZ234","v":""},{"$f":"INPUT!GA234","v":""},{"$f":"INPUT!GB234","v":""},{"$f":"INPUT!GC234","v":""},null,{"$f":"INPUT!GY234","v":""},{"$f":"INPUT!GZ234","v":""},{"$f":"INPUT!HA234","v":""},{"$f":"INPUT!HB234","v":""},{"$f":"INPUT!HC234","v":""},{"$f":"INPUT!HD234","v":""},{"$f":"INPUT!HE234","v":""},{"$f":"INPUT!HF234","v":""},{"$f":"INPUT!HG234","v":""},null,{"$f":"INPUT!IA234","v":""},{"$f":"INPUT!IB234","v":""},{"$f":"INPUT!IC234","v":""},{"$f":"INPUT!ID234","v":""},{"$f":"INPUT!IE234","v":""},{"$f":"INPUT!IF234","v":""},{"$f":"INPUT!IG234","v":""},{"$f":"INPUT!IH234","v":""},null,{"$f":"INPUT!IZ234","v":""},{"$f":"INPUT!JA234","v":""},{"$f":"INPUT!JB234","v":""},{"$f":"INPUT!JC234","v":""},{"$f":"INPUT!JD234","v":""},{"$f":"INPUT!JE234","v":""},{"$f":"INPUT!JF234","v":""},"",null,{"$f":"INPUT!JX234","v":""},{"$f":"INPUT!JY234","v":""},{"$f":"INPUT!JZ234","v":""},{"$f":"INPUT!KA234","v":""},{"$f":"INPUT!KB234","v":""},{"$f":"INPUT!KC234","v":""},{"$f":"INPUT!KD234","v":""},"",null,{"$f":"INPUT!KZ234","v":""},{"$f":"INPUT!LA234","v":""},{"$f":"INPUT!LB234","v":""},{"$f":"INPUT!LC234","v":""},{"$f":"INPUT!LD234","v":""},{"$f":"INPUT!LE234","v":""},{"$f":"INPUT!LF234","v":""},{"$f":"INPUT!LG234","v":""},{"$f":"INPUT!LH234","v":""},null,{"$f":"INPUT!MB234","v":""},{"$f":"INPUT!MC234","v":""},{"$f":"INPUT!MD234","v":""},{"$f":"INPUT!ME234","v":""},{"$f":"INPUT!MF234","v":""},{"$f":"INPUT!MG234","v":""},{"$f":"INPUT!MH234","v":""},{"$f":"INPUT!MI234","v":""}]
[null,{"$f":"INPUT!EA235","v":""},{"$f":"INPUT!EB235","v":""},{"$f":"INPUT!EC235","v":""},{"$f":"INPUT!ED235","v":""},{"$f":"INPUT!EE235","v":""},{"$f":"INPUT!EF235","v":""},{"$f":"INPUT!EG235","v":""},"",null,{"$f":"INPUT!EY235","v":""},{"$f":"INPUT!EZ235","v":""},{"$f":"INPUT!FA235","v":""},{"$f":"INPUT!FB235","v":""},{"$f":"INPUT!FC235","v":""},{"$f":"INPUT!FD235","v":""},{"$f":"INPUT!FE235","v":""},"",null,{"$f":"INPUT!FW235","v":""},{"$f":"INPUT!FX235","v":""},{"$f":"INPUT!FY235","v":""},{"$f":"INPUT!FZ235","v":""},{"$f":"INPUT!GA235","v":""},{"$f":"INPUT!GB235","v":""},{"$f":"INPUT!GC235","v":""},null,{"$f":"INPUT!GY235","v":""},{"$f":"INPUT!GZ235","v":""},{"$f":"INPUT!HA235","v":""},{"$f":"INPUT!HB235","v":""},{"$f":"INPUT!HC235","v":""},{"$f":"INPUT!HD235","v":""},{"$f":"INPUT!HE235","v":""},{"$f":"INPUT!HF235","v":""},{"$f":"INPUT!HG235","v":""},null,{"$f":"INPUT!IA235","v":""},{"$f":"INPUT!IB235","v":""},{"$f":"INPUT!IC235","v":""},{"$f":"INPUT!ID235","v":""},{"$f":"INPUT!IE235","v":""},{"$f":"INPUT!IF235","v":""},{"$f":"INPUT!IG235","v":""},{"$f":"INPUT!IH235","v":""},null,{"$f":"INPUT!IZ235","v":""},{"$f":"INPUT!JA235","v":""},{"$f":"INPUT!JB235","v":""},{"$f":"INPUT!JC235","v":""},{"$f":"INPUT!JD235","v":""},{"$f":"INPUT!JE235","v":""},{"$f":"INPUT!JF235","v":""},"",null,{"$f":"INPUT!JX235","v":""},{"$f":"INPUT!JY235","v":""},{"$f":"INPUT!JZ235","v":""},{"$f":"INPUT!KA235","v":""},{"$f":"INPUT!KB235","v":""},{"$f":"INPUT!KC235","v":""},{"$f":"INPUT!KD235","v":""},"",null,{"$f":"INPUT!KZ235","v":""},{"$f":"INPUT!LA235","v":""},{"$f":"INPUT!LB235","v":""},{"$f":"INPUT!LC235","v":""},{"$f":"INPUT!LD235","v":""},{"$f":"INPUT!LE235","v":""},{"$f":"INPUT!LF235","v":""},{"$f":"INPUT!LG235","v":""},{"$f":"INPUT!LH235","v":""},null,{"$f":"INPUT!MB235","v":""},{"$f":"INPUT!MC235","v":""},{"$f":"INPUT!MD235","v":""},{"$f":"INPUT!ME235","v":""},{"$f":"INPUT!MF235","v":""},{"$f":"INPUT!MG235","v":""},{"$f":"INPUT!MH235","v":""},{"$f":"INPUT!MI235","v":""}]
[null,{"$f":"INPUT!EA236","v":""},{"$f":"INPUT!EB236","v":""},{"$f":"INPUT!EC236","v":""},{"$f":"INPUT!ED236","v":""},{"$f":"INPUT!EE236","v":""},{"$f":"INPUT!EF236","v":""},{"$f":"INPUT!EG236","v":""},"",null,{"$f":"INPUT!EY236","v":""},{"$f":"INPUT!EZ236","v":""},{"$f":"INPUT!FA236","v":""},{"$f":"INPUT!FB236","v":""},{"$f":"INPUT!FC236","v":""},{"$f":"INPUT!FD236","v":""},{"$f":"INPUT!FE236","v":""},"",null,{"$f":"INPUT!FW236","v":""},{"$f":"INPUT!FX236","v":""},{"$f":"INPUT!FY236","v":""},{"$f":"INPUT!FZ236","v":""},{"$f":"INPUT!GA236","v":""},{"$f":"INPUT!GB236","v":""},{"$f":"INPUT!GC236","v":""},null,{"$f":"INPUT!GY236","v":""},{"$f":"INPUT!GZ236","v":""},{"$f":"INPUT!HA236","v":""},{"$f":"INPUT!HB236","v":""},{"$f":"INPUT!HC236","v":""},{"$f":"INPUT!HD236","v":""},{"$f":"INPUT!HE236","v":""},{"$f":"INPUT!HF236","v":""},{"$f":"INPUT!HG236","v":""},null,{"$f":"INPUT!IA236","v":""},{"$f":"INPUT!IB236","v":""},{"$f":"INPUT!IC236","v":""},{"$f":"INPUT!ID236","v":""},{"$f":"INPUT!IE236","v":""},{"$f":"INPUT!IF236","v":""},{"$f":"INPUT!IG236","v":""},{"$f":"INPUT!IH236","v":""},null,{"$f":"INPUT!IZ236","v":""},{"$f":"INPUT!JA236","v":""},{"$f":"INPUT!JB236","v":""},{"$f":"INPUT!JC236","v":""},{"$f":"INPUT!JD236","v":""},{"$f":"INPUT!JE236","v":""},{"$f":"INPUT!JF236","v":""},"",null,{"$f":"INPUT!JX236","v":""},{"$f":"INPUT!JY236","v":""},{"$f":"INPUT!JZ236","v":""},{"$f":"INPUT!KA236","v":""},{"$f":"INPUT!KB236","v":""},{"$f":"INPUT!KC236","v":""},{"$f":"INPUT!KD236","v":""},"",null,{"$f":"INPUT!KZ236","v":""},{"$f":"INPUT!LA236","v":""},{"$f":"INPUT!LB236","v":""},{"$f":"INPUT!LC236","v":""},{"$f":"INPUT!LD236","v":""},{"$f":"INPUT!LE236","v":""},{"$f":"INPUT!LF236","v":""},{"$f":"INPUT!LG236","v":""},{"$f":"INPUT!LH236","v":""},null,{"$f":"INPUT!MB236","v":""},{"$f":"INPUT!MC236","v":""},{"$f":"INPUT!MD236","v":""},{"$f":"INPUT!ME236","v":""},{"$f":"INPUT!MF236","v":""},{"$f":"INPUT!MG236","v":""},{"$f":"INPUT!MH236","v":""},{"$f":"INPUT!MI236","v":""}]
[null,{"$f":"INPUT!EA237","v":""},{"$f":"INPUT!EB237","v":""},{"$f":"INPUT!EC237","v":""},{"$f":"INPUT!ED237","v":""},{"$f":"INPUT!EE237","v":""},{"$f":"INPUT!EF237","v":""},{"$f":"INPUT!EG237","v":""},"",null,{"$f":"INPUT!EY237","v":""},{"$f":"INPUT!EZ237","v":""},{"$f":"INPUT!FA237","v":""},{"$f":"INPUT!FB237","v":""},{"$f":"INPUT!FC237","v":""},{"$f":"INPUT!FD237","v":""},{"$f":"INPUT!FE237","v":""},"",null,{"$f":"INPUT!FW237","v":""},{"$f":"INPUT!FX237","v":""},{"$f":"INPUT!FY237","v":""},{"$f":"INPUT!FZ237","v":""},{"$f":"INPUT!GA237","v":""},{"$f":"INPUT!GB237","v":""},{"$f":"INPUT!GC237","v":""},null,{"$f":"INPUT!GY237","v":""},{"$f":"INPUT!GZ237","v":""},{"$f":"INPUT!HA237","v":""},{"$f":"INPUT!HB237","v":""},{"$f":"INPUT!HC237","v":""},{"$f":"INPUT!HD237","v":""},{"$f":"INPUT!HE237","v":""},{"$f":"INPUT!HF237","v":""},{"$f":"INPUT!HG237","v":""},null,{"$f":"INPUT!IA237","v":""},{"$f":"INPUT!IB237","v":""},{"$f":"INPUT!IC237","v":""},{"$f":"INPUT!ID237","v":""},{"$f":"INPUT!IE237","v":""},{"$f":"INPUT!IF237","v":""},{"$f":"INPUT!IG237","v":""},{"$f":"INPUT!IH237","v":""},null,{"$f":"INPUT!IZ237","v":""},{"$f":"INPUT!JA237","v":""},{"$f":"INPUT!JB237","v":""},{"$f":"INPUT!JC237","v":""},{"$f":"INPUT!JD237","v":""},{"$f":"INPUT!JE237","v":""},{"$f":"INPUT!JF237","v":""},"",null,{"$f":"INPUT!JX237","v":""},{"$f":"INPUT!JY237","v":""},{"$f":"INPUT!JZ237","v":""},{"$f":"INPUT!KA237","v":""},{"$f":"INPUT!KB237","v":""},{"$f":"INPUT!KC237","v":""},{"$f":"INPUT!KD237","v":""},"",null,{"$f":"INPUT!KZ237","v":""},{"$f":"INPUT!LA237","v":""},{"$f":"INPUT!LB237","v":""},{"$f":"INPUT!LC237","v":""},{"$f":"INPUT!LD237","v":""},{"$f":"INPUT!LE237","v":""},{"$f":"INPUT!LF237","v":""},{"$f":"INPUT!LG237","v":""},{"$f":"INPUT!LH237","v":""},null,{"$f":"INPUT!MB237","v":""},{"$f":"INPUT!MC237","v":""},{"$f":"INPUT!MD237","v":""},{"$f":"INPUT!ME237","v":""},{"$f":"INPUT!MF237","v":""},{"$f":"INPUT!MG237","v":""},{"$f":"INPUT!MH237","v":""},{"$f":"INPUT!MI237","v":""}]
[null,{"$f":"INPUT!EA238","v":""},{"$f":"INPUT!EB238","v":""},{"$f":"INPUT!EC238","v":""},{"$f":"INPUT!ED238","v":""},{"$f":"INPUT!EE238","v":""},{"$f":"INPUT!EF238","v":""},{"$f":"INPUT!EG238","v":""},"",null,{"$f":"INPUT!EY238","v":""},{"$f":"INPUT!EZ238","v":""},{"$f":"INPUT!FA238","v":""},{"$f":"INPUT!FB238","v":""},{"$f":"INPUT!FC238","v":""},{"$f":"INPUT!FD238","v":""},{"$f":"INPUT!FE238","v":""},"",null,{"$f":"INPUT!FW238","v":""},{"$f":"INPUT!FX238","v":""},{"$f":"INPUT!FY238","v":""},{"$f":"INPUT!FZ238","v":""},{"$f":"INPUT!GA238","v":""},{"$f":"INPUT!GB238","v":""},{"$f":"INPUT!GC238","v":""},null,{"$f":"INPUT!GY238","v":""},{"$f":"INPUT!GZ238","v":""},{"$f":"INPUT!HA238","v":""},{"$f":"INPUT!HB238","v":""},{"$f":"INPUT!HC238","v":""},{"$f":"INPUT!HD238","v":""},{"$f":"INPUT!HE238","v":""},{"$f":"INPUT!HF238","v":""},{"$f":"INPUT!HG238","v":""},null,{"$f":"INPUT!IA238","v":""},{"$f":"INPUT!IB238","v":""},{"$f":"INPUT!IC238","v":""},{"$f":"INPUT!ID238","v":""},{"$f":"INPUT!IE238","v":""},{"$f":"INPUT!IF238","v":""},{"$f":"INPUT!IG238","v":""},{"$f":"INPUT!IH238","v":""},null,{"$f":"INPUT!IZ238","v":""},{"$f":"INPUT!JA238","v":""},{"$f":"INPUT!JB238","v":""},{"$f":"INPUT!JC238","v":""},{"$f":"INPUT!JD238","v":""},{"$f":"INPUT!JE238","v":""},{"$f":"INPUT!JF238","v":""},"",null,{"$f":"INPUT!JX238","v":""},{"$f":"INPUT!JY238","v":""},{"$f":"INPUT!JZ238","v":""},{"$f":"INPUT!KA238","v":""},{"$f":"INPUT!KB238","v":""},{"$f":"INPUT!KC238","v":""},{"$f":"INPUT!KD238","v":""},"",null,{"$f":"INPUT!KZ238","v":""},{"$f":"INPUT!LA238","v":""},{"$f":"INPUT!LB238","v":""},{"$f":"INPUT!LC238","v":""},{"$f":"INPUT!LD238","v":""},{"$f":"INPUT!LE238","v":""},{"$f":"INPUT!LF238","v":""},{"$f":"INPUT!LG238","v":""},{"$f":"INPUT!LH238","v":""},null,{"$f":"INPUT!MB238","v":""},{"$f":"INPUT!MC238","v":""},{"$f":"INPUT!MD238","v":""},{"$f":"INPUT!ME238","v":""},{"$f":"INPUT!MF238","v":""},{"$f":"INPUT!MG238","v":""},{"$f":"INPUT!MH238","v":""},{"$f":"INPUT!MI238","v":""}]
[null,{"$f":"INPUT!EA239","v":""},{"$f":"INPUT!EB239","v":""},{"$f":"INPUT!EC239","v":""},{"$f":"INPUT!ED239","v":""},{"$f":"INPUT!EE239","v":""},{"$f":"INPUT!EF239","v":""},{"$f":"INPUT!EG239","v":""},"",null,{"$f":"INPUT!EY239","v":""},{"$f":"INPUT!EZ239","v":""},{"$f":"INPUT!FA239","v":""},{"$f":"INPUT!FB239","v":""},{"$f":"INPUT!FC239","v":""},{"$f":"INPUT!FD239","v":""},{"$f":"INPUT!FE239","v":""},"",null,{"$f":"INPUT!FW239","v":""},{"$f":"INPUT!FX239","v":""},{"$f":"INPUT!FY239","v":""},{"$f":"INPUT!FZ239","v":""},{"$f":"INPUT!GA239","v":""},{"$f":"INPUT!GB239","v":""},{"$f":"INPUT!GC239","v":""},null,{"$f":"INPUT!GY239","v":""},{"$f":"INPUT!GZ239","v":""},{"$f":"INPUT!HA239","v":""},{"$f":"INPUT!HB239","v":""},{"$f":"INPUT!HC239","v":""},{"$f":"INPUT!HD239","v":""},{"$f":"INPUT!HE239","v":""},{"$f":"INPUT!HF239","v":""},{"$f":"INPUT!HG239","v":""},null,{"$f":"INPUT!IA239","v":""},{"$f":"INPUT!IB239","v":""},{"$f":"INPUT!IC239","v":""},{"$f":"INPUT!ID239","v":""},{"$f":"INPUT!IE239","v":""},{"$f":"INPUT!IF239","v":""},{"$f":"INPUT!IG239","v":""},{"$f":"INPUT!IH239","v":""},null,{"$f":"INPUT!IZ239","v":""},{"$f":"INPUT!JA239","v":""},{"$f":"INPUT!JB239","v":""},{"$f":"INPUT!JC239","v":""},{"$f":"INPUT!JD239","v":""},{"$f":"INPUT!JE239","v":""},{"$f":"INPUT!JF239","v":""},"",null,{"$f":"INPUT!JX239","v":""},{"$f":"INPUT!JY239","v":""},{"$f":"INPUT!JZ239","v":""},{"$f":"INPUT!KA239","v":""},{"$f":"INPUT!KB239","v":""},{"$f":"INPUT!KC239","v":""},{"$f":"INPUT!KD239","v":""},"",null,{"$f":"INPUT!KZ239","v":""},{"$f":"INPUT!LA239","v":""},{"$f":"INPUT!LB239","v":""},{"$f":"INPUT!LC239","v":""},{"$f":"INPUT!LD239","v":""},{"$f":"INPUT!LE239","v":""},{"$f":"INPUT!LF239","v":""},{"$f":"INPUT!LG239","v":""},{"$f":"INPUT!LH239","v":""},null,{"$f":"INPUT!MB239","v":""},{"$f":"INPUT!MC239","v":""},{"$f":"INPUT!MD239","v":""},{"$f":"INPUT!ME239","v":""},{"$f":"INPUT!MF239","v":""},{"$f":"INPUT!MG239","v":""},{"$f":"INPUT!MH239","v":""},{"$f":"INPUT!MI239","v":""}]
[null,{"$f":"INPUT!EA240","v":""},{"$f":"INPUT!EB240","v":""},{"$f":"INPUT!EC240","v":""},{"$f":"INPUT!ED240","v":""},{"$f":"INPUT!EE240","v":""},{"$f":"INPUT!EF240","v":""},{"$f":"INPUT!EG240","v":""},"",null,{"$f":"INPUT!EY240","v":""},{"$f":"INPUT!EZ240","v":""},{"$f":"INPUT!FA240","v":""},{"$f":"INPUT!FB240","v":""},{"$f":"INPUT!FC240","v":""},{"$f":"INPUT!FD240","v":""},{"$f":"INPUT!FE240","v":""},"",null,{"$f":"INPUT!FW240","v":""},{"$f":"INPUT!FX240","v":""},{"$f":"INPUT!FY240","v":""},{"$f":"INPUT!FZ240","v":""},{"$f":"INPUT!GA240","v":""},{"$f":"INPUT!GB240","v":""},{"$f":"INPUT!GC240","v":""},null,{"$f":"INPUT!GY240","v":""},{"$f":"INPUT!GZ240","v":""},{"$f":"INPUT!HA240","v":""},{"$f":"INPUT!HB240","v":""},{"$f":"INPUT!HC240","v":""},{"$f":"INPUT!HD240","v":""},{"$f":"INPUT!HE240","v":""},{"$f":"INPUT!HF240","v":""},{"$f":"INPUT!HG240","v":""},null,{"$f":"INPUT!IA240","v":""},{"$f":"INPUT!IB240","v":""},{"$f":"INPUT!IC240","v":""},{"$f":"INPUT!ID240","v":""},{"$f":"INPUT!IE240","v":""},{"$f":"INPUT!IF240","v":""},{"$f":"INPUT!IG240","v":""},{"$f":"INPUT!IH240","v":""},null,{"$f":"INPUT!IZ240","v":""},{"$f":"INPUT!JA240","v":""},{"$f":"INPUT!JB240","v":""},{"$f":"INPUT!JC240","v":""},{"$f":"INPUT!JD240","v":""},{"$f":"INPUT!JE240","v":""},{"$f":"INPUT!JF240","v":""},"",null,{"$f":"INPUT!JX240","v":""},{"$f":"INPUT!JY240","v":""},{"$f":"INPUT!JZ240","v":""},{"$f":"INPUT!KA240","v":""},{"$f":"INPUT!KB240","v":""},{"$f":"INPUT!KC240","v":""},{"$f":"INPUT!KD240","v":""},"",null,{"$f":"INPUT!KZ240","v":""},{"$f":"INPUT!LA240","v":""},{"$f":"INPUT!LB240","v":""},{"$f":"INPUT!LC240","v":""},{"$f":"INPUT!LD240","v":""},{"$f":"INPUT!LE240","v":""},{"$f":"INPUT!LF240","v":""},{"$f":"INPUT!LG240","v":""},{"$f":"INPUT!LH240","v":""},null,{"$f":"INPUT!MB240","v":""},{"$f":"INPUT!MC240","v":""},{"$f":"INPUT!MD240","v":""},{"$f":"INPUT!ME240","v":""},{"$f":"INPUT!MF240","v":""},{"$f":"INPUT!MG240","v":""},{"$f":"INPUT!MH240","v":""},{"$f":"INPUT!MI240","v":""}]
[null,{"$f":"INPUT!EA241","v":""},{"$f":"INPUT!EB241","v":""},{"$f":"INPUT!EC241","v":""},{"$f":"INPUT!ED241","v":""},{"$f":"INPUT!EE241","v":""},{"$f":"INPUT!EF241","v":""},{"$f":"INPUT!EG241","v":""},"",null,{"$f":"INPUT!EY241","v":""},{"$f":"INPUT!EZ241","v":""},{"$f":"INPUT!FA241","v":""},{"$f":"INPUT!FB241","v":""},{"$f":"INPUT!FC241","v":""},{"$f":"INPUT!FD241","v":""},{"$f":"INPUT!FE241","v":""},"",null,{"$f":"INPUT!FW241","v":""},{"$f":"INPUT!FX241","v":""},{"$f":"INPUT!FY241","v":""},{"$f":"INPUT!FZ241","v":""},{"$f":"INPUT!GA241","v":""},{"$f":"INPUT!GB241","v":""},{"$f":"INPUT!GC241","v":""},null,{"$f":"INPUT!GY241","v":""},{"$f":"INPUT!GZ241","v":""},{"$f":"INPUT!HA241","v":""},{"$f":"INPUT!HB241","v":""},{"$f":"INPUT!HC241","v":""},{"$f":"INPUT!HD241","v":""},{"$f":"INPUT!HE241","v":""},{"$f":"INPUT!HF241","v":""},{"$f":"INPUT!HG241","v":""},null,{"$f":"INPUT!IA241","v":""},{"$f":"INPUT!IB241","v":""},{"$f":"INPUT!IC241","v":""},{"$f":"INPUT!ID241","v":""},{"$f":"INPUT!IE241","v":""},{"$f":"INPUT!IF241","v":""},{"$f":"INPUT!IG241","v":""},{"$f":"INPUT!IH241","v":""},null,{"$f":"INPUT!IZ241","v":""},{"$f":"INPUT!JA241","v":""},{"$f":"INPUT!JB241","v":""},{"$f":"INPUT!JC241","v":""},{"$f":"INPUT!JD241","v":""},{"$f":"INPUT!JE241","v":""},{"$f":"INPUT!JF241","v":""},"",null,{"$f":"INPUT!JX241","v":""},{"$f":"INPUT!JY241","v":""},{"$f":"INPUT!JZ241","v":""},{"$f":"INPUT!KA241","v":""},{"$f":"INPUT!KB241","v":""},{"$f":"INPUT!KC241","v":""},{"$f":"INPUT!KD241","v":""},"",null,{"$f":"INPUT!KZ241","v":""},{"$f":"INPUT!LA241","v":""},{"$f":"INPUT!LB241","v":""},{"$f":"INPUT!LC241","v":""},{"$f":"INPUT!LD241","v":""},{"$f":"INPUT!LE241","v":""},{"$f":"INPUT!LF241","v":""},{"$f":"INPUT!LG241","v":""},{"$f":"INPUT!LH241","v":""},null,{"$f":"INPUT!MB241","v":""},{"$f":"INPUT!MC241","v":""},{"$f":"INPUT!MD241","v":""},{"$f":"INPUT!ME241","v":""},{"$f":"INPUT!MF241","v":""},{"$f":"INPUT!MG241","v":""},{"$f":"INPUT!MH241","v":""},{"$f":"INPUT!MI241","v":""}]
[null,{"$f":"INPUT!EA242","v":""},{"$f":"INPUT!EB242","v":""},{"$f":"INPUT!EC242","v":""},{"$f":"INPUT!ED242","v":""},{"$f":"INPUT!EE242","v":""},{"$f":"INPUT!EF242","v":""},{"$f":"INPUT!EG242","v":""},"",null,{"$f":"INPUT!EY242","v":""},{"$f":"INPUT!EZ242","v":""},{"$f":"INPUT!FA242","v":""},{"$f":"INPUT!FB242","v":""},{"$f":"INPUT!FC242","v":""},{"$f":"INPUT!FD242","v":""},{"$f":"INPUT!FE242","v":""},"",null,{"$f":"INPUT!FW242","v":""},{"$f":"INPUT!FX242","v":""},{"$f":"INPUT!FY242","v":""},{"$f":"INPUT!FZ242","v":""},{"$f":"INPUT!GA242","v":""},{"$f":"INPUT!GB242","v":""},{"$f":"INPUT!GC242","v":""},null,{"$f":"INPUT!GY242","v":""},{"$f":"INPUT!GZ242","v":""},{"$f":"INPUT!HA242","v":""},{"$f":"INPUT!HB242","v":""},{"$f":"INPUT!HC242","v":""},{"$f":"INPUT!HD242","v":""},{"$f":"INPUT!HE242","v":""},{"$f":"INPUT!HF242","v":""},{"$f":"INPUT!HG242","v":""},null,{"$f":"INPUT!IA242","v":""},{"$f":"INPUT!IB242","v":""},{"$f":"INPUT!IC242","v":""},{"$f":"INPUT!ID242","v":""},{"$f":"INPUT!IE242","v":""},{"$f":"INPUT!IF242","v":""},{"$f":"INPUT!IG242","v":""},{"$f":"INPUT!IH242","v":""},null,{"$f":"INPUT!IZ242","v":""},{"$f":"INPUT!JA242","v":""},{"$f":"INPUT!JB242","v":""},{"$f":"INPUT!JC242","v":""},{"$f":"INPUT!JD242","v":""},{"$f":"INPUT!JE242","v":""},{"$f":"INPUT!JF242","v":""},"",null,{"$f":"INPUT!JX242","v":""},{"$f":"INPUT!JY242","v":""},{"$f":"INPUT!JZ242","v":""},{"$f":"INPUT!KA242","v":""},{"$f":"INPUT!KB242","v":""},{"$f":"INPUT!KC242","v":""},{"$f":"INPUT!KD242","v":""},"",null,{"$f":"INPUT!KZ242","v":""},{"$f":"INPUT!LA242","v":""},{"$f":"INPUT!LB242","v":""},{"$f":"INPUT!LC242","v":""},{"$f":"INPUT!LD242","v":""},{"$f":"INPUT!LE242","v":""},{"$f":"INPUT!LF242","v":""},{"$f":"INPUT!LG242","v":""},{"$f":"INPUT!LH242","v":""},null,{"$f":"INPUT!MB242","v":""},{"$f":"INPUT!MC242","v":""},{"$f":"INPUT!MD242","v":""},{"$f":"INPUT!ME242","v":""},{"$f":"INPUT!MF242","v":""},{"$f":"INPUT!MG242","v":""},{"$f":"INPUT!MH242","v":""},{"$f":"INPUT!MI242","v":""}]
[null,{"$f":"INPUT!EA243","v":""},{"$f":"INPUT!EB243","v":""},{"$f":"INPUT!EC243","v":""},{"$f":"INPUT!ED243","v":""},{"$f":"INPUT!EE243","v":""},{"$f":"INPUT!EF243","v":""},{"$f":"INPUT!EG243","v":""},"",null,{"$f":"INPUT!EY243","v":""},{"$f":"INPUT!EZ243","v":""},{"$f":"INPUT!FA243","v":""},{"$f":"INPUT!FB243","v":""},{"$f":"INPUT!FC243","v":""},{"$f":"INPUT!FD243","v":""},{"$f":"INPUT!FE243","v":""},"",null,{"$f":"INPUT!FW243","v":""},{"$f":"INPUT!FX243","v":""},{"$f":"INPUT!FY243","v":""},{"$f":"INPUT!FZ243","v":""},{"$f":"INPUT!GA243","v":""},{"$f":"INPUT!GB243","v":""},{"$f":"INPUT!GC243","v":""},null,{"$f":"INPUT!GY243","v":""},{"$f":"INPUT!GZ243","v":""},{"$f":"INPUT!HA243","v":""},{"$f":"INPUT!HB243","v":""},{"$f":"INPUT!HC243","v":""},{"$f":"INPUT!HD243","v":""},{"$f":"INPUT!HE243","v":""},{"$f":"INPUT!HF243","v":""},{"$f":"INPUT!HG243","v":""},null,{"$f":"INPUT!IA243","v":""},{"$f":"INPUT!IB243","v":""},{"$f":"INPUT!IC243","v":""},{"$f":"INPUT!ID243","v":""},{"$f":"INPUT!IE243","v":""},{"$f":"INPUT!IF243","v":""},{"$f":"INPUT!IG243","v":""},{"$f":"INPUT!IH243","v":""},null,{"$f":"INPUT!IZ243","v":""},{"$f":"INPUT!JA243","v":""},{"$f":"INPUT!JB243","v":""},{"$f":"INPUT!JC243","v":""},{"$f":"INPUT!JD243","v":""},{"$f":"INPUT!JE243","v":""},{"$f":"INPUT!JF243","v":""},"",null,{"$f":"INPUT!JX243","v":""},{"$f":"INPUT!JY243","v":""},{"$f":"INPUT!JZ243","v":""},{"$f":"INPUT!KA243","v":""},{"$f":"INPUT!KB243","v":""},{"$f":"INPUT!KC243","v":""},{"$f":"INPUT!KD243","v":""},"",null,{"$f":"INPUT!KZ243","v":""},{"$f":"INPUT!LA243","v":""},{"$f":"INPUT!LB243","v":""},{"$f":"INPUT!LC243","v":""},{"$f":"INPUT!LD243","v":""},{"$f":"INPUT!LE243","v":""},{"$f":"INPUT!LF243","v":""},{"$f":"INPUT!LG243","v":""},{"$f":"INPUT!LH243","v":""},null,{"$f":"INPUT!MB243","v":""},{"$f":"INPUT!MC243","v":""},{"$f":"INPUT!MD243","v":""},{"$f":"INPUT!ME243","v":""},{"$f":"INPUT!MF243","v":""},{"$f":"INPUT!MG243","v":""},{"$f":"INPUT!MH243","v":""},{"$f":"INPUT!MI243","v":""}]
[null,{"$f":"INPUT!EA244","v":""},{"$f":"INPUT!EB244","v":""},{"$f":"INPUT!EC244","v":""},{"$f":"INPUT!ED244","v":""},{"$f":"INPUT!EE244","v":""},{"$f":"INPUT!EF244","v":""},{"$f":"INPUT!EG244","v":""},"",null,{"$f":"INPUT!EY244","v":""},{"$f":"INPUT!EZ244","v":""},{"$f":"INPUT!FA244","v":""},{"$f":"INPUT!FB244","v":""},{"$f":"INPUT!FC244","v":""},{"$f":"INPUT!FD244","v":""},{"$f":"INPUT!FE244","v":""},"",null,{"$f":"INPUT!FW244","v":""},{"$f":"INPUT!FX244","v":""},{"$f":"INPUT!FY244","v":""},{"$f":"INPUT!FZ244","v":""},{"$f":"INPUT!GA244","v":""},{"$f":"INPUT!GB244","v":""},{"$f":"INPUT!GC244","v":""},null,{"$f":"INPUT!GY244","v":""},{"$f":"INPUT!GZ244","v":""},{"$f":"INPUT!HA244","v":""},{"$f":"INPUT!HB244","v":""},{"$f":"INPUT!HC244","v":""},{"$f":"INPUT!HD244","v":""},{"$f":"INPUT!HE244","v":""},{"$f":"INPUT!HF244","v":""},{"$f":"INPUT!HG244","v":""},null,{"$f":"INPUT!IA244","v":""},{"$f":"INPUT!IB244","v":""},{"$f":"INPUT!IC244","v":""},{"$f":"INPUT!ID244","v":""},{"$f":"INPUT!IE244","v":""},{"$f":"INPUT!IF244","v":""},{"$f":"INPUT!IG244","v":""},{"$f":"INPUT!IH244","v":""},null,{"$f":"INPUT!IZ244","v":""},{"$f":"INPUT!JA244","v":""},{"$f":"INPUT!JB244","v":""},{"$f":"INPUT!JC244","v":""},{"$f":"INPUT!JD244","v":""},{"$f":"INPUT!JE244","v":""},{"$f":"INPUT!JF244","v":""},"",null,{"$f":"INPUT!JX244","v":""},{"$f":"INPUT!JY244","v":""},{"$f":"INPUT!JZ244","v":""},{"$f":"INPUT!KA244","v":""},{"$f":"INPUT!KB244","v":""},{"$f":"INPUT!KC244","v":""},{"$f":"INPUT!KD244","v":""},"",null,{"$f":"INPUT!KZ244","v":""},{"$f":"INPUT!LA244","v":""},{"$f":"INPUT!LB244","v":""},{"$f":"INPUT!LC244","v":""},{"$f":"INPUT!LD244","v":""},{"$f":"INPUT!LE244","v":""},{"$f":"INPUT!LF244","v":""},{"$f":"INPUT!LG244","v":""},{"$f":"INPUT!LH244","v":""},null,{"$f":"INPUT!MB244","v":""},{"$f":"INPUT!MC244","v":""},{"$f":"INPUT!MD244","v":""},{"$f":"INPUT!ME244","v":""},{"$f":"INPUT!MF244","v":""},{"$f":"INPUT!MG244","v":""},{"$f":"INPUT!MH244","v":""},{"$f":"INPUT!MI244","v":""}]
[null,{"$f":"INPUT!EA245","v":""},{"$f":"INPUT!EB245","v":""},{"$f":"INPUT!EC245","v":""},{"$f":"INPUT!ED245","v":""},{"$f":"INPUT!EE245","v":""},{"$f":"INPUT!EF245","v":""},{"$f":"INPUT!EG245","v":""},"",null,{"$f":"INPUT!EY245","v":""},{"$f":"INPUT!EZ245","v":""},{"$f":"INPUT!FA245","v":""},{"$f":"INPUT!FB245","v":""},{"$f":"INPUT!FC245","v":""},{"$f":"INPUT!FD245","v":""},{"$f":"INPUT!FE245","v":""},"",null,{"$f":"INPUT!FW245","v":""},{"$f":"INPUT!FX245","v":""},{"$f":"INPUT!FY245","v":""},{"$f":"INPUT!FZ245","v":""},{"$f":"INPUT!GA245","v":""},{"$f":"INPUT!GB245","v":""},{"$f":"INPUT!GC245","v":""},null,{"$f":"INPUT!GY245","v":""},{"$f":"INPUT!GZ245","v":""},{"$f":"INPUT!HA245","v":""},{"$f":"INPUT!HB245","v":""},{"$f":"INPUT!HC245","v":""},{"$f":"INPUT!HD245","v":""},{"$f":"INPUT!HE245","v":""},{"$f":"INPUT!HF245","v":""},{"$f":"INPUT!HG245","v":""},null,{"$f":"INPUT!IA245","v":""},{"$f":"INPUT!IB245","v":""},{"$f":"INPUT!IC245","v":""},{"$f":"INPUT!ID245","v":""},{"$f":"INPUT!IE245","v":""},{"$f":"INPUT!IF245","v":""},{"$f":"INPUT!IG245","v":""},{"$f":"INPUT!IH245","v":""},null,{"$f":"INPUT!IZ245","v":""},{"$f":"INPUT!JA245","v":""},{"$f":"INPUT!JB245","v":""},{"$f":"INPUT!JC245","v":""},{"$f":"INPUT!JD245","v":""},{"$f":"INPUT!JE245","v":""},{"$f":"INPUT!JF245","v":""},"",null,{"$f":"INPUT!JX245","v":""},{"$f":"INPUT!JY245","v":""},{"$f":"INPUT!JZ245","v":""},{"$f":"INPUT!KA245","v":""},{"$f":"INPUT!KB245","v":""},{"$f":"INPUT!KC245","v":""},{"$f":"INPUT!KD245","v":""},"",null,{"$f":"INPUT!KZ245","v":""},{"$f":"INPUT!LA245","v":""},{"$f":"INPUT!LB245","v":""},{"$f":"INPUT!LC245","v":""},{"$f":"INPUT!LD245","v":""},{"$f":"INPUT!LE245","v":""},{"$f":"INPUT!LF245","v":""},{"$f":"INPUT!LG245","v":""},{"$f":"INPUT!LH245","v":""},null,{"$f":"INPUT!MB245","v":""},{"$f":"INPUT!MC245","v":""},{"$f":"INPUT!MD245","v":""},{"$f":"INPUT!ME245","v":""},{"$f":"INPUT!MF245","v":""},{"$f":"INPUT!MG245","v":""},{"$f":"INPUT!MH245","v":""},{"$f":"INPUT!MI245","v":""}]
[null,{"$f":"INPUT!EA246","v":""},{"$f":"INPUT!EB246","v":""},{"$f":"INPUT!EC246","v":""},{"$f":"INPUT!ED246","v":""},{"$f":"INPUT!EE246","v":""},{"$f":"INPUT!EF246","v":""},{"$f":"INPUT!EG246","v":""},"",null,{"$f":"INPUT!EY246","v":""},{"$f":"INPUT!EZ246","v":""},{"$f":"INPUT!FA246","v":""},{"$f":"INPUT!FB246","v":""},{"$f":"INPUT!FC246","v":""},{"$f":"INPUT!FD246","v":""},{"$f":"INPUT!FE246","v":""},"",null,{"$f":"INPUT!FW246","v":""},{"$f":"INPUT!FX246","v":""},{"$f":"INPUT!FY246","v":""},{"$f":"INPUT!FZ246","v":""},{"$f":"INPUT!GA246","v":""},{"$f":"INPUT!GB246","v":""},{"$f":"INPUT!GC246","v":""},null,{"$f":"INPUT!GY246","v":""},{"$f":"INPUT!GZ246","v":""},{"$f":"INPUT!HA246","v":""},{"$f":"INPUT!HB246","v":""},{"$f":"INPUT!HC246","v":""},{"$f":"INPUT!HD246","v":""},{"$f":"INPUT!HE246","v":""},{"$f":"INPUT!HF246","v":""},{"$f":"INPUT!HG246","v":""},null,{"$f":"INPUT!IA246","v":""},{"$f":"INPUT!IB246","v":""},{"$f":"INPUT!IC246","v":""},{"$f":"INPUT!ID246","v":""},{"$f":"INPUT!IE246","v":""},{"$f":"INPUT!IF246","v":""},{"$f":"INPUT!IG246","v":""},{"$f":"INPUT!IH246","v":""},null,{"$f":"INPUT!IZ246","v":""},{"$f":"INPUT!JA246","v":""},{"$f":"INPUT!JB246","v":""},{"$f":"INPUT!JC246","v":""},{"$f":"INPUT!JD246","v":""},{"$f":"INPUT!JE246","v":""},{"$f":"INPUT!JF246","v":""},"",null,{"$f":"INPUT!JX246","v":""},{"$f":"INPUT!JY246","v":""},{"$f":"INPUT!JZ246","v":""},{"$f":"INPUT!KA246","v":""},{"$f":"INPUT!KB246","v":""},{"$f":"INPUT!KC246","v":""},{"$f":"INPUT!KD246","v":""},"",null,{"$f":"INPUT!KZ246","v":""},{"$f":"INPUT!LA246","v":""},{"$f":"INPUT!LB246","v":""},{"$f":"INPUT!LC246","v":""},{"$f":"INPUT!LD246","v":""},{"$f":"INPUT!LE246","v":""},{"$f":"INPUT!LF246","v":""},{"$f":"INPUT!LG246","v":""},{"$f":"INPUT!LH246","v":""},null,{"$f":"INPUT!MB246","v":""},{"$f":"INPUT!MC246","v":""},{"$f":"INPUT!MD246","v":""},{"$f":"INPUT!ME246","v":""},{"$f":"INPUT!MF246","v":""},{"$f":"INPUT!MG246","v":""},{"$f":"INPUT!MH246","v":""},{"$f":"INPUT!MI246","v":""}]
[null,{"$f":"INPUT!EA247","v":""},{"$f":"INPUT!EB247","v":""},{"$f":"INPUT!EC247","v":""},{"$f":"INPUT!ED247","v":""},{"$f":"INPUT!EE247","v":""},{"$f":"INPUT!EF247","v":""},{"$f":"INPUT!EG247","v":""},"",null,{"$f":"INPUT!EY247","v":""},{"$f":"INPUT!EZ247","v":""},{"$f":"INPUT!FA247","v":""},{"$f":"INPUT!FB247","v":""},{"$f":"INPUT!FC247","v":""},{"$f":"INPUT!FD247","v":""},{"$f":"INPUT!FE247","v":""},"",null,{"$f":"INPUT!FW247","v":""},{"$f":"INPUT!FX247","v":""},{"$f":"INPUT!FY247","v":""},{"$f":"INPUT!FZ247","v":""},{"$f":"INPUT!GA247","v":""},{"$f":"INPUT!GB247","v":""},{"$f":"INPUT!GC247","v":""},null,{"$f":"INPUT!GY247","v":""},{"$f":"INPUT!GZ247","v":""},{"$f":"INPUT!HA247","v":""},{"$f":"INPUT!HB247","v":""},{"$f":"INPUT!HC247","v":""},{"$f":"INPUT!HD247","v":""},{"$f":"INPUT!HE247","v":""},{"$f":"INPUT!HF247","v":""},{"$f":"INPUT!HG247","v":""},null,{"$f":"INPUT!IA247","v":""},{"$f":"INPUT!IB247","v":""},{"$f":"INPUT!IC247","v":""},{"$f":"INPUT!ID247","v":""},{"$f":"INPUT!IE247","v":""},{"$f":"INPUT!IF247","v":""},{"$f":"INPUT!IG247","v":""},{"$f":"INPUT!IH247","v":""},null,{"$f":"INPUT!IZ247","v":""},{"$f":"INPUT!JA247","v":""},{"$f":"INPUT!JB247","v":""},{"$f":"INPUT!JC247","v":""},{"$f":"INPUT!JD247","v":""},{"$f":"INPUT!JE247","v":""},{"$f":"INPUT!JF247","v":""},"",null,{"$f":"INPUT!JX247","v":""},{"$f":"INPUT!JY247","v":""},{"$f":"INPUT!JZ247","v":""},{"$f":"INPUT!KA247","v":""},{"$f":"INPUT!KB247","v":""},{"$f":"INPUT!KC247","v":""},{"$f":"INPUT!KD247","v":""},"",null,{"$f":"INPUT!KZ247","v":""},{"$f":"INPUT!LA247","v":""},{"$f":"INPUT!LB247","v":""},{"$f":"INPUT!LC247","v":""},{"$f":"INPUT!LD247","v":""},{"$f":"INPUT!LE247","v":""},{"$f":"INPUT!LF247","v":""},{"$f":"INPUT!LG247","v":""},{"$f":"INPUT!LH247","v":""},null,{"$f":"INPUT!MB247","v":""},{"$f":"INPUT!MC247","v":""},{"$f":"INPUT!MD247","v":""},{"$f":"INPUT!ME247","v":""},{"$f":"INPUT!MF247","v":""},{"$f":"INPUT!MG247","v":""},{"$f":"INPUT!MH247","v":""},{"$f":"INPUT!MI247","v":""}]
[null,{"$f":"INPUT!EA248","v":""},{"$f":"INPUT!EB248","v":""},{"$f":"INPUT!EC248","v":""},{"$f":"INPUT!ED248","v":""},{"$f":"INPUT!EE248","v":""},{"$f":"INPUT!EF248","v":""},{"$f":"INPUT!EG248","v":""},"",null,{"$f":"INPUT!EY248","v":""},{"$f":"INPUT!EZ248","v":""},{"$f":"INPUT!FA248","v":""},{"$f":"INPUT!FB248","v":""},{"$f":"INPUT!FC248","v":""},{"$f":"INPUT!FD248","v":""},{"$f":"INPUT!FE248","v":""},"",null,{"$f":"INPUT!FW248","v":""},{"$f":"INPUT!FX248","v":""},{"$f":"INPUT!FY248","v":""},{"$f":"INPUT!FZ248","v":""},{"$f":"INPUT!GA248","v":""},{"$f":"INPUT!GB248","v":""},{"$f":"INPUT!GC248","v":""},null,{"$f":"INPUT!GY248","v":""},{"$f":"INPUT!GZ248","v":""},{"$f":"INPUT!HA248","v":""},{"$f":"INPUT!HB248","v":""},{"$f":"INPUT!HC248","v":""},{"$f":"INPUT!HD248","v":""},{"$f":"INPUT!HE248","v":""},{"$f":"INPUT!HF248","v":""},{"$f":"INPUT!HG248","v":""},null,{"$f":"INPUT!IA248","v":""},{"$f":"INPUT!IB248","v":""},{"$f":"INPUT!IC248","v":""},{"$f":"INPUT!ID248","v":""},{"$f":"INPUT!IE248","v":""},{"$f":"INPUT!IF248","v":""},{"$f":"INPUT!IG248","v":""},{"$f":"INPUT!IH248","v":""},null,{"$f":"INPUT!IZ248","v":""},{"$f":"INPUT!JA248","v":""},{"$f":"INPUT!JB248","v":""},{"$f":"INPUT!JC248","v":""},{"$f":"INPUT!JD248","v":""},{"$f":"INPUT!JE248","v":""},{"$f":"INPUT!JF248","v":""},"",null,{"$f":"INPUT!JX248","v":""},{"$f":"INPUT!JY248","v":""},{"$f":"INPUT!JZ248","v":""},{"$f":"INPUT!KA248","v":""},{"$f":"INPUT!KB248","v":""},{"$f":"INPUT!KC248","v":""},{"$f":"INPUT!KD248","v":""},"",null,{"$f":"INPUT!KZ248","v":""},{"$f":"INPUT!LA248","v":""},{"$f":"INPUT!LB248","v":""},{"$f":"INPUT!LC248","v":""},{"$f":"INPUT!LD248","v":""},{"$f":"INPUT!LE248","v":""},{"$f":"INPUT!LF248","v":""},{"$f":"INPUT!LG248","v":""},{"$f":"INPUT!LH248","v":""},null,{"$f":"INPUT!MB248","v":""},{"$f":"INPUT!MC248","v":""},{"$f":"INPUT!MD248","v":""},{"$f":"INPUT!ME248","v":""},{"$f":"INPUT!MF248","v":""},{"$f":"INPUT!MG248","v":""},{"$f":"INPUT!MH248","v":""},{"$f":"INPUT!MI248","v":""}]
[null,{"$f":"INPUT!EA249","v":""},{"$f":"INPUT!EB249","v":""},{"$f":"INPUT!EC249","v":""},{"$f":"INPUT!ED249","v":""},{"$f":"INPUT!EE249","v":""},{"$f":"INPUT!EF249","v":""},{"$f":"INPUT!EG249","v":""},"",null,{"$f":"INPUT!EY249","v":""},{"$f":"INPUT!EZ249","v":""},{"$f":"INPUT!FA249","v":""},{"$f":"INPUT!FB249","v":""},{"$f":"INPUT!FC249","v":""},{"$f":"INPUT!FD249","v":""},{"$f":"INPUT!FE249","v":""},"",null,{"$f":"INPUT!FW249","v":""},{"$f":"INPUT!FX249","v":""},{"$f":"INPUT!FY249","v":""},{"$f":"INPUT!FZ249","v":""},{"$f":"INPUT!GA249","v":""},{"$f":"INPUT!GB249","v":""},{"$f":"INPUT!GC249","v":""},null,{"$f":"INPUT!GY249","v":""},{"$f":"INPUT!GZ249","v":""},{"$f":"INPUT!HA249","v":""},{"$f":"INPUT!HB249","v":""},{"$f":"INPUT!HC249","v":""},{"$f":"INPUT!HD249","v":""},{"$f":"INPUT!HE249","v":""},{"$f":"INPUT!HF249","v":""},{"$f":"INPUT!HG249","v":""},null,{"$f":"INPUT!IA249","v":""},{"$f":"INPUT!IB249","v":""},{"$f":"INPUT!IC249","v":""},{"$f":"INPUT!ID249","v":""},{"$f":"INPUT!IE249","v":""},{"$f":"INPUT!IF249","v":""},{"$f":"INPUT!IG249","v":""},{"$f":"INPUT!IH249","v":""},null,{"$f":"INPUT!IZ249","v":""},{"$f":"INPUT!JA249","v":""},{"$f":"INPUT!JB249","v":""},{"$f":"INPUT!JC249","v":""},{"$f":"INPUT!JD249","v":""},{"$f":"INPUT!JE249","v":""},{"$f":"INPUT!JF249","v":""},"",null,{"$f":"INPUT!JX249","v":""},{"$f":"INPUT!JY249","v":""},{"$f":"INPUT!JZ249","v":""},{"$f":"INPUT!KA249","v":""},{"$f":"INPUT!KB249","v":""},{"$f":"INPUT!KC249","v":""},{"$f":"INPUT!KD249","v":""},"",null,{"$f":"INPUT!KZ249","v":""},{"$f":"INPUT!LA249","v":""},{"$f":"INPUT!LB249","v":""},{"$f":"INPUT!LC249","v":""},{"$f":"INPUT!LD249","v":""},{"$f":"INPUT!LE249","v":""},{"$f":"INPUT!LF249","v":""},{"$f":"INPUT!LG249","v":""},{"$f":"INPUT!LH249","v":""},null,{"$f":"INPUT!MB249","v":""},{"$f":"INPUT!MC249","v":""},{"$f":"INPUT!MD249","v":""},{"$f":"INPUT!ME249","v":""},{"$f":"INPUT!MF249","v":""},{"$f":"INPUT!MG249","v":""},{"$f":"INPUT!MH249","v":""},{"$f":"INPUT!MI249","v":""}]
[null,{"$f":"INPUT!EA250","v":""},{"$f":"INPUT!EB250","v":""},{"$f":"INPUT!EC250","v":""},{"$f":"INPUT!ED250","v":""},{"$f":"INPUT!EE250","v":""},{"$f":"INPUT!EF250","v":""},{"$f":"INPUT!EG250","v":""},"",null,{"$f":"INPUT!EY250","v":""},{"$f":"INPUT!EZ250","v":""},{"$f":"INPUT!FA250","v":""},{"$f":"INPUT!FB250","v":""},{"$f":"INPUT!FC250","v":""},{"$f":"INPUT!FD250","v":""},{"$f":"INPUT!FE250","v":""},"",null,{"$f":"INPUT!FW250","v":""},{"$f":"INPUT!FX250","v":""},{"$f":"INPUT!FY250","v":""},{"$f":"INPUT!FZ250","v":""},{"$f":"INPUT!GA250","v":""},{"$f":"INPUT!GB250","v":""},{"$f":"INPUT!GC250","v":""},null,{"$f":"INPUT!GY250","v":""},{"$f":"INPUT!GZ250","v":""},{"$f":"INPUT!HA250","v":""},{"$f":"INPUT!HB250","v":""},{"$f":"INPUT!HC250","v":""},{"$f":"INPUT!HD250","v":""},{"$f":"INPUT!HE250","v":""},{"$f":"INPUT!HF250","v":""},{"$f":"INPUT!HG250","v":""},null,{"$f":"INPUT!IA250","v":""},{"$f":"INPUT!IB250","v":""},{"$f":"INPUT!IC250","v":""},{"$f":"INPUT!ID250","v":""},{"$f":"INPUT!IE250","v":""},{"$f":"INPUT!IF250","v":""},{"$f":"INPUT!IG250","v":""},{"$f":"INPUT!IH250","v":""},null,{"$f":"INPUT!IZ250","v":""},{"$f":"INPUT!JA250","v":""},{"$f":"INPUT!JB250","v":""},{"$f":"INPUT!JC250","v":""},{"$f":"INPUT!JD250","v":""},{"$f":"INPUT!JE250","v":""},{"$f":"INPUT!JF250","v":""},"",null,{"$f":"INPUT!JX250","v":""},{"$f":"INPUT!JY250","v":""},{"$f":"INPUT!JZ250","v":""},{"$f":"INPUT!KA250","v":""},{"$f":"INPUT!KB250","v":""},{"$f":"INPUT!KC250","v":""},{"$f":"INPUT!KD250","v":""},"",null,{"$f":"INPUT!KZ250","v":""},{"$f":"INPUT!LA250","v":""},{"$f":"INPUT!LB250","v":""},{"$f":"INPUT!LC250","v":""},{"$f":"INPUT!LD250","v":""},{"$f":"INPUT!LE250","v":""},{"$f":"INPUT!LF250","v":""},{"$f":"INPUT!LG250","v":""},{"$f":"INPUT!LH250","v":""},null,{"$f":"INPUT!MB250","v":""},{"$f":"INPUT!MC250","v":""},{"$f":"INPUT!MD250","v":""},{"$f":"INPUT!ME250","v":""},{"$f":"INPUT!MF250","v":""},{"$f":"INPUT!MG250","v":""},{"$f":"INPUT!MH250","v":""},{"$f":"INPUT!MI250","v":""}]
[null,{"$f":"INPUT!EA251","v":""},{"$f":"INPUT!EB251","v":""},{"$f":"INPUT!EC251","v":""},{"$f":"INPUT!ED251","v":""},{"$f":"INPUT!EE251","v":""},{"$f":"INPUT!EF251","v":""},{"$f":"INPUT!EG251","v":""},"",null,{"$f":"INPUT!EY251","v":""},{"$f":"INPUT!EZ251","v":""},{"$f":"INPUT!FA251","v":""},{"$f":"INPUT!FB251","v":""},{"$f":"INPUT!FC251","v":""},{"$f":"INPUT!FD251","v":""},{"$f":"INPUT!FE251","v":""},"",null,{"$f":"INPUT!FW251","v":""},{"$f":"INPUT!FX251","v":""},{"$f":"INPUT!FY251","v":""},{"$f":"INPUT!FZ251","v":""},{"$f":"INPUT!GA251","v":""},{"$f":"INPUT!GB251","v":""},{"$f":"INPUT!GC251","v":""},null,{"$f":"INPUT!GY251","v":""},{"$f":"INPUT!GZ251","v":""},{"$f":"INPUT!HA251","v":""},{"$f":"INPUT!HB251","v":""},{"$f":"INPUT!HC251","v":""},{"$f":"INPUT!HD251","v":""},{"$f":"INPUT!HE251","v":""},{"$f":"INPUT!HF251","v":""},{"$f":"INPUT!HG251","v":""},null,{"$f":"INPUT!IA251","v":""},{"$f":"INPUT!IB251","v":""},{"$f":"INPUT!IC251","v":""},{"$f":"INPUT!ID251","v":""},{"$f":"INPUT!IE251","v":""},{"$f":"INPUT!IF251","v":""},{"$f":"INPUT!IG251","v":""},{"$f":"INPUT!IH251","v":""},null,{"$f":"INPUT!IZ251","v":""},{"$f":"INPUT!JA251","v":""},{"$f":"INPUT!JB251","v":""},{"$f":"INPUT!JC251","v":""},{"$f":"INPUT!JD251","v":""},{"$f":"INPUT!JE251","v":""},{"$f":"INPUT!JF251","v":""},"",null,{"$f":"INPUT!JX251","v":""},{"$f":"INPUT!JY251","v":""},{"$f":"INPUT!JZ251","v":""},{"$f":"INPUT!KA251","v":""},{"$f":"INPUT!KB251","v":""},{"$f":"INPUT!KC251","v":""},{"$f":"INPUT!KD251","v":""},"",null,{"$f":"INPUT!KZ251","v":""},{"$f":"INPUT!LA251","v":""},{"$f":"INPUT!LB251","v":""},{"$f":"INPUT!LC251","v":""},{"$f":"INPUT!LD251","v":""},{"$f":"INPUT!LE251","v":""},{"$f":"INPUT!LF251","v":""},{"$f":"INPUT!LG251","v":""},{"$f":"INPUT!LH251","v":""},null,{"$f":"INPUT!MB251","v":""},{"$f":"INPUT!MC251","v":""},{"$f":"INPUT!MD251","v":""},{"$f":"INPUT!ME251","v":""},{"$f":"INPUT!MF251","v":""},{"$f":"INPUT!MG251","v":""},{"$f":"INPUT!MH251","v":""},{"$f":"INPUT!MI251","v":""}]
[null,{"$f":"INPUT!EA252","v":""},{"$f":"INPUT!EB252","v":""},{"$f":"INPUT!EC252","v":""},{"$f":"INPUT!ED252","v":""},{"$f":"INPUT!EE252","v":""},{"$f":"INPUT!EF252","v":""},{"$f":"INPUT!EG252","v":""},"",null,{"$f":"INPUT!EY252","v":""},{"$f":"INPUT!EZ252","v":""},{"$f":"INPUT!FA252","v":""},{"$f":"INPUT!FB252","v":""},{"$f":"INPUT!FC252","v":""},{"$f":"INPUT!FD252","v":""},{"$f":"INPUT!FE252","v":""},"",null,{"$f":"INPUT!FW252","v":""},{"$f":"INPUT!FX252","v":""},{"$f":"INPUT!FY252","v":""},{"$f":"INPUT!FZ252","v":""},{"$f":"INPUT!GA252","v":""},{"$f":"INPUT!GB252","v":""},{"$f":"INPUT!GC252","v":""},null,{"$f":"INPUT!GY252","v":""},{"$f":"INPUT!GZ252","v":""},{"$f":"INPUT!HA252","v":""},{"$f":"INPUT!HB252","v":""},{"$f":"INPUT!HC252","v":""},{"$f":"INPUT!HD252","v":""},{"$f":"INPUT!HE252","v":""},{"$f":"INPUT!HF252","v":""},{"$f":"INPUT!HG252","v":""},null,{"$f":"INPUT!IA252","v":""},{"$f":"INPUT!IB252","v":""},{"$f":"INPUT!IC252","v":""},{"$f":"INPUT!ID252","v":""},{"$f":"INPUT!IE252","v":""},{"$f":"INPUT!IF252","v":""},{"$f":"INPUT!IG252","v":""},{"$f":"INPUT!IH252","v":""},null,{"$f":"INPUT!IZ252","v":""},{"$f":"INPUT!JA252","v":""},{"$f":"INPUT!JB252","v":""},{"$f":"INPUT!JC252","v":""},{"$f":"INPUT!JD252","v":""},{"$f":"INPUT!JE252","v":""},{"$f":"INPUT!JF252","v":""},"",null,{"$f":"INPUT!JX252","v":""},{"$f":"INPUT!JY252","v":""},{"$f":"INPUT!JZ252","v":""},{"$f":"INPUT!KA252","v":""},{"$f":"INPUT!KB252","v":""},{"$f":"INPUT!KC252","v":""},{"$f":"INPUT!KD252","v":""},"",null,{"$f":"INPUT!KZ252","v":""},{"$f":"INPUT!LA252","v":""},{"$f":"INPUT!LB252","v":""},{"$f":"INPUT!LC252","v":""},{"$f":"INPUT!LD252","v":""},{"$f":"INPUT!LE252","v":""},{"$f":"INPUT!LF252","v":""},{"$f":"INPUT!LG252","v":""},{"$f":"INPUT!LH252","v":""},null,{"$f":"INPUT!MB252","v":""},{"$f":"INPUT!MC252","v":""},{"$f":"INPUT!MD252","v":""},{"$f":"INPUT!ME252","v":""},{"$f":"INPUT!MF252","v":""},{"$f":"INPUT!MG252","v":""},{"$f":"INPUT!MH252","v":""},{"$f":"INPUT!MI252","v":""}]
[null,{"$f":"INPUT!EA253","v":""},{"$f":"INPUT!EB253","v":""},{"$f":"INPUT!EC253","v":""},{"$f":"INPUT!ED253","v":""},{"$f":"INPUT!EE253","v":""},{"$f":"INPUT!EF253","v":""},{"$f":"INPUT!EG253","v":""},"",null,{"$f":"INPUT!EY253","v":""},{"$f":"INPUT!EZ253","v":""},{"$f":"INPUT!FA253","v":""},{"$f":"INPUT!FB253","v":""},{"$f":"INPUT!FC253","v":""},{"$f":"INPUT!FD253","v":""},{"$f":"INPUT!FE253","v":""},"",null,{"$f":"INPUT!FW253","v":""},{"$f":"INPUT!FX253","v":""},{"$f":"INPUT!FY253","v":""},{"$f":"INPUT!FZ253","v":""},{"$f":"INPUT!GA253","v":""},{"$f":"INPUT!GB253","v":""},{"$f":"INPUT!GC253","v":""},null,{"$f":"INPUT!GY253","v":""},{"$f":"INPUT!GZ253","v":""},{"$f":"INPUT!HA253","v":""},{"$f":"INPUT!HB253","v":""},{"$f":"INPUT!HC253","v":""},{"$f":"INPUT!HD253","v":""},{"$f":"INPUT!HE253","v":""},{"$f":"INPUT!HF253","v":""},{"$f":"INPUT!HG253","v":""},null,{"$f":"INPUT!IA253","v":""},{"$f":"INPUT!IB253","v":""},{"$f":"INPUT!IC253","v":""},{"$f":"INPUT!ID253","v":""},{"$f":"INPUT!IE253","v":""},{"$f":"INPUT!IF253","v":""},{"$f":"INPUT!IG253","v":""},{"$f":"INPUT!IH253","v":""},null,{"$f":"INPUT!IZ253","v":""},{"$f":"INPUT!JA253","v":""},{"$f":"INPUT!JB253","v":""},{"$f":"INPUT!JC253","v":""},{"$f":"INPUT!JD253","v":""},{"$f":"INPUT!JE253","v":""},{"$f":"INPUT!JF253","v":""},"",null,{"$f":"INPUT!JX253","v":""},{"$f":"INPUT!JY253","v":""},{"$f":"INPUT!JZ253","v":""},{"$f":"INPUT!KA253","v":""},{"$f":"INPUT!KB253","v":""},{"$f":"INPUT!KC253","v":""},{"$f":"INPUT!KD253","v":""},"",null,{"$f":"INPUT!KZ253","v":""},{"$f":"INPUT!LA253","v":""},{"$f":"INPUT!LB253","v":""},{"$f":"INPUT!LC253","v":""},{"$f":"INPUT!LD253","v":""},{"$f":"INPUT!LE253","v":""},{"$f":"INPUT!LF253","v":""},{"$f":"INPUT!LG253","v":""},{"$f":"INPUT!LH253","v":""},null,{"$f":"INPUT!MB253","v":""},{"$f":"INPUT!MC253","v":""},{"$f":"INPUT!MD253","v":""},{"$f":"INPUT!ME253","v":""},{"$f":"INPUT!MF253","v":""},{"$f":"INPUT!MG253","v":""},{"$f":"INPUT!MH253","v":""},{"$f":"INPUT!MI253","v":""}]
[null,{"$f":"INPUT!EA254","v":""},{"$f":"INPUT!EB254","v":""},{"$f":"INPUT!EC254","v":""},{"$f":"INPUT!ED254","v":""},{"$f":"INPUT!EE254","v":""},{"$f":"INPUT!EF254","v":""},{"$f":"INPUT!EG254","v":""},"",null,{"$f":"INPUT!EY254","v":""},{"$f":"INPUT!EZ254","v":""},{"$f":"INPUT!FA254","v":""},{"$f":"INPUT!FB254","v":""},{"$f":"INPUT!FC254","v":""},{"$f":"INPUT!FD254","v":""},{"$f":"INPUT!FE254","v":""},"",null,{"$f":"INPUT!FW254","v":""},{"$f":"INPUT!FX254","v":""},{"$f":"INPUT!FY254","v":""},{"$f":"INPUT!FZ254","v":""},{"$f":"INPUT!GA254","v":""},{"$f":"INPUT!GB254","v":""},{"$f":"INPUT!GC254","v":""},null,{"$f":"INPUT!GY254","v":""},{"$f":"INPUT!GZ254","v":""},{"$f":"INPUT!HA254","v":""},{"$f":"INPUT!HB254","v":""},{"$f":"INPUT!HC254","v":""},{"$f":"INPUT!HD254","v":""},{"$f":"INPUT!HE254","v":""},{"$f":"INPUT!HF254","v":""},{"$f":"INPUT!HG254","v":""},null,{"$f":"INPUT!IA254","v":""},{"$f":"INPUT!IB254","v":""},{"$f":"INPUT!IC254","v":""},{"$f":"INPUT!ID254","v":""},{"$f":"INPUT!IE254","v":""},{"$f":"INPUT!IF254","v":""},{"$f":"INPUT!IG254","v":""},{"$f":"INPUT!IH254","v":""},null,{"$f":"INPUT!IZ254","v":""},{"$f":"INPUT!JA254","v":""},{"$f":"INPUT!JB254","v":""},{"$f":"INPUT!JC254","v":""},{"$f":"INPUT!JD254","v":""},{"$f":"INPUT!JE254","v":""},{"$f":"INPUT!JF254","v":""},"",null,{"$f":"INPUT!JX254","v":""},{"$f":"INPUT!JY254","v":""},{"$f":"INPUT!JZ254","v":""},{"$f":"INPUT!KA254","v":""},{"$f":"INPUT!KB254","v":""},{"$f":"INPUT!KC254","v":""},{"$f":"INPUT!KD254","v":""},"",null,{"$f":"INPUT!KZ254","v":""},{"$f":"INPUT!LA254","v":""},{"$f":"INPUT!LB254","v":""},{"$f":"INPUT!LC254","v":""},{"$f":"INPUT!LD254","v":""},{"$f":"INPUT!LE254","v":""},{"$f":"INPUT!LF254","v":""},{"$f":"INPUT!LG254","v":""},{"$f":"INPUT!LH254","v":""},null,{"$f":"INPUT!MB254","v":""},{"$f":"INPUT!MC254","v":""},{"$f":"INPUT!MD254","v":""},{"$f":"INPUT!ME254","v":""},{"$f":"INPUT!MF254","v":""},{"$f":"INPUT!MG254","v":""},{"$f":"INPUT!MH254","v":""},{"$f":"INPUT!MI254","v":""}]
[null,{"$f":"INPUT!EA255","v":""},{"$f":"INPUT!EB255","v":""},{"$f":"INPUT!EC255","v":""},{"$f":"INPUT!ED255","v":""},{"$f":"INPUT!EE255","v":""},{"$f":"INPUT!EF255","v":""},{"$f":"INPUT!EG255","v":""},"",null,{"$f":"INPUT!EY255","v":""},{"$f":"INPUT!EZ255","v":""},{"$f":"INPUT!FA255","v":""},{"$f":"INPUT!FB255","v":""},{"$f":"INPUT!FC255","v":""},{"$f":"INPUT!FD255","v":""},{"$f":"INPUT!FE255","v":""},"",null,{"$f":"INPUT!FW255","v":""},{"$f":"INPUT!FX255","v":""},{"$f":"INPUT!FY255","v":""},{"$f":"INPUT!FZ255","v":""},{"$f":"INPUT!GA255","v":""},{"$f":"INPUT!GB255","v":""},{"$f":"INPUT!GC255","v":""},null,{"$f":"INPUT!GY255","v":""},{"$f":"INPUT!GZ255","v":""},{"$f":"INPUT!HA255","v":""},{"$f":"INPUT!HB255","v":""},{"$f":"INPUT!HC255","v":""},{"$f":"INPUT!HD255","v":""},{"$f":"INPUT!HE255","v":""},{"$f":"INPUT!HF255","v":""},{"$f":"INPUT!HG255","v":""},null,{"$f":"INPUT!IA255","v":""},{"$f":"INPUT!IB255","v":""},{"$f":"INPUT!IC255","v":""},{"$f":"INPUT!ID255","v":""},{"$f":"INPUT!IE255","v":""},{"$f":"INPUT!IF255","v":""},{"$f":"INPUT!IG255","v":""},{"$f":"INPUT!IH255","v":""},null,{"$f":"INPUT!IZ255","v":""},{"$f":"INPUT!JA255","v":""},{"$f":"INPUT!JB255","v":""},{"$f":"INPUT!JC255","v":""},{"$f":"INPUT!JD255","v":""},{"$f":"INPUT!JE255","v":""},{"$f":"INPUT!JF255","v":""},"",null,{"$f":"INPUT!JX255","v":""},{"$f":"INPUT!JY255","v":""},{"$f":"INPUT!JZ255","v":""},{"$f":"INPUT!KA255","v":""},{"$f":"INPUT!KB255","v":""},{"$f":"INPUT!KC255","v":""},{"$f":"INPUT!KD255","v":""},"",null,{"$f":"INPUT!KZ255","v":""},{"$f":"INPUT!LA255","v":""},{"$f":"INPUT!LB255","v":""},{"$f":"INPUT!LC255","v":""},{"$f":"INPUT!LD255","v":""},{"$f":"INPUT!LE255","v":""},{"$f":"INPUT!LF255","v":""},{"$f":"INPUT!LG255","v":""},{"$f":"INPUT!LH255","v":""},null,{"$f":"INPUT!MB255","v":""},{"$f":"INPUT!MC255","v":""},{"$f":"INPUT!MD255","v":""},{"$f":"INPUT!ME255","v":""},{"$f":"INPUT!MF255","v":""},{"$f":"INPUT!MG255","v":""},{"$f":"INPUT!MH255","v":""},{"$f":"INPUT!MI255","v":""}]
[null,{"$f":"INPUT!EA256","v":""},{"$f":"INPUT!EB256","v":""},{"$f":"INPUT!EC256","v":""},{"$f":"INPUT!ED256","v":""},{"$f":"INPUT!EE256","v":""},{"$f":"INPUT!EF256","v":""},{"$f":"INPUT!EG256","v":""},"",null,{"$f":"INPUT!EY256","v":""},{"$f":"INPUT!EZ256","v":""},{"$f":"INPUT!FA256","v":""},{"$f":"INPUT!FB256","v":""},{"$f":"INPUT!FC256","v":""},{"$f":"INPUT!FD256","v":""},{"$f":"INPUT!FE256","v":""},"",null,{"$f":"INPUT!FW256","v":""},{"$f":"INPUT!FX256","v":""},{"$f":"INPUT!FY256","v":""},{"$f":"INPUT!FZ256","v":""},{"$f":"INPUT!GA256","v":""},{"$f":"INPUT!GB256","v":""},{"$f":"INPUT!GC256","v":""},null,{"$f":"INPUT!GY256","v":""},{"$f":"INPUT!GZ256","v":""},{"$f":"INPUT!HA256","v":""},{"$f":"INPUT!HB256","v":""},{"$f":"INPUT!HC256","v":""},{"$f":"INPUT!HD256","v":""},{"$f":"INPUT!HE256","v":""},{"$f":"INPUT!HF256","v":""},{"$f":"INPUT!HG256","v":""},null,{"$f":"INPUT!IA256","v":""},{"$f":"INPUT!IB256","v":""},{"$f":"INPUT!IC256","v":""},{"$f":"INPUT!ID256","v":""},{"$f":"INPUT!IE256","v":""},{"$f":"INPUT!IF256","v":""},{"$f":"INPUT!IG256","v":""},{"$f":"INPUT!IH256","v":""},null,{"$f":"INPUT!IZ256","v":""},{"$f":"INPUT!JA256","v":""},{"$f":"INPUT!JB256","v":""},{"$f":"INPUT!JC256","v":""},{"$f":"INPUT!JD256","v":""},{"$f":"INPUT!JE256","v":""},{"$f":"INPUT!JF256","v":""},"",null,{"$f":"INPUT!JX256","v":""},{"$f":"INPUT!JY256","v":""},{"$f":"INPUT!JZ256","v":""},{"$f":"INPUT!KA256","v":""},{"$f":"INPUT!KB256","v":""},{"$f":"INPUT!KC256","v":""},{"$f":"INPUT!KD256","v":""},"",null,{"$f":"INPUT!KZ256","v":""},{"$f":"INPUT!LA256","v":""},{"$f":"INPUT!LB256","v":""},{"$f":"INPUT!LC256","v":""},{"$f":"INPUT!LD256","v":""},{"$f":"INPUT!LE256","v":""},{"$f":"INPUT!LF256","v":""},{"$f":"INPUT!LG256","v":""},{"$f":"INPUT!LH256","v":""},null,{"$f":"INPUT!MB256","v":""},{"$f":"INPUT!MC256","v":""},{"$f":"INPUT!MD256","v":""},{"$f":"INPUT!ME256","v":""},{"$f":"INPUT!MF256","v":""},{"$f":"INPUT!MG256","v":""},{"$f":"INPUT!MH256","v":""},{"$f":"INPUT!MI256","v":""}]
[null,{"$f":"INPUT!EA257","v":""},{"$f":"INPUT!EB257","v":""},{"$f":"INPUT!EC257","v":""},{"$f":"INPUT!ED257","v":""},{"$f":"INPUT!EE257","v":""},{"$f":"INPUT!EF257","v":""},{"$f":"INPUT!EG257","v":""},"",null,{"$f":"INPUT!EY257","v":""},{"$f":"INPUT!EZ257","v":""},{"$f":"INPUT!FA257","v":""},{"$f":"INPUT!FB257","v":""},{"$f":"INPUT!FC257","v":""},{"$f":"INPUT!FD257","v":""},{"$f":"INPUT!FE257","v":""},"",null,{"$f":"INPUT!FW257","v":""},{"$f":"INPUT!FX257","v":""},{"$f":"INPUT!FY257","v":""},{"$f":"INPUT!FZ257","v":""},{"$f":"INPUT!GA257","v":""},{"$f":"INPUT!GB257","v":""},{"$f":"INPUT!GC257","v":""},null,{"$f":"INPUT!GY257","v":""},{"$f":"INPUT!GZ257","v":""},{"$f":"INPUT!HA257","v":""},{"$f":"INPUT!HB257","v":""},{"$f":"INPUT!HC257","v":""},{"$f":"INPUT!HD257","v":""},{"$f":"INPUT!HE257","v":""},{"$f":"INPUT!HF257","v":""},{"$f":"INPUT!HG257","v":""},null,{"$f":"INPUT!IA257","v":""},{"$f":"INPUT!IB257","v":""},{"$f":"INPUT!IC257","v":""},{"$f":"INPUT!ID257","v":""},{"$f":"INPUT!IE257","v":""},{"$f":"INPUT!IF257","v":""},{"$f":"INPUT!IG257","v":""},{"$f":"INPUT!IH257","v":""},null,{"$f":"INPUT!IZ257","v":""},{"$f":"INPUT!JA257","v":""},{"$f":"INPUT!JB257","v":""},{"$f":"INPUT!JC257","v":""},{"$f":"INPUT!JD257","v":""},{"$f":"INPUT!JE257","v":""},{"$f":"INPUT!JF257","v":""},"",null,{"$f":"INPUT!JX257","v":""},{"$f":"INPUT!JY257","v":""},{"$f":"INPUT!JZ257","v":""},{"$f":"INPUT!KA257","v":""},{"$f":"INPUT!KB257","v":""},{"$f":"INPUT!KC257","v":""},{"$f":"INPUT!KD257","v":""},"",null,{"$f":"INPUT!KZ257","v":""},{"$f":"INPUT!LA257","v":""},{"$f":"INPUT!LB257","v":""},{"$f":"INPUT!LC257","v":""},{"$f":"INPUT!LD257","v":""},{"$f":"INPUT!LE257","v":""},{"$f":"INPUT!LF257","v":""},{"$f":"INPUT!LG257","v":""},{"$f":"INPUT!LH257","v":""},null,{"$f":"INPUT!MB257","v":""},{"$f":"INPUT!MC257","v":""},{"$f":"INPUT!MD257","v":""},{"$f":"INPUT!ME257","v":""},{"$f":"INPUT!MF257","v":""},{"$f":"INPUT!MG257","v":""},{"$f":"INPUT!MH257","v":""},{"$f":"INPUT!MI257","v":""}]
[null,{"$f":"INPUT!EA258","v":""},{"$f":"INPUT!EB258","v":""},{"$f":"INPUT!EC258","v":""},{"$f":"INPUT!ED258","v":""},{"$f":"INPUT!EE258","v":""},{"$f":"INPUT!EF258","v":""},{"$f":"INPUT!EG258","v":""},"",null,{"$f":"INPUT!EY258","v":""},{"$f":"INPUT!EZ258","v":""},{"$f":"INPUT!FA258","v":""},{"$f":"INPUT!FB258","v":""},{"$f":"INPUT!FC258","v":""},{"$f":"INPUT!FD258","v":""},{"$f":"INPUT!FE258","v":""},"",null,{"$f":"INPUT!FW258","v":""},{"$f":"INPUT!FX258","v":""},{"$f":"INPUT!FY258","v":""},{"$f":"INPUT!FZ258","v":""},{"$f":"INPUT!GA258","v":""},{"$f":"INPUT!GB258","v":""},{"$f":"INPUT!GC258","v":""},null,{"$f":"INPUT!GY258","v":""},{"$f":"INPUT!GZ258","v":""},{"$f":"INPUT!HA258","v":""},{"$f":"INPUT!HB258","v":""},{"$f":"INPUT!HC258","v":""},{"$f":"INPUT!HD258","v":""},{"$f":"INPUT!HE258","v":""},{"$f":"INPUT!HF258","v":""},{"$f":"INPUT!HG258","v":""},null,{"$f":"INPUT!IA258","v":""},{"$f":"INPUT!IB258","v":""},{"$f":"INPUT!IC258","v":""},{"$f":"INPUT!ID258","v":""},{"$f":"INPUT!IE258","v":""},{"$f":"INPUT!IF258","v":""},{"$f":"INPUT!IG258","v":""},{"$f":"INPUT!IH258","v":""},null,{"$f":"INPUT!IZ258","v":""},{"$f":"INPUT!JA258","v":""},{"$f":"INPUT!JB258","v":""},{"$f":"INPUT!JC258","v":""},{"$f":"INPUT!JD258","v":""},{"$f":"INPUT!JE258","v":""},{"$f":"INPUT!JF258","v":""},"",null,{"$f":"INPUT!JX258","v":""},{"$f":"INPUT!JY258","v":""},{"$f":"INPUT!JZ258","v":""},{"$f":"INPUT!KA258","v":""},{"$f":"INPUT!KB258","v":""},{"$f":"INPUT!KC258","v":""},{"$f":"INPUT!KD258","v":""},"",null,{"$f":"INPUT!KZ258","v":""},{"$f":"INPUT!LA258","v":""},{"$f":"INPUT!LB258","v":""},{"$f":"INPUT!LC258","v":""},{"$f":"INPUT!LD258","v":""},{"$f":"INPUT!LE258","v":""},{"$f":"INPUT!LF258","v":""},{"$f":"INPUT!LG258","v":""},{"$f":"INPUT!LH258","v":""},null,{"$f":"INPUT!MB258","v":""},{"$f":"INPUT!MC258","v":""},{"$f":"INPUT!MD258","v":""},{"$f":"INPUT!ME258","v":""},{"$f":"INPUT!MF258","v":""},{"$f":"INPUT!MG258","v":""},{"$f":"INPUT!MH258","v":""},{"$f":"INPUT!MI258","v":""}]
[null,{"$f":"INPUT!EA259","v":""},{"$f":"INPUT!EB259","v":""},{"$f":"INPUT!EC259","v":""},{"$f":"INPUT!ED259","v":""},{"$f":"INPUT!EE259","v":""},{"$f":"INPUT!EF259","v":""},{"$f":"INPUT!EG259","v":""},"",null,{"$f":"INPUT!EY259","v":""},{"$f":"INPUT!EZ259","v":""},{"$f":"INPUT!FA259","v":""},{"$f":"INPUT!FB259","v":""},{"$f":"INPUT!FC259","v":""},{"$f":"INPUT!FD259","v":""},{"$f":"INPUT!FE259","v":""},"",null,{"$f":"INPUT!FW259","v":""},{"$f":"INPUT!FX259","v":""},{"$f":"INPUT!FY259","v":""},{"$f":"INPUT!FZ259","v":""},{"$f":"INPUT!GA259","v":""},{"$f":"INPUT!GB259","v":""},{"$f":"INPUT!GC259","v":""},null,{"$f":"INPUT!GY259","v":""},{"$f":"INPUT!GZ259","v":""},{"$f":"INPUT!HA259","v":""},{"$f":"INPUT!HB259","v":""},{"$f":"INPUT!HC259","v":""},{"$f":"INPUT!HD259","v":""},{"$f":"INPUT!HE259","v":""},{"$f":"INPUT!HF259","v":""},{"$f":"INPUT!HG259","v":""},null,{"$f":"INPUT!IA259","v":""},{"$f":"INPUT!IB259","v":""},{"$f":"INPUT!IC259","v":""},{"$f":"INPUT!ID259","v":""},{"$f":"INPUT!IE259","v":""},{"$f":"INPUT!IF259","v":""},{"$f":"INPUT!IG259","v":""},{"$f":"INPUT!IH259","v":""},null,{"$f":"INPUT!IZ259","v":""},{"$f":"INPUT!JA259","v":""},{"$f":"INPUT!JB259","v":""},{"$f":"INPUT!JC259","v":""},{"$f":"INPUT!JD259","v":""},{"$f":"INPUT!JE259","v":""},{"$f":"INPUT!JF259","v":""},"",null,{"$f":"INPUT!JX259","v":""},{"$f":"INPUT!JY259","v":""},{"$f":"INPUT!JZ259","v":""},{"$f":"INPUT!KA259","v":""},{"$f":"INPUT!KB259","v":""},{"$f":"INPUT!KC259","v":""},{"$f":"INPUT!KD259","v":""},"",null,{"$f":"INPUT!KZ259","v":""},{"$f":"INPUT!LA259","v":""},{"$f":"INPUT!LB259","v":""},{"$f":"INPUT!LC259","v":""},{"$f":"INPUT!LD259","v":""},{"$f":"INPUT!LE259","v":""},{"$f":"INPUT!LF259","v":""},{"$f":"INPUT!LG259","v":""},{"$f":"INPUT!LH259","v":""},null,{"$f":"INPUT!MB259","v":""},{"$f":"INPUT!MC259","v":""},{"$f":"INPUT!MD259","v":""},{"$f":"INPUT!ME259","v":""},{"$f":"INPUT!MF259","v":""},{"$f":"INPUT!MG259","v":""},{"$f":"INPUT!MH259","v":""},{"$f":"INPUT!MI259","v":""}]
[null,{"$f":"INPUT!EA260","v":""},{"$f":"INPUT!EB260","v":""},{"$f":"INPUT!EC260","v":""},{"$f":"INPUT!ED260","v":""},{"$f":"INPUT!EE260","v":""},{"$f":"INPUT!EF260","v":""},{"$f":"INPUT!EG260","v":""},"",null,{"$f":"INPUT!EY260","v":""},{"$f":"INPUT!EZ260","v":""},{"$f":"INPUT!FA260","v":""},{"$f":"INPUT!FB260","v":""},{"$f":"INPUT!FC260","v":""},{"$f":"INPUT!FD260","v":""},{"$f":"INPUT!FE260","v":""},"",null,{"$f":"INPUT!FW260","v":""},{"$f":"INPUT!FX260","v":""},{"$f":"INPUT!FY260","v":""},{"$f":"INPUT!FZ260","v":""},{"$f":"INPUT!GA260","v":""},{"$f":"INPUT!GB260","v":""},{"$f":"INPUT!GC260","v":""},null,{"$f":"INPUT!GY260","v":""},{"$f":"INPUT!GZ260","v":""},{"$f":"INPUT!HA260","v":""},{"$f":"INPUT!HB260","v":""},{"$f":"INPUT!HC260","v":""},{"$f":"INPUT!HD260","v":""},{"$f":"INPUT!HE260","v":""},{"$f":"INPUT!HF260","v":""},{"$f":"INPUT!HG260","v":""},null,{"$f":"INPUT!IA260","v":""},{"$f":"INPUT!IB260","v":""},{"$f":"INPUT!IC260","v":""},{"$f":"INPUT!ID260","v":""},{"$f":"INPUT!IE260","v":""},{"$f":"INPUT!IF260","v":""},{"$f":"INPUT!IG260","v":""},{"$f":"INPUT!IH260","v":""},null,{"$f":"INPUT!IZ260","v":""},{"$f":"INPUT!JA260","v":""},{"$f":"INPUT!JB260","v":""},{"$f":"INPUT!JC260","v":""},{"$f":"INPUT!JD260","v":""},{"$f":"INPUT!JE260","v":""},{"$f":"INPUT!JF260","v":""},"",null,{"$f":"INPUT!JX260","v":""},{"$f":"INPUT!JY260","v":""},{"$f":"INPUT!JZ260","v":""},{"$f":"INPUT!KA260","v":""},{"$f":"INPUT!KB260","v":""},{"$f":"INPUT!KC260","v":""},{"$f":"INPUT!KD260","v":""},"",null,{"$f":"INPUT!KZ260","v":""},{"$f":"INPUT!LA260","v":""},{"$f":"INPUT!LB260","v":""},{"$f":"INPUT!LC260","v":""},{"$f":"INPUT!LD260","v":""},{"$f":"INPUT!LE260","v":""},{"$f":"INPUT!LF260","v":""},{"$f":"INPUT!LG260","v":""},{"$f":"INPUT!LH260","v":""},null,{"$f":"INPUT!MB260","v":""},{"$f":"INPUT!MC260","v":""},{"$f":"INPUT!MD260","v":""},{"$f":"INPUT!ME260","v":""},{"$f":"INPUT!MF260","v":""},{"$f":"INPUT!MG260","v":""},{"$f":"INPUT!MH260","v":""},{"$f":"INPUT!MI260","v":""}]
[null,{"$f":"INPUT!EA261","v":""},{"$f":"INPUT!EB261","v":""},{"$f":"INPUT!EC261","v":""},{"$f":"INPUT!ED261","v":""},{"$f":"INPUT!EE261","v":""},{"$f":"INPUT!EF261","v":""},{"$f":"INPUT!EG261","v":""},"",null,{"$f":"INPUT!EY261","v":""},{"$f":"INPUT!EZ261","v":""},{"$f":"INPUT!FA261","v":""},{"$f":"INPUT!FB261","v":""},{"$f":"INPUT!FC261","v":""},{"$f":"INPUT!FD261","v":""},{"$f":"INPUT!FE261","v":""},"",null,{"$f":"INPUT!FW261","v":""},{"$f":"INPUT!FX261","v":""},{"$f":"INPUT!FY261","v":""},{"$f":"INPUT!FZ261","v":""},{"$f":"INPUT!GA261","v":""},{"$f":"INPUT!GB261","v":""},{"$f":"INPUT!GC261","v":""},null,{"$f":"INPUT!GY261","v":""},{"$f":"INPUT!GZ261","v":""},{"$f":"INPUT!HA261","v":""},{"$f":"INPUT!HB261","v":""},{"$f":"INPUT!HC261","v":""},{"$f":"INPUT!HD261","v":""},{"$f":"INPUT!HE261","v":""},{"$f":"INPUT!HF261","v":""},{"$f":"INPUT!HG261","v":""},null,{"$f":"INPUT!IA261","v":""},{"$f":"INPUT!IB261","v":""},{"$f":"INPUT!IC261","v":""},{"$f":"INPUT!ID261","v":""},{"$f":"INPUT!IE261","v":""},{"$f":"INPUT!IF261","v":""},{"$f":"INPUT!IG261","v":""},{"$f":"INPUT!IH261","v":""},null,{"$f":"INPUT!IZ261","v":""},{"$f":"INPUT!JA261","v":""},{"$f":"INPUT!JB261","v":""},{"$f":"INPUT!JC261","v":""},{"$f":"INPUT!JD261","v":""},{"$f":"INPUT!JE261","v":""},{"$f":"INPUT!JF261","v":""},"",null,{"$f":"INPUT!JX261","v":""},{"$f":"INPUT!JY261","v":""},{"$f":"INPUT!JZ261","v":""},{"$f":"INPUT!KA261","v":""},{"$f":"INPUT!KB261","v":""},{"$f":"INPUT!KC261","v":""},{"$f":"INPUT!KD261","v":""},"",null,{"$f":"INPUT!KZ261","v":""},{"$f":"INPUT!LA261","v":""},{"$f":"INPUT!LB261","v":""},{"$f":"INPUT!LC261","v":""},{"$f":"INPUT!LD261","v":""},{"$f":"INPUT!LE261","v":""},{"$f":"INPUT!LF261","v":""},{"$f":"INPUT!LG261","v":""},{"$f":"INPUT!LH261","v":""},null,{"$f":"INPUT!MB261","v":""},{"$f":"INPUT!MC261","v":""},{"$f":"INPUT!MD261","v":""},{"$f":"INPUT!ME261","v":""},{"$f":"INPUT!MF261","v":""},{"$f":"INPUT!MG261","v":""},{"$f":"INPUT!MH261","v":""},{"$f":"INPUT!MI261","v":""}]
[null,{"$f":"INPUT!EA262","v":""},{"$f":"INPUT!EB262","v":""},{"$f":"INPUT!EC262","v":""},{"$f":"INPUT!ED262","v":""},{"$f":"INPUT!EE262","v":""},{"$f":"INPUT!EF262","v":""},{"$f":"INPUT!EG262","v":""},"",null,{"$f":"INPUT!EY262","v":""},{"$f":"INPUT!EZ262","v":""},{"$f":"INPUT!FA262","v":""},{"$f":"INPUT!FB262","v":""},{"$f":"INPUT!FC262","v":""},{"$f":"INPUT!FD262","v":""},{"$f":"INPUT!FE262","v":""},"",null,{"$f":"INPUT!FW262","v":""},{"$f":"INPUT!FX262","v":""},{"$f":"INPUT!FY262","v":""},{"$f":"INPUT!FZ262","v":""},{"$f":"INPUT!GA262","v":""},{"$f":"INPUT!GB262","v":""},{"$f":"INPUT!GC262","v":""},null,{"$f":"INPUT!GY262","v":""},{"$f":"INPUT!GZ262","v":""},{"$f":"INPUT!HA262","v":""},{"$f":"INPUT!HB262","v":""},{"$f":"INPUT!HC262","v":""},{"$f":"INPUT!HD262","v":""},{"$f":"INPUT!HE262","v":""},{"$f":"INPUT!HF262","v":""},{"$f":"INPUT!HG262","v":""},null,{"$f":"INPUT!IA262","v":""},{"$f":"INPUT!IB262","v":""},{"$f":"INPUT!IC262","v":""},{"$f":"INPUT!ID262","v":""},{"$f":"INPUT!IE262","v":""},{"$f":"INPUT!IF262","v":""},{"$f":"INPUT!IG262","v":""},{"$f":"INPUT!IH262","v":""},null,{"$f":"INPUT!IZ262","v":""},{"$f":"INPUT!JA262","v":""},{"$f":"INPUT!JB262","v":""},{"$f":"INPUT!JC262","v":""},{"$f":"INPUT!JD262","v":""},{"$f":"INPUT!JE262","v":""},{"$f":"INPUT!JF262","v":""},"",null,{"$f":"INPUT!JX262","v":""},{"$f":"INPUT!JY262","v":""},{"$f":"INPUT!JZ262","v":""},{"$f":"INPUT!KA262","v":""},{"$f":"INPUT!KB262","v":""},{"$f":"INPUT!KC262","v":""},{"$f":"INPUT!KD262","v":""},"",null,{"$f":"INPUT!KZ262","v":""},{"$f":"INPUT!LA262","v":""},{"$f":"INPUT!LB262","v":""},{"$f":"INPUT!LC262","v":""},{"$f":"INPUT!LD262","v":""},{"$f":"INPUT!LE262","v":""},{"$f":"INPUT!LF262","v":""},{"$f":"INPUT!LG262","v":""},{"$f":"INPUT!LH262","v":""},null,{"$f":"INPUT!MB262","v":""},{"$f":"INPUT!MC262","v":""},{"$f":"INPUT!MD262","v":""},{"$f":"INPUT!ME262","v":""},{"$f":"INPUT!MF262","v":""},{"$f":"INPUT!MG262","v":""},{"$f":"INPUT!MH262","v":""},{"$f":"INPUT!MI262","v":""}]
[null,{"$f":"INPUT!EA263","v":""},{"$f":"INPUT!EB263","v":""},{"$f":"INPUT!EC263","v":""},{"$f":"INPUT!ED263","v":""},{"$f":"INPUT!EE263","v":""},{"$f":"INPUT!EF263","v":""},{"$f":"INPUT!EG263","v":""},"",null,{"$f":"INPUT!EY263","v":""},{"$f":"INPUT!EZ263","v":""},{"$f":"INPUT!FA263","v":""},{"$f":"INPUT!FB263","v":""},{"$f":"INPUT!FC263","v":""},{"$f":"INPUT!FD263","v":""},{"$f":"INPUT!FE263","v":""},"",null,{"$f":"INPUT!FW263","v":""},{"$f":"INPUT!FX263","v":""},{"$f":"INPUT!FY263","v":""},{"$f":"INPUT!FZ263","v":""},{"$f":"INPUT!GA263","v":""},{"$f":"INPUT!GB263","v":""},{"$f":"INPUT!GC263","v":""},null,{"$f":"INPUT!GY263","v":""},{"$f":"INPUT!GZ263","v":""},{"$f":"INPUT!HA263","v":""},{"$f":"INPUT!HB263","v":""},{"$f":"INPUT!HC263","v":""},{"$f":"INPUT!HD263","v":""},{"$f":"INPUT!HE263","v":""},{"$f":"INPUT!HF263","v":""},{"$f":"INPUT!HG263","v":""},null,{"$f":"INPUT!IA263","v":""},{"$f":"INPUT!IB263","v":""},{"$f":"INPUT!IC263","v":""},{"$f":"INPUT!ID263","v":""},{"$f":"INPUT!IE263","v":""},{"$f":"INPUT!IF263","v":""},{"$f":"INPUT!IG263","v":""},{"$f":"INPUT!IH263","v":""},null,{"$f":"INPUT!IZ263","v":""},{"$f":"INPUT!JA263","v":""},{"$f":"INPUT!JB263","v":""},{"$f":"INPUT!JC263","v":""},{"$f":"INPUT!JD263","v":""},{"$f":"INPUT!JE263","v":""},{"$f":"INPUT!JF263","v":""},"",null,{"$f":"INPUT!JX263","v":""},{"$f":"INPUT!JY263","v":""},{"$f":"INPUT!JZ263","v":""},{"$f":"INPUT!KA263","v":""},{"$f":"INPUT!KB263","v":""},{"$f":"INPUT!KC263","v":""},{"$f":"INPUT!KD263","v":""},"",null,{"$f":"INPUT!KZ263","v":""},{"$f":"INPUT!LA263","v":""},{"$f":"INPUT!LB263","v":""},{"$f":"INPUT!LC263","v":""},{"$f":"INPUT!LD263","v":""},{"$f":"INPUT!LE263","v":""},{"$f":"INPUT!LF263","v":""},{"$f":"INPUT!LG263","v":""},{"$f":"INPUT!LH263","v":""},null,{"$f":"INPUT!MB263","v":""},{"$f":"INPUT!MC263","v":""},{"$f":"INPUT!MD263","v":""},{"$f":"INPUT!ME263","v":""},{"$f":"INPUT!MF263","v":""},{"$f":"INPUT!MG263","v":""},{"$f":"INPUT!MH263","v":""},{"$f":"INPUT!MI263","v":""}]
[null,{"$f":"INPUT!EA264","v":""},{"$f":"INPUT!EB264","v":""},{"$f":"INPUT!EC264","v":""},{"$f":"INPUT!ED264","v":""},{"$f":"INPUT!EE264","v":""},{"$f":"INPUT!EF264","v":""},{"$f":"INPUT!EG264","v":""},"",null,{"$f":"INPUT!EY264","v":""},{"$f":"INPUT!EZ264","v":""},{"$f":"INPUT!FA264","v":""},{"$f":"INPUT!FB264","v":""},{"$f":"INPUT!FC264","v":""},{"$f":"INPUT!FD264","v":""},{"$f":"INPUT!FE264","v":""},"",null,{"$f":"INPUT!FW264","v":""},{"$f":"INPUT!FX264","v":""},{"$f":"INPUT!FY264","v":""},{"$f":"INPUT!FZ264","v":""},{"$f":"INPUT!GA264","v":""},{"$f":"INPUT!GB264","v":""},{"$f":"INPUT!GC264","v":""},null,{"$f":"INPUT!GY264","v":""},{"$f":"INPUT!GZ264","v":""},{"$f":"INPUT!HA264","v":""},{"$f":"INPUT!HB264","v":""},{"$f":"INPUT!HC264","v":""},{"$f":"INPUT!HD264","v":""},{"$f":"INPUT!HE264","v":""},{"$f":"INPUT!HF264","v":""},{"$f":"INPUT!HG264","v":""},null,{"$f":"INPUT!IA264","v":""},{"$f":"INPUT!IB264","v":""},{"$f":"INPUT!IC264","v":""},{"$f":"INPUT!ID264","v":""},{"$f":"INPUT!IE264","v":""},{"$f":"INPUT!IF264","v":""},{"$f":"INPUT!IG264","v":""},{"$f":"INPUT!IH264","v":""},null,{"$f":"INPUT!IZ264","v":""},{"$f":"INPUT!JA264","v":""},{"$f":"INPUT!JB264","v":""},{"$f":"INPUT!JC264","v":""},{"$f":"INPUT!JD264","v":""},{"$f":"INPUT!JE264","v":""},{"$f":"INPUT!JF264","v":""},"",null,{"$f":"INPUT!JX264","v":""},{"$f":"INPUT!JY264","v":""},{"$f":"INPUT!JZ264","v":""},{"$f":"INPUT!KA264","v":""},{"$f":"INPUT!KB264","v":""},{"$f":"INPUT!KC264","v":""},{"$f":"INPUT!KD264","v":""},"",null,{"$f":"INPUT!KZ264","v":""},{"$f":"INPUT!LA264","v":""},{"$f":"INPUT!LB264","v":""},{"$f":"INPUT!LC264","v":""},{"$f":"INPUT!LD264","v":""},{"$f":"INPUT!LE264","v":""},{"$f":"INPUT!LF264","v":""},{"$f":"INPUT!LG264","v":""},{"$f":"INPUT!LH264","v":""},null,{"$f":"INPUT!MB264","v":""},{"$f":"INPUT!MC264","v":""},{"$f":"INPUT!MD264","v":""},{"$f":"INPUT!ME264","v":""},{"$f":"INPUT!MF264","v":""},{"$f":"INPUT!MG264","v":""},{"$f":"INPUT!MH264","v":""},{"$f":"INPUT!MI264","v":""}]
[null,{"$f":"INPUT!EA265","v":""},{"$f":"INPUT!EB265","v":""},{"$f":"INPUT!EC265","v":""},{"$f":"INPUT!ED265","v":""},{"$f":"INPUT!EE265","v":""},{"$f":"INPUT!EF265","v":""},{"$f":"INPUT!EG265","v":""},"",null,{"$f":"INPUT!EY265","v":""},{"$f":"INPUT!EZ265","v":""},{"$f":"INPUT!FA265","v":""},{"$f":"INPUT!FB265","v":""},{"$f":"INPUT!FC265","v":""},{"$f":"INPUT!FD265","v":""},{"$f":"INPUT!FE265","v":""},"",null,{"$f":"INPUT!FW265","v":""},{"$f":"INPUT!FX265","v":""},{"$f":"INPUT!FY265","v":""},{"$f":"INPUT!FZ265","v":""},{"$f":"INPUT!GA265","v":""},{"$f":"INPUT!GB265","v":""},{"$f":"INPUT!GC265","v":""},null,{"$f":"INPUT!GY265","v":""},{"$f":"INPUT!GZ265","v":""},{"$f":"INPUT!HA265","v":""},{"$f":"INPUT!HB265","v":""},{"$f":"INPUT!HC265","v":""},{"$f":"INPUT!HD265","v":""},{"$f":"INPUT!HE265","v":""},{"$f":"INPUT!HF265","v":""},{"$f":"INPUT!HG265","v":""},null,{"$f":"INPUT!IA265","v":""},{"$f":"INPUT!IB265","v":""},{"$f":"INPUT!IC265","v":""},{"$f":"INPUT!ID265","v":""},{"$f":"INPUT!IE265","v":""},{"$f":"INPUT!IF265","v":""},{"$f":"INPUT!IG265","v":""},{"$f":"INPUT!IH265","v":""},null,{"$f":"INPUT!IZ265","v":""},{"$f":"INPUT!JA265","v":""},{"$f":"INPUT!JB265","v":""},{"$f":"INPUT!JC265","v":""},{"$f":"INPUT!JD265","v":""},{"$f":"INPUT!JE265","v":""},{"$f":"INPUT!JF265","v":""},"",null,{"$f":"INPUT!JX265","v":""},{"$f":"INPUT!JY265","v":""},{"$f":"INPUT!JZ265","v":""},{"$f":"INPUT!KA265","v":""},{"$f":"INPUT!KB265","v":""},{"$f":"INPUT!KC265","v":""},{"$f":"INPUT!KD265","v":""},"",null,{"$f":"INPUT!KZ265","v":""},{"$f":"INPUT!LA265","v":""},{"$f":"INPUT!LB265","v":""},{"$f":"INPUT!LC265","v":""},{"$f":"INPUT!LD265","v":""},{"$f":"INPUT!LE265","v":""},{"$f":"INPUT!LF265","v":""},{"$f":"INPUT!LG265","v":""},{"$f":"INPUT!LH265","v":""},null,{"$f":"INPUT!MB265","v":""},{"$f":"INPUT!MC265","v":""},{"$f":"INPUT!MD265","v":""},{"$f":"INPUT!ME265","v":""},{"$f":"INPUT!MF265","v":""},{"$f":"INPUT!MG265","v":""},{"$f":"INPUT!MH265","v":""},{"$f":"INPUT!MI265","v":""}]
[null,{"$f":"INPUT!EA266","v":""},{"$f":"INPUT!EB266","v":""},{"$f":"INPUT!EC266","v":""},{"$f":"INPUT!ED266","v":""},{"$f":"INPUT!EE266","v":""},{"$f":"INPUT!EF266","v":""},{"$f":"INPUT!EG266","v":""},"",null,{"$f":"INPUT!EY266","v":""},{"$f":"INPUT!EZ266","v":""},{"$f":"INPUT!FA266","v":""},{"$f":"INPUT!FB266","v":""},{"$f":"INPUT!FC266","v":""},{"$f":"INPUT!FD266","v":""},{"$f":"INPUT!FE266","v":""},"",null,{"$f":"INPUT!FW266","v":""},{"$f":"INPUT!FX266","v":""},{"$f":"INPUT!FY266","v":""},{"$f":"INPUT!FZ266","v":""},{"$f":"INPUT!GA266","v":""},{"$f":"INPUT!GB266","v":""},{"$f":"INPUT!GC266","v":""},null,{"$f":"INPUT!GY266","v":""},{"$f":"INPUT!GZ266","v":""},{"$f":"INPUT!HA266","v":""},{"$f":"INPUT!HB266","v":""},{"$f":"INPUT!HC266","v":""},{"$f":"INPUT!HD266","v":""},{"$f":"INPUT!HE266","v":""},{"$f":"INPUT!HF266","v":""},{"$f":"INPUT!HG266","v":""},null,{"$f":"INPUT!IA266","v":""},{"$f":"INPUT!IB266","v":""},{"$f":"INPUT!IC266","v":""},{"$f":"INPUT!ID266","v":""},{"$f":"INPUT!IE266","v":""},{"$f":"INPUT!IF266","v":""},{"$f":"INPUT!IG266","v":""},{"$f":"INPUT!IH266","v":""},null,{"$f":"INPUT!IZ266","v":""},{"$f":"INPUT!JA266","v":""},{"$f":"INPUT!JB266","v":""},{"$f":"INPUT!JC266","v":""},{"$f":"INPUT!JD266","v":""},{"$f":"INPUT!JE266","v":""},{"$f":"INPUT!JF266","v":""},"",null,{"$f":"INPUT!JX266","v":""},{"$f":"INPUT!JY266","v":""},{"$f":"INPUT!JZ266","v":""},{"$f":"INPUT!KA266","v":""},{"$f":"INPUT!KB266","v":""},{"$f":"INPUT!KC266","v":""},{"$f":"INPUT!KD266","v":""},"",null,{"$f":"INPUT!KZ266","v":""},{"$f":"INPUT!LA266","v":""},{"$f":"INPUT!LB266","v":""},{"$f":"INPUT!LC266","v":""},{"$f":"INPUT!LD266","v":""},{"$f":"INPUT!LE266","v":""},{"$f":"INPUT!LF266","v":""},{"$f":"INPUT!LG266","v":""},{"$f":"INPUT!LH266","v":""},null,{"$f":"INPUT!MB266","v":""},{"$f":"INPUT!MC266","v":""},{"$f":"INPUT!MD266","v":""},{"$f":"INPUT!ME266","v":""},{"$f":"INPUT!MF266","v":""},{"$f":"INPUT!MG266","v":""},{"$f":"INPUT!MH266","v":""},{"$f":"INPUT!MI266","v":""}]
[null,{"$f":"INPUT!EA267","v":""},{"$f":"INPUT!EB267","v":""},{"$f":"INPUT!EC267","v":""},{"$f":"INPUT!ED267","v":""},{"$f":"INPUT!EE267","v":""},{"$f":"INPUT!EF267","v":""},{"$f":"INPUT!EG267","v":""},{"$f":"IF(ISNUMBER($H267),1/$H267,\"\")","v":""},null,{"$f":"INPUT!EY267","v":""},{"$f":"INPUT!EZ267","v":""},{"$f":"INPUT!FA267","v":""},{"$f":"INPUT!FB267","v":""},{"$f":"INPUT!FC267","v":""},{"$f":"INPUT!FD267","v":""},{"$f":"INPUT!FE267","v":""},{"$f":"IF(ISNUMBER($Q267),1/$Q267,\"\")","v":""},null,{"$f":"INPUT!FW267","v":""},{"$f":"INPUT!FX267","v":""},{"$f":"INPUT!FY267","v":""},{"$f":"INPUT!FZ267","v":""},{"$f":"INPUT!GA267","v":""},{"$f":"INPUT!GB267","v":""},{"$f":"INPUT!GC267","v":""},null,{"$f":"INPUT!GY267","v":""},{"$f":"INPUT!GZ267","v":""},{"$f":"INPUT!HA267","v":""},{"$f":"INPUT!HB267","v":""},{"$f":"INPUT!HC267","v":""},{"$f":"INPUT!HD267","v":""},{"$f":"INPUT!HE267","v":""},{"$f":"INPUT!HF267","v":""},{"$f":"INPUT!HG267","v":""},null,{"$f":"INPUT!IA267","v":""},{"$f":"INPUT!IB267","v":""},{"$f":"INPUT!IC267","v":""},{"$f":"INPUT!ID267","v":""},{"$f":"INPUT!IE267","v":""},{"$f":"INPUT!IF267","v":""},{"$f":"INPUT!IG267","v":""},{"$f":"INPUT!IH267","v":""},null,{"$f":"INPUT!IZ267","v":""},{"$f":"INPUT!JA267","v":""},{"$f":"INPUT!JB267","v":""},{"$f":"INPUT!JC267","v":""},{"$f":"INPUT!JD267","v":""},{"$f":"INPUT!JE267","v":""},{"$f":"INPUT!JF267","v":""},{"$f":"IF(ISNUMBER($BA267),1/$BA267,\"\")","v":""},null,{"$f":"INPUT!JX267","v":""},{"$f":"INPUT!JY267","v":""},{"$f":"INPUT!JZ267","v":""},{"$f":"INPUT!KA267","v":""},{"$f":"INPUT!KB267","v":""},{"$f":"INPUT!KC267","v":""},{"$f":"INPUT!KD267","v":""},{"$f":"IF(ISNUMBER($BJ267),1/$BJ267,\"\")","v":""},null,{"$f":"INPUT!KZ267","v":""},{"$f":"INPUT!LA267","v":""},{"$f":"INPUT!LB267","v":""},{"$f":"INPUT!LC267","v":""},{"$f":"INPUT!LD267","v":""},{"$f":"INPUT!LE267","v":""},{"$f":"INPUT!LF267","v":""},{"$f":"INPUT!LG267","v":""},{"$f":"INPUT!LH267","v":""},null,{"$f":"INPUT!MB267","v":""},{"$f":"INPUT!MC267","v":""},{"$f":"INPUT!MD267","v":""},{"$f":"INPUT!ME267","v":""},{"$f":"INPUT!MF267","v":""},{"$f":"INPUT!MG267","v":""},{"$f":"INPUT!MH267","v":""},{"$f":"INPUT!MI267","v":""}]
[null,{"$f":"INPUT!EA268","v":""},{"$f":"INPUT!EB268","v":""},{"$f":"INPUT!EC268","v":""},{"$f":"INPUT!ED268","v":""},{"$f":"INPUT!EE268","v":""},{"$f":"INPUT!EF268","v":""},{"$f":"INPUT!EG268","v":""},"",null,{"$f":"INPUT!EY268","v":""},{"$f":"INPUT!EZ268","v":""},{"$f":"INPUT!FA268","v":""},{"$f":"INPUT!FB268","v":""},{"$f":"INPUT!FC268","v":""},{"$f":"INPUT!FD268","v":""},{"$f":"INPUT!FE268","v":""},"",null,{"$f":"INPUT!FW268","v":""},{"$f":"INPUT!FX268","v":""},{"$f":"INPUT!FY268","v":""},{"$f":"INPUT!FZ268","v":""},{"$f":"INPUT!GA268","v":""},{"$f":"INPUT!GB268","v":""},{"$f":"INPUT!GC268","v":""},null,{"$f":"INPUT!GY268","v":""},{"$f":"INPUT!GZ268","v":""},{"$f":"INPUT!HA268","v":""},{"$f":"INPUT!HB268","v":""},{"$f":"INPUT!HC268","v":""},{"$f":"INPUT!HD268","v":""},{"$f":"INPUT!HE268","v":""},{"$f":"INPUT!HF268","v":""},{"$f":"INPUT!HG268","v":""},null,{"$f":"INPUT!IA268","v":""},{"$f":"INPUT!IB268","v":""},{"$f":"INPUT!IC268","v":""},{"$f":"INPUT!ID268","v":""},{"$f":"INPUT!IE268","v":""},{"$f":"INPUT!IF268","v":""},{"$f":"INPUT!IG268","v":""},{"$f":"INPUT!IH268","v":""},null,{"$f":"INPUT!IZ268","v":""},{"$f":"INPUT!JA268","v":""},{"$f":"INPUT!JB268","v":""},{"$f":"INPUT!JC268","v":""},{"$f":"INPUT!JD268","v":""},{"$f":"INPUT!JE268","v":""},{"$f":"INPUT!JF268","v":""},"",null,{"$f":"INPUT!JX268","v":""},{"$f":"INPUT!JY268","v":""},{"$f":"INPUT!JZ268","v":""},{"$f":"INPUT!KA268","v":""},{"$f":"INPUT!KB268","v":""},{"$f":"INPUT!KC268","v":""},{"$f":"INPUT!KD268","v":""},"",null,{"$f":"INPUT!KZ268","v":""},{"$f":"INPUT!LA268","v":""},{"$f":"INPUT!LB268","v":""},{"$f":"INPUT!LC268","v":""},{"$f":"INPUT!LD268","v":""},{"$f":"INPUT!LE268","v":""},{"$f":"INPUT!LF268","v":""},{"$f":"INPUT!LG268","v":""},{"$f":"INPUT!LH268","v":""},null,{"$f":"INPUT!MB268","v":""},{"$f":"INPUT!MC268","v":""},{"$f":"INPUT!MD268","v":""},{"$f":"INPUT!ME268","v":""},{"$f":"INPUT!MF268","v":""},{"$f":"INPUT!MG268","v":""},{"$f":"INPUT!MH268","v":""},{"$f":"INPUT!MI268","v":""}]
[null,{"$f":"INPUT!EA269","v":""},{"$f":"INPUT!EB269","v":""},{"$f":"INPUT!EC269","v":""},{"$f":"INPUT!ED269","v":""},{"$f":"INPUT!EE269","v":""},{"$f":"INPUT!EF269","v":""},{"$f":"INPUT!EG269","v":""},"",null,{"$f":"INPUT!EY269","v":""},{"$f":"INPUT!EZ269","v":""},{"$f":"INPUT!FA269","v":""},{"$f":"INPUT!FB269","v":""},{"$f":"INPUT!FC269","v":""},{"$f":"INPUT!FD269","v":""},{"$f":"INPUT!FE269","v":""},"",null,{"$f":"INPUT!FW269","v":""},{"$f":"INPUT!FX269","v":""},{"$f":"INPUT!FY269","v":""},{"$f":"INPUT!FZ269","v":""},{"$f":"INPUT!GA269","v":""},{"$f":"INPUT!GB269","v":""},{"$f":"INPUT!GC269","v":""},null,{"$f":"INPUT!GY269","v":""},{"$f":"INPUT!GZ269","v":""},{"$f":"INPUT!HA269","v":""},{"$f":"INPUT!HB269","v":""},{"$f":"INPUT!HC269","v":""},{"$f":"INPUT!HD269","v":""},{"$f":"INPUT!HE269","v":""},{"$f":"INPUT!HF269","v":""},{"$f":"INPUT!HG269","v":""},null,{"$f":"INPUT!IA269","v":""},{"$f":"INPUT!IB269","v":""},{"$f":"INPUT!IC269","v":""},{"$f":"INPUT!ID269","v":""},{"$f":"INPUT!IE269","v":""},{"$f":"INPUT!IF269","v":""},{"$f":"INPUT!IG269","v":""},{"$f":"INPUT!IH269","v":""},null,{"$f":"INPUT!IZ269","v":""},{"$f":"INPUT!JA269","v":""},{"$f":"INPUT!JB269","v":""},{"$f":"INPUT!JC269","v":""},{"$f":"INPUT!JD269","v":""},{"$f":"INPUT!JE269","v":""},{"$f":"INPUT!JF269","v":""},"",null,{"$f":"INPUT!JX269","v":""},{"$f":"INPUT!JY269","v":""},{"$f":"INPUT!JZ269","v":""},{"$f":"INPUT!KA269","v":""},{"$f":"INPUT!KB269","v":""},{"$f":"INPUT!KC269","v":""},{"$f":"INPUT!KD269","v":""},"",null,{"$f":"INPUT!KZ269","v":""},{"$f":"INPUT!LA269","v":""},{"$f":"INPUT!LB269","v":""},{"$f":"INPUT!LC269","v":""},{"$f":"INPUT!LD269","v":""},{"$f":"INPUT!LE269","v":""},{"$f":"INPUT!LF269","v":""},{"$f":"INPUT!LG269","v":""},{"$f":"INPUT!LH269","v":""},null,{"$f":"INPUT!MB269","v":""},{"$f":"INPUT!MC269","v":""},{"$f":"INPUT!MD269","v":""},{"$f":"INPUT!ME269","v":""},{"$f":"INPUT!MF269","v":""},{"$f":"INPUT!MG269","v":""},{"$f":"INPUT!MH269","v":""},{"$f":"INPUT!MI269","v":""}]
[null,{"$f":"INPUT!EA270","v":""},{"$f":"INPUT!EB270","v":""},{"$f":"INPUT!EC270","v":""},{"$f":"INPUT!ED270","v":""},{"$f":"INPUT!EE270","v":""},{"$f":"INPUT!EF270","v":""},{"$f":"INPUT!EG270","v":""},"",null,{"$f":"INPUT!EY270","v":""},{"$f":"INPUT!EZ270","v":""},{"$f":"INPUT!FA270","v":""},{"$f":"INPUT!FB270","v":""},{"$f":"INPUT!FC270","v":""},{"$f":"INPUT!FD270","v":""},{"$f":"INPUT!FE270","v":""},"",null,{"$f":"INPUT!FW270","v":""},{"$f":"INPUT!FX270","v":""},{"$f":"INPUT!FY270","v":""},{"$f":"INPUT!FZ270","v":""},{"$f":"INPUT!GA270","v":""},{"$f":"INPUT!GB270","v":""},{"$f":"INPUT!GC270","v":""},null,{"$f":"INPUT!GY270","v":""},{"$f":"INPUT!GZ270","v":""},{"$f":"INPUT!HA270","v":""},{"$f":"INPUT!HB270","v":""},{"$f":"INPUT!HC270","v":""},{"$f":"INPUT!HD270","v":""},{"$f":"INPUT!HE270","v":""},{"$f":"INPUT!HF270","v":""},{"$f":"INPUT!HG270","v":""},null,{"$f":"INPUT!IA270","v":""},{"$f":"INPUT!IB270","v":""},{"$f":"INPUT!IC270","v":""},{"$f":"INPUT!ID270","v":""},{"$f":"INPUT!IE270","v":""},{"$f":"INPUT!IF270","v":""},{"$f":"INPUT!IG270","v":""},{"$f":"INPUT!IH270","v":""},null,{"$f":"INPUT!IZ270","v":""},{"$f":"INPUT!JA270","v":""},{"$f":"INPUT!JB270","v":""},{"$f":"INPUT!JC270","v":""},{"$f":"INPUT!JD270","v":""},{"$f":"INPUT!JE270","v":""},{"$f":"INPUT!JF270","v":""},"",null,{"$f":"INPUT!JX270","v":""},{"$f":"INPUT!JY270","v":""},{"$f":"INPUT!JZ270","v":""},{"$f":"INPUT!KA270","v":""},{"$f":"INPUT!KB270","v":""},{"$f":"INPUT!KC270","v":""},{"$f":"INPUT!KD270","v":""},"",null,{"$f":"INPUT!KZ270","v":""},{"$f":"INPUT!LA270","v":""},{"$f":"INPUT!LB270","v":""},{"$f":"INPUT!LC270","v":""},{"$f":"INPUT!LD270","v":""},{"$f":"INPUT!LE270","v":""},{"$f":"INPUT!LF270","v":""},{"$f":"INPUT!LG270","v":""},{"$f":"INPUT!LH270","v":""},null,{"$f":"INPUT!MB270","v":""},{"$f":"INPUT!MC270","v":""},{"$f":"INPUT!MD270","v":""},{"$f":"INPUT!ME270","v":""},{"$f":"INPUT!MF270","v":""},{"$f":"INPUT!MG270","v":""},{"$f":"INPUT!MH270","v":""},{"$f":"INPUT!MI270","v":""}]
[null,{"$f":"INPUT!EA271","v":""},{"$f":"INPUT!EB271","v":""},{"$f":"INPUT!EC271","v":""},{"$f":"INPUT!ED271","v":""},{"$f":"INPUT!EE271","v":""},{"$f":"INPUT!EF271","v":""},{"$f":"INPUT!EG271","v":""},"",null,{"$f":"INPUT!EY271","v":""},{"$f":"INPUT!EZ271","v":""},{"$f":"INPUT!FA271","v":""},{"$f":"INPUT!FB271","v":""},{"$f":"INPUT!FC271","v":""},{"$f":"INPUT!FD271","v":""},{"$f":"INPUT!FE271","v":""},"",null,{"$f":"INPUT!FW271","v":""},{"$f":"INPUT!FX271","v":""},{"$f":"INPUT!FY271","v":""},{"$f":"INPUT!FZ271","v":""},{"$f":"INPUT!GA271","v":""},{"$f":"INPUT!GB271","v":""},{"$f":"INPUT!GC271","v":""},null,{"$f":"INPUT!GY271","v":""},{"$f":"INPUT!GZ271","v":""},{"$f":"INPUT!HA271","v":""},{"$f":"INPUT!HB271","v":""},{"$f":"INPUT!HC271","v":""},{"$f":"INPUT!HD271","v":""},{"$f":"INPUT!HE271","v":""},{"$f":"INPUT!HF271","v":""},{"$f":"INPUT!HG271","v":""},null,{"$f":"INPUT!IA271","v":""},{"$f":"INPUT!IB271","v":""},{"$f":"INPUT!IC271","v":""},{"$f":"INPUT!ID271","v":""},{"$f":"INPUT!IE271","v":""},{"$f":"INPUT!IF271","v":""},{"$f":"INPUT!IG271","v":""},{"$f":"INPUT!IH271","v":""},null,{"$f":"INPUT!IZ271","v":""},{"$f":"INPUT!JA271","v":""},{"$f":"INPUT!JB271","v":""},{"$f":"INPUT!JC271","v":""},{"$f":"INPUT!JD271","v":""},{"$f":"INPUT!JE271","v":""},{"$f":"INPUT!JF271","v":""},"",null,{"$f":"INPUT!JX271","v":""},{"$f":"INPUT!JY271","v":""},{"$f":"INPUT!JZ271","v":""},{"$f":"INPUT!KA271","v":""},{"$f":"INPUT!KB271","v":""},{"$f":"INPUT!KC271","v":""},{"$f":"INPUT!KD271","v":""},"",null,{"$f":"INPUT!KZ271","v":""},{"$f":"INPUT!LA271","v":""},{"$f":"INPUT!LB271","v":""},{"$f":"INPUT!LC271","v":""},{"$f":"INPUT!LD271","v":""},{"$f":"INPUT!LE271","v":""},{"$f":"INPUT!LF271","v":""},{"$f":"INPUT!LG271","v":""},{"$f":"INPUT!LH271","v":""},null,{"$f":"INPUT!MB271","v":""},{"$f":"INPUT!MC271","v":""},{"$f":"INPUT!MD271","v":""},{"$f":"INPUT!ME271","v":""},{"$f":"INPUT!MF271","v":""},{"$f":"INPUT!MG271","v":""},{"$f":"INPUT!MH271","v":""},{"$f":"INPUT!MI271","v":""}]
[null,{"$f":"INPUT!EA272","v":""},{"$f":"INPUT!EB272","v":""},{"$f":"INPUT!EC272","v":""},{"$f":"INPUT!ED272","v":""},{"$f":"INPUT!EE272","v":""},{"$f":"INPUT!EF272","v":""},{"$f":"INPUT!EG272","v":""},"",null,{"$f":"INPUT!EY272","v":""},{"$f":"INPUT!EZ272","v":""},{"$f":"INPUT!FA272","v":""},{"$f":"INPUT!FB272","v":""},{"$f":"INPUT!FC272","v":""},{"$f":"INPUT!FD272","v":""},{"$f":"INPUT!FE272","v":""},"",null,{"$f":"INPUT!FW272","v":""},{"$f":"INPUT!FX272","v":""},{"$f":"INPUT!FY272","v":""},{"$f":"INPUT!FZ272","v":""},{"$f":"INPUT!GA272","v":""},{"$f":"INPUT!GB272","v":""},{"$f":"INPUT!GC272","v":""},null,{"$f":"INPUT!GY272","v":""},{"$f":"INPUT!GZ272","v":""},{"$f":"INPUT!HA272","v":""},{"$f":"INPUT!HB272","v":""},{"$f":"INPUT!HC272","v":""},{"$f":"INPUT!HD272","v":""},{"$f":"INPUT!HE272","v":""},{"$f":"INPUT!HF272","v":""},{"$f":"INPUT!HG272","v":""},null,{"$f":"INPUT!IA272","v":""},{"$f":"INPUT!IB272","v":""},{"$f":"INPUT!IC272","v":""},{"$f":"INPUT!ID272","v":""},{"$f":"INPUT!IE272","v":""},{"$f":"INPUT!IF272","v":""},{"$f":"INPUT!IG272","v":""},{"$f":"INPUT!IH272","v":""},null,{"$f":"INPUT!IZ272","v":""},{"$f":"INPUT!JA272","v":""},{"$f":"INPUT!JB272","v":""},{"$f":"INPUT!JC272","v":""},{"$f":"INPUT!JD272","v":""},{"$f":"INPUT!JE272","v":""},{"$f":"INPUT!JF272","v":""},"",null,{"$f":"INPUT!JX272","v":""},{"$f":"INPUT!JY272","v":""},{"$f":"INPUT!JZ272","v":""},{"$f":"INPUT!KA272","v":""},{"$f":"INPUT!KB272","v":""},{"$f":"INPUT!KC272","v":""},{"$f":"INPUT!KD272","v":""},"",null,{"$f":"INPUT!KZ272","v":""},{"$f":"INPUT!LA272","v":""},{"$f":"INPUT!LB272","v":""},{"$f":"INPUT!LC272","v":""},{"$f":"INPUT!LD272","v":""},{"$f":"INPUT!LE272","v":""},{"$f":"INPUT!LF272","v":""},{"$f":"INPUT!LG272","v":""},{"$f":"INPUT!LH272","v":""},null,{"$f":"INPUT!MB272","v":""},{"$f":"INPUT!MC272","v":""},{"$f":"INPUT!MD272","v":""},{"$f":"INPUT!ME272","v":""},{"$f":"INPUT!MF272","v":""},{"$f":"INPUT!MG272","v":""},{"$f":"INPUT!MH272","v":""},{"$f":"INPUT!MI272","v":""}]
[null,{"$f":"INPUT!EA273","v":""},{"$f":"INPUT!EB273","v":""},{"$f":"INPUT!EC273","v":""},{"$f":"INPUT!ED273","v":""},{"$f":"INPUT!EE273","v":""},{"$f":"INPUT!EF273","v":""},{"$f":"INPUT!EG273","v":""},"",null,{"$f":"INPUT!EY273","v":""},{"$f":"INPUT!EZ273","v":""},{"$f":"INPUT!FA273","v":""},{"$f":"INPUT!FB273","v":""},{"$f":"INPUT!FC273","v":""},{"$f":"INPUT!FD273","v":""},{"$f":"INPUT!FE273","v":""},"",null,{"$f":"INPUT!FW273","v":""},{"$f":"INPUT!FX273","v":""},{"$f":"INPUT!FY273","v":""},{"$f":"INPUT!FZ273","v":""},{"$f":"INPUT!GA273","v":""},{"$f":"INPUT!GB273","v":""},{"$f":"INPUT!GC273","v":""},null,{"$f":"INPUT!GY273","v":""},{"$f":"INPUT!GZ273","v":""},{"$f":"INPUT!HA273","v":""},{"$f":"INPUT!HB273","v":""},{"$f":"INPUT!HC273","v":""},{"$f":"INPUT!HD273","v":""},{"$f":"INPUT!HE273","v":""},{"$f":"INPUT!HF273","v":""},{"$f":"INPUT!HG273","v":""},null,{"$f":"INPUT!IA273","v":""},{"$f":"INPUT!IB273","v":""},{"$f":"INPUT!IC273","v":""},{"$f":"INPUT!ID273","v":""},{"$f":"INPUT!IE273","v":""},{"$f":"INPUT!IF273","v":""},{"$f":"INPUT!IG273","v":""},{"$f":"INPUT!IH273","v":""},null,{"$f":"INPUT!IZ273","v":""},{"$f":"INPUT!JA273","v":""},{"$f":"INPUT!JB273","v":""},{"$f":"INPUT!JC273","v":""},{"$f":"INPUT!JD273","v":""},{"$f":"INPUT!JE273","v":""},{"$f":"INPUT!JF273","v":""},"",null,{"$f":"INPUT!JX273","v":""},{"$f":"INPUT!JY273","v":""},{"$f":"INPUT!JZ273","v":""},{"$f":"INPUT!KA273","v":""},{"$f":"INPUT!KB273","v":""},{"$f":"INPUT!KC273","v":""},{"$f":"INPUT!KD273","v":""},"",null,{"$f":"INPUT!KZ273","v":""},{"$f":"INPUT!LA273","v":""},{"$f":"INPUT!LB273","v":""},{"$f":"INPUT!LC273","v":""},{"$f":"INPUT!LD273","v":""},{"$f":"INPUT!LE273","v":""},{"$f":"INPUT!LF273","v":""},{"$f":"INPUT!LG273","v":""},{"$f":"INPUT!LH273","v":""},null,{"$f":"INPUT!MB273","v":""},{"$f":"INPUT!MC273","v":""},{"$f":"INPUT!MD273","v":""},{"$f":"INPUT!ME273","v":""},{"$f":"INPUT!MF273","v":""},{"$f":"INPUT!MG273","v":""},{"$f":"INPUT!MH273","v":""},{"$f":"INPUT!MI273","v":""}]
[null,{"$f":"INPUT!EA274","v":""},{"$f":"INPUT!EB274","v":""},{"$f":"INPUT!EC274","v":""},{"$f":"INPUT!ED274","v":""},{"$f":"INPUT!EE274","v":""},{"$f":"INPUT!EF274","v":""},{"$f":"INPUT!EG274","v":""},"",null,{"$f":"INPUT!EY274","v":""},{"$f":"INPUT!EZ274","v":""},{"$f":"INPUT!FA274","v":""},{"$f":"INPUT!FB274","v":""},{"$f":"INPUT!FC274","v":""},{"$f":"INPUT!FD274","v":""},{"$f":"INPUT!FE274","v":""},"",null,{"$f":"INPUT!FW274","v":""},{"$f":"INPUT!FX274","v":""},{"$f":"INPUT!FY274","v":""},{"$f":"INPUT!FZ274","v":""},{"$f":"INPUT!GA274","v":""},{"$f":"INPUT!GB274","v":""},{"$f":"INPUT!GC274","v":""},null,{"$f":"INPUT!GY274","v":""},{"$f":"INPUT!GZ274","v":""},{"$f":"INPUT!HA274","v":""},{"$f":"INPUT!HB274","v":""},{"$f":"INPUT!HC274","v":""},{"$f":"INPUT!HD274","v":""},{"$f":"INPUT!HE274","v":""},{"$f":"INPUT!HF274","v":""},{"$f":"INPUT!HG274","v":""},null,{"$f":"INPUT!IA274","v":""},{"$f":"INPUT!IB274","v":""},{"$f":"INPUT!IC274","v":""},{"$f":"INPUT!ID274","v":""},{"$f":"INPUT!IE274","v":""},{"$f":"INPUT!IF274","v":""},{"$f":"INPUT!IG274","v":""},{"$f":"INPUT!IH274","v":""},null,{"$f":"INPUT!IZ274","v":""},{"$f":"INPUT!JA274","v":""},{"$f":"INPUT!JB274","v":""},{"$f":"INPUT!JC274","v":""},{"$f":"INPUT!JD274","v":""},{"$f":"INPUT!JE274","v":""},{"$f":"INPUT!JF274","v":""},"",null,{"$f":"INPUT!JX274","v":""},{"$f":"INPUT!JY274","v":""},{"$f":"INPUT!JZ274","v":""},{"$f":"INPUT!KA274","v":""},{"$f":"INPUT!KB274","v":""},{"$f":"INPUT!KC274","v":""},{"$f":"INPUT!KD274","v":""},"",null,{"$f":"INPUT!KZ274","v":""},{"$f":"INPUT!LA274","v":""},{"$f":"INPUT!LB274","v":""},{"$f":"INPUT!LC274","v":""},{"$f":"INPUT!LD274","v":""},{"$f":"INPUT!LE274","v":""},{"$f":"INPUT!LF274","v":""},{"$f":"INPUT!LG274","v":""},{"$f":"INPUT!LH274","v":""},null,{"$f":"INPUT!MB274","v":""},{"$f":"INPUT!MC274","v":""},{"$f":"INPUT!MD274","v":""},{"$f":"INPUT!ME274","v":""},{"$f":"INPUT!MF274","v":""},{"$f":"INPUT!MG274","v":""},{"$f":"INPUT!MH274","v":""},{"$f":"INPUT!MI274","v":""}]
[null,{"$f":"INPUT!EA275","v":""},{"$f":"INPUT!EB275","v":""},{"$f":"INPUT!EC275","v":""},{"$f":"INPUT!ED275","v":""},{"$f":"INPUT!EE275","v":""},{"$f":"INPUT!EF275","v":""},{"$f":"INPUT!EG275","v":""},"",null,{"$f":"INPUT!EY275","v":""},{"$f":"INPUT!EZ275","v":""},{"$f":"INPUT!FA275","v":""},{"$f":"INPUT!FB275","v":""},{"$f":"INPUT!FC275","v":""},{"$f":"INPUT!FD275","v":""},{"$f":"INPUT!FE275","v":""},"",null,{"$f":"INPUT!FW275","v":""},{"$f":"INPUT!FX275","v":""},{"$f":"INPUT!FY275","v":""},{"$f":"INPUT!FZ275","v":""},{"$f":"INPUT!GA275","v":""},{"$f":"INPUT!GB275","v":""},{"$f":"INPUT!GC275","v":""},null,{"$f":"INPUT!GY275","v":""},{"$f":"INPUT!GZ275","v":""},{"$f":"INPUT!HA275","v":""},{"$f":"INPUT!HB275","v":""},{"$f":"INPUT!HC275","v":""},{"$f":"INPUT!HD275","v":""},{"$f":"INPUT!HE275","v":""},{"$f":"INPUT!HF275","v":""},{"$f":"INPUT!HG275","v":""},null,{"$f":"INPUT!IA275","v":""},{"$f":"INPUT!IB275","v":""},{"$f":"INPUT!IC275","v":""},{"$f":"INPUT!ID275","v":""},{"$f":"INPUT!IE275","v":""},{"$f":"INPUT!IF275","v":""},{"$f":"INPUT!IG275","v":""},{"$f":"INPUT!IH275","v":""},null,{"$f":"INPUT!IZ275","v":""},{"$f":"INPUT!JA275","v":""},{"$f":"INPUT!JB275","v":""},{"$f":"INPUT!JC275","v":""},{"$f":"INPUT!JD275","v":""},{"$f":"INPUT!JE275","v":""},{"$f":"INPUT!JF275","v":""},"",null,{"$f":"INPUT!JX275","v":""},{"$f":"INPUT!JY275","v":""},{"$f":"INPUT!JZ275","v":""},{"$f":"INPUT!KA275","v":""},{"$f":"INPUT!KB275","v":""},{"$f":"INPUT!KC275","v":""},{"$f":"INPUT!KD275","v":""},"",null,{"$f":"INPUT!KZ275","v":""},{"$f":"INPUT!LA275","v":""},{"$f":"INPUT!LB275","v":""},{"$f":"INPUT!LC275","v":""},{"$f":"INPUT!LD275","v":""},{"$f":"INPUT!LE275","v":""},{"$f":"INPUT!LF275","v":""},{"$f":"INPUT!LG275","v":""},{"$f":"INPUT!LH275","v":""},null,{"$f":"INPUT!MB275","v":""},{"$f":"INPUT!MC275","v":""},{"$f":"INPUT!MD275","v":""},{"$f":"INPUT!ME275","v":""},{"$f":"INPUT!MF275","v":""},{"$f":"INPUT!MG275","v":""},{"$f":"INPUT!MH275","v":""},{"$f":"INPUT!MI275","v":""}]
[null,{"$f":"INPUT!EA276","v":""},{"$f":"INPUT!EB276","v":""},{"$f":"INPUT!EC276","v":""},{"$f":"INPUT!ED276","v":""},{"$f":"INPUT!EE276","v":""},{"$f":"INPUT!EF276","v":""},{"$f":"INPUT!EG276","v":""},"",null,{"$f":"INPUT!EY276","v":""},{"$f":"INPUT!EZ276","v":""},{"$f":"INPUT!FA276","v":""},{"$f":"INPUT!FB276","v":""},{"$f":"INPUT!FC276","v":""},{"$f":"INPUT!FD276","v":""},{"$f":"INPUT!FE276","v":""},"",null,{"$f":"INPUT!FW276","v":""},{"$f":"INPUT!FX276","v":""},{"$f":"INPUT!FY276","v":""},{"$f":"INPUT!FZ276","v":""},{"$f":"INPUT!GA276","v":""},{"$f":"INPUT!GB276","v":""},{"$f":"INPUT!GC276","v":""},null,{"$f":"INPUT!GY276","v":""},{"$f":"INPUT!GZ276","v":""},{"$f":"INPUT!HA276","v":""},{"$f":"INPUT!HB276","v":""},{"$f":"INPUT!HC276","v":""},{"$f":"INPUT!HD276","v":""},{"$f":"INPUT!HE276","v":""},{"$f":"INPUT!HF276","v":""},{"$f":"INPUT!HG276","v":""},null,{"$f":"INPUT!IA276","v":""},{"$f":"INPUT!IB276","v":""},{"$f":"INPUT!IC276","v":""},{"$f":"INPUT!ID276","v":""},{"$f":"INPUT!IE276","v":""},{"$f":"INPUT!IF276","v":""},{"$f":"INPUT!IG276","v":""},{"$f":"INPUT!IH276","v":""},null,{"$f":"INPUT!IZ276","v":""},{"$f":"INPUT!JA276","v":""},{"$f":"INPUT!JB276","v":""},{"$f":"INPUT!JC276","v":""},{"$f":"INPUT!JD276","v":""},{"$f":"INPUT!JE276","v":""},{"$f":"INPUT!JF276","v":""},"",null,{"$f":"INPUT!JX276","v":""},{"$f":"INPUT!JY276","v":""},{"$f":"INPUT!JZ276","v":""},{"$f":"INPUT!KA276","v":""},{"$f":"INPUT!KB276","v":""},{"$f":"INPUT!KC276","v":""},{"$f":"INPUT!KD276","v":""},"",null,{"$f":"INPUT!KZ276","v":""},{"$f":"INPUT!LA276","v":""},{"$f":"INPUT!LB276","v":""},{"$f":"INPUT!LC276","v":""},{"$f":"INPUT!LD276","v":""},{"$f":"INPUT!LE276","v":""},{"$f":"INPUT!LF276","v":""},{"$f":"INPUT!LG276","v":""},{"$f":"INPUT!LH276","v":""},null,{"$f":"INPUT!MB276","v":""},{"$f":"INPUT!MC276","v":""},{"$f":"INPUT!MD276","v":""},{"$f":"INPUT!ME276","v":""},{"$f":"INPUT!MF276","v":""},{"$f":"INPUT!MG276","v":""},{"$f":"INPUT!MH276","v":""},{"$f":"INPUT!MI276","v":""}]
[null,{"$f":"INPUT!EA277","v":""},{"$f":"INPUT!EB277","v":""},{"$f":"INPUT!EC277","v":""},{"$f":"INPUT!ED277","v":""},{"$f":"INPUT!EE277","v":""},{"$f":"INPUT!EF277","v":""},{"$f":"INPUT!EG277","v":""},"",null,{"$f":"INPUT!EY277","v":""},{"$f":"INPUT!EZ277","v":""},{"$f":"INPUT!FA277","v":""},{"$f":"INPUT!FB277","v":""},{"$f":"INPUT!FC277","v":""},{"$f":"INPUT!FD277","v":""},{"$f":"INPUT!FE277","v":""},"",null,{"$f":"INPUT!FW277","v":""},{"$f":"INPUT!FX277","v":""},{"$f":"INPUT!FY277","v":""},{"$f":"INPUT!FZ277","v":""},{"$f":"INPUT!GA277","v":""},{"$f":"INPUT!GB277","v":""},{"$f":"INPUT!GC277","v":""},null,{"$f":"INPUT!GY277","v":""},{"$f":"INPUT!GZ277","v":""},{"$f":"INPUT!HA277","v":""},{"$f":"INPUT!HB277","v":""},{"$f":"INPUT!HC277","v":""},{"$f":"INPUT!HD277","v":""},{"$f":"INPUT!HE277","v":""},{"$f":"INPUT!HF277","v":""},{"$f":"INPUT!HG277","v":""},null,{"$f":"INPUT!IA277","v":""},{"$f":"INPUT!IB277","v":""},{"$f":"INPUT!IC277","v":""},{"$f":"INPUT!ID277","v":""},{"$f":"INPUT!IE277","v":""},{"$f":"INPUT!IF277","v":""},{"$f":"INPUT!IG277","v":""},{"$f":"INPUT!IH277","v":""},null,{"$f":"INPUT!IZ277","v":""},{"$f":"INPUT!JA277","v":""},{"$f":"INPUT!JB277","v":""},{"$f":"INPUT!JC277","v":""},{"$f":"INPUT!JD277","v":""},{"$f":"INPUT!JE277","v":""},{"$f":"INPUT!JF277","v":""},"",null,{"$f":"INPUT!JX277","v":""},{"$f":"INPUT!JY277","v":""},{"$f":"INPUT!JZ277","v":""},{"$f":"INPUT!KA277","v":""},{"$f":"INPUT!KB277","v":""},{"$f":"INPUT!KC277","v":""},{"$f":"INPUT!KD277","v":""},"",null,{"$f":"INPUT!KZ277","v":""},{"$f":"INPUT!LA277","v":""},{"$f":"INPUT!LB277","v":""},{"$f":"INPUT!LC277","v":""},{"$f":"INPUT!LD277","v":""},{"$f":"INPUT!LE277","v":""},{"$f":"INPUT!LF277","v":""},{"$f":"INPUT!LG277","v":""},{"$f":"INPUT!LH277","v":""},null,{"$f":"INPUT!MB277","v":""},{"$f":"INPUT!MC277","v":""},{"$f":"INPUT!MD277","v":""},{"$f":"INPUT!ME277","v":""},{"$f":"INPUT!MF277","v":""},{"$f":"INPUT!MG277","v":""},{"$f":"INPUT!MH277","v":""},{"$f":"INPUT!MI277","v":""}]
[null,{"$f":"INPUT!EA278","v":""},{"$f":"INPUT!EB278","v":""},{"$f":"INPUT!EC278","v":""},{"$f":"INPUT!ED278","v":""},{"$f":"INPUT!EE278","v":""},{"$f":"INPUT!EF278","v":""},{"$f":"INPUT!EG278","v":""},"",null,{"$f":"INPUT!EY278","v":""},{"$f":"INPUT!EZ278","v":""},{"$f":"INPUT!FA278","v":""},{"$f":"INPUT!FB278","v":""},{"$f":"INPUT!FC278","v":""},{"$f":"INPUT!FD278","v":""},{"$f":"INPUT!FE278","v":""},"",null,{"$f":"INPUT!FW278","v":""},{"$f":"INPUT!FX278","v":""},{"$f":"INPUT!FY278","v":""},{"$f":"INPUT!FZ278","v":""},{"$f":"INPUT!GA278","v":""},{"$f":"INPUT!GB278","v":""},{"$f":"INPUT!GC278","v":""},null,{"$f":"INPUT!GY278","v":""},{"$f":"INPUT!GZ278","v":""},{"$f":"INPUT!HA278","v":""},{"$f":"INPUT!HB278","v":""},{"$f":"INPUT!HC278","v":""},{"$f":"INPUT!HD278","v":""},{"$f":"INPUT!HE278","v":""},{"$f":"INPUT!HF278","v":""},{"$f":"INPUT!HG278","v":""},null,{"$f":"INPUT!IA278","v":""},{"$f":"INPUT!IB278","v":""},{"$f":"INPUT!IC278","v":""},{"$f":"INPUT!ID278","v":""},{"$f":"INPUT!IE278","v":""},{"$f":"INPUT!IF278","v":""},{"$f":"INPUT!IG278","v":""},{"$f":"INPUT!IH278","v":""},null,{"$f":"INPUT!IZ278","v":""},{"$f":"INPUT!JA278","v":""},{"$f":"INPUT!JB278","v":""},{"$f":"INPUT!JC278","v":""},{"$f":"INPUT!JD278","v":""},{"$f":"INPUT!JE278","v":""},{"$f":"INPUT!JF278","v":""},"",null,{"$f":"INPUT!JX278","v":""},{"$f":"INPUT!JY278","v":""},{"$f":"INPUT!JZ278","v":""},{"$f":"INPUT!KA278","v":""},{"$f":"INPUT!KB278","v":""},{"$f":"INPUT!KC278","v":""},{"$f":"INPUT!KD278","v":""},"",null,{"$f":"INPUT!KZ278","v":""},{"$f":"INPUT!LA278","v":""},{"$f":"INPUT!LB278","v":""},{"$f":"INPUT!LC278","v":""},{"$f":"INPUT!LD278","v":""},{"$f":"INPUT!LE278","v":""},{"$f":"INPUT!LF278","v":""},{"$f":"INPUT!LG278","v":""},{"$f":"INPUT!LH278","v":""},null,{"$f":"INPUT!MB278","v":""},{"$f":"INPUT!MC278","v":""},{"$f":"INPUT!MD278","v":""},{"$f":"INPUT!ME278","v":""},{"$f":"INPUT!MF278","v":""},{"$f":"INPUT!MG278","v":""},{"$f":"INPUT!MH278","v":""},{"$f":"INPUT!MI278","v":""}]
[null,{"$f":"INPUT!EA279","v":""},{"$f":"INPUT!EB279","v":""},{"$f":"INPUT!EC279","v":""},{"$f":"INPUT!ED279","v":""},{"$f":"INPUT!EE279","v":""},{"$f":"INPUT!EF279","v":""},{"$f":"INPUT!EG279","v":""},"",null,{"$f":"INPUT!EY279","v":""},{"$f":"INPUT!EZ279","v":""},{"$f":"INPUT!FA279","v":""},{"$f":"INPUT!FB279","v":""},{"$f":"INPUT!FC279","v":""},{"$f":"INPUT!FD279","v":""},{"$f":"INPUT!FE279","v":""},"",null,{"$f":"INPUT!FW279","v":""},{"$f":"INPUT!FX279","v":""},{"$f":"INPUT!FY279","v":""},{"$f":"INPUT!FZ279","v":""},{"$f":"INPUT!GA279","v":""},{"$f":"INPUT!GB279","v":""},{"$f":"INPUT!GC279","v":""},null,{"$f":"INPUT!GY279","v":""},{"$f":"INPUT!GZ279","v":""},{"$f":"INPUT!HA279","v":""},{"$f":"INPUT!HB279","v":""},{"$f":"INPUT!HC279","v":""},{"$f":"INPUT!HD279","v":""},{"$f":"INPUT!HE279","v":""},{"$f":"INPUT!HF279","v":""},{"$f":"INPUT!HG279","v":""},null,{"$f":"INPUT!IA279","v":""},{"$f":"INPUT!IB279","v":""},{"$f":"INPUT!IC279","v":""},{"$f":"INPUT!ID279","v":""},{"$f":"INPUT!IE279","v":""},{"$f":"INPUT!IF279","v":""},{"$f":"INPUT!IG279","v":""},{"$f":"INPUT!IH279","v":""},null,{"$f":"INPUT!IZ279","v":""},{"$f":"INPUT!JA279","v":""},{"$f":"INPUT!JB279","v":""},{"$f":"INPUT!JC279","v":""},{"$f":"INPUT!JD279","v":""},{"$f":"INPUT!JE279","v":""},{"$f":"INPUT!JF279","v":""},"",null,{"$f":"INPUT!JX279","v":""},{"$f":"INPUT!JY279","v":""},{"$f":"INPUT!JZ279","v":""},{"$f":"INPUT!KA279","v":""},{"$f":"INPUT!KB279","v":""},{"$f":"INPUT!KC279","v":""},{"$f":"INPUT!KD279","v":""},"",null,{"$f":"INPUT!KZ279","v":""},{"$f":"INPUT!LA279","v":""},{"$f":"INPUT!LB279","v":""},{"$f":"INPUT!LC279","v":""},{"$f":"INPUT!LD279","v":""},{"$f":"INPUT!LE279","v":""},{"$f":"INPUT!LF279","v":""},{"$f":"INPUT!LG279","v":""},{"$f":"INPUT!LH279","v":""},null,{"$f":"INPUT!MB279","v":""},{"$f":"INPUT!MC279","v":""},{"$f":"INPUT!MD279","v":""},{"$f":"INPUT!ME279","v":""},{"$f":"INPUT!MF279","v":""},{"$f":"INPUT!MG279","v":""},{"$f":"INPUT!MH279","v":""},{"$f":"INPUT!MI279","v":""}]
[null,{"$f":"INPUT!EA280","v":""},{"$f":"INPUT!EB280","v":""},{"$f":"INPUT!EC280","v":""},{"$f":"INPUT!ED280","v":""},{"$f":"INPUT!EE280","v":""},{"$f":"INPUT!EF280","v":""},{"$f":"INPUT!EG280","v":""},"",null,{"$f":"INPUT!EY280","v":""},{"$f":"INPUT!EZ280","v":""},{"$f":"INPUT!FA280","v":""},{"$f":"INPUT!FB280","v":""},{"$f":"INPUT!FC280","v":""},{"$f":"INPUT!FD280","v":""},{"$f":"INPUT!FE280","v":""},"",null,{"$f":"INPUT!FW280","v":""},{"$f":"INPUT!FX280","v":""},{"$f":"INPUT!FY280","v":""},{"$f":"INPUT!FZ280","v":""},{"$f":"INPUT!GA280","v":""},{"$f":"INPUT!GB280","v":""},{"$f":"INPUT!GC280","v":""},null,{"$f":"INPUT!GY280","v":""},{"$f":"INPUT!GZ280","v":""},{"$f":"INPUT!HA280","v":""},{"$f":"INPUT!HB280","v":""},{"$f":"INPUT!HC280","v":""},{"$f":"INPUT!HD280","v":""},{"$f":"INPUT!HE280","v":""},{"$f":"INPUT!HF280","v":""},{"$f":"INPUT!HG280","v":""},null,{"$f":"INPUT!IA280","v":""},{"$f":"INPUT!IB280","v":""},{"$f":"INPUT!IC280","v":""},{"$f":"INPUT!ID280","v":""},{"$f":"INPUT!IE280","v":""},{"$f":"INPUT!IF280","v":""},{"$f":"INPUT!IG280","v":""},{"$f":"INPUT!IH280","v":""},null,{"$f":"INPUT!IZ280","v":""},{"$f":"INPUT!JA280","v":""},{"$f":"INPUT!JB280","v":""},{"$f":"INPUT!JC280","v":""},{"$f":"INPUT!JD280","v":""},{"$f":"INPUT!JE280","v":""},{"$f":"INPUT!JF280","v":""},"",null,{"$f":"INPUT!JX280","v":""},{"$f":"INPUT!JY280","v":""},{"$f":"INPUT!JZ280","v":""},{"$f":"INPUT!KA280","v":""},{"$f":"INPUT!KB280","v":""},{"$f":"INPUT!KC280","v":""},{"$f":"INPUT!KD280","v":""},"",null,{"$f":"INPUT!KZ280","v":""},{"$f":"INPUT!LA280","v":""},{"$f":"INPUT!LB280","v":""},{"$f":"INPUT!LC280","v":""},{"$f":"INPUT!LD280","v":""},{"$f":"INPUT!LE280","v":""},{"$f":"INPUT!LF280","v":""},{"$f":"INPUT!LG280","v":""},{"$f":"INPUT!LH280","v":""},null,{"$f":"INPUT!MB280","v":""},{"$f":"INPUT!MC280","v":""},{"$f":"INPUT!MD280","v":""},{"$f":"INPUT!ME280","v":""},{"$f":"INPUT!MF280","v":""},{"$f":"INPUT!MG280","v":""},{"$f":"INPUT!MH280","v":""},{"$f":"INPUT!MI280","v":""}]
[null,{"$f":"INPUT!EA281","v":""},{"$f":"INPUT!EB281","v":""},{"$f":"INPUT!EC281","v":""},{"$f":"INPUT!ED281","v":""},{"$f":"INPUT!EE281","v":""},{"$f":"INPUT!EF281","v":""},{"$f":"INPUT!EG281","v":""},"",null,{"$f":"INPUT!EY281","v":""},{"$f":"INPUT!EZ281","v":""},{"$f":"INPUT!FA281","v":""},{"$f":"INPUT!FB281","v":""},{"$f":"INPUT!FC281","v":""},{"$f":"INPUT!FD281","v":""},{"$f":"INPUT!FE281","v":""},"",null,{"$f":"INPUT!FW281","v":""},{"$f":"INPUT!FX281","v":""},{"$f":"INPUT!FY281","v":""},{"$f":"INPUT!FZ281","v":""},{"$f":"INPUT!GA281","v":""},{"$f":"INPUT!GB281","v":""},{"$f":"INPUT!GC281","v":""},null,{"$f":"INPUT!GY281","v":""},{"$f":"INPUT!GZ281","v":""},{"$f":"INPUT!HA281","v":""},{"$f":"INPUT!HB281","v":""},{"$f":"INPUT!HC281","v":""},{"$f":"INPUT!HD281","v":""},{"$f":"INPUT!HE281","v":""},{"$f":"INPUT!HF281","v":""},{"$f":"INPUT!HG281","v":""},null,{"$f":"INPUT!IA281","v":""},{"$f":"INPUT!IB281","v":""},{"$f":"INPUT!IC281","v":""},{"$f":"INPUT!ID281","v":""},{"$f":"INPUT!IE281","v":""},{"$f":"INPUT!IF281","v":""},{"$f":"INPUT!IG281","v":""},{"$f":"INPUT!IH281","v":""},null,{"$f":"INPUT!IZ281","v":""},{"$f":"INPUT!JA281","v":""},{"$f":"INPUT!JB281","v":""},{"$f":"INPUT!JC281","v":""},{"$f":"INPUT!JD281","v":""},{"$f":"INPUT!JE281","v":""},{"$f":"INPUT!JF281","v":""},"",null,{"$f":"INPUT!JX281","v":""},{"$f":"INPUT!JY281","v":""},{"$f":"INPUT!JZ281","v":""},{"$f":"INPUT!KA281","v":""},{"$f":"INPUT!KB281","v":""},{"$f":"INPUT!KC281","v":""},{"$f":"INPUT!KD281","v":""},"",null,{"$f":"INPUT!KZ281","v":""},{"$f":"INPUT!LA281","v":""},{"$f":"INPUT!LB281","v":""},{"$f":"INPUT!LC281","v":""},{"$f":"INPUT!LD281","v":""},{"$f":"INPUT!LE281","v":""},{"$f":"INPUT!LF281","v":""},{"$f":"INPUT!LG281","v":""},{"$f":"INPUT!LH281","v":""},null,{"$f":"INPUT!MB281","v":""},{"$f":"INPUT!MC281","v":""},{"$f":"INPUT!MD281","v":""},{"$f":"INPUT!ME281","v":""},{"$f":"INPUT!MF281","v":""},{"$f":"INPUT!MG281","v":""},{"$f":"INPUT!MH281","v":""},{"$f":"INPUT!MI281","v":""}]
[null,{"$f":"INPUT!EA282","v":""},{"$f":"INPUT!EB282","v":""},{"$f":"INPUT!EC282","v":""},{"$f":"INPUT!ED282","v":""},{"$f":"INPUT!EE282","v":""},{"$f":"INPUT!EF282","v":""},{"$f":"INPUT!EG282","v":""},"",null,{"$f":"INPUT!EY282","v":""},{"$f":"INPUT!EZ282","v":""},{"$f":"INPUT!FA282","v":""},{"$f":"INPUT!FB282","v":""},{"$f":"INPUT!FC282","v":""},{"$f":"INPUT!FD282","v":""},{"$f":"INPUT!FE282","v":""},"",null,{"$f":"INPUT!FW282","v":""},{"$f":"INPUT!FX282","v":""},{"$f":"INPUT!FY282","v":""},{"$f":"INPUT!FZ282","v":""},{"$f":"INPUT!GA282","v":""},{"$f":"INPUT!GB282","v":""},{"$f":"INPUT!GC282","v":""},null,{"$f":"INPUT!GY282","v":""},{"$f":"INPUT!GZ282","v":""},{"$f":"INPUT!HA282","v":""},{"$f":"INPUT!HB282","v":""},{"$f":"INPUT!HC282","v":""},{"$f":"INPUT!HD282","v":""},{"$f":"INPUT!HE282","v":""},{"$f":"INPUT!HF282","v":""},{"$f":"INPUT!HG282","v":""},null,{"$f":"INPUT!IA282","v":""},{"$f":"INPUT!IB282","v":""},{"$f":"INPUT!IC282","v":""},{"$f":"INPUT!ID282","v":""},{"$f":"INPUT!IE282","v":""},{"$f":"INPUT!IF282","v":""},{"$f":"INPUT!IG282","v":""},{"$f":"INPUT!IH282","v":""},null,{"$f":"INPUT!IZ282","v":""},{"$f":"INPUT!JA282","v":""},{"$f":"INPUT!JB282","v":""},{"$f":"INPUT!JC282","v":""},{"$f":"INPUT!JD282","v":""},{"$f":"INPUT!JE282","v":""},{"$f":"INPUT!JF282","v":""},"",null,{"$f":"INPUT!JX282","v":""},{"$f":"INPUT!JY282","v":""},{"$f":"INPUT!JZ282","v":""},{"$f":"INPUT!KA282","v":""},{"$f":"INPUT!KB282","v":""},{"$f":"INPUT!KC282","v":""},{"$f":"INPUT!KD282","v":""},"",null,{"$f":"INPUT!KZ282","v":""},{"$f":"INPUT!LA282","v":""},{"$f":"INPUT!LB282","v":""},{"$f":"INPUT!LC282","v":""},{"$f":"INPUT!LD282","v":""},{"$f":"INPUT!LE282","v":""},{"$f":"INPUT!LF282","v":""},{"$f":"INPUT!LG282","v":""},{"$f":"INPUT!LH282","v":""},null,{"$f":"INPUT!MB282","v":""},{"$f":"INPUT!MC282","v":""},{"$f":"INPUT!MD282","v":""},{"$f":"INPUT!ME282","v":""},{"$f":"INPUT!MF282","v":""},{"$f":"INPUT!MG282","v":""},{"$f":"INPUT!MH282","v":""},{"$f":"INPUT!MI282","v":""}]
[null,{"$f":"INPUT!EA283","v":""},{"$f":"INPUT!EB283","v":""},{"$f":"INPUT!EC283","v":""},{"$f":"INPUT!ED283","v":""},{"$f":"INPUT!EE283","v":""},{"$f":"INPUT!EF283","v":""},{"$f":"INPUT!EG283","v":""},"",null,{"$f":"INPUT!EY283","v":""},{"$f":"INPUT!EZ283","v":""},{"$f":"INPUT!FA283","v":""},{"$f":"INPUT!FB283","v":""},{"$f":"INPUT!FC283","v":""},{"$f":"INPUT!FD283","v":""},{"$f":"INPUT!FE283","v":""},"",null,{"$f":"INPUT!FW283","v":""},{"$f":"INPUT!FX283","v":""},{"$f":"INPUT!FY283","v":""},{"$f":"INPUT!FZ283","v":""},{"$f":"INPUT!GA283","v":""},{"$f":"INPUT!GB283","v":""},{"$f":"INPUT!GC283","v":""},null,{"$f":"INPUT!GY283","v":""},{"$f":"INPUT!GZ283","v":""},{"$f":"INPUT!HA283","v":""},{"$f":"INPUT!HB283","v":""},{"$f":"INPUT!HC283","v":""},{"$f":"INPUT!HD283","v":""},{"$f":"INPUT!HE283","v":""},{"$f":"INPUT!HF283","v":""},{"$f":"INPUT!HG283","v":""},null,{"$f":"INPUT!IA283","v":""},{"$f":"INPUT!IB283","v":""},{"$f":"INPUT!IC283","v":""},{"$f":"INPUT!ID283","v":""},{"$f":"INPUT!IE283","v":""},{"$f":"INPUT!IF283","v":""},{"$f":"INPUT!IG283","v":""},{"$f":"INPUT!IH283","v":""},null,{"$f":"INPUT!IZ283","v":""},{"$f":"INPUT!JA283","v":""},{"$f":"INPUT!JB283","v":""},{"$f":"INPUT!JC283","v":""},{"$f":"INPUT!JD283","v":""},{"$f":"INPUT!JE283","v":""},{"$f":"INPUT!JF283","v":""},"",null,{"$f":"INPUT!JX283","v":""},{"$f":"INPUT!JY283","v":""},{"$f":"INPUT!JZ283","v":""},{"$f":"INPUT!KA283","v":""},{"$f":"INPUT!KB283","v":""},{"$f":"INPUT!KC283","v":""},{"$f":"INPUT!KD283","v":""},"",null,{"$f":"INPUT!KZ283","v":""},{"$f":"INPUT!LA283","v":""},{"$f":"INPUT!LB283","v":""},{"$f":"INPUT!LC283","v":""},{"$f":"INPUT!LD283","v":""},{"$f":"INPUT!LE283","v":""},{"$f":"INPUT!LF283","v":""},{"$f":"INPUT!LG283","v":""},{"$f":"INPUT!LH283","v":""},null,{"$f":"INPUT!MB283","v":""},{"$f":"INPUT!MC283","v":""},{"$f":"INPUT!MD283","v":""},{"$f":"INPUT!ME283","v":""},{"$f":"INPUT!MF283","v":""},{"$f":"INPUT!MG283","v":""},{"$f":"INPUT!MH283","v":""},{"$f":"INPUT!MI283","v":""}]
[null,{"$f":"INPUT!EA284","v":""},{"$f":"INPUT!EB284","v":""},{"$f":"INPUT!EC284","v":""},{"$f":"INPUT!ED284","v":""},{"$f":"INPUT!EE284","v":""},{"$f":"INPUT!EF284","v":""},{"$f":"INPUT!EG284","v":""},"",null,{"$f":"INPUT!EY284","v":""},{"$f":"INPUT!EZ284","v":""},{"$f":"INPUT!FA284","v":""},{"$f":"INPUT!FB284","v":""},{"$f":"INPUT!FC284","v":""},{"$f":"INPUT!FD284","v":""},{"$f":"INPUT!FE284","v":""},"",null,{"$f":"INPUT!FW284","v":""},{"$f":"INPUT!FX284","v":""},{"$f":"INPUT!FY284","v":""},{"$f":"INPUT!FZ284","v":""},{"$f":"INPUT!GA284","v":""},{"$f":"INPUT!GB284","v":""},{"$f":"INPUT!GC284","v":""},null,{"$f":"INPUT!GY284","v":""},{"$f":"INPUT!GZ284","v":""},{"$f":"INPUT!HA284","v":""},{"$f":"INPUT!HB284","v":""},{"$f":"INPUT!HC284","v":""},{"$f":"INPUT!HD284","v":""},{"$f":"INPUT!HE284","v":""},{"$f":"INPUT!HF284","v":""},{"$f":"INPUT!HG284","v":""},null,{"$f":"INPUT!IA284","v":""},{"$f":"INPUT!IB284","v":""},{"$f":"INPUT!IC284","v":""},{"$f":"INPUT!ID284","v":""},{"$f":"INPUT!IE284","v":""},{"$f":"INPUT!IF284","v":""},{"$f":"INPUT!IG284","v":""},{"$f":"INPUT!IH284","v":""},null,{"$f":"INPUT!IZ284","v":""},{"$f":"INPUT!JA284","v":""},{"$f":"INPUT!JB284","v":""},{"$f":"INPUT!JC284","v":""},{"$f":"INPUT!JD284","v":""},{"$f":"INPUT!JE284","v":""},{"$f":"INPUT!JF284","v":""},"",null,{"$f":"INPUT!JX284","v":""},{"$f":"INPUT!JY284","v":""},{"$f":"INPUT!JZ284","v":""},{"$f":"INPUT!KA284","v":""},{"$f":"INPUT!KB284","v":""},{"$f":"INPUT!KC284","v":""},{"$f":"INPUT!KD284","v":""},"",null,{"$f":"INPUT!KZ284","v":""},{"$f":"INPUT!LA284","v":""},{"$f":"INPUT!LB284","v":""},{"$f":"INPUT!LC284","v":""},{"$f":"INPUT!LD284","v":""},{"$f":"INPUT!LE284","v":""},{"$f":"INPUT!LF284","v":""},{"$f":"INPUT!LG284","v":""},{"$f":"INPUT!LH284","v":""},null,{"$f":"INPUT!MB284","v":""},{"$f":"INPUT!MC284","v":""},{"$f":"INPUT!MD284","v":""},{"$f":"INPUT!ME284","v":""},{"$f":"INPUT!MF284","v":""},{"$f":"INPUT!MG284","v":""},{"$f":"INPUT!MH284","v":""},{"$f":"INPUT!MI284","v":""}]
[null,{"$f":"INPUT!EA285","v":""},{"$f":"INPUT!EB285","v":""},{"$f":"INPUT!EC285","v":""},{"$f":"INPUT!ED285","v":""},{"$f":"INPUT!EE285","v":""},{"$f":"INPUT!EF285","v":""},{"$f":"INPUT!EG285","v":""},"",null,{"$f":"INPUT!EY285","v":""},{"$f":"INPUT!EZ285","v":""},{"$f":"INPUT!FA285","v":""},{"$f":"INPUT!FB285","v":""},{"$f":"INPUT!FC285","v":""},{"$f":"INPUT!FD285","v":""},{"$f":"INPUT!FE285","v":""},"",null,{"$f":"INPUT!FW285","v":""},{"$f":"INPUT!FX285","v":""},{"$f":"INPUT!FY285","v":""},{"$f":"INPUT!FZ285","v":""},{"$f":"INPUT!GA285","v":""},{"$f":"INPUT!GB285","v":""},{"$f":"INPUT!GC285","v":""},null,{"$f":"INPUT!GY285","v":""},{"$f":"INPUT!GZ285","v":""},{"$f":"INPUT!HA285","v":""},{"$f":"INPUT!HB285","v":""},{"$f":"INPUT!HC285","v":""},{"$f":"INPUT!HD285","v":""},{"$f":"INPUT!HE285","v":""},{"$f":"INPUT!HF285","v":""},{"$f":"INPUT!HG285","v":""},null,{"$f":"INPUT!IA285","v":""},{"$f":"INPUT!IB285","v":""},{"$f":"INPUT!IC285","v":""},{"$f":"INPUT!ID285","v":""},{"$f":"INPUT!IE285","v":""},{"$f":"INPUT!IF285","v":""},{"$f":"INPUT!IG285","v":""},{"$f":"INPUT!IH285","v":""},null,{"$f":"INPUT!IZ285","v":""},{"$f":"INPUT!JA285","v":""},{"$f":"INPUT!JB285","v":""},{"$f":"INPUT!JC285","v":""},{"$f":"INPUT!JD285","v":""},{"$f":"INPUT!JE285","v":""},{"$f":"INPUT!JF285","v":""},"",null,{"$f":"INPUT!JX285","v":""},{"$f":"INPUT!JY285","v":""},{"$f":"INPUT!JZ285","v":""},{"$f":"INPUT!KA285","v":""},{"$f":"INPUT!KB285","v":""},{"$f":"INPUT!KC285","v":""},{"$f":"INPUT!KD285","v":""},"",null,{"$f":"INPUT!KZ285","v":""},{"$f":"INPUT!LA285","v":""},{"$f":"INPUT!LB285","v":""},{"$f":"INPUT!LC285","v":""},{"$f":"INPUT!LD285","v":""},{"$f":"INPUT!LE285","v":""},{"$f":"INPUT!LF285","v":""},{"$f":"INPUT!LG285","v":""},{"$f":"INPUT!LH285","v":""},null,{"$f":"INPUT!MB285","v":""},{"$f":"INPUT!MC285","v":""},{"$f":"INPUT!MD285","v":""},{"$f":"INPUT!ME285","v":""},{"$f":"INPUT!MF285","v":""},{"$f":"INPUT!MG285","v":""},{"$f":"INPUT!MH285","v":""},{"$f":"INPUT!MI285","v":""}]
[null,{"$f":"INPUT!EA286","v":""},{"$f":"INPUT!EB286","v":""},{"$f":"INPUT!EC286","v":""},{"$f":"INPUT!ED286","v":""},{"$f":"INPUT!EE286","v":""},{"$f":"INPUT!EF286","v":""},{"$f":"INPUT!EG286","v":""},"",null,{"$f":"INPUT!EY286","v":""},{"$f":"INPUT!EZ286","v":""},{"$f":"INPUT!FA286","v":""},{"$f":"INPUT!FB286","v":""},{"$f":"INPUT!FC286","v":""},{"$f":"INPUT!FD286","v":""},{"$f":"INPUT!FE286","v":""},"",null,{"$f":"INPUT!FW286","v":""},{"$f":"INPUT!FX286","v":""},{"$f":"INPUT!FY286","v":""},{"$f":"INPUT!FZ286","v":""},{"$f":"INPUT!GA286","v":""},{"$f":"INPUT!GB286","v":""},{"$f":"INPUT!GC286","v":""},null,{"$f":"INPUT!GY286","v":""},{"$f":"INPUT!GZ286","v":""},{"$f":"INPUT!HA286","v":""},{"$f":"INPUT!HB286","v":""},{"$f":"INPUT!HC286","v":""},{"$f":"INPUT!HD286","v":""},{"$f":"INPUT!HE286","v":""},{"$f":"INPUT!HF286","v":""},{"$f":"INPUT!HG286","v":""},null,{"$f":"INPUT!IA286","v":""},{"$f":"INPUT!IB286","v":""},{"$f":"INPUT!IC286","v":""},{"$f":"INPUT!ID286","v":""},{"$f":"INPUT!IE286","v":""},{"$f":"INPUT!IF286","v":""},{"$f":"INPUT!IG286","v":""},{"$f":"INPUT!IH286","v":""},null,{"$f":"INPUT!IZ286","v":""},{"$f":"INPUT!JA286","v":""},{"$f":"INPUT!JB286","v":""},{"$f":"INPUT!JC286","v":""},{"$f":"INPUT!JD286","v":""},{"$f":"INPUT!JE286","v":""},{"$f":"INPUT!JF286","v":""},"",null,{"$f":"INPUT!JX286","v":""},{"$f":"INPUT!JY286","v":""},{"$f":"INPUT!JZ286","v":""},{"$f":"INPUT!KA286","v":""},{"$f":"INPUT!KB286","v":""},{"$f":"INPUT!KC286","v":""},{"$f":"INPUT!KD286","v":""},"",null,{"$f":"INPUT!KZ286","v":""},{"$f":"INPUT!LA286","v":""},{"$f":"INPUT!LB286","v":""},{"$f":"INPUT!LC286","v":""},{"$f":"INPUT!LD286","v":""},{"$f":"INPUT!LE286","v":""},{"$f":"INPUT!LF286","v":""},{"$f":"INPUT!LG286","v":""},{"$f":"INPUT!LH286","v":""},null,{"$f":"INPUT!MB286","v":""},{"$f":"INPUT!MC286","v":""},{"$f":"INPUT!MD286","v":""},{"$f":"INPUT!ME286","v":""},{"$f":"INPUT!MF286","v":""},{"$f":"INPUT!MG286","v":""},{"$f":"INPUT!MH286","v":""},{"$f":"INPUT!MI286","v":""}]
[null,{"$f":"INPUT!EA287","v":""},{"$f":"INPUT!EB287","v":""},{"$f":"INPUT!EC287","v":""},{"$f":"INPUT!ED287","v":""},{"$f":"INPUT!EE287","v":""},{"$f":"INPUT!EF287","v":""},{"$f":"INPUT!EG287","v":""},"",null,{"$f":"INPUT!EY287","v":""},{"$f":"INPUT!EZ287","v":""},{"$f":"INPUT!FA287","v":""},{"$f":"INPUT!FB287","v":""},{"$f":"INPUT!FC287","v":""},{"$f":"INPUT!FD287","v":""},{"$f":"INPUT!FE287","v":""},"",null,{"$f":"INPUT!FW287","v":""},{"$f":"INPUT!FX287","v":""},{"$f":"INPUT!FY287","v":""},{"$f":"INPUT!FZ287","v":""},{"$f":"INPUT!GA287","v":""},{"$f":"INPUT!GB287","v":""},{"$f":"INPUT!GC287","v":""},null,{"$f":"INPUT!GY287","v":""},{"$f":"INPUT!GZ287","v":""},{"$f":"INPUT!HA287","v":""},{"$f":"INPUT!HB287","v":""},{"$f":"INPUT!HC287","v":""},{"$f":"INPUT!HD287","v":""},{"$f":"INPUT!HE287","v":""},{"$f":"INPUT!HF287","v":""},{"$f":"INPUT!HG287","v":""},null,{"$f":"INPUT!IA287","v":""},{"$f":"INPUT!IB287","v":""},{"$f":"INPUT!IC287","v":""},{"$f":"INPUT!ID287","v":""},{"$f":"INPUT!IE287","v":""},{"$f":"INPUT!IF287","v":""},{"$f":"INPUT!IG287","v":""},{"$f":"INPUT!IH287","v":""},null,{"$f":"INPUT!IZ287","v":""},{"$f":"INPUT!JA287","v":""},{"$f":"INPUT!JB287","v":""},{"$f":"INPUT!JC287","v":""},{"$f":"INPUT!JD287","v":""},{"$f":"INPUT!JE287","v":""},{"$f":"INPUT!JF287","v":""},"",null,{"$f":"INPUT!JX287","v":""},{"$f":"INPUT!JY287","v":""},{"$f":"INPUT!JZ287","v":""},{"$f":"INPUT!KA287","v":""},{"$f":"INPUT!KB287","v":""},{"$f":"INPUT!KC287","v":""},{"$f":"INPUT!KD287","v":""},"",null,{"$f":"INPUT!KZ287","v":""},{"$f":"INPUT!LA287","v":""},{"$f":"INPUT!LB287","v":""},{"$f":"INPUT!LC287","v":""},{"$f":"INPUT!LD287","v":""},{"$f":"INPUT!LE287","v":""},{"$f":"INPUT!LF287","v":""},{"$f":"INPUT!LG287","v":""},{"$f":"INPUT!LH287","v":""},null,{"$f":"INPUT!MB287","v":""},{"$f":"INPUT!MC287","v":""},{"$f":"INPUT!MD287","v":""},{"$f":"INPUT!ME287","v":""},{"$f":"INPUT!MF287","v":""},{"$f":"INPUT!MG287","v":""},{"$f":"INPUT!MH287","v":""},{"$f":"INPUT!MI287","v":""}]
[null,{"$f":"INPUT!EA288","v":""},{"$f":"INPUT!EB288","v":""},{"$f":"INPUT!EC288","v":""},{"$f":"INPUT!ED288","v":""},{"$f":"INPUT!EE288","v":""},{"$f":"INPUT!EF288","v":""},{"$f":"INPUT!EG288","v":""},"",null,{"$f":"INPUT!EY288","v":""},{"$f":"INPUT!EZ288","v":""},{"$f":"INPUT!FA288","v":""},{"$f":"INPUT!FB288","v":""},{"$f":"INPUT!FC288","v":""},{"$f":"INPUT!FD288","v":""},{"$f":"INPUT!FE288","v":""},"",null,{"$f":"INPUT!FW288","v":""},{"$f":"INPUT!FX288","v":""},{"$f":"INPUT!FY288","v":""},{"$f":"INPUT!FZ288","v":""},{"$f":"INPUT!GA288","v":""},{"$f":"INPUT!GB288","v":""},{"$f":"INPUT!GC288","v":""},null,{"$f":"INPUT!GY288","v":""},{"$f":"INPUT!GZ288","v":""},{"$f":"INPUT!HA288","v":""},{"$f":"INPUT!HB288","v":""},{"$f":"INPUT!HC288","v":""},{"$f":"INPUT!HD288","v":""},{"$f":"INPUT!HE288","v":""},{"$f":"INPUT!HF288","v":""},{"$f":"INPUT!HG288","v":""},null,{"$f":"INPUT!IA288","v":""},{"$f":"INPUT!IB288","v":""},{"$f":"INPUT!IC288","v":""},{"$f":"INPUT!ID288","v":""},{"$f":"INPUT!IE288","v":""},{"$f":"INPUT!IF288","v":""},{"$f":"INPUT!IG288","v":""},{"$f":"INPUT!IH288","v":""},null,{"$f":"INPUT!IZ288","v":""},{"$f":"INPUT!JA288","v":""},{"$f":"INPUT!JB288","v":""},{"$f":"INPUT!JC288","v":""},{"$f":"INPUT!JD288","v":""},{"$f":"INPUT!JE288","v":""},{"$f":"INPUT!JF288","v":""},"",null,{"$f":"INPUT!JX288","v":""},{"$f":"INPUT!JY288","v":""},{"$f":"INPUT!JZ288","v":""},{"$f":"INPUT!KA288","v":""},{"$f":"INPUT!KB288","v":""},{"$f":"INPUT!KC288","v":""},{"$f":"INPUT!KD288","v":""},"",null,{"$f":"INPUT!KZ288","v":""},{"$f":"INPUT!LA288","v":""},{"$f":"INPUT!LB288","v":""},{"$f":"INPUT!LC288","v":""},{"$f":"INPUT!LD288","v":""},{"$f":"INPUT!LE288","v":""},{"$f":"INPUT!LF288","v":""},{"$f":"INPUT!LG288","v":""},{"$f":"INPUT!LH288","v":""},null,{"$f":"INPUT!MB288","v":""},{"$f":"INPUT!MC288","v":""},{"$f":"INPUT!MD288","v":""},{"$f":"INPUT!ME288","v":""},{"$f":"INPUT!MF288","v":""},{"$f":"INPUT!MG288","v":""},{"$f":"INPUT!MH288","v":""},{"$f":"INPUT!MI288","v":""}]
[null,{"$f":"INPUT!EA289","v":""},{"$f":"INPUT!EB289","v":""},{"$f":"INPUT!EC289","v":""},{"$f":"INPUT!ED289","v":""},{"$f":"INPUT!EE289","v":""},{"$f":"INPUT!EF289","v":""},{"$f":"INPUT!EG289","v":""},"",null,{"$f":"INPUT!EY289","v":""},{"$f":"INPUT!EZ289","v":""},{"$f":"INPUT!FA289","v":""},{"$f":"INPUT!FB289","v":""},{"$f":"INPUT!FC289","v":""},{"$f":"INPUT!FD289","v":""},{"$f":"INPUT!FE289","v":""},"",null,{"$f":"INPUT!FW289","v":""},{"$f":"INPUT!FX289","v":""},{"$f":"INPUT!FY289","v":""},{"$f":"INPUT!FZ289","v":""},{"$f":"INPUT!GA289","v":""},{"$f":"INPUT!GB289","v":""},{"$f":"INPUT!GC289","v":""},null,{"$f":"INPUT!GY289","v":""},{"$f":"INPUT!GZ289","v":""},{"$f":"INPUT!HA289","v":""},{"$f":"INPUT!HB289","v":""},{"$f":"INPUT!HC289","v":""},{"$f":"INPUT!HD289","v":""},{"$f":"INPUT!HE289","v":""},{"$f":"INPUT!HF289","v":""},{"$f":"INPUT!HG289","v":""},null,{"$f":"INPUT!IA289","v":""},{"$f":"INPUT!IB289","v":""},{"$f":"INPUT!IC289","v":""},{"$f":"INPUT!ID289","v":""},{"$f":"INPUT!IE289","v":""},{"$f":"INPUT!IF289","v":""},{"$f":"INPUT!IG289","v":""},{"$f":"INPUT!IH289","v":""},null,{"$f":"INPUT!IZ289","v":""},{"$f":"INPUT!JA289","v":""},{"$f":"INPUT!JB289","v":""},{"$f":"INPUT!JC289","v":""},{"$f":"INPUT!JD289","v":""},{"$f":"INPUT!JE289","v":""},{"$f":"INPUT!JF289","v":""},"",null,{"$f":"INPUT!JX289","v":""},{"$f":"INPUT!JY289","v":""},{"$f":"INPUT!JZ289","v":""},{"$f":"INPUT!KA289","v":""},{"$f":"INPUT!KB289","v":""},{"$f":"INPUT!KC289","v":""},{"$f":"INPUT!KD289","v":""},"",null,{"$f":"INPUT!KZ289","v":""},{"$f":"INPUT!LA289","v":""},{"$f":"INPUT!LB289","v":""},{"$f":"INPUT!LC289","v":""},{"$f":"INPUT!LD289","v":""},{"$f":"INPUT!LE289","v":""},{"$f":"INPUT!LF289","v":""},{"$f":"INPUT!LG289","v":""},{"$f":"INPUT!LH289","v":""},null,{"$f":"INPUT!MB289","v":""},{"$f":"INPUT!MC289","v":""},{"$f":"INPUT!MD289","v":""},{"$f":"INPUT!ME289","v":""},{"$f":"INPUT!MF289","v":""},{"$f":"INPUT!MG289","v":""},{"$f":"INPUT!MH289","v":""},{"$f":"INPUT!MI289","v":""}]
[null,{"$f":"INPUT!EA290","v":""},{"$f":"INPUT!EB290","v":""},{"$f":"INPUT!EC290","v":""},{"$f":"INPUT!ED290","v":""},{"$f":"INPUT!EE290","v":""},{"$f":"INPUT!EF290","v":""},{"$f":"INPUT!EG290","v":""},"",null,{"$f":"INPUT!EY290","v":""},{"$f":"INPUT!EZ290","v":""},{"$f":"INPUT!FA290","v":""},{"$f":"INPUT!FB290","v":""},{"$f":"INPUT!FC290","v":""},{"$f":"INPUT!FD290","v":""},{"$f":"INPUT!FE290","v":""},"",null,{"$f":"INPUT!FW290","v":""},{"$f":"INPUT!FX290","v":""},{"$f":"INPUT!FY290","v":""},{"$f":"INPUT!FZ290","v":""},{"$f":"INPUT!GA290","v":""},{"$f":"INPUT!GB290","v":""},{"$f":"INPUT!GC290","v":""},null,{"$f":"INPUT!GY290","v":""},{"$f":"INPUT!GZ290","v":""},{"$f":"INPUT!HA290","v":""},{"$f":"INPUT!HB290","v":""},{"$f":"INPUT!HC290","v":""},{"$f":"INPUT!HD290","v":""},{"$f":"INPUT!HE290","v":""},{"$f":"INPUT!HF290","v":""},{"$f":"INPUT!HG290","v":""},null,{"$f":"INPUT!IA290","v":""},{"$f":"INPUT!IB290","v":""},{"$f":"INPUT!IC290","v":""},{"$f":"INPUT!ID290","v":""},{"$f":"INPUT!IE290","v":""},{"$f":"INPUT!IF290","v":""},{"$f":"INPUT!IG290","v":""},{"$f":"INPUT!IH290","v":""},null,{"$f":"INPUT!IZ290","v":""},{"$f":"INPUT!JA290","v":""},{"$f":"INPUT!JB290","v":""},{"$f":"INPUT!JC290","v":""},{"$f":"INPUT!JD290","v":""},{"$f":"INPUT!JE290","v":""},{"$f":"INPUT!JF290","v":""},"",null,{"$f":"INPUT!JX290","v":""},{"$f":"INPUT!JY290","v":""},{"$f":"INPUT!JZ290","v":""},{"$f":"INPUT!KA290","v":""},{"$f":"INPUT!KB290","v":""},{"$f":"INPUT!KC290","v":""},{"$f":"INPUT!KD290","v":""},"",null,{"$f":"INPUT!KZ290","v":""},{"$f":"INPUT!LA290","v":""},{"$f":"INPUT!LB290","v":""},{"$f":"INPUT!LC290","v":""},{"$f":"INPUT!LD290","v":""},{"$f":"INPUT!LE290","v":""},{"$f":"INPUT!LF290","v":""},{"$f":"INPUT!LG290","v":""},{"$f":"INPUT!LH290","v":""},null,{"$f":"INPUT!MB290","v":""},{"$f":"INPUT!MC290","v":""},{"$f":"INPUT!MD290","v":""},{"$f":"INPUT!ME290","v":""},{"$f":"INPUT!MF290","v":""},{"$f":"INPUT!MG290","v":""},{"$f":"INPUT!MH290","v":""},{"$f":"INPUT!MI290","v":""}]
[null,{"$f":"INPUT!EA291","v":""},{"$f":"INPUT!EB291","v":""},{"$f":"INPUT!EC291","v":""},{"$f":"INPUT!ED291","v":""},{"$f":"INPUT!EE291","v":""},{"$f":"INPUT!EF291","v":""},{"$f":"INPUT!EG291","v":""},"",null,{"$f":"INPUT!EY291","v":""},{"$f":"INPUT!EZ291","v":""},{"$f":"INPUT!FA291","v":""},{"$f":"INPUT!FB291","v":""},{"$f":"INPUT!FC291","v":""},{"$f":"INPUT!FD291","v":""},{"$f":"INPUT!FE291","v":""},"",null,{"$f":"INPUT!FW291","v":""},{"$f":"INPUT!FX291","v":""},{"$f":"INPUT!FY291","v":""},{"$f":"INPUT!FZ291","v":""},{"$f":"INPUT!GA291","v":""},{"$f":"INPUT!GB291","v":""},{"$f":"INPUT!GC291","v":""},null,{"$f":"INPUT!GY291","v":""},{"$f":"INPUT!GZ291","v":""},{"$f":"INPUT!HA291","v":""},{"$f":"INPUT!HB291","v":""},{"$f":"INPUT!HC291","v":""},{"$f":"INPUT!HD291","v":""},{"$f":"INPUT!HE291","v":""},{"$f":"INPUT!HF291","v":""},{"$f":"INPUT!HG291","v":""},null,{"$f":"INPUT!IA291","v":""},{"$f":"INPUT!IB291","v":""},{"$f":"INPUT!IC291","v":""},{"$f":"INPUT!ID291","v":""},{"$f":"INPUT!IE291","v":""},{"$f":"INPUT!IF291","v":""},{"$f":"INPUT!IG291","v":""},{"$f":"INPUT!IH291","v":""},null,{"$f":"INPUT!IZ291","v":""},{"$f":"INPUT!JA291","v":""},{"$f":"INPUT!JB291","v":""},{"$f":"INPUT!JC291","v":""},{"$f":"INPUT!JD291","v":""},{"$f":"INPUT!JE291","v":""},{"$f":"INPUT!JF291","v":""},"",null,{"$f":"INPUT!JX291","v":""},{"$f":"INPUT!JY291","v":""},{"$f":"INPUT!JZ291","v":""},{"$f":"INPUT!KA291","v":""},{"$f":"INPUT!KB291","v":""},{"$f":"INPUT!KC291","v":""},{"$f":"INPUT!KD291","v":""},"",null,{"$f":"INPUT!KZ291","v":""},{"$f":"INPUT!LA291","v":""},{"$f":"INPUT!LB291","v":""},{"$f":"INPUT!LC291","v":""},{"$f":"INPUT!LD291","v":""},{"$f":"INPUT!LE291","v":""},{"$f":"INPUT!LF291","v":""},{"$f":"INPUT!LG291","v":""},{"$f":"INPUT!LH291","v":""},null,{"$f":"INPUT!MB291","v":""},{"$f":"INPUT!MC291","v":""},{"$f":"INPUT!MD291","v":""},{"$f":"INPUT!ME291","v":""},{"$f":"INPUT!MF291","v":""},{"$f":"INPUT!MG291","v":""},{"$f":"INPUT!MH291","v":""},{"$f":"INPUT!MI291","v":""}]
[null,{"$f":"INPUT!EA292","v":""},{"$f":"INPUT!EB292","v":""},{"$f":"INPUT!EC292","v":""},{"$f":"INPUT!ED292","v":""},{"$f":"INPUT!EE292","v":""},{"$f":"INPUT!EF292","v":""},{"$f":"INPUT!EG292","v":""},"",null,{"$f":"INPUT!EY292","v":""},{"$f":"INPUT!EZ292","v":""},{"$f":"INPUT!FA292","v":""},{"$f":"INPUT!FB292","v":""},{"$f":"INPUT!FC292","v":""},{"$f":"INPUT!FD292","v":""},{"$f":"INPUT!FE292","v":""},"",null,{"$f":"INPUT!FW292","v":""},{"$f":"INPUT!FX292","v":""},{"$f":"INPUT!FY292","v":""},{"$f":"INPUT!FZ292","v":""},{"$f":"INPUT!GA292","v":""},{"$f":"INPUT!GB292","v":""},{"$f":"INPUT!GC292","v":""},null,{"$f":"INPUT!GY292","v":""},{"$f":"INPUT!GZ292","v":""},{"$f":"INPUT!HA292","v":""},{"$f":"INPUT!HB292","v":""},{"$f":"INPUT!HC292","v":""},{"$f":"INPUT!HD292","v":""},{"$f":"INPUT!HE292","v":""},{"$f":"INPUT!HF292","v":""},{"$f":"INPUT!HG292","v":""},null,{"$f":"INPUT!IA292","v":""},{"$f":"INPUT!IB292","v":""},{"$f":"INPUT!IC292","v":""},{"$f":"INPUT!ID292","v":""},{"$f":"INPUT!IE292","v":""},{"$f":"INPUT!IF292","v":""},{"$f":"INPUT!IG292","v":""},{"$f":"INPUT!IH292","v":""},null,{"$f":"INPUT!IZ292","v":""},{"$f":"INPUT!JA292","v":""},{"$f":"INPUT!JB292","v":""},{"$f":"INPUT!JC292","v":""},{"$f":"INPUT!JD292","v":""},{"$f":"INPUT!JE292","v":""},{"$f":"INPUT!JF292","v":""},"",null,{"$f":"INPUT!JX292","v":""},{"$f":"INPUT!JY292","v":""},{"$f":"INPUT!JZ292","v":""},{"$f":"INPUT!KA292","v":""},{"$f":"INPUT!KB292","v":""},{"$f":"INPUT!KC292","v":""},{"$f":"INPUT!KD292","v":""},"",null,{"$f":"INPUT!KZ292","v":""},{"$f":"INPUT!LA292","v":""},{"$f":"INPUT!LB292","v":""},{"$f":"INPUT!LC292","v":""},{"$f":"INPUT!LD292","v":""},{"$f":"INPUT!LE292","v":""},{"$f":"INPUT!LF292","v":""},{"$f":"INPUT!LG292","v":""},{"$f":"INPUT!LH292","v":""},null,{"$f":"INPUT!MB292","v":""},{"$f":"INPUT!MC292","v":""},{"$f":"INPUT!MD292","v":""},{"$f":"INPUT!ME292","v":""},{"$f":"INPUT!MF292","v":""},{"$f":"INPUT!MG292","v":""},{"$f":"INPUT!MH292","v":""},{"$f":"INPUT!MI292","v":""}]
[null,{"$f":"INPUT!EA293","v":""},{"$f":"INPUT!EB293","v":""},{"$f":"INPUT!EC293","v":""},{"$f":"INPUT!ED293","v":""},{"$f":"INPUT!EE293","v":""},{"$f":"INPUT!EF293","v":""},{"$f":"INPUT!EG293","v":""},"",null,{"$f":"INPUT!EY293","v":""},{"$f":"INPUT!EZ293","v":""},{"$f":"INPUT!FA293","v":""},{"$f":"INPUT!FB293","v":""},{"$f":"INPUT!FC293","v":""},{"$f":"INPUT!FD293","v":""},{"$f":"INPUT!FE293","v":""},"",null,{"$f":"INPUT!FW293","v":""},{"$f":"INPUT!FX293","v":""},{"$f":"INPUT!FY293","v":""},{"$f":"INPUT!FZ293","v":""},{"$f":"INPUT!GA293","v":""},{"$f":"INPUT!GB293","v":""},{"$f":"INPUT!GC293","v":""},null,{"$f":"INPUT!GY293","v":""},{"$f":"INPUT!GZ293","v":""},{"$f":"INPUT!HA293","v":""},{"$f":"INPUT!HB293","v":""},{"$f":"INPUT!HC293","v":""},{"$f":"INPUT!HD293","v":""},{"$f":"INPUT!HE293","v":""},{"$f":"INPUT!HF293","v":""},{"$f":"INPUT!HG293","v":""},null,{"$f":"INPUT!IA293","v":""},{"$f":"INPUT!IB293","v":""},{"$f":"INPUT!IC293","v":""},{"$f":"INPUT!ID293","v":""},{"$f":"INPUT!IE293","v":""},{"$f":"INPUT!IF293","v":""},{"$f":"INPUT!IG293","v":""},{"$f":"INPUT!IH293","v":""},null,{"$f":"INPUT!IZ293","v":""},{"$f":"INPUT!JA293","v":""},{"$f":"INPUT!JB293","v":""},{"$f":"INPUT!JC293","v":""},{"$f":"INPUT!JD293","v":""},{"$f":"INPUT!JE293","v":""},{"$f":"INPUT!JF293","v":""},"",null,{"$f":"INPUT!JX293","v":""},{"$f":"INPUT!JY293","v":""},{"$f":"INPUT!JZ293","v":""},{"$f":"INPUT!KA293","v":""},{"$f":"INPUT!KB293","v":""},{"$f":"INPUT!KC293","v":""},{"$f":"INPUT!KD293","v":""},"",null,{"$f":"INPUT!KZ293","v":""},{"$f":"INPUT!LA293","v":""},{"$f":"INPUT!LB293","v":""},{"$f":"INPUT!LC293","v":""},{"$f":"INPUT!LD293","v":""},{"$f":"INPUT!LE293","v":""},{"$f":"INPUT!LF293","v":""},{"$f":"INPUT!LG293","v":""},{"$f":"INPUT!LH293","v":""},null,{"$f":"INPUT!MB293","v":""},{"$f":"INPUT!MC293","v":""},{"$f":"INPUT!MD293","v":""},{"$f":"INPUT!ME293","v":""},{"$f":"INPUT!MF293","v":""},{"$f":"INPUT!MG293","v":""},{"$f":"INPUT!MH293","v":""},{"$f":"INPUT!MI293","v":""}]
[null,{"$f":"INPUT!EA294","v":""},{"$f":"INPUT!EB294","v":""},{"$f":"INPUT!EC294","v":""},{"$f":"INPUT!ED294","v":""},{"$f":"INPUT!EE294","v":""},{"$f":"INPUT!EF294","v":""},{"$f":"INPUT!EG294","v":""},"",null,{"$f":"INPUT!EY294","v":""},{"$f":"INPUT!EZ294","v":""},{"$f":"INPUT!FA294","v":""},{"$f":"INPUT!FB294","v":""},{"$f":"INPUT!FC294","v":""},{"$f":"INPUT!FD294","v":""},{"$f":"INPUT!FE294","v":""},"",null,{"$f":"INPUT!FW294","v":""},{"$f":"INPUT!FX294","v":""},{"$f":"INPUT!FY294","v":""},{"$f":"INPUT!FZ294","v":""},{"$f":"INPUT!GA294","v":""},{"$f":"INPUT!GB294","v":""},{"$f":"INPUT!GC294","v":""},null,{"$f":"INPUT!GY294","v":""},{"$f":"INPUT!GZ294","v":""},{"$f":"INPUT!HA294","v":""},{"$f":"INPUT!HB294","v":""},{"$f":"INPUT!HC294","v":""},{"$f":"INPUT!HD294","v":""},{"$f":"INPUT!HE294","v":""},{"$f":"INPUT!HF294","v":""},{"$f":"INPUT!HG294","v":""},null,{"$f":"INPUT!IA294","v":""},{"$f":"INPUT!IB294","v":""},{"$f":"INPUT!IC294","v":""},{"$f":"INPUT!ID294","v":""},{"$f":"INPUT!IE294","v":""},{"$f":"INPUT!IF294","v":""},{"$f":"INPUT!IG294","v":""},{"$f":"INPUT!IH294","v":""},null,{"$f":"INPUT!IZ294","v":""},{"$f":"INPUT!JA294","v":""},{"$f":"INPUT!JB294","v":""},{"$f":"INPUT!JC294","v":""},{"$f":"INPUT!JD294","v":""},{"$f":"INPUT!JE294","v":""},{"$f":"INPUT!JF294","v":""},"",null,{"$f":"INPUT!JX294","v":""},{"$f":"INPUT!JY294","v":""},{"$f":"INPUT!JZ294","v":""},{"$f":"INPUT!KA294","v":""},{"$f":"INPUT!KB294","v":""},{"$f":"INPUT!KC294","v":""},{"$f":"INPUT!KD294","v":""},"",null,{"$f":"INPUT!KZ294","v":""},{"$f":"INPUT!LA294","v":""},{"$f":"INPUT!LB294","v":""},{"$f":"INPUT!LC294","v":""},{"$f":"INPUT!LD294","v":""},{"$f":"INPUT!LE294","v":""},{"$f":"INPUT!LF294","v":""},{"$f":"INPUT!LG294","v":""},{"$f":"INPUT!LH294","v":""},null,{"$f":"INPUT!MB294","v":""},{"$f":"INPUT!MC294","v":""},{"$f":"INPUT!MD294","v":""},{"$f":"INPUT!ME294","v":""},{"$f":"INPUT!MF294","v":""},{"$f":"INPUT!MG294","v":""},{"$f":"INPUT!MH294","v":""},{"$f":"INPUT!MI294","v":""}]
[null,{"$f":"INPUT!EA295","v":""},{"$f":"INPUT!EB295","v":""},{"$f":"INPUT!EC295","v":""},{"$f":"INPUT!ED295","v":""},{"$f":"INPUT!EE295","v":""},{"$f":"INPUT!EF295","v":""},{"$f":"INPUT!EG295","v":""},"",null,{"$f":"INPUT!EY295","v":""},{"$f":"INPUT!EZ295","v":""},{"$f":"INPUT!FA295","v":""},{"$f":"INPUT!FB295","v":""},{"$f":"INPUT!FC295","v":""},{"$f":"INPUT!FD295","v":""},{"$f":"INPUT!FE295","v":""},"",null,{"$f":"INPUT!FW295","v":""},{"$f":"INPUT!FX295","v":""},{"$f":"INPUT!FY295","v":""},{"$f":"INPUT!FZ295","v":""},{"$f":"INPUT!GA295","v":""},{"$f":"INPUT!GB295","v":""},{"$f":"INPUT!GC295","v":""},null,{"$f":"INPUT!GY295","v":""},{"$f":"INPUT!GZ295","v":""},{"$f":"INPUT!HA295","v":""},{"$f":"INPUT!HB295","v":""},{"$f":"INPUT!HC295","v":""},{"$f":"INPUT!HD295","v":""},{"$f":"INPUT!HE295","v":""},{"$f":"INPUT!HF295","v":""},{"$f":"INPUT!HG295","v":""},null,{"$f":"INPUT!IA295","v":""},{"$f":"INPUT!IB295","v":""},{"$f":"INPUT!IC295","v":""},{"$f":"INPUT!ID295","v":""},{"$f":"INPUT!IE295","v":""},{"$f":"INPUT!IF295","v":""},{"$f":"INPUT!IG295","v":""},{"$f":"INPUT!IH295","v":""},null,{"$f":"INPUT!IZ295","v":""},{"$f":"INPUT!JA295","v":""},{"$f":"INPUT!JB295","v":""},{"$f":"INPUT!JC295","v":""},{"$f":"INPUT!JD295","v":""},{"$f":"INPUT!JE295","v":""},{"$f":"INPUT!JF295","v":""},"",null,{"$f":"INPUT!JX295","v":""},{"$f":"INPUT!JY295","v":""},{"$f":"INPUT!JZ295","v":""},{"$f":"INPUT!KA295","v":""},{"$f":"INPUT!KB295","v":""},{"$f":"INPUT!KC295","v":""},{"$f":"INPUT!KD295","v":""},"",null,{"$f":"INPUT!KZ295","v":""},{"$f":"INPUT!LA295","v":""},{"$f":"INPUT!LB295","v":""},{"$f":"INPUT!LC295","v":""},{"$f":"INPUT!LD295","v":""},{"$f":"INPUT!LE295","v":""},{"$f":"INPUT!LF295","v":""},{"$f":"INPUT!LG295","v":""},{"$f":"INPUT!LH295","v":""},null,{"$f":"INPUT!MB295","v":""},{"$f":"INPUT!MC295","v":""},{"$f":"INPUT!MD295","v":""},{"$f":"INPUT!ME295","v":""},{"$f":"INPUT!MF295","v":""},{"$f":"INPUT!MG295","v":""},{"$f":"INPUT!MH295","v":""},{"$f":"INPUT!MI295","v":""}]
[null,{"$f":"INPUT!EA296","v":""},{"$f":"INPUT!EB296","v":""},{"$f":"INPUT!EC296","v":""},{"$f":"INPUT!ED296","v":""},{"$f":"INPUT!EE296","v":""},{"$f":"INPUT!EF296","v":""},{"$f":"INPUT!EG296","v":""},"",null,{"$f":"INPUT!EY296","v":""},{"$f":"INPUT!EZ296","v":""},{"$f":"INPUT!FA296","v":""},{"$f":"INPUT!FB296","v":""},{"$f":"INPUT!FC296","v":""},{"$f":"INPUT!FD296","v":""},{"$f":"INPUT!FE296","v":""},"",null,{"$f":"INPUT!FW296","v":""},{"$f":"INPUT!FX296","v":""},{"$f":"INPUT!FY296","v":""},{"$f":"INPUT!FZ296","v":""},{"$f":"INPUT!GA296","v":""},{"$f":"INPUT!GB296","v":""},{"$f":"INPUT!GC296","v":""},null,{"$f":"INPUT!GY296","v":""},{"$f":"INPUT!GZ296","v":""},{"$f":"INPUT!HA296","v":""},{"$f":"INPUT!HB296","v":""},{"$f":"INPUT!HC296","v":""},{"$f":"INPUT!HD296","v":""},{"$f":"INPUT!HE296","v":""},{"$f":"INPUT!HF296","v":""},{"$f":"INPUT!HG296","v":""},null,{"$f":"INPUT!IA296","v":""},{"$f":"INPUT!IB296","v":""},{"$f":"INPUT!IC296","v":""},{"$f":"INPUT!ID296","v":""},{"$f":"INPUT!IE296","v":""},{"$f":"INPUT!IF296","v":""},{"$f":"INPUT!IG296","v":""},{"$f":"INPUT!IH296","v":""},null,{"$f":"INPUT!IZ296","v":""},{"$f":"INPUT!JA296","v":""},{"$f":"INPUT!JB296","v":""},{"$f":"INPUT!JC296","v":""},{"$f":"INPUT!JD296","v":""},{"$f":"INPUT!JE296","v":""},{"$f":"INPUT!JF296","v":""},"",null,{"$f":"INPUT!JX296","v":""},{"$f":"INPUT!JY296","v":""},{"$f":"INPUT!JZ296","v":""},{"$f":"INPUT!KA296","v":""},{"$f":"INPUT!KB296","v":""},{"$f":"INPUT!KC296","v":""},{"$f":"INPUT!KD296","v":""},"",null,{"$f":"INPUT!KZ296","v":""},{"$f":"INPUT!LA296","v":""},{"$f":"INPUT!LB296","v":""},{"$f":"INPUT!LC296","v":""},{"$f":"INPUT!LD296","v":""},{"$f":"INPUT!LE296","v":""},{"$f":"INPUT!LF296","v":""},{"$f":"INPUT!LG296","v":""},{"$f":"INPUT!LH296","v":""},null,{"$f":"INPUT!MB296","v":""},{"$f":"INPUT!MC296","v":""},{"$f":"INPUT!MD296","v":""},{"$f":"INPUT!ME296","v":""},{"$f":"INPUT!MF296","v":""},{"$f":"INPUT!MG296","v":""},{"$f":"INPUT!MH296","v":""},{"$f":"INPUT!MI296","v":""}]
[null,{"$f":"INPUT!EA297","v":""},{"$f":"INPUT!EB297","v":""},{"$f":"INPUT!EC297","v":""},{"$f":"INPUT!ED297","v":""},{"$f":"INPUT!EE297","v":""},{"$f":"INPUT!EF297","v":""},{"$f":"INPUT!EG297","v":""},"",null,{"$f":"INPUT!EY297","v":""},{"$f":"INPUT!EZ297","v":""},{"$f":"INPUT!FA297","v":""},{"$f":"INPUT!FB297","v":""},{"$f":"INPUT!FC297","v":""},{"$f":"INPUT!FD297","v":""},{"$f":"INPUT!FE297","v":""},"",null,{"$f":"INPUT!FW297","v":""},{"$f":"INPUT!FX297","v":""},{"$f":"INPUT!FY297","v":""},{"$f":"INPUT!FZ297","v":""},{"$f":"INPUT!GA297","v":""},{"$f":"INPUT!GB297","v":""},{"$f":"INPUT!GC297","v":""},null,{"$f":"INPUT!GY297","v":""},{"$f":"INPUT!GZ297","v":""},{"$f":"INPUT!HA297","v":""},{"$f":"INPUT!HB297","v":""},{"$f":"INPUT!HC297","v":""},{"$f":"INPUT!HD297","v":""},{"$f":"INPUT!HE297","v":""},{"$f":"INPUT!HF297","v":""},{"$f":"INPUT!HG297","v":""},null,{"$f":"INPUT!IA297","v":""},{"$f":"INPUT!IB297","v":""},{"$f":"INPUT!IC297","v":""},{"$f":"INPUT!ID297","v":""},{"$f":"INPUT!IE297","v":""},{"$f":"INPUT!IF297","v":""},{"$f":"INPUT!IG297","v":""},{"$f":"INPUT!IH297","v":""},null,{"$f":"INPUT!IZ297","v":""},{"$f":"INPUT!JA297","v":""},{"$f":"INPUT!JB297","v":""},{"$f":"INPUT!JC297","v":""},{"$f":"INPUT!JD297","v":""},{"$f":"INPUT!JE297","v":""},{"$f":"INPUT!JF297","v":""},"",null,{"$f":"INPUT!JX297","v":""},{"$f":"INPUT!JY297","v":""},{"$f":"INPUT!JZ297","v":""},{"$f":"INPUT!KA297","v":""},{"$f":"INPUT!KB297","v":""},{"$f":"INPUT!KC297","v":""},{"$f":"INPUT!KD297","v":""},"",null,{"$f":"INPUT!KZ297","v":""},{"$f":"INPUT!LA297","v":""},{"$f":"INPUT!LB297","v":""},{"$f":"INPUT!LC297","v":""},{"$f":"INPUT!LD297","v":""},{"$f":"INPUT!LE297","v":""},{"$f":"INPUT!LF297","v":""},{"$f":"INPUT!LG297","v":""},{"$f":"INPUT!LH297","v":""},null,{"$f":"INPUT!MB297","v":""},{"$f":"INPUT!MC297","v":""},{"$f":"INPUT!MD297","v":""},{"$f":"INPUT!ME297","v":""},{"$f":"INPUT!MF297","v":""},{"$f":"INPUT!MG297","v":""},{"$f":"INPUT!MH297","v":""},{"$f":"INPUT!MI297","v":""}]
[null,{"$f":"INPUT!EA298","v":""},{"$f":"INPUT!EB298","v":""},{"$f":"INPUT!EC298","v":""},{"$f":"INPUT!ED298","v":""},{"$f":"INPUT!EE298","v":""},{"$f":"INPUT!EF298","v":""},{"$f":"INPUT!EG298","v":""},"",null,{"$f":"INPUT!EY298","v":""},{"$f":"INPUT!EZ298","v":""},{"$f":"INPUT!FA298","v":""},{"$f":"INPUT!FB298","v":""},{"$f":"INPUT!FC298","v":""},{"$f":"INPUT!FD298","v":""},{"$f":"INPUT!FE298","v":""},"",null,{"$f":"INPUT!FW298","v":""},{"$f":"INPUT!FX298","v":""},{"$f":"INPUT!FY298","v":""},{"$f":"INPUT!FZ298","v":""},{"$f":"INPUT!GA298","v":""},{"$f":"INPUT!GB298","v":""},{"$f":"INPUT!GC298","v":""},null,{"$f":"INPUT!GY298","v":""},{"$f":"INPUT!GZ298","v":""},{"$f":"INPUT!HA298","v":""},{"$f":"INPUT!HB298","v":""},{"$f":"INPUT!HC298","v":""},{"$f":"INPUT!HD298","v":""},{"$f":"INPUT!HE298","v":""},{"$f":"INPUT!HF298","v":""},{"$f":"INPUT!HG298","v":""},null,{"$f":"INPUT!IA298","v":""},{"$f":"INPUT!IB298","v":""},{"$f":"INPUT!IC298","v":""},{"$f":"INPUT!ID298","v":""},{"$f":"INPUT!IE298","v":""},{"$f":"INPUT!IF298","v":""},{"$f":"INPUT!IG298","v":""},{"$f":"INPUT!IH298","v":""},null,{"$f":"INPUT!IZ298","v":""},{"$f":"INPUT!JA298","v":""},{"$f":"INPUT!JB298","v":""},{"$f":"INPUT!JC298","v":""},{"$f":"INPUT!JD298","v":""},{"$f":"INPUT!JE298","v":""},{"$f":"INPUT!JF298","v":""},"",null,{"$f":"INPUT!JX298","v":""},{"$f":"INPUT!JY298","v":""},{"$f":"INPUT!JZ298","v":""},{"$f":"INPUT!KA298","v":""},{"$f":"INPUT!KB298","v":""},{"$f":"INPUT!KC298","v":""},{"$f":"INPUT!KD298","v":""},"",null,{"$f":"INPUT!KZ298","v":""},{"$f":"INPUT!LA298","v":""},{"$f":"INPUT!LB298","v":""},{"$f":"INPUT!LC298","v":""},{"$f":"INPUT!LD298","v":""},{"$f":"INPUT!LE298","v":""},{"$f":"INPUT!LF298","v":""},{"$f":"INPUT!LG298","v":""},{"$f":"INPUT!LH298","v":""},null,{"$f":"INPUT!MB298","v":""},{"$f":"INPUT!MC298","v":""},{"$f":"INPUT!MD298","v":""},{"$f":"INPUT!ME298","v":""},{"$f":"INPUT!MF298","v":""},{"$f":"INPUT!MG298","v":""},{"$f":"INPUT!MH298","v":""},{"$f":"INPUT!MI298","v":""}]
[null,{"$f":"INPUT!EA299","v":""},{"$f":"INPUT!EB299","v":""},{"$f":"INPUT!EC299","v":""},{"$f":"INPUT!ED299","v":""},{"$f":"INPUT!EE299","v":""},{"$f":"INPUT!EF299","v":""},{"$f":"INPUT!EG299","v":""},"",null,{"$f":"INPUT!EY299","v":""},{"$f":"INPUT!EZ299","v":""},{"$f":"INPUT!FA299","v":""},{"$f":"INPUT!FB299","v":""},{"$f":"INPUT!FC299","v":""},{"$f":"INPUT!FD299","v":""},{"$f":"INPUT!FE299","v":""},"",null,{"$f":"INPUT!FW299","v":""},{"$f":"INPUT!FX299","v":""},{"$f":"INPUT!FY299","v":""},{"$f":"INPUT!FZ299","v":""},{"$f":"INPUT!GA299","v":""},{"$f":"INPUT!GB299","v":""},{"$f":"INPUT!GC299","v":""},null,{"$f":"INPUT!GY299","v":""},{"$f":"INPUT!GZ299","v":""},{"$f":"INPUT!HA299","v":""},{"$f":"INPUT!HB299","v":""},{"$f":"INPUT!HC299","v":""},{"$f":"INPUT!HD299","v":""},{"$f":"INPUT!HE299","v":""},{"$f":"INPUT!HF299","v":""},{"$f":"INPUT!HG299","v":""},null,{"$f":"INPUT!IA299","v":""},{"$f":"INPUT!IB299","v":""},{"$f":"INPUT!IC299","v":""},{"$f":"INPUT!ID299","v":""},{"$f":"INPUT!IE299","v":""},{"$f":"INPUT!IF299","v":""},{"$f":"INPUT!IG299","v":""},{"$f":"INPUT!IH299","v":""},null,{"$f":"INPUT!IZ299","v":""},{"$f":"INPUT!JA299","v":""},{"$f":"INPUT!JB299","v":""},{"$f":"INPUT!JC299","v":""},{"$f":"INPUT!JD299","v":""},{"$f":"INPUT!JE299","v":""},{"$f":"INPUT!JF299","v":""},"",null,{"$f":"INPUT!JX299","v":""},{"$f":"INPUT!JY299","v":""},{"$f":"INPUT!JZ299","v":""},{"$f":"INPUT!KA299","v":""},{"$f":"INPUT!KB299","v":""},{"$f":"INPUT!KC299","v":""},{"$f":"INPUT!KD299","v":""},"",null,{"$f":"INPUT!KZ299","v":""},{"$f":"INPUT!LA299","v":""},{"$f":"INPUT!LB299","v":""},{"$f":"INPUT!LC299","v":""},{"$f":"INPUT!LD299","v":""},{"$f":"INPUT!LE299","v":""},{"$f":"INPUT!LF299","v":""},{"$f":"INPUT!LG299","v":""},{"$f":"INPUT!LH299","v":""},null,{"$f":"INPUT!MB299","v":""},{"$f":"INPUT!MC299","v":""},{"$f":"INPUT!MD299","v":""},{"$f":"INPUT!ME299","v":""},{"$f":"INPUT!MF299","v":""},{"$f":"INPUT!MG299","v":""},{"$f":"INPUT!MH299","v":""},{"$f":"INPUT!MI299","v":""}]
[null,{"$f":"INPUT!EA300","v":""},{"$f":"INPUT!EB300","v":""},{"$f":"INPUT!EC300","v":""},{"$f":"INPUT!ED300","v":""},{"$f":"INPUT!EE300","v":""},{"$f":"INPUT!EF300","v":""},{"$f":"INPUT!EG300","v":""},"",null,{"$f":"INPUT!EY300","v":""},{"$f":"INPUT!EZ300","v":""},{"$f":"INPUT!FA300","v":""},{"$f":"INPUT!FB300","v":""},{"$f":"INPUT!FC300","v":""},{"$f":"INPUT!FD300","v":""},{"$f":"INPUT!FE300","v":""},"",null,{"$f":"INPUT!FW300","v":""},{"$f":"INPUT!FX300","v":""},{"$f":"INPUT!FY300","v":""},{"$f":"INPUT!FZ300","v":""},{"$f":"INPUT!GA300","v":""},{"$f":"INPUT!GB300","v":""},{"$f":"INPUT!GC300","v":""},null,{"$f":"INPUT!GY300","v":""},{"$f":"INPUT!GZ300","v":""},{"$f":"INPUT!HA300","v":""},{"$f":"INPUT!HB300","v":""},{"$f":"INPUT!HC300","v":""},{"$f":"INPUT!HD300","v":""},{"$f":"INPUT!HE300","v":""},{"$f":"INPUT!HF300","v":""},{"$f":"INPUT!HG300","v":""},null,{"$f":"INPUT!IA300","v":""},{"$f":"INPUT!IB300","v":""},{"$f":"INPUT!IC300","v":""},{"$f":"INPUT!ID300","v":""},{"$f":"INPUT!IE300","v":""},{"$f":"INPUT!IF300","v":""},{"$f":"INPUT!IG300","v":""},{"$f":"INPUT!IH300","v":""},null,{"$f":"INPUT!IZ300","v":""},{"$f":"INPUT!JA300","v":""},{"$f":"INPUT!JB300","v":""},{"$f":"INPUT!JC300","v":""},{"$f":"INPUT!JD300","v":""},{"$f":"INPUT!JE300","v":""},{"$f":"INPUT!JF300","v":""},"",null,{"$f":"INPUT!JX300","v":""},{"$f":"INPUT!JY300","v":""},{"$f":"INPUT!JZ300","v":""},{"$f":"INPUT!KA300","v":""},{"$f":"INPUT!KB300","v":""},{"$f":"INPUT!KC300","v":""},{"$f":"INPUT!KD300","v":""},"",null,{"$f":"INPUT!KZ300","v":""},{"$f":"INPUT!LA300","v":""},{"$f":"INPUT!LB300","v":""},{"$f":"INPUT!LC300","v":""},{"$f":"INPUT!LD300","v":""},{"$f":"INPUT!LE300","v":""},{"$f":"INPUT!LF300","v":""},{"$f":"INPUT!LG300","v":""},{"$f":"INPUT!LH300","v":""},null,{"$f":"INPUT!MB300","v":""},{"$f":"INPUT!MC300","v":""},{"$f":"INPUT!MD300","v":""},{"$f":"INPUT!ME300","v":""},{"$f":"INPUT!MF300","v":""},{"$f":"INPUT!MG300","v":""},{"$f":"INPUT!MH300","v":""},{"$f":"INPUT!MI300","v":""}]
[null,{"$f":"INPUT!EA301","v":""},{"$f":"INPUT!EB301","v":""},{"$f":"INPUT!EC301","v":""},{"$f":"INPUT!ED301","v":""},{"$f":"INPUT!EE301","v":""},{"$f":"INPUT!EF301","v":""},{"$f":"INPUT!EG301","v":""},"",null,{"$f":"INPUT!EY301","v":""},{"$f":"INPUT!EZ301","v":""},{"$f":"INPUT!FA301","v":""},{"$f":"INPUT!FB301","v":""},{"$f":"INPUT!FC301","v":""},{"$f":"INPUT!FD301","v":""},{"$f":"INPUT!FE301","v":""},"",null,{"$f":"INPUT!FW301","v":""},{"$f":"INPUT!FX301","v":""},{"$f":"INPUT!FY301","v":""},{"$f":"INPUT!FZ301","v":""},{"$f":"INPUT!GA301","v":""},{"$f":"INPUT!GB301","v":""},{"$f":"INPUT!GC301","v":""},null,{"$f":"INPUT!GY301","v":""},{"$f":"INPUT!GZ301","v":""},{"$f":"INPUT!HA301","v":""},{"$f":"INPUT!HB301","v":""},{"$f":"INPUT!HC301","v":""},{"$f":"INPUT!HD301","v":""},{"$f":"INPUT!HE301","v":""},{"$f":"INPUT!HF301","v":""},{"$f":"INPUT!HG301","v":""},null,{"$f":"INPUT!IA301","v":""},{"$f":"INPUT!IB301","v":""},{"$f":"INPUT!IC301","v":""},{"$f":"INPUT!ID301","v":""},{"$f":"INPUT!IE301","v":""},{"$f":"INPUT!IF301","v":""},{"$f":"INPUT!IG301","v":""},{"$f":"INPUT!IH301","v":""},null,{"$f":"INPUT!IZ301","v":""},{"$f":"INPUT!JA301","v":""},{"$f":"INPUT!JB301","v":""},{"$f":"INPUT!JC301","v":""},{"$f":"INPUT!JD301","v":""},{"$f":"INPUT!JE301","v":""},{"$f":"INPUT!JF301","v":""},"",null,{"$f":"INPUT!JX301","v":""},{"$f":"INPUT!JY301","v":""},{"$f":"INPUT!JZ301","v":""},{"$f":"INPUT!KA301","v":""},{"$f":"INPUT!KB301","v":""},{"$f":"INPUT!KC301","v":""},{"$f":"INPUT!KD301","v":""},"",null,{"$f":"INPUT!KZ301","v":""},{"$f":"INPUT!LA301","v":""},{"$f":"INPUT!LB301","v":""},{"$f":"INPUT!LC301","v":""},{"$f":"INPUT!LD301","v":""},{"$f":"INPUT!LE301","v":""},{"$f":"INPUT!LF301","v":""},{"$f":"INPUT!LG301","v":""},{"$f":"INPUT!LH301","v":""},null,{"$f":"INPUT!MB301","v":""},{"$f":"INPUT!MC301","v":""},{"$f":"INPUT!MD301","v":""},{"$f":"INPUT!ME301","v":""},{"$f":"INPUT!MF301","v":""},{"$f":"INPUT!MG301","v":""},{"$f":"INPUT!MH301","v":""},{"$f":"INPUT!MI301","v":""}]
[null,{"$f":"INPUT!EA302","v":""},{"$f":"INPUT!EB302","v":""},{"$f":"INPUT!EC302","v":""},{"$f":"INPUT!ED302","v":""},{"$f":"INPUT!EE302","v":""},{"$f":"INPUT!EF302","v":""},{"$f":"INPUT!EG302","v":""},"",null,{"$f":"INPUT!EY302","v":""},{"$f":"INPUT!EZ302","v":""},{"$f":"INPUT!FA302","v":""},{"$f":"INPUT!FB302","v":""},{"$f":"INPUT!FC302","v":""},{"$f":"INPUT!FD302","v":""},{"$f":"INPUT!FE302","v":""},"",null,{"$f":"INPUT!FW302","v":""},{"$f":"INPUT!FX302","v":""},{"$f":"INPUT!FY302","v":""},{"$f":"INPUT!FZ302","v":""},{"$f":"INPUT!GA302","v":""},{"$f":"INPUT!GB302","v":""},{"$f":"INPUT!GC302","v":""},null,{"$f":"INPUT!GY302","v":""},{"$f":"INPUT!GZ302","v":""},{"$f":"INPUT!HA302","v":""},{"$f":"INPUT!HB302","v":""},{"$f":"INPUT!HC302","v":""},{"$f":"INPUT!HD302","v":""},{"$f":"INPUT!HE302","v":""},{"$f":"INPUT!HF302","v":""},{"$f":"INPUT!HG302","v":""},null,{"$f":"INPUT!IA302","v":""},{"$f":"INPUT!IB302","v":""},{"$f":"INPUT!IC302","v":""},{"$f":"INPUT!ID302","v":""},{"$f":"INPUT!IE302","v":""},{"$f":"INPUT!IF302","v":""},{"$f":"INPUT!IG302","v":""},{"$f":"INPUT!IH302","v":""},null,{"$f":"INPUT!IZ302","v":""},{"$f":"INPUT!JA302","v":""},{"$f":"INPUT!JB302","v":""},{"$f":"INPUT!JC302","v":""},{"$f":"INPUT!JD302","v":""},{"$f":"INPUT!JE302","v":""},{"$f":"INPUT!JF302","v":""},"",null,{"$f":"INPUT!JX302","v":""},{"$f":"INPUT!JY302","v":""},{"$f":"INPUT!JZ302","v":""},{"$f":"INPUT!KA302","v":""},{"$f":"INPUT!KB302","v":""},{"$f":"INPUT!KC302","v":""},{"$f":"INPUT!KD302","v":""},"",null,{"$f":"INPUT!KZ302","v":""},{"$f":"INPUT!LA302","v":""},{"$f":"INPUT!LB302","v":""},{"$f":"INPUT!LC302","v":""},{"$f":"INPUT!LD302","v":""},{"$f":"INPUT!LE302","v":""},{"$f":"INPUT!LF302","v":""},{"$f":"INPUT!LG302","v":""},{"$f":"INPUT!LH302","v":""},null,{"$f":"INPUT!MB302","v":""},{"$f":"INPUT!MC302","v":""},{"$f":"INPUT!MD302","v":""},{"$f":"INPUT!ME302","v":""},{"$f":"INPUT!MF302","v":""},{"$f":"INPUT!MG302","v":""},{"$f":"INPUT!MH302","v":""},{"$f":"INPUT!MI302","v":""}]
[null,{"$f":"INPUT!EA303","v":""},{"$f":"INPUT!EB303","v":""},{"$f":"INPUT!EC303","v":""},{"$f":"INPUT!ED303","v":""},{"$f":"INPUT!EE303","v":""},{"$f":"INPUT!EF303","v":""},{"$f":"INPUT!EG303","v":""},"",null,{"$f":"INPUT!EY303","v":""},{"$f":"INPUT!EZ303","v":""},{"$f":"INPUT!FA303","v":""},{"$f":"INPUT!FB303","v":""},{"$f":"INPUT!FC303","v":""},{"$f":"INPUT!FD303","v":""},{"$f":"INPUT!FE303","v":""},"",null,{"$f":"INPUT!FW303","v":""},{"$f":"INPUT!FX303","v":""},{"$f":"INPUT!FY303","v":""},{"$f":"INPUT!FZ303","v":""},{"$f":"INPUT!GA303","v":""},{"$f":"INPUT!GB303","v":""},{"$f":"INPUT!GC303","v":""},null,{"$f":"INPUT!GY303","v":""},{"$f":"INPUT!GZ303","v":""},{"$f":"INPUT!HA303","v":""},{"$f":"INPUT!HB303","v":""},{"$f":"INPUT!HC303","v":""},{"$f":"INPUT!HD303","v":""},{"$f":"INPUT!HE303","v":""},{"$f":"INPUT!HF303","v":""},{"$f":"INPUT!HG303","v":""},null,{"$f":"INPUT!IA303","v":""},{"$f":"INPUT!IB303","v":""},{"$f":"INPUT!IC303","v":""},{"$f":"INPUT!ID303","v":""},{"$f":"INPUT!IE303","v":""},{"$f":"INPUT!IF303","v":""},{"$f":"INPUT!IG303","v":""},{"$f":"INPUT!IH303","v":""},null,{"$f":"INPUT!IZ303","v":""},{"$f":"INPUT!JA303","v":""},{"$f":"INPUT!JB303","v":""},{"$f":"INPUT!JC303","v":""},{"$f":"INPUT!JD303","v":""},{"$f":"INPUT!JE303","v":""},{"$f":"INPUT!JF303","v":""},"",null,{"$f":"INPUT!JX303","v":""},{"$f":"INPUT!JY303","v":""},{"$f":"INPUT!JZ303","v":""},{"$f":"INPUT!KA303","v":""},{"$f":"INPUT!KB303","v":""},{"$f":"INPUT!KC303","v":""},{"$f":"INPUT!KD303","v":""},"",null,{"$f":"INPUT!KZ303","v":""},{"$f":"INPUT!LA303","v":""},{"$f":"INPUT!LB303","v":""},{"$f":"INPUT!LC303","v":""},{"$f":"INPUT!LD303","v":""},{"$f":"INPUT!LE303","v":""},{"$f":"INPUT!LF303","v":""},{"$f":"INPUT!LG303","v":""},{"$f":"INPUT!LH303","v":""},null,{"$f":"INPUT!MB303","v":""},{"$f":"INPUT!MC303","v":""},{"$f":"INPUT!MD303","v":""},{"$f":"INPUT!ME303","v":""},{"$f":"INPUT!MF303","v":""},{"$f":"INPUT!MG303","v":""},{"$f":"INPUT!MH303","v":""},{"$f":"INPUT!MI303","v":""}]
[null,{"$f":"INPUT!EA304","v":""},{"$f":"INPUT!EB304","v":""},{"$f":"INPUT!EC304","v":""},{"$f":"INPUT!ED304","v":""},{"$f":"INPUT!EE304","v":""},{"$f":"INPUT!EF304","v":""},{"$f":"INPUT!EG304","v":""},"",null,{"$f":"INPUT!EY304","v":""},{"$f":"INPUT!EZ304","v":""},{"$f":"INPUT!FA304","v":""},{"$f":"INPUT!FB304","v":""},{"$f":"INPUT!FC304","v":""},{"$f":"INPUT!FD304","v":""},{"$f":"INPUT!FE304","v":""},"",null,{"$f":"INPUT!FW304","v":""},{"$f":"INPUT!FX304","v":""},{"$f":"INPUT!FY304","v":""},{"$f":"INPUT!FZ304","v":""},{"$f":"INPUT!GA304","v":""},{"$f":"INPUT!GB304","v":""},{"$f":"INPUT!GC304","v":""},null,{"$f":"INPUT!GY304","v":""},{"$f":"INPUT!GZ304","v":""},{"$f":"INPUT!HA304","v":""},{"$f":"INPUT!HB304","v":""},{"$f":"INPUT!HC304","v":""},{"$f":"INPUT!HD304","v":""},{"$f":"INPUT!HE304","v":""},{"$f":"INPUT!HF304","v":""},{"$f":"INPUT!HG304","v":""},null,{"$f":"INPUT!IA304","v":""},{"$f":"INPUT!IB304","v":""},{"$f":"INPUT!IC304","v":""},{"$f":"INPUT!ID304","v":""},{"$f":"INPUT!IE304","v":""},{"$f":"INPUT!IF304","v":""},{"$f":"INPUT!IG304","v":""},{"$f":"INPUT!IH304","v":""},null,{"$f":"INPUT!IZ304","v":""},{"$f":"INPUT!JA304","v":""},{"$f":"INPUT!JB304","v":""},{"$f":"INPUT!JC304","v":""},{"$f":"INPUT!JD304","v":""},{"$f":"INPUT!JE304","v":""},{"$f":"INPUT!JF304","v":""},"",null,{"$f":"INPUT!JX304","v":""},{"$f":"INPUT!JY304","v":""},{"$f":"INPUT!JZ304","v":""},{"$f":"INPUT!KA304","v":""},{"$f":"INPUT!KB304","v":""},{"$f":"INPUT!KC304","v":""},{"$f":"INPUT!KD304","v":""},"",null,{"$f":"INPUT!KZ304","v":""},{"$f":"INPUT!LA304","v":""},{"$f":"INPUT!LB304","v":""},{"$f":"INPUT!LC304","v":""},{"$f":"INPUT!LD304","v":""},{"$f":"INPUT!LE304","v":""},{"$f":"INPUT!LF304","v":""},{"$f":"INPUT!LG304","v":""},{"$f":"INPUT!LH304","v":""},null,{"$f":"INPUT!MB304","v":""},{"$f":"INPUT!MC304","v":""},{"$f":"INPUT!MD304","v":""},{"$f":"INPUT!ME304","v":""},{"$f":"INPUT!MF304","v":""},{"$f":"INPUT!MG304","v":""},{"$f":"INPUT!MH304","v":""},{"$f":"INPUT!MI304","v":""}]
[null,{"$f":"INPUT!EA305","v":""},{"$f":"INPUT!EB305","v":""},{"$f":"INPUT!EC305","v":""},{"$f":"INPUT!ED305","v":""},{"$f":"INPUT!EE305","v":""},{"$f":"INPUT!EF305","v":""},{"$f":"INPUT!EG305","v":""},"",null,{"$f":"INPUT!EY305","v":""},{"$f":"INPUT!EZ305","v":""},{"$f":"INPUT!FA305","v":""},{"$f":"INPUT!FB305","v":""},{"$f":"INPUT!FC305","v":""},{"$f":"INPUT!FD305","v":""},{"$f":"INPUT!FE305","v":""},"",null,{"$f":"INPUT!FW305","v":""},{"$f":"INPUT!FX305","v":""},{"$f":"INPUT!FY305","v":""},{"$f":"INPUT!FZ305","v":""},{"$f":"INPUT!GA305","v":""},{"$f":"INPUT!GB305","v":""},{"$f":"INPUT!GC305","v":""},null,{"$f":"INPUT!GY305","v":""},{"$f":"INPUT!GZ305","v":""},{"$f":"INPUT!HA305","v":""},{"$f":"INPUT!HB305","v":""},{"$f":"INPUT!HC305","v":""},{"$f":"INPUT!HD305","v":""},{"$f":"INPUT!HE305","v":""},{"$f":"INPUT!HF305","v":""},{"$f":"INPUT!HG305","v":""},null,{"$f":"INPUT!IA305","v":""},{"$f":"INPUT!IB305","v":""},{"$f":"INPUT!IC305","v":""},{"$f":"INPUT!ID305","v":""},{"$f":"INPUT!IE305","v":""},{"$f":"INPUT!IF305","v":""},{"$f":"INPUT!IG305","v":""},{"$f":"INPUT!IH305","v":""},null,{"$f":"INPUT!IZ305","v":""},{"$f":"INPUT!JA305","v":""},{"$f":"INPUT!JB305","v":""},{"$f":"INPUT!JC305","v":""},{"$f":"INPUT!JD305","v":""},{"$f":"INPUT!JE305","v":""},{"$f":"INPUT!JF305","v":""},"",null,{"$f":"INPUT!JX305","v":""},{"$f":"INPUT!JY305","v":""},{"$f":"INPUT!JZ305","v":""},{"$f":"INPUT!KA305","v":""},{"$f":"INPUT!KB305","v":""},{"$f":"INPUT!KC305","v":""},{"$f":"INPUT!KD305","v":""},"",null,{"$f":"INPUT!KZ305","v":""},{"$f":"INPUT!LA305","v":""},{"$f":"INPUT!LB305","v":""},{"$f":"INPUT!LC305","v":""},{"$f":"INPUT!LD305","v":""},{"$f":"INPUT!LE305","v":""},{"$f":"INPUT!LF305","v":""},{"$f":"INPUT!LG305","v":""},{"$f":"INPUT!LH305","v":""},null,{"$f":"INPUT!MB305","v":""},{"$f":"INPUT!MC305","v":""},{"$f":"INPUT!MD305","v":""},{"$f":"INPUT!ME305","v":""},{"$f":"INPUT!MF305","v":""},{"$f":"INPUT!MG305","v":""},{"$f":"INPUT!MH305","v":""},{"$f":"INPUT!MI305","v":""}]
[null,{"$f":"INPUT!EA306","v":""},{"$f":"INPUT!EB306","v":""},{"$f":"INPUT!EC306","v":""},{"$f":"INPUT!ED306","v":""},{"$f":"INPUT!EE306","v":""},{"$f":"INPUT!EF306","v":""},{"$f":"INPUT!EG306","v":""},"",null,{"$f":"INPUT!EY306","v":""},{"$f":"INPUT!EZ306","v":""},{"$f":"INPUT!FA306","v":""},{"$f":"INPUT!FB306","v":""},{"$f":"INPUT!FC306","v":""},{"$f":"INPUT!FD306","v":""},{"$f":"INPUT!FE306","v":""},"",null,{"$f":"INPUT!FW306","v":""},{"$f":"INPUT!FX306","v":""},{"$f":"INPUT!FY306","v":""},{"$f":"INPUT!FZ306","v":""},{"$f":"INPUT!GA306","v":""},{"$f":"INPUT!GB306","v":""},{"$f":"INPUT!GC306","v":""},null,{"$f":"INPUT!GY306","v":""},{"$f":"INPUT!GZ306","v":""},{"$f":"INPUT!HA306","v":""},{"$f":"INPUT!HB306","v":""},{"$f":"INPUT!HC306","v":""},{"$f":"INPUT!HD306","v":""},{"$f":"INPUT!HE306","v":""},{"$f":"INPUT!HF306","v":""},{"$f":"INPUT!HG306","v":""},null,{"$f":"INPUT!IA306","v":""},{"$f":"INPUT!IB306","v":""},{"$f":"INPUT!IC306","v":""},{"$f":"INPUT!ID306","v":""},{"$f":"INPUT!IE306","v":""},{"$f":"INPUT!IF306","v":""},{"$f":"INPUT!IG306","v":""},{"$f":"INPUT!IH306","v":""},null,{"$f":"INPUT!IZ306","v":""},{"$f":"INPUT!JA306","v":""},{"$f":"INPUT!JB306","v":""},{"$f":"INPUT!JC306","v":""},{"$f":"INPUT!JD306","v":""},{"$f":"INPUT!JE306","v":""},{"$f":"INPUT!JF306","v":""},"",null,{"$f":"INPUT!JX306","v":""},{"$f":"INPUT!JY306","v":""},{"$f":"INPUT!JZ306","v":""},{"$f":"INPUT!KA306","v":""},{"$f":"INPUT!KB306","v":""},{"$f":"INPUT!KC306","v":""},{"$f":"INPUT!KD306","v":""},"",null,{"$f":"INPUT!KZ306","v":""},{"$f":"INPUT!LA306","v":""},{"$f":"INPUT!LB306","v":""},{"$f":"INPUT!LC306","v":""},{"$f":"INPUT!LD306","v":""},{"$f":"INPUT!LE306","v":""},{"$f":"INPUT!LF306","v":""},{"$f":"INPUT!LG306","v":""},{"$f":"INPUT!LH306","v":""},null,{"$f":"INPUT!MB306","v":""},{"$f":"INPUT!MC306","v":""},{"$f":"INPUT!MD306","v":""},{"$f":"INPUT!ME306","v":""},{"$f":"INPUT!MF306","v":""},{"$f":"INPUT!MG306","v":""},{"$f":"INPUT!MH306","v":""},{"$f":"INPUT!MI306","v":""}]
[null,{"$f":"INPUT!EA307","v":""},{"$f":"INPUT!EB307","v":""},{"$f":"INPUT!EC307","v":""},{"$f":"INPUT!ED307","v":""},{"$f":"INPUT!EE307","v":""},{"$f":"INPUT!EF307","v":""},{"$f":"INPUT!EG307","v":""},"",null,{"$f":"INPUT!EY307","v":""},{"$f":"INPUT!EZ307","v":""},{"$f":"INPUT!FA307","v":""},{"$f":"INPUT!FB307","v":""},{"$f":"INPUT!FC307","v":""},{"$f":"INPUT!FD307","v":""},{"$f":"INPUT!FE307","v":""},"",null,{"$f":"INPUT!FW307","v":""},{"$f":"INPUT!FX307","v":""},{"$f":"INPUT!FY307","v":""},{"$f":"INPUT!FZ307","v":""},{"$f":"INPUT!GA307","v":""},{"$f":"INPUT!GB307","v":""},{"$f":"INPUT!GC307","v":""},null,{"$f":"INPUT!GY307","v":""},{"$f":"INPUT!GZ307","v":""},{"$f":"INPUT!HA307","v":""},{"$f":"INPUT!HB307","v":""},{"$f":"INPUT!HC307","v":""},{"$f":"INPUT!HD307","v":""},{"$f":"INPUT!HE307","v":""},{"$f":"INPUT!HF307","v":""},{"$f":"INPUT!HG307","v":""},null,{"$f":"INPUT!IA307","v":""},{"$f":"INPUT!IB307","v":""},{"$f":"INPUT!IC307","v":""},{"$f":"INPUT!ID307","v":""},{"$f":"INPUT!IE307","v":""},{"$f":"INPUT!IF307","v":""},{"$f":"INPUT!IG307","v":""},{"$f":"INPUT!IH307","v":""},null,{"$f":"INPUT!IZ307","v":""},{"$f":"INPUT!JA307","v":""},{"$f":"INPUT!JB307","v":""},{"$f":"INPUT!JC307","v":""},{"$f":"INPUT!JD307","v":""},{"$f":"INPUT!JE307","v":""},{"$f":"INPUT!JF307","v":""},"",null,{"$f":"INPUT!JX307","v":""},{"$f":"INPUT!JY307","v":""},{"$f":"INPUT!JZ307","v":""},{"$f":"INPUT!KA307","v":""},{"$f":"INPUT!KB307","v":""},{"$f":"INPUT!KC307","v":""},{"$f":"INPUT!KD307","v":""},"",null,{"$f":"INPUT!KZ307","v":""},{"$f":"INPUT!LA307","v":""},{"$f":"INPUT!LB307","v":""},{"$f":"INPUT!LC307","v":""},{"$f":"INPUT!LD307","v":""},{"$f":"INPUT!LE307","v":""},{"$f":"INPUT!LF307","v":""},{"$f":"INPUT!LG307","v":""},{"$f":"INPUT!LH307","v":""},null,{"$f":"INPUT!MB307","v":""},{"$f":"INPUT!MC307","v":""},{"$f":"INPUT!MD307","v":""},{"$f":"INPUT!ME307","v":""},{"$f":"INPUT!MF307","v":""},{"$f":"INPUT!MG307","v":""},{"$f":"INPUT!MH307","v":""},{"$f":"INPUT!MI307","v":""}]
[null,{"$f":"INPUT!EA308","v":""},{"$f":"INPUT!EB308","v":""},{"$f":"INPUT!EC308","v":""},{"$f":"INPUT!ED308","v":""},{"$f":"INPUT!EE308","v":""},{"$f":"INPUT!EF308","v":""},{"$f":"INPUT!EG308","v":""},"",null,{"$f":"INPUT!EY308","v":""},{"$f":"INPUT!EZ308","v":""},{"$f":"INPUT!FA308","v":""},{"$f":"INPUT!FB308","v":""},{"$f":"INPUT!FC308","v":""},{"$f":"INPUT!FD308","v":""},{"$f":"INPUT!FE308","v":""},"",null,{"$f":"INPUT!FW308","v":""},{"$f":"INPUT!FX308","v":""},{"$f":"INPUT!FY308","v":""},{"$f":"INPUT!FZ308","v":""},{"$f":"INPUT!GA308","v":""},{"$f":"INPUT!GB308","v":""},{"$f":"INPUT!GC308","v":""},null,{"$f":"INPUT!GY308","v":""},{"$f":"INPUT!GZ308","v":""},{"$f":"INPUT!HA308","v":""},{"$f":"INPUT!HB308","v":""},{"$f":"INPUT!HC308","v":""},{"$f":"INPUT!HD308","v":""},{"$f":"INPUT!HE308","v":""},{"$f":"INPUT!HF308","v":""},{"$f":"INPUT!HG308","v":""},null,{"$f":"INPUT!IA308","v":""},{"$f":"INPUT!IB308","v":""},{"$f":"INPUT!IC308","v":""},{"$f":"INPUT!ID308","v":""},{"$f":"INPUT!IE308","v":""},{"$f":"INPUT!IF308","v":""},{"$f":"INPUT!IG308","v":""},{"$f":"INPUT!IH308","v":""},null,{"$f":"INPUT!IZ308","v":""},{"$f":"INPUT!JA308","v":""},{"$f":"INPUT!JB308","v":""},{"$f":"INPUT!JC308","v":""},{"$f":"INPUT!JD308","v":""},{"$f":"INPUT!JE308","v":""},{"$f":"INPUT!JF308","v":""},"",null,{"$f":"INPUT!JX308","v":""},{"$f":"INPUT!JY308","v":""},{"$f":"INPUT!JZ308","v":""},{"$f":"INPUT!KA308","v":""},{"$f":"INPUT!KB308","v":""},{"$f":"INPUT!KC308","v":""},{"$f":"INPUT!KD308","v":""},"",null,{"$f":"INPUT!KZ308","v":""},{"$f":"INPUT!LA308","v":""},{"$f":"INPUT!LB308","v":""},{"$f":"INPUT!LC308","v":""},{"$f":"INPUT!LD308","v":""},{"$f":"INPUT!LE308","v":""},{"$f":"INPUT!LF308","v":""},{"$f":"INPUT!LG308","v":""},{"$f":"INPUT!LH308","v":""},null,{"$f":"INPUT!MB308","v":""},{"$f":"INPUT!MC308","v":""},{"$f":"INPUT!MD308","v":""},{"$f":"INPUT!ME308","v":""},{"$f":"INPUT!MF308","v":""},{"$f":"INPUT!MG308","v":""},{"$f":"INPUT!MH308","v":""},{"$f":"INPUT!MI308","v":""}]
[null,{"$f":"INPUT!EA309","v":""},{"$f":"INPUT!EB309","v":""},{"$f":"INPUT!EC309","v":""},{"$f":"INPUT!ED309","v":""},{"$f":"INPUT!EE309","v":""},{"$f":"INPUT!EF309","v":""},{"$f":"INPUT!EG309","v":""},"",null,{"$f":"INPUT!EY309","v":""},{"$f":"INPUT!EZ309","v":""},{"$f":"INPUT!FA309","v":""},{"$f":"INPUT!FB309","v":""},{"$f":"INPUT!FC309","v":""},{"$f":"INPUT!FD309","v":""},{"$f":"INPUT!FE309","v":""},"",null,{"$f":"INPUT!FW309","v":""},{"$f":"INPUT!FX309","v":""},{"$f":"INPUT!FY309","v":""},{"$f":"INPUT!FZ309","v":""},{"$f":"INPUT!GA309","v":""},{"$f":"INPUT!GB309","v":""},{"$f":"INPUT!GC309","v":""},null,{"$f":"INPUT!GY309","v":""},{"$f":"INPUT!GZ309","v":""},{"$f":"INPUT!HA309","v":""},{"$f":"INPUT!HB309","v":""},{"$f":"INPUT!HC309","v":""},{"$f":"INPUT!HD309","v":""},{"$f":"INPUT!HE309","v":""},{"$f":"INPUT!HF309","v":""},{"$f":"INPUT!HG309","v":""},null,{"$f":"INPUT!IA309","v":""},{"$f":"INPUT!IB309","v":""},{"$f":"INPUT!IC309","v":""},{"$f":"INPUT!ID309","v":""},{"$f":"INPUT!IE309","v":""},{"$f":"INPUT!IF309","v":""},{"$f":"INPUT!IG309","v":""},{"$f":"INPUT!IH309","v":""},null,{"$f":"INPUT!IZ309","v":""},{"$f":"INPUT!JA309","v":""},{"$f":"INPUT!JB309","v":""},{"$f":"INPUT!JC309","v":""},{"$f":"INPUT!JD309","v":""},{"$f":"INPUT!JE309","v":""},{"$f":"INPUT!JF309","v":""},"",null,{"$f":"INPUT!JX309","v":""},{"$f":"INPUT!JY309","v":""},{"$f":"INPUT!JZ309","v":""},{"$f":"INPUT!KA309","v":""},{"$f":"INPUT!KB309","v":""},{"$f":"INPUT!KC309","v":""},{"$f":"INPUT!KD309","v":""},"",null,{"$f":"INPUT!KZ309","v":""},{"$f":"INPUT!LA309","v":""},{"$f":"INPUT!LB309","v":""},{"$f":"INPUT!LC309","v":""},{"$f":"INPUT!LD309","v":""},{"$f":"INPUT!LE309","v":""},{"$f":"INPUT!LF309","v":""},{"$f":"INPUT!LG309","v":""},{"$f":"INPUT!LH309","v":""},null,{"$f":"INPUT!MB309","v":""},{"$f":"INPUT!MC309","v":""},{"$f":"INPUT!MD309","v":""},{"$f":"INPUT!ME309","v":""},{"$f":"INPUT!MF309","v":""},{"$f":"INPUT!MG309","v":""},{"$f":"INPUT!MH309","v":""},{"$f":"INPUT!MI309","v":""}]
[null,{"$f":"INPUT!EA310","v":""},{"$f":"INPUT!EB310","v":""},{"$f":"INPUT!EC310","v":""},{"$f":"INPUT!ED310","v":""},{"$f":"INPUT!EE310","v":""},{"$f":"INPUT!EF310","v":""},{"$f":"INPUT!EG310","v":""},"",null,{"$f":"INPUT!EY310","v":""},{"$f":"INPUT!EZ310","v":""},{"$f":"INPUT!FA310","v":""},{"$f":"INPUT!FB310","v":""},{"$f":"INPUT!FC310","v":""},{"$f":"INPUT!FD310","v":""},{"$f":"INPUT!FE310","v":""},"",null,{"$f":"INPUT!FW310","v":""},{"$f":"INPUT!FX310","v":""},{"$f":"INPUT!FY310","v":""},{"$f":"INPUT!FZ310","v":""},{"$f":"INPUT!GA310","v":""},{"$f":"INPUT!GB310","v":""},{"$f":"INPUT!GC310","v":""},null,{"$f":"INPUT!GY310","v":""},{"$f":"INPUT!GZ310","v":""},{"$f":"INPUT!HA310","v":""},{"$f":"INPUT!HB310","v":""},{"$f":"INPUT!HC310","v":""},{"$f":"INPUT!HD310","v":""},{"$f":"INPUT!HE310","v":""},{"$f":"INPUT!HF310","v":""},{"$f":"INPUT!HG310","v":""},null,{"$f":"INPUT!IA310","v":""},{"$f":"INPUT!IB310","v":""},{"$f":"INPUT!IC310","v":""},{"$f":"INPUT!ID310","v":""},{"$f":"INPUT!IE310","v":""},{"$f":"INPUT!IF310","v":""},{"$f":"INPUT!IG310","v":""},{"$f":"INPUT!IH310","v":""},null,{"$f":"INPUT!IZ310","v":""},{"$f":"INPUT!JA310","v":""},{"$f":"INPUT!JB310","v":""},{"$f":"INPUT!JC310","v":""},{"$f":"INPUT!JD310","v":""},{"$f":"INPUT!JE310","v":""},{"$f":"INPUT!JF310","v":""},"",null,{"$f":"INPUT!JX310","v":""},{"$f":"INPUT!JY310","v":""},{"$f":"INPUT!JZ310","v":""},{"$f":"INPUT!KA310","v":""},{"$f":"INPUT!KB310","v":""},{"$f":"INPUT!KC310","v":""},{"$f":"INPUT!KD310","v":""},"",null,{"$f":"INPUT!KZ310","v":""},{"$f":"INPUT!LA310","v":""},{"$f":"INPUT!LB310","v":""},{"$f":"INPUT!LC310","v":""},{"$f":"INPUT!LD310","v":""},{"$f":"INPUT!LE310","v":""},{"$f":"INPUT!LF310","v":""},{"$f":"INPUT!LG310","v":""},{"$f":"INPUT!LH310","v":""},null,{"$f":"INPUT!MB310","v":""},{"$f":"INPUT!MC310","v":""},{"$f":"INPUT!MD310","v":""},{"$f":"INPUT!ME310","v":""},{"$f":"INPUT!MF310","v":""},{"$f":"INPUT!MG310","v":""},{"$f":"INPUT!MH310","v":""},{"$f":"INPUT!MI310","v":""}]
[null,{"$f":"INPUT!EA311","v":""},{"$f":"INPUT!EB311","v":""},{"$f":"INPUT!EC311","v":""},{"$f":"INPUT!ED311","v":""},{"$f":"INPUT!EE311","v":""},{"$f":"INPUT!EF311","v":""},{"$f":"INPUT!EG311","v":""},"",null,{"$f":"INPUT!EY311","v":""},{"$f":"INPUT!EZ311","v":""},{"$f":"INPUT!FA311","v":""},{"$f":"INPUT!FB311","v":""},{"$f":"INPUT!FC311","v":""},{"$f":"INPUT!FD311","v":""},{"$f":"INPUT!FE311","v":""},"",null,{"$f":"INPUT!FW311","v":""},{"$f":"INPUT!FX311","v":""},{"$f":"INPUT!FY311","v":""},{"$f":"INPUT!FZ311","v":""},{"$f":"INPUT!GA311","v":""},{"$f":"INPUT!GB311","v":""},{"$f":"INPUT!GC311","v":""},null,{"$f":"INPUT!GY311","v":""},{"$f":"INPUT!GZ311","v":""},{"$f":"INPUT!HA311","v":""},{"$f":"INPUT!HB311","v":""},{"$f":"INPUT!HC311","v":""},{"$f":"INPUT!HD311","v":""},{"$f":"INPUT!HE311","v":""},{"$f":"INPUT!HF311","v":""},{"$f":"INPUT!HG311","v":""},null,{"$f":"INPUT!IA311","v":""},{"$f":"INPUT!IB311","v":""},{"$f":"INPUT!IC311","v":""},{"$f":"INPUT!ID311","v":""},{"$f":"INPUT!IE311","v":""},{"$f":"INPUT!IF311","v":""},{"$f":"INPUT!IG311","v":""},{"$f":"INPUT!IH311","v":""},null,{"$f":"INPUT!IZ311","v":""},{"$f":"INPUT!JA311","v":""},{"$f":"INPUT!JB311","v":""},{"$f":"INPUT!JC311","v":""},{"$f":"INPUT!JD311","v":""},{"$f":"INPUT!JE311","v":""},{"$f":"INPUT!JF311","v":""},"",null,{"$f":"INPUT!JX311","v":""},{"$f":"INPUT!JY311","v":""},{"$f":"INPUT!JZ311","v":""},{"$f":"INPUT!KA311","v":""},{"$f":"INPUT!KB311","v":""},{"$f":"INPUT!KC311","v":""},{"$f":"INPUT!KD311","v":""},"",null,{"$f":"INPUT!KZ311","v":""},{"$f":"INPUT!LA311","v":""},{"$f":"INPUT!LB311","v":""},{"$f":"INPUT!LC311","v":""},{"$f":"INPUT!LD311","v":""},{"$f":"INPUT!LE311","v":""},{"$f":"INPUT!LF311","v":""},{"$f":"INPUT!LG311","v":""},{"$f":"INPUT!LH311","v":""},null,{"$f":"INPUT!MB311","v":""},{"$f":"INPUT!MC311","v":""},{"$f":"INPUT!MD311","v":""},{"$f":"INPUT!ME311","v":""},{"$f":"INPUT!MF311","v":""},{"$f":"INPUT!MG311","v":""},{"$f":"INPUT!MH311","v":""},{"$f":"INPUT!MI311","v":""}]
[null,{"$f":"INPUT!EA312","v":""},{"$f":"INPUT!EB312","v":""},{"$f":"INPUT!EC312","v":""},{"$f":"INPUT!ED312","v":""},{"$f":"INPUT!EE312","v":""},{"$f":"INPUT!EF312","v":""},{"$f":"INPUT!EG312","v":""},"",null,{"$f":"INPUT!EY312","v":""},{"$f":"INPUT!EZ312","v":""},{"$f":"INPUT!FA312","v":""},{"$f":"INPUT!FB312","v":""},{"$f":"INPUT!FC312","v":""},{"$f":"INPUT!FD312","v":""},{"$f":"INPUT!FE312","v":""},"",null,{"$f":"INPUT!FW312","v":""},{"$f":"INPUT!FX312","v":""},{"$f":"INPUT!FY312","v":""},{"$f":"INPUT!FZ312","v":""},{"$f":"INPUT!GA312","v":""},{"$f":"INPUT!GB312","v":""},{"$f":"INPUT!GC312","v":""},null,{"$f":"INPUT!GY312","v":""},{"$f":"INPUT!GZ312","v":""},{"$f":"INPUT!HA312","v":""},{"$f":"INPUT!HB312","v":""},{"$f":"INPUT!HC312","v":""},{"$f":"INPUT!HD312","v":""},{"$f":"INPUT!HE312","v":""},{"$f":"INPUT!HF312","v":""},{"$f":"INPUT!HG312","v":""},null,{"$f":"INPUT!IA312","v":""},{"$f":"INPUT!IB312","v":""},{"$f":"INPUT!IC312","v":""},{"$f":"INPUT!ID312","v":""},{"$f":"INPUT!IE312","v":""},{"$f":"INPUT!IF312","v":""},{"$f":"INPUT!IG312","v":""},{"$f":"INPUT!IH312","v":""},null,{"$f":"INPUT!IZ312","v":""},{"$f":"INPUT!JA312","v":""},{"$f":"INPUT!JB312","v":""},{"$f":"INPUT!JC312","v":""},{"$f":"INPUT!JD312","v":""},{"$f":"INPUT!JE312","v":""},{"$f":"INPUT!JF312","v":""},"",null,{"$f":"INPUT!JX312","v":""},{"$f":"INPUT!JY312","v":""},{"$f":"INPUT!JZ312","v":""},{"$f":"INPUT!KA312","v":""},{"$f":"INPUT!KB312","v":""},{"$f":"INPUT!KC312","v":""},{"$f":"INPUT!KD312","v":""},"",null,{"$f":"INPUT!KZ312","v":""},{"$f":"INPUT!LA312","v":""},{"$f":"INPUT!LB312","v":""},{"$f":"INPUT!LC312","v":""},{"$f":"INPUT!LD312","v":""},{"$f":"INPUT!LE312","v":""},{"$f":"INPUT!LF312","v":""},{"$f":"INPUT!LG312","v":""},{"$f":"INPUT!LH312","v":""},null,{"$f":"INPUT!MB312","v":""},{"$f":"INPUT!MC312","v":""},{"$f":"INPUT!MD312","v":""},{"$f":"INPUT!ME312","v":""},{"$f":"INPUT!MF312","v":""},{"$f":"INPUT!MG312","v":""},{"$f":"INPUT!MH312","v":""},{"$f":"INPUT!MI312","v":""}]
[null,{"$f":"INPUT!EA313","v":""},{"$f":"INPUT!EB313","v":""},{"$f":"INPUT!EC313","v":""},{"$f":"INPUT!ED313","v":""},{"$f":"INPUT!EE313","v":""},{"$f":"INPUT!EF313","v":""},{"$f":"INPUT!EG313","v":""},"",null,{"$f":"INPUT!EY313","v":""},{"$f":"INPUT!EZ313","v":""},{"$f":"INPUT!FA313","v":""},{"$f":"INPUT!FB313","v":""},{"$f":"INPUT!FC313","v":""},{"$f":"INPUT!FD313","v":""},{"$f":"INPUT!FE313","v":""},"",null,{"$f":"INPUT!FW313","v":""},{"$f":"INPUT!FX313","v":""},{"$f":"INPUT!FY313","v":""},{"$f":"INPUT!FZ313","v":""},{"$f":"INPUT!GA313","v":""},{"$f":"INPUT!GB313","v":""},{"$f":"INPUT!GC313","v":""},null,{"$f":"INPUT!GY313","v":""},{"$f":"INPUT!GZ313","v":""},{"$f":"INPUT!HA313","v":""},{"$f":"INPUT!HB313","v":""},{"$f":"INPUT!HC313","v":""},{"$f":"INPUT!HD313","v":""},{"$f":"INPUT!HE313","v":""},{"$f":"INPUT!HF313","v":""},{"$f":"INPUT!HG313","v":""},null,{"$f":"INPUT!IA313","v":""},{"$f":"INPUT!IB313","v":""},{"$f":"INPUT!IC313","v":""},{"$f":"INPUT!ID313","v":""},{"$f":"INPUT!IE313","v":""},{"$f":"INPUT!IF313","v":""},{"$f":"INPUT!IG313","v":""},{"$f":"INPUT!IH313","v":""},null,{"$f":"INPUT!IZ313","v":""},{"$f":"INPUT!JA313","v":""},{"$f":"INPUT!JB313","v":""},{"$f":"INPUT!JC313","v":""},{"$f":"INPUT!JD313","v":""},{"$f":"INPUT!JE313","v":""},{"$f":"INPUT!JF313","v":""},"",null,{"$f":"INPUT!JX313","v":""},{"$f":"INPUT!JY313","v":""},{"$f":"INPUT!JZ313","v":""},{"$f":"INPUT!KA313","v":""},{"$f":"INPUT!KB313","v":""},{"$f":"INPUT!KC313","v":""},{"$f":"INPUT!KD313","v":""},"",null,{"$f":"INPUT!KZ313","v":""},{"$f":"INPUT!LA313","v":""},{"$f":"INPUT!LB313","v":""},{"$f":"INPUT!LC313","v":""},{"$f":"INPUT!LD313","v":""},{"$f":"INPUT!LE313","v":""},{"$f":"INPUT!LF313","v":""},{"$f":"INPUT!LG313","v":""},{"$f":"INPUT!LH313","v":""},null,{"$f":"INPUT!MB313","v":""},{"$f":"INPUT!MC313","v":""},{"$f":"INPUT!MD313","v":""},{"$f":"INPUT!ME313","v":""},{"$f":"INPUT!MF313","v":""},{"$f":"INPUT!MG313","v":""},{"$f":"INPUT!MH313","v":""},{"$f":"INPUT!MI313","v":""}]
[null,{"$f":"INPUT!EA314","v":""},{"$f":"INPUT!EB314","v":""},{"$f":"INPUT!EC314","v":""},{"$f":"INPUT!ED314","v":""},{"$f":"INPUT!EE314","v":""},{"$f":"INPUT!EF314","v":""},{"$f":"INPUT!EG314","v":""},"",null,{"$f":"INPUT!EY314","v":""},{"$f":"INPUT!EZ314","v":""},{"$f":"INPUT!FA314","v":""},{"$f":"INPUT!FB314","v":""},{"$f":"INPUT!FC314","v":""},{"$f":"INPUT!FD314","v":""},{"$f":"INPUT!FE314","v":""},"",null,{"$f":"INPUT!FW314","v":""},{"$f":"INPUT!FX314","v":""},{"$f":"INPUT!FY314","v":""},{"$f":"INPUT!FZ314","v":""},{"$f":"INPUT!GA314","v":""},{"$f":"INPUT!GB314","v":""},{"$f":"INPUT!GC314","v":""},null,{"$f":"INPUT!GY314","v":""},{"$f":"INPUT!GZ314","v":""},{"$f":"INPUT!HA314","v":""},{"$f":"INPUT!HB314","v":""},{"$f":"INPUT!HC314","v":""},{"$f":"INPUT!HD314","v":""},{"$f":"INPUT!HE314","v":""},{"$f":"INPUT!HF314","v":""},{"$f":"INPUT!HG314","v":""},null,{"$f":"INPUT!IA314","v":""},{"$f":"INPUT!IB314","v":""},{"$f":"INPUT!IC314","v":""},{"$f":"INPUT!ID314","v":""},{"$f":"INPUT!IE314","v":""},{"$f":"INPUT!IF314","v":""},{"$f":"INPUT!IG314","v":""},{"$f":"INPUT!IH314","v":""},null,{"$f":"INPUT!IZ314","v":""},{"$f":"INPUT!JA314","v":""},{"$f":"INPUT!JB314","v":""},{"$f":"INPUT!JC314","v":""},{"$f":"INPUT!JD314","v":""},{"$f":"INPUT!JE314","v":""},{"$f":"INPUT!JF314","v":""},"",null,{"$f":"INPUT!JX314","v":""},{"$f":"INPUT!JY314","v":""},{"$f":"INPUT!JZ314","v":""},{"$f":"INPUT!KA314","v":""},{"$f":"INPUT!KB314","v":""},{"$f":"INPUT!KC314","v":""},{"$f":"INPUT!KD314","v":""},"",null,{"$f":"INPUT!KZ314","v":""},{"$f":"INPUT!LA314","v":""},{"$f":"INPUT!LB314","v":""},{"$f":"INPUT!LC314","v":""},{"$f":"INPUT!LD314","v":""},{"$f":"INPUT!LE314","v":""},{"$f":"INPUT!LF314","v":""},{"$f":"INPUT!LG314","v":""},{"$f":"INPUT!LH314","v":""},null,{"$f":"INPUT!MB314","v":""},{"$f":"INPUT!MC314","v":""},{"$f":"INPUT!MD314","v":""},{"$f":"INPUT!ME314","v":""},{"$f":"INPUT!MF314","v":""},{"$f":"INPUT!MG314","v":""},{"$f":"INPUT!MH314","v":""},{"$f":"INPUT!MI314","v":""}]
[null,{"$f":"INPUT!EA315","v":""},{"$f":"INPUT!EB315","v":""},{"$f":"INPUT!EC315","v":""},{"$f":"INPUT!ED315","v":""},{"$f":"INPUT!EE315","v":""},{"$f":"INPUT!EF315","v":""},{"$f":"INPUT!EG315","v":""},"",null,{"$f":"INPUT!EY315","v":""},{"$f":"INPUT!EZ315","v":""},{"$f":"INPUT!FA315","v":""},{"$f":"INPUT!FB315","v":""},{"$f":"INPUT!FC315","v":""},{"$f":"INPUT!FD315","v":""},{"$f":"INPUT!FE315","v":""},"",null,{"$f":"INPUT!FW315","v":""},{"$f":"INPUT!FX315","v":""},{"$f":"INPUT!FY315","v":""},{"$f":"INPUT!FZ315","v":""},{"$f":"INPUT!GA315","v":""},{"$f":"INPUT!GB315","v":""},{"$f":"INPUT!GC315","v":""},null,{"$f":"INPUT!GY315","v":""},{"$f":"INPUT!GZ315","v":""},{"$f":"INPUT!HA315","v":""},{"$f":"INPUT!HB315","v":""},{"$f":"INPUT!HC315","v":""},{"$f":"INPUT!HD315","v":""},{"$f":"INPUT!HE315","v":""},{"$f":"INPUT!HF315","v":""},{"$f":"INPUT!HG315","v":""},null,{"$f":"INPUT!IA315","v":""},{"$f":"INPUT!IB315","v":""},{"$f":"INPUT!IC315","v":""},{"$f":"INPUT!ID315","v":""},{"$f":"INPUT!IE315","v":""},{"$f":"INPUT!IF315","v":""},{"$f":"INPUT!IG315","v":""},{"$f":"INPUT!IH315","v":""},null,{"$f":"INPUT!IZ315","v":""},{"$f":"INPUT!JA315","v":""},{"$f":"INPUT!JB315","v":""},{"$f":"INPUT!JC315","v":""},{"$f":"INPUT!JD315","v":""},{"$f":"INPUT!JE315","v":""},{"$f":"INPUT!JF315","v":""},"",null,{"$f":"INPUT!JX315","v":""},{"$f":"INPUT!JY315","v":""},{"$f":"INPUT!JZ315","v":""},{"$f":"INPUT!KA315","v":""},{"$f":"INPUT!KB315","v":""},{"$f":"INPUT!KC315","v":""},{"$f":"INPUT!KD315","v":""},"",null,{"$f":"INPUT!KZ315","v":""},{"$f":"INPUT!LA315","v":""},{"$f":"INPUT!LB315","v":""},{"$f":"INPUT!LC315","v":""},{"$f":"INPUT!LD315","v":""},{"$f":"INPUT!LE315","v":""},{"$f":"INPUT!LF315","v":""},{"$f":"INPUT!LG315","v":""},{"$f":"INPUT!LH315","v":""},null,{"$f":"INPUT!MB315","v":""},{"$f":"INPUT!MC315","v":""},{"$f":"INPUT!MD315","v":""},{"$f":"INPUT!ME315","v":""},{"$f":"INPUT!MF315","v":""},{"$f":"INPUT!MG315","v":""},{"$f":"INPUT!MH315","v":""},{"$f":"INPUT!MI315","v":""}]
[null,{"$f":"INPUT!EA316","v":""},{"$f":"INPUT!EB316","v":""},{"$f":"INPUT!EC316","v":""},{"$f":"INPUT!ED316","v":""},{"$f":"INPUT!EE316","v":""},{"$f":"INPUT!EF316","v":""},{"$f":"INPUT!EG316","v":""},"",null,{"$f":"INPUT!EY316","v":""},{"$f":"INPUT!EZ316","v":""},{"$f":"INPUT!FA316","v":""},{"$f":"INPUT!FB316","v":""},{"$f":"INPUT!FC316","v":""},{"$f":"INPUT!FD316","v":""},{"$f":"INPUT!FE316","v":""},"",null,{"$f":"INPUT!FW316","v":""},{"$f":"INPUT!FX316","v":""},{"$f":"INPUT!FY316","v":""},{"$f":"INPUT!FZ316","v":""},{"$f":"INPUT!GA316","v":""},{"$f":"INPUT!GB316","v":""},{"$f":"INPUT!GC316","v":""},null,{"$f":"INPUT!GY316","v":""},{"$f":"INPUT!GZ316","v":""},{"$f":"INPUT!HA316","v":""},{"$f":"INPUT!HB316","v":""},{"$f":"INPUT!HC316","v":""},{"$f":"INPUT!HD316","v":""},{"$f":"INPUT!HE316","v":""},{"$f":"INPUT!HF316","v":""},{"$f":"INPUT!HG316","v":""},null,{"$f":"INPUT!IA316","v":""},{"$f":"INPUT!IB316","v":""},{"$f":"INPUT!IC316","v":""},{"$f":"INPUT!ID316","v":""},{"$f":"INPUT!IE316","v":""},{"$f":"INPUT!IF316","v":""},{"$f":"INPUT!IG316","v":""},{"$f":"INPUT!IH316","v":""},null,{"$f":"INPUT!IZ316","v":""},{"$f":"INPUT!JA316","v":""},{"$f":"INPUT!JB316","v":""},{"$f":"INPUT!JC316","v":""},{"$f":"INPUT!JD316","v":""},{"$f":"INPUT!JE316","v":""},{"$f":"INPUT!JF316","v":""},"",null,{"$f":"INPUT!JX316","v":""},{"$f":"INPUT!JY316","v":""},{"$f":"INPUT!JZ316","v":""},{"$f":"INPUT!KA316","v":""},{"$f":"INPUT!KB316","v":""},{"$f":"INPUT!KC316","v":""},{"$f":"INPUT!KD316","v":""},"",null,{"$f":"INPUT!KZ316","v":""},{"$f":"INPUT!LA316","v":""},{"$f":"INPUT!LB316","v":""},{"$f":"INPUT!LC316","v":""},{"$f":"INPUT!LD316","v":""},{"$f":"INPUT!LE316","v":""},{"$f":"INPUT!LF316","v":""},{"$f":"INPUT!LG316","v":""},{"$f":"INPUT!LH316","v":""},null,{"$f":"INPUT!MB316","v":""},{"$f":"INPUT!MC316","v":""},{"$f":"INPUT!MD316","v":""},{"$f":"INPUT!ME316","v":""},{"$f":"INPUT!MF316","v":""},{"$f":"INPUT!MG316","v":""},{"$f":"INPUT!MH316","v":""},{"$f":"INPUT!MI316","v":""}]
[null,{"$f":"INPUT!EA317","v":""},{"$f":"INPUT!EB317","v":""},{"$f":"INPUT!EC317","v":""},{"$f":"INPUT!ED317","v":""},{"$f":"INPUT!EE317","v":""},{"$f":"INPUT!EF317","v":""},{"$f":"INPUT!EG317","v":""},"",null,{"$f":"INPUT!EY317","v":""},{"$f":"INPUT!EZ317","v":""},{"$f":"INPUT!FA317","v":""},{"$f":"INPUT!FB317","v":""},{"$f":"INPUT!FC317","v":""},{"$f":"INPUT!FD317","v":""},{"$f":"INPUT!FE317","v":""},"",null,{"$f":"INPUT!FW317","v":""},{"$f":"INPUT!FX317","v":""},{"$f":"INPUT!FY317","v":""},{"$f":"INPUT!FZ317","v":""},{"$f":"INPUT!GA317","v":""},{"$f":"INPUT!GB317","v":""},{"$f":"INPUT!GC317","v":""},null,{"$f":"INPUT!GY317","v":""},{"$f":"INPUT!GZ317","v":""},{"$f":"INPUT!HA317","v":""},{"$f":"INPUT!HB317","v":""},{"$f":"INPUT!HC317","v":""},{"$f":"INPUT!HD317","v":""},{"$f":"INPUT!HE317","v":""},{"$f":"INPUT!HF317","v":""},{"$f":"INPUT!HG317","v":""},null,{"$f":"INPUT!IA317","v":""},{"$f":"INPUT!IB317","v":""},{"$f":"INPUT!IC317","v":""},{"$f":"INPUT!ID317","v":""},{"$f":"INPUT!IE317","v":""},{"$f":"INPUT!IF317","v":""},{"$f":"INPUT!IG317","v":""},{"$f":"INPUT!IH317","v":""},null,{"$f":"INPUT!IZ317","v":""},{"$f":"INPUT!JA317","v":""},{"$f":"INPUT!JB317","v":""},{"$f":"INPUT!JC317","v":""},{"$f":"INPUT!JD317","v":""},{"$f":"INPUT!JE317","v":""},{"$f":"INPUT!JF317","v":""},"",null,{"$f":"INPUT!JX317","v":""},{"$f":"INPUT!JY317","v":""},{"$f":"INPUT!JZ317","v":""},{"$f":"INPUT!KA317","v":""},{"$f":"INPUT!KB317","v":""},{"$f":"INPUT!KC317","v":""},{"$f":"INPUT!KD317","v":""},"",null,{"$f":"INPUT!KZ317","v":""},{"$f":"INPUT!LA317","v":""},{"$f":"INPUT!LB317","v":""},{"$f":"INPUT!LC317","v":""},{"$f":"INPUT!LD317","v":""},{"$f":"INPUT!LE317","v":""},{"$f":"INPUT!LF317","v":""},{"$f":"INPUT!LG317","v":""},{"$f":"INPUT!LH317","v":""},null,{"$f":"INPUT!MB317","v":""},{"$f":"INPUT!MC317","v":""},{"$f":"INPUT!MD317","v":""},{"$f":"INPUT!ME317","v":""},{"$f":"INPUT!MF317","v":""},{"$f":"INPUT!MG317","v":""},{"$f":"INPUT!MH317","v":""},{"$f":"INPUT!MI317","v":""}]
[null,{"$f":"INPUT!EA318","v":""},{"$f":"INPUT!EB318","v":""},{"$f":"INPUT!EC318","v":""},{"$f":"INPUT!ED318","v":""},{"$f":"INPUT!EE318","v":""},{"$f":"INPUT!EF318","v":""},{"$f":"INPUT!EG318","v":""},"",null,{"$f":"INPUT!EY318","v":""},{"$f":"INPUT!EZ318","v":""},{"$f":"INPUT!FA318","v":""},{"$f":"INPUT!FB318","v":""},{"$f":"INPUT!FC318","v":""},{"$f":"INPUT!FD318","v":""},{"$f":"INPUT!FE318","v":""},"",null,{"$f":"INPUT!FW318","v":""},{"$f":"INPUT!FX318","v":""},{"$f":"INPUT!FY318","v":""},{"$f":"INPUT!FZ318","v":""},{"$f":"INPUT!GA318","v":""},{"$f":"INPUT!GB318","v":""},{"$f":"INPUT!GC318","v":""},null,{"$f":"INPUT!GY318","v":""},{"$f":"INPUT!GZ318","v":""},{"$f":"INPUT!HA318","v":""},{"$f":"INPUT!HB318","v":""},{"$f":"INPUT!HC318","v":""},{"$f":"INPUT!HD318","v":""},{"$f":"INPUT!HE318","v":""},{"$f":"INPUT!HF318","v":""},{"$f":"INPUT!HG318","v":""},null,{"$f":"INPUT!IA318","v":""},{"$f":"INPUT!IB318","v":""},{"$f":"INPUT!IC318","v":""},{"$f":"INPUT!ID318","v":""},{"$f":"INPUT!IE318","v":""},{"$f":"INPUT!IF318","v":""},{"$f":"INPUT!IG318","v":""},{"$f":"INPUT!IH318","v":""},null,{"$f":"INPUT!IZ318","v":""},{"$f":"INPUT!JA318","v":""},{"$f":"INPUT!JB318","v":""},{"$f":"INPUT!JC318","v":""},{"$f":"INPUT!JD318","v":""},{"$f":"INPUT!JE318","v":""},{"$f":"INPUT!JF318","v":""},"",null,{"$f":"INPUT!JX318","v":""},{"$f":"INPUT!JY318","v":""},{"$f":"INPUT!JZ318","v":""},{"$f":"INPUT!KA318","v":""},{"$f":"INPUT!KB318","v":""},{"$f":"INPUT!KC318","v":""},{"$f":"INPUT!KD318","v":""},"",null,{"$f":"INPUT!KZ318","v":""},{"$f":"INPUT!LA318","v":""},{"$f":"INPUT!LB318","v":""},{"$f":"INPUT!LC318","v":""},{"$f":"INPUT!LD318","v":""},{"$f":"INPUT!LE318","v":""},{"$f":"INPUT!LF318","v":""},{"$f":"INPUT!LG318","v":""},{"$f":"INPUT!LH318","v":""},null,{"$f":"INPUT!MB318","v":""},{"$f":"INPUT!MC318","v":""},{"$f":"INPUT!MD318","v":""},{"$f":"INPUT!ME318","v":""},{"$f":"INPUT!MF318","v":""},{"$f":"INPUT!MG318","v":""},{"$f":"INPUT!MH318","v":""},{"$f":"INPUT!MI318","v":""}]
[null,{"$f":"INPUT!EA319","v":""},{"$f":"INPUT!EB319","v":""},{"$f":"INPUT!EC319","v":""},{"$f":"INPUT!ED319","v":""},{"$f":"INPUT!EE319","v":""},{"$f":"INPUT!EF319","v":""},{"$f":"INPUT!EG319","v":""},"",null,{"$f":"INPUT!EY319","v":""},{"$f":"INPUT!EZ319","v":""},{"$f":"INPUT!FA319","v":""},{"$f":"INPUT!FB319","v":""},{"$f":"INPUT!FC319","v":""},{"$f":"INPUT!FD319","v":""},{"$f":"INPUT!FE319","v":""},"",null,{"$f":"INPUT!FW319","v":""},{"$f":"INPUT!FX319","v":""},{"$f":"INPUT!FY319","v":""},{"$f":"INPUT!FZ319","v":""},{"$f":"INPUT!GA319","v":""},{"$f":"INPUT!GB319","v":""},{"$f":"INPUT!GC319","v":""},null,{"$f":"INPUT!GY319","v":""},{"$f":"INPUT!GZ319","v":""},{"$f":"INPUT!HA319","v":""},{"$f":"INPUT!HB319","v":""},{"$f":"INPUT!HC319","v":""},{"$f":"INPUT!HD319","v":""},{"$f":"INPUT!HE319","v":""},{"$f":"INPUT!HF319","v":""},{"$f":"INPUT!HG319","v":""},null,{"$f":"INPUT!IA319","v":""},{"$f":"INPUT!IB319","v":""},{"$f":"INPUT!IC319","v":""},{"$f":"INPUT!ID319","v":""},{"$f":"INPUT!IE319","v":""},{"$f":"INPUT!IF319","v":""},{"$f":"INPUT!IG319","v":""},{"$f":"INPUT!IH319","v":""},null,{"$f":"INPUT!IZ319","v":""},{"$f":"INPUT!JA319","v":""},{"$f":"INPUT!JB319","v":""},{"$f":"INPUT!JC319","v":""},{"$f":"INPUT!JD319","v":""},{"$f":"INPUT!JE319","v":""},{"$f":"INPUT!JF319","v":""},"",null,{"$f":"INPUT!JX319","v":""},{"$f":"INPUT!JY319","v":""},{"$f":"INPUT!JZ319","v":""},{"$f":"INPUT!KA319","v":""},{"$f":"INPUT!KB319","v":""},{"$f":"INPUT!KC319","v":""},{"$f":"INPUT!KD319","v":""},"",null,{"$f":"INPUT!KZ319","v":""},{"$f":"INPUT!LA319","v":""},{"$f":"INPUT!LB319","v":""},{"$f":"INPUT!LC319","v":""},{"$f":"INPUT!LD319","v":""},{"$f":"INPUT!LE319","v":""},{"$f":"INPUT!LF319","v":""},{"$f":"INPUT!LG319","v":""},{"$f":"INPUT!LH319","v":""},null,{"$f":"INPUT!MB319","v":""},{"$f":"INPUT!MC319","v":""},{"$f":"INPUT!MD319","v":""},{"$f":"INPUT!ME319","v":""},{"$f":"INPUT!MF319","v":""},{"$f":"INPUT!MG319","v":""},{"$f":"INPUT!MH319","v":""},{"$f":"INPUT!MI319","v":""}]
[null,{"$f":"INPUT!EA320","v":""},{"$f":"INPUT!EB320","v":""},{"$f":"INPUT!EC320","v":""},{"$f":"INPUT!ED320","v":""},{"$f":"INPUT!EE320","v":""},{"$f":"INPUT!EF320","v":""},{"$f":"INPUT!EG320","v":""},"",null,{"$f":"INPUT!EY320","v":""},{"$f":"INPUT!EZ320","v":""},{"$f":"INPUT!FA320","v":""},{"$f":"INPUT!FB320","v":""},{"$f":"INPUT!FC320","v":""},{"$f":"INPUT!FD320","v":""},{"$f":"INPUT!FE320","v":""},"",null,{"$f":"INPUT!FW320","v":""},{"$f":"INPUT!FX320","v":""},{"$f":"INPUT!FY320","v":""},{"$f":"INPUT!FZ320","v":""},{"$f":"INPUT!GA320","v":""},{"$f":"INPUT!GB320","v":""},{"$f":"INPUT!GC320","v":""},null,{"$f":"INPUT!GY320","v":""},{"$f":"INPUT!GZ320","v":""},{"$f":"INPUT!HA320","v":""},{"$f":"INPUT!HB320","v":""},{"$f":"INPUT!HC320","v":""},{"$f":"INPUT!HD320","v":""},{"$f":"INPUT!HE320","v":""},{"$f":"INPUT!HF320","v":""},{"$f":"INPUT!HG320","v":""},null,{"$f":"INPUT!IA320","v":""},{"$f":"INPUT!IB320","v":""},{"$f":"INPUT!IC320","v":""},{"$f":"INPUT!ID320","v":""},{"$f":"INPUT!IE320","v":""},{"$f":"INPUT!IF320","v":""},{"$f":"INPUT!IG320","v":""},{"$f":"INPUT!IH320","v":""},null,{"$f":"INPUT!IZ320","v":""},{"$f":"INPUT!JA320","v":""},{"$f":"INPUT!JB320","v":""},{"$f":"INPUT!JC320","v":""},{"$f":"INPUT!JD320","v":""},{"$f":"INPUT!JE320","v":""},{"$f":"INPUT!JF320","v":""},"",null,{"$f":"INPUT!JX320","v":""},{"$f":"INPUT!JY320","v":""},{"$f":"INPUT!JZ320","v":""},{"$f":"INPUT!KA320","v":""},{"$f":"INPUT!KB320","v":""},{"$f":"INPUT!KC320","v":""},{"$f":"INPUT!KD320","v":""},"",null,{"$f":"INPUT!KZ320","v":""},{"$f":"INPUT!LA320","v":""},{"$f":"INPUT!LB320","v":""},{"$f":"INPUT!LC320","v":""},{"$f":"INPUT!LD320","v":""},{"$f":"INPUT!LE320","v":""},{"$f":"INPUT!LF320","v":""},{"$f":"INPUT!LG320","v":""},{"$f":"INPUT!LH320","v":""},null,{"$f":"INPUT!MB320","v":""},{"$f":"INPUT!MC320","v":""},{"$f":"INPUT!MD320","v":""},{"$f":"INPUT!ME320","v":""},{"$f":"INPUT!MF320","v":""},{"$f":"INPUT!MG320","v":""},{"$f":"INPUT!MH320","v":""},{"$f":"INPUT!MI320","v":""}]
[null,{"$f":"INPUT!EA321","v":""},{"$f":"INPUT!EB321","v":""},{"$f":"INPUT!EC321","v":""},{"$f":"INPUT!ED321","v":""},{"$f":"INPUT!EE321","v":""},{"$f":"INPUT!EF321","v":""},{"$f":"INPUT!EG321","v":""},"",null,{"$f":"INPUT!EY321","v":""},{"$f":"INPUT!EZ321","v":""},{"$f":"INPUT!FA321","v":""},{"$f":"INPUT!FB321","v":""},{"$f":"INPUT!FC321","v":""},{"$f":"INPUT!FD321","v":""},{"$f":"INPUT!FE321","v":""},"",null,{"$f":"INPUT!FW321","v":""},{"$f":"INPUT!FX321","v":""},{"$f":"INPUT!FY321","v":""},{"$f":"INPUT!FZ321","v":""},{"$f":"INPUT!GA321","v":""},{"$f":"INPUT!GB321","v":""},{"$f":"INPUT!GC321","v":""},null,{"$f":"INPUT!GY321","v":""},{"$f":"INPUT!GZ321","v":""},{"$f":"INPUT!HA321","v":""},{"$f":"INPUT!HB321","v":""},{"$f":"INPUT!HC321","v":""},{"$f":"INPUT!HD321","v":""},{"$f":"INPUT!HE321","v":""},{"$f":"INPUT!HF321","v":""},{"$f":"INPUT!HG321","v":""},null,{"$f":"INPUT!IA321","v":""},{"$f":"INPUT!IB321","v":""},{"$f":"INPUT!IC321","v":""},{"$f":"INPUT!ID321","v":""},{"$f":"INPUT!IE321","v":""},{"$f":"INPUT!IF321","v":""},{"$f":"INPUT!IG321","v":""},{"$f":"INPUT!IH321","v":""},null,{"$f":"INPUT!IZ321","v":""},{"$f":"INPUT!JA321","v":""},{"$f":"INPUT!JB321","v":""},{"$f":"INPUT!JC321","v":""},{"$f":"INPUT!JD321","v":""},{"$f":"INPUT!JE321","v":""},{"$f":"INPUT!JF321","v":""},"",null,{"$f":"INPUT!JX321","v":""},{"$f":"INPUT!JY321","v":""},{"$f":"INPUT!JZ321","v":""},{"$f":"INPUT!KA321","v":""},{"$f":"INPUT!KB321","v":""},{"$f":"INPUT!KC321","v":""},{"$f":"INPUT!KD321","v":""},"",null,{"$f":"INPUT!KZ321","v":""},{"$f":"INPUT!LA321","v":""},{"$f":"INPUT!LB321","v":""},{"$f":"INPUT!LC321","v":""},{"$f":"INPUT!LD321","v":""},{"$f":"INPUT!LE321","v":""},{"$f":"INPUT!LF321","v":""},{"$f":"INPUT!LG321","v":""},{"$f":"INPUT!LH321","v":""},null,{"$f":"INPUT!MB321","v":""},{"$f":"INPUT!MC321","v":""},{"$f":"INPUT!MD321","v":""},{"$f":"INPUT!ME321","v":""},{"$f":"INPUT!MF321","v":""},{"$f":"INPUT!MG321","v":""},{"$f":"INPUT!MH321","v":""},{"$f":"INPUT!MI321","v":""}]
[null,{"$f":"INPUT!EA322","v":""},{"$f":"INPUT!EB322","v":""},{"$f":"INPUT!EC322","v":""},{"$f":"INPUT!ED322","v":""},{"$f":"INPUT!EE322","v":""},{"$f":"INPUT!EF322","v":""},{"$f":"INPUT!EG322","v":""},"",null,{"$f":"INPUT!EY322","v":""},{"$f":"INPUT!EZ322","v":""},{"$f":"INPUT!FA322","v":""},{"$f":"INPUT!FB322","v":""},{"$f":"INPUT!FC322","v":""},{"$f":"INPUT!FD322","v":""},{"$f":"INPUT!FE322","v":""},"",null,{"$f":"INPUT!FW322","v":""},{"$f":"INPUT!FX322","v":""},{"$f":"INPUT!FY322","v":""},{"$f":"INPUT!FZ322","v":""},{"$f":"INPUT!GA322","v":""},{"$f":"INPUT!GB322","v":""},{"$f":"INPUT!GC322","v":""},null,{"$f":"INPUT!GY322","v":""},{"$f":"INPUT!GZ322","v":""},{"$f":"INPUT!HA322","v":""},{"$f":"INPUT!HB322","v":""},{"$f":"INPUT!HC322","v":""},{"$f":"INPUT!HD322","v":""},{"$f":"INPUT!HE322","v":""},{"$f":"INPUT!HF322","v":""},{"$f":"INPUT!HG322","v":""},null,{"$f":"INPUT!IA322","v":""},{"$f":"INPUT!IB322","v":""},{"$f":"INPUT!IC322","v":""},{"$f":"INPUT!ID322","v":""},{"$f":"INPUT!IE322","v":""},{"$f":"INPUT!IF322","v":""},{"$f":"INPUT!IG322","v":""},{"$f":"INPUT!IH322","v":""},null,{"$f":"INPUT!IZ322","v":""},{"$f":"INPUT!JA322","v":""},{"$f":"INPUT!JB322","v":""},{"$f":"INPUT!JC322","v":""},{"$f":"INPUT!JD322","v":""},{"$f":"INPUT!JE322","v":""},{"$f":"INPUT!JF322","v":""},"",null,{"$f":"INPUT!JX322","v":""},{"$f":"INPUT!JY322","v":""},{"$f":"INPUT!JZ322","v":""},{"$f":"INPUT!KA322","v":""},{"$f":"INPUT!KB322","v":""},{"$f":"INPUT!KC322","v":""},{"$f":"INPUT!KD322","v":""},"",null,{"$f":"INPUT!KZ322","v":""},{"$f":"INPUT!LA322","v":""},{"$f":"INPUT!LB322","v":""},{"$f":"INPUT!LC322","v":""},{"$f":"INPUT!LD322","v":""},{"$f":"INPUT!LE322","v":""},{"$f":"INPUT!LF322","v":""},{"$f":"INPUT!LG322","v":""},{"$f":"INPUT!LH322","v":""},null,{"$f":"INPUT!MB322","v":""},{"$f":"INPUT!MC322","v":""},{"$f":"INPUT!MD322","v":""},{"$f":"INPUT!ME322","v":""},{"$f":"INPUT!MF322","v":""},{"$f":"INPUT!MG322","v":""},{"$f":"INPUT!MH322","v":""},{"$f":"INPUT!MI322","v":""}]
[null,{"$f":"INPUT!EA323","v":""},{"$f":"INPUT!EB323","v":""},{"$f":"INPUT!EC323","v":""},{"$f":"INPUT!ED323","v":""},{"$f":"INPUT!EE323","v":""},{"$f":"INPUT!EF323","v":""},{"$f":"INPUT!EG323","v":""},"",null,{"$f":"INPUT!EY323","v":""},{"$f":"INPUT!EZ323","v":""},{"$f":"INPUT!FA323","v":""},{"$f":"INPUT!FB323","v":""},{"$f":"INPUT!FC323","v":""},{"$f":"INPUT!FD323","v":""},{"$f":"INPUT!FE323","v":""},"",null,{"$f":"INPUT!FW323","v":""},{"$f":"INPUT!FX323","v":""},{"$f":"INPUT!FY323","v":""},{"$f":"INPUT!FZ323","v":""},{"$f":"INPUT!GA323","v":""},{"$f":"INPUT!GB323","v":""},{"$f":"INPUT!GC323","v":""},null,{"$f":"INPUT!GY323","v":""},{"$f":"INPUT!GZ323","v":""},{"$f":"INPUT!HA323","v":""},{"$f":"INPUT!HB323","v":""},{"$f":"INPUT!HC323","v":""},{"$f":"INPUT!HD323","v":""},{"$f":"INPUT!HE323","v":""},{"$f":"INPUT!HF323","v":""},{"$f":"INPUT!HG323","v":""},null,{"$f":"INPUT!IA323","v":""},{"$f":"INPUT!IB323","v":""},{"$f":"INPUT!IC323","v":""},{"$f":"INPUT!ID323","v":""},{"$f":"INPUT!IE323","v":""},{"$f":"INPUT!IF323","v":""},{"$f":"INPUT!IG323","v":""},{"$f":"INPUT!IH323","v":""},null,{"$f":"INPUT!IZ323","v":""},{"$f":"INPUT!JA323","v":""},{"$f":"INPUT!JB323","v":""},{"$f":"INPUT!JC323","v":""},{"$f":"INPUT!JD323","v":""},{"$f":"INPUT!JE323","v":""},{"$f":"INPUT!JF323","v":""},"",null,{"$f":"INPUT!JX323","v":""},{"$f":"INPUT!JY323","v":""},{"$f":"INPUT!JZ323","v":""},{"$f":"INPUT!KA323","v":""},{"$f":"INPUT!KB323","v":""},{"$f":"INPUT!KC323","v":""},{"$f":"INPUT!KD323","v":""},"",null,{"$f":"INPUT!KZ323","v":""},{"$f":"INPUT!LA323","v":""},{"$f":"INPUT!LB323","v":""},{"$f":"INPUT!LC323","v":""},{"$f":"INPUT!LD323","v":""},{"$f":"INPUT!LE323","v":""},{"$f":"INPUT!LF323","v":""},{"$f":"INPUT!LG323","v":""},{"$f":"INPUT!LH323","v":""},null,{"$f":"INPUT!MB323","v":""},{"$f":"INPUT!MC323","v":""},{"$f":"INPUT!MD323","v":""},{"$f":"INPUT!ME323","v":""},{"$f":"INPUT!MF323","v":""},{"$f":"INPUT!MG323","v":""},{"$f":"INPUT!MH323","v":""},{"$f":"INPUT!MI323","v":""}]
[null,{"$f":"INPUT!EA324","v":""},{"$f":"INPUT!EB324","v":""},{"$f":"INPUT!EC324","v":""},{"$f":"INPUT!ED324","v":""},{"$f":"INPUT!EE324","v":""},{"$f":"INPUT!EF324","v":""},{"$f":"INPUT!EG324","v":""},"",null,{"$f":"INPUT!EY324","v":""},{"$f":"INPUT!EZ324","v":""},{"$f":"INPUT!FA324","v":""},{"$f":"INPUT!FB324","v":""},{"$f":"INPUT!FC324","v":""},{"$f":"INPUT!FD324","v":""},{"$f":"INPUT!FE324","v":""},"",null,{"$f":"INPUT!FW324","v":""},{"$f":"INPUT!FX324","v":""},{"$f":"INPUT!FY324","v":""},{"$f":"INPUT!FZ324","v":""},{"$f":"INPUT!GA324","v":""},{"$f":"INPUT!GB324","v":""},{"$f":"INPUT!GC324","v":""},null,{"$f":"INPUT!GY324","v":""},{"$f":"INPUT!GZ324","v":""},{"$f":"INPUT!HA324","v":""},{"$f":"INPUT!HB324","v":""},{"$f":"INPUT!HC324","v":""},{"$f":"INPUT!HD324","v":""},{"$f":"INPUT!HE324","v":""},{"$f":"INPUT!HF324","v":""},{"$f":"INPUT!HG324","v":""},null,{"$f":"INPUT!IA324","v":""},{"$f":"INPUT!IB324","v":""},{"$f":"INPUT!IC324","v":""},{"$f":"INPUT!ID324","v":""},{"$f":"INPUT!IE324","v":""},{"$f":"INPUT!IF324","v":""},{"$f":"INPUT!IG324","v":""},{"$f":"INPUT!IH324","v":""},null,{"$f":"INPUT!IZ324","v":""},{"$f":"INPUT!JA324","v":""},{"$f":"INPUT!JB324","v":""},{"$f":"INPUT!JC324","v":""},{"$f":"INPUT!JD324","v":""},{"$f":"INPUT!JE324","v":""},{"$f":"INPUT!JF324","v":""},"",null,{"$f":"INPUT!JX324","v":""},{"$f":"INPUT!JY324","v":""},{"$f":"INPUT!JZ324","v":""},{"$f":"INPUT!KA324","v":""},{"$f":"INPUT!KB324","v":""},{"$f":"INPUT!KC324","v":""},{"$f":"INPUT!KD324","v":""},"",null,{"$f":"INPUT!KZ324","v":""},{"$f":"INPUT!LA324","v":""},{"$f":"INPUT!LB324","v":""},{"$f":"INPUT!LC324","v":""},{"$f":"INPUT!LD324","v":""},{"$f":"INPUT!LE324","v":""},{"$f":"INPUT!LF324","v":""},{"$f":"INPUT!LG324","v":""},{"$f":"INPUT!LH324","v":""},null,{"$f":"INPUT!MB324","v":""},{"$f":"INPUT!MC324","v":""},{"$f":"INPUT!MD324","v":""},{"$f":"INPUT!ME324","v":""},{"$f":"INPUT!MF324","v":""},{"$f":"INPUT!MG324","v":""},{"$f":"INPUT!MH324","v":""},{"$f":"INPUT!MI324","v":""}]
[null,{"$f":"INPUT!EA325","v":""},{"$f":"INPUT!EB325","v":""},{"$f":"INPUT!EC325","v":""},{"$f":"INPUT!ED325","v":""},{"$f":"INPUT!EE325","v":""},{"$f":"INPUT!EF325","v":""},{"$f":"INPUT!EG325","v":""},"",null,{"$f":"INPUT!EY325","v":""},{"$f":"INPUT!EZ325","v":""},{"$f":"INPUT!FA325","v":""},{"$f":"INPUT!FB325","v":""},{"$f":"INPUT!FC325","v":""},{"$f":"INPUT!FD325","v":""},{"$f":"INPUT!FE325","v":""},"",null,{"$f":"INPUT!FW325","v":""},{"$f":"INPUT!FX325","v":""},{"$f":"INPUT!FY325","v":""},{"$f":"INPUT!FZ325","v":""},{"$f":"INPUT!GA325","v":""},{"$f":"INPUT!GB325","v":""},{"$f":"INPUT!GC325","v":""},null,{"$f":"INPUT!GY325","v":""},{"$f":"INPUT!GZ325","v":""},{"$f":"INPUT!HA325","v":""},{"$f":"INPUT!HB325","v":""},{"$f":"INPUT!HC325","v":""},{"$f":"INPUT!HD325","v":""},{"$f":"INPUT!HE325","v":""},{"$f":"INPUT!HF325","v":""},{"$f":"INPUT!HG325","v":""},null,{"$f":"INPUT!IA325","v":""},{"$f":"INPUT!IB325","v":""},{"$f":"INPUT!IC325","v":""},{"$f":"INPUT!ID325","v":""},{"$f":"INPUT!IE325","v":""},{"$f":"INPUT!IF325","v":""},{"$f":"INPUT!IG325","v":""},{"$f":"INPUT!IH325","v":""},null,{"$f":"INPUT!IZ325","v":""},{"$f":"INPUT!JA325","v":""},{"$f":"INPUT!JB325","v":""},{"$f":"INPUT!JC325","v":""},{"$f":"INPUT!JD325","v":""},{"$f":"INPUT!JE325","v":""},{"$f":"INPUT!JF325","v":""},"",null,{"$f":"INPUT!JX325","v":""},{"$f":"INPUT!JY325","v":""},{"$f":"INPUT!JZ325","v":""},{"$f":"INPUT!KA325","v":""},{"$f":"INPUT!KB325","v":""},{"$f":"INPUT!KC325","v":""},{"$f":"INPUT!KD325","v":""},"",null,{"$f":"INPUT!KZ325","v":""},{"$f":"INPUT!LA325","v":""},{"$f":"INPUT!LB325","v":""},{"$f":"INPUT!LC325","v":""},{"$f":"INPUT!LD325","v":""},{"$f":"INPUT!LE325","v":""},{"$f":"INPUT!LF325","v":""},{"$f":"INPUT!LG325","v":""},{"$f":"INPUT!LH325","v":""},null,{"$f":"INPUT!MB325","v":""},{"$f":"INPUT!MC325","v":""},{"$f":"INPUT!MD325","v":""},{"$f":"INPUT!ME325","v":""},{"$f":"INPUT!MF325","v":""},{"$f":"INPUT!MG325","v":""},{"$f":"INPUT!MH325","v":""},{"$f":"INPUT!MI325","v":""}]
[null,{"$f":"INPUT!EA326","v":""},{"$f":"INPUT!EB326","v":""},{"$f":"INPUT!EC326","v":""},{"$f":"INPUT!ED326","v":""},{"$f":"INPUT!EE326","v":""},{"$f":"INPUT!EF326","v":""},{"$f":"INPUT!EG326","v":""},"",null,{"$f":"INPUT!EY326","v":""},{"$f":"INPUT!EZ326","v":""},{"$f":"INPUT!FA326","v":""},{"$f":"INPUT!FB326","v":""},{"$f":"INPUT!FC326","v":""},{"$f":"INPUT!FD326","v":""},{"$f":"INPUT!FE326","v":""},"",null,{"$f":"INPUT!FW326","v":""},{"$f":"INPUT!FX326","v":""},{"$f":"INPUT!FY326","v":""},{"$f":"INPUT!FZ326","v":""},{"$f":"INPUT!GA326","v":""},{"$f":"INPUT!GB326","v":""},{"$f":"INPUT!GC326","v":""},null,{"$f":"INPUT!GY326","v":""},{"$f":"INPUT!GZ326","v":""},{"$f":"INPUT!HA326","v":""},{"$f":"INPUT!HB326","v":""},{"$f":"INPUT!HC326","v":""},{"$f":"INPUT!HD326","v":""},{"$f":"INPUT!HE326","v":""},{"$f":"INPUT!HF326","v":""},{"$f":"INPUT!HG326","v":""},null,{"$f":"INPUT!IA326","v":""},{"$f":"INPUT!IB326","v":""},{"$f":"INPUT!IC326","v":""},{"$f":"INPUT!ID326","v":""},{"$f":"INPUT!IE326","v":""},{"$f":"INPUT!IF326","v":""},{"$f":"INPUT!IG326","v":""},{"$f":"INPUT!IH326","v":""},null,{"$f":"INPUT!IZ326","v":""},{"$f":"INPUT!JA326","v":""},{"$f":"INPUT!JB326","v":""},{"$f":"INPUT!JC326","v":""},{"$f":"INPUT!JD326","v":""},{"$f":"INPUT!JE326","v":""},{"$f":"INPUT!JF326","v":""},"",null,{"$f":"INPUT!JX326","v":""},{"$f":"INPUT!JY326","v":""},{"$f":"INPUT!JZ326","v":""},{"$f":"INPUT!KA326","v":""},{"$f":"INPUT!KB326","v":""},{"$f":"INPUT!KC326","v":""},{"$f":"INPUT!KD326","v":""},"",null,{"$f":"INPUT!KZ326","v":""},{"$f":"INPUT!LA326","v":""},{"$f":"INPUT!LB326","v":""},{"$f":"INPUT!LC326","v":""},{"$f":"INPUT!LD326","v":""},{"$f":"INPUT!LE326","v":""},{"$f":"INPUT!LF326","v":""},{"$f":"INPUT!LG326","v":""},{"$f":"INPUT!LH326","v":""},null,{"$f":"INPUT!MB326","v":""},{"$f":"INPUT!MC326","v":""},{"$f":"INPUT!MD326","v":""},{"$f":"INPUT!ME326","v":""},{"$f":"INPUT!MF326","v":""},{"$f":"INPUT!MG326","v":""},{"$f":"INPUT!MH326","v":""},{"$f":"INPUT!MI326","v":""}]
[null,{"$f":"INPUT!EA327","v":""},{"$f":"INPUT!EB327","v":""},{"$f":"INPUT!EC327","v":""},{"$f":"INPUT!ED327","v":""},{"$f":"INPUT!EE327","v":""},{"$f":"INPUT!EF327","v":""},{"$f":"INPUT!EG327","v":""},"",null,{"$f":"INPUT!EY327","v":""},{"$f":"INPUT!EZ327","v":""},{"$f":"INPUT!FA327","v":""},{"$f":"INPUT!FB327","v":""},{"$f":"INPUT!FC327","v":""},{"$f":"INPUT!FD327","v":""},{"$f":"INPUT!FE327","v":""},"",null,{"$f":"INPUT!FW327","v":""},{"$f":"INPUT!FX327","v":""},{"$f":"INPUT!FY327","v":""},{"$f":"INPUT!FZ327","v":""},{"$f":"INPUT!GA327","v":""},{"$f":"INPUT!GB327","v":""},{"$f":"INPUT!GC327","v":""},null,{"$f":"INPUT!GY327","v":""},{"$f":"INPUT!GZ327","v":""},{"$f":"INPUT!HA327","v":""},{"$f":"INPUT!HB327","v":""},{"$f":"INPUT!HC327","v":""},{"$f":"INPUT!HD327","v":""},{"$f":"INPUT!HE327","v":""},{"$f":"INPUT!HF327","v":""},{"$f":"INPUT!HG327","v":""},null,{"$f":"INPUT!IA327","v":""},{"$f":"INPUT!IB327","v":""},{"$f":"INPUT!IC327","v":""},{"$f":"INPUT!ID327","v":""},{"$f":"INPUT!IE327","v":""},{"$f":"INPUT!IF327","v":""},{"$f":"INPUT!IG327","v":""},{"$f":"INPUT!IH327","v":""},null,{"$f":"INPUT!IZ327","v":""},{"$f":"INPUT!JA327","v":""},{"$f":"INPUT!JB327","v":""},{"$f":"INPUT!JC327","v":""},{"$f":"INPUT!JD327","v":""},{"$f":"INPUT!JE327","v":""},{"$f":"INPUT!JF327","v":""},"",null,{"$f":"INPUT!JX327","v":""},{"$f":"INPUT!JY327","v":""},{"$f":"INPUT!JZ327","v":""},{"$f":"INPUT!KA327","v":""},{"$f":"INPUT!KB327","v":""},{"$f":"INPUT!KC327","v":""},{"$f":"INPUT!KD327","v":""},"",null,{"$f":"INPUT!KZ327","v":""},{"$f":"INPUT!LA327","v":""},{"$f":"INPUT!LB327","v":""},{"$f":"INPUT!LC327","v":""},{"$f":"INPUT!LD327","v":""},{"$f":"INPUT!LE327","v":""},{"$f":"INPUT!LF327","v":""},{"$f":"INPUT!LG327","v":""},{"$f":"INPUT!LH327","v":""},null,{"$f":"INPUT!MB327","v":""},{"$f":"INPUT!MC327","v":""},{"$f":"INPUT!MD327","v":""},{"$f":"INPUT!ME327","v":""},{"$f":"INPUT!MF327","v":""},{"$f":"INPUT!MG327","v":""},{"$f":"INPUT!MH327","v":""},{"$f":"INPUT!MI327","v":""}]
[null,{"$f":"INPUT!EA328","v":""},{"$f":"INPUT!EB328","v":""},{"$f":"INPUT!EC328","v":""},{"$f":"INPUT!ED328","v":""},{"$f":"INPUT!EE328","v":""},{"$f":"INPUT!EF328","v":""},{"$f":"INPUT!EG328","v":""},"",null,{"$f":"INPUT!EY328","v":""},{"$f":"INPUT!EZ328","v":""},{"$f":"INPUT!FA328","v":""},{"$f":"INPUT!FB328","v":""},{"$f":"INPUT!FC328","v":""},{"$f":"INPUT!FD328","v":""},{"$f":"INPUT!FE328","v":""},"",null,{"$f":"INPUT!FW328","v":""},{"$f":"INPUT!FX328","v":""},{"$f":"INPUT!FY328","v":""},{"$f":"INPUT!FZ328","v":""},{"$f":"INPUT!GA328","v":""},{"$f":"INPUT!GB328","v":""},{"$f":"INPUT!GC328","v":""},null,{"$f":"INPUT!GY328","v":""},{"$f":"INPUT!GZ328","v":""},{"$f":"INPUT!HA328","v":""},{"$f":"INPUT!HB328","v":""},{"$f":"INPUT!HC328","v":""},{"$f":"INPUT!HD328","v":""},{"$f":"INPUT!HE328","v":""},{"$f":"INPUT!HF328","v":""},{"$f":"INPUT!HG328","v":""},null,{"$f":"INPUT!IA328","v":""},{"$f":"INPUT!IB328","v":""},{"$f":"INPUT!IC328","v":""},{"$f":"INPUT!ID328","v":""},{"$f":"INPUT!IE328","v":""},{"$f":"INPUT!IF328","v":""},{"$f":"INPUT!IG328","v":""},{"$f":"INPUT!IH328","v":""},null,{"$f":"INPUT!IZ328","v":""},{"$f":"INPUT!JA328","v":""},{"$f":"INPUT!JB328","v":""},{"$f":"INPUT!JC328","v":""},{"$f":"INPUT!JD328","v":""},{"$f":"INPUT!JE328","v":""},{"$f":"INPUT!JF328","v":""},"",null,{"$f":"INPUT!JX328","v":""},{"$f":"INPUT!JY328","v":""},{"$f":"INPUT!JZ328","v":""},{"$f":"INPUT!KA328","v":""},{"$f":"INPUT!KB328","v":""},{"$f":"INPUT!KC328","v":""},{"$f":"INPUT!KD328","v":""},"",null,{"$f":"INPUT!KZ328","v":""},{"$f":"INPUT!LA328","v":""},{"$f":"INPUT!LB328","v":""},{"$f":"INPUT!LC328","v":""},{"$f":"INPUT!LD328","v":""},{"$f":"INPUT!LE328","v":""},{"$f":"INPUT!LF328","v":""},{"$f":"INPUT!LG328","v":""},{"$f":"INPUT!LH328","v":""},null,{"$f":"INPUT!MB328","v":""},{"$f":"INPUT!MC328","v":""},{"$f":"INPUT!MD328","v":""},{"$f":"INPUT!ME328","v":""},{"$f":"INPUT!MF328","v":""},{"$f":"INPUT!MG328","v":""},{"$f":"INPUT!MH328","v":""},{"$f":"INPUT!MI328","v":""}]
[null,{"$f":"INPUT!EA329","v":""},{"$f":"INPUT!EB329","v":""},{"$f":"INPUT!EC329","v":""},{"$f":"INPUT!ED329","v":""},{"$f":"INPUT!EE329","v":""},{"$f":"INPUT!EF329","v":""},{"$f":"INPUT!EG329","v":""},"",null,{"$f":"INPUT!EY329","v":""},{"$f":"INPUT!EZ329","v":""},{"$f":"INPUT!FA329","v":""},{"$f":"INPUT!FB329","v":""},{"$f":"INPUT!FC329","v":""},{"$f":"INPUT!FD329","v":""},{"$f":"INPUT!FE329","v":""},"",null,{"$f":"INPUT!FW329","v":""},{"$f":"INPUT!FX329","v":""},{"$f":"INPUT!FY329","v":""},{"$f":"INPUT!FZ329","v":""},{"$f":"INPUT!GA329","v":""},{"$f":"INPUT!GB329","v":""},{"$f":"INPUT!GC329","v":""},null,{"$f":"INPUT!GY329","v":""},{"$f":"INPUT!GZ329","v":""},{"$f":"INPUT!HA329","v":""},{"$f":"INPUT!HB329","v":""},{"$f":"INPUT!HC329","v":""},{"$f":"INPUT!HD329","v":""},{"$f":"INPUT!HE329","v":""},{"$f":"INPUT!HF329","v":""},{"$f":"INPUT!HG329","v":""},null,{"$f":"INPUT!IA329","v":""},{"$f":"INPUT!IB329","v":""},{"$f":"INPUT!IC329","v":""},{"$f":"INPUT!ID329","v":""},{"$f":"INPUT!IE329","v":""},{"$f":"INPUT!IF329","v":""},{"$f":"INPUT!IG329","v":""},{"$f":"INPUT!IH329","v":""},null,{"$f":"INPUT!IZ329","v":""},{"$f":"INPUT!JA329","v":""},{"$f":"INPUT!JB329","v":""},{"$f":"INPUT!JC329","v":""},{"$f":"INPUT!JD329","v":""},{"$f":"INPUT!JE329","v":""},{"$f":"INPUT!JF329","v":""},"",null,{"$f":"INPUT!JX329","v":""},{"$f":"INPUT!JY329","v":""},{"$f":"INPUT!JZ329","v":""},{"$f":"INPUT!KA329","v":""},{"$f":"INPUT!KB329","v":""},{"$f":"INPUT!KC329","v":""},{"$f":"INPUT!KD329","v":""},"",null,{"$f":"INPUT!KZ329","v":""},{"$f":"INPUT!LA329","v":""},{"$f":"INPUT!LB329","v":""},{"$f":"INPUT!LC329","v":""},{"$f":"INPUT!LD329","v":""},{"$f":"INPUT!LE329","v":""},{"$f":"INPUT!LF329","v":""},{"$f":"INPUT!LG329","v":""},{"$f":"INPUT!LH329","v":""},null,{"$f":"INPUT!MB329","v":""},{"$f":"INPUT!MC329","v":""},{"$f":"INPUT!MD329","v":""},{"$f":"INPUT!ME329","v":""},{"$f":"INPUT!MF329","v":""},{"$f":"INPUT!MG329","v":""},{"$f":"INPUT!MH329","v":""},{"$f":"INPUT!MI329","v":""}]
[null,{"$f":"INPUT!EA330","v":""},{"$f":"INPUT!EB330","v":""},{"$f":"INPUT!EC330","v":""},{"$f":"INPUT!ED330","v":""},{"$f":"INPUT!EE330","v":""},{"$f":"INPUT!EF330","v":""},{"$f":"INPUT!EG330","v":""},"",null,{"$f":"INPUT!EY330","v":""},{"$f":"INPUT!EZ330","v":""},{"$f":"INPUT!FA330","v":""},{"$f":"INPUT!FB330","v":""},{"$f":"INPUT!FC330","v":""},{"$f":"INPUT!FD330","v":""},{"$f":"INPUT!FE330","v":""},"",null,{"$f":"INPUT!FW330","v":""},{"$f":"INPUT!FX330","v":""},{"$f":"INPUT!FY330","v":""},{"$f":"INPUT!FZ330","v":""},{"$f":"INPUT!GA330","v":""},{"$f":"INPUT!GB330","v":""},{"$f":"INPUT!GC330","v":""},null,{"$f":"INPUT!GY330","v":""},{"$f":"INPUT!GZ330","v":""},{"$f":"INPUT!HA330","v":""},{"$f":"INPUT!HB330","v":""},{"$f":"INPUT!HC330","v":""},{"$f":"INPUT!HD330","v":""},{"$f":"INPUT!HE330","v":""},{"$f":"INPUT!HF330","v":""},{"$f":"INPUT!HG330","v":""},null,{"$f":"INPUT!IA330","v":""},{"$f":"INPUT!IB330","v":""},{"$f":"INPUT!IC330","v":""},{"$f":"INPUT!ID330","v":""},{"$f":"INPUT!IE330","v":""},{"$f":"INPUT!IF330","v":""},{"$f":"INPUT!IG330","v":""},{"$f":"INPUT!IH330","v":""},null,{"$f":"INPUT!IZ330","v":""},{"$f":"INPUT!JA330","v":""},{"$f":"INPUT!JB330","v":""},{"$f":"INPUT!JC330","v":""},{"$f":"INPUT!JD330","v":""},{"$f":"INPUT!JE330","v":""},{"$f":"INPUT!JF330","v":""},"",null,{"$f":"INPUT!JX330","v":""},{"$f":"INPUT!JY330","v":""},{"$f":"INPUT!JZ330","v":""},{"$f":"INPUT!KA330","v":""},{"$f":"INPUT!KB330","v":""},{"$f":"INPUT!KC330","v":""},{"$f":"INPUT!KD330","v":""},"",null,{"$f":"INPUT!KZ330","v":""},{"$f":"INPUT!LA330","v":""},{"$f":"INPUT!LB330","v":""},{"$f":"INPUT!LC330","v":""},{"$f":"INPUT!LD330","v":""},{"$f":"INPUT!LE330","v":""},{"$f":"INPUT!LF330","v":""},{"$f":"INPUT!LG330","v":""},{"$f":"INPUT!LH330","v":""},null,{"$f":"INPUT!MB330","v":""},{"$f":"INPUT!MC330","v":""},{"$f":"INPUT!MD330","v":""},{"$f":"INPUT!ME330","v":""},{"$f":"INPUT!MF330","v":""},{"$f":"INPUT!MG330","v":""},{"$f":"INPUT!MH330","v":""},{"$f":"INPUT!MI330","v":""}]
[null,{"$f":"INPUT!EA331","v":""},{"$f":"INPUT!EB331","v":""},{"$f":"INPUT!EC331","v":""},{"$f":"INPUT!ED331","v":""},{"$f":"INPUT!EE331","v":""},{"$f":"INPUT!EF331","v":""},{"$f":"INPUT!EG331","v":""},{"$f":"IF(ISNUMBER($H331),1/$H331,\"\")","v":""},null,{"$f":"INPUT!EY331","v":""},{"$f":"INPUT!EZ331","v":""},{"$f":"INPUT!FA331","v":""},{"$f":"INPUT!FB331","v":""},{"$f":"INPUT!FC331","v":""},{"$f":"INPUT!FD331","v":""},{"$f":"INPUT!FE331","v":""},{"$f":"IF(ISNUMBER($Q331),1/$Q331,\"\")","v":""},null,{"$f":"INPUT!FW331","v":""},{"$f":"INPUT!FX331","v":""},{"$f":"INPUT!FY331","v":""},{"$f":"INPUT!FZ331","v":""},{"$f":"INPUT!GA331","v":""},{"$f":"INPUT!GB331","v":""},{"$f":"INPUT!GC331","v":""},null,{"$f":"INPUT!GY331","v":""},{"$f":"INPUT!GZ331","v":""},{"$f":"INPUT!HA331","v":""},{"$f":"INPUT!HB331","v":""},{"$f":"INPUT!HC331","v":""},{"$f":"INPUT!HD331","v":""},{"$f":"INPUT!HE331","v":""},{"$f":"INPUT!HF331","v":""},{"$f":"INPUT!HG331","v":""},null,{"$f":"INPUT!IA331","v":""},{"$f":"INPUT!IB331","v":""},{"$f":"INPUT!IC331","v":""},{"$f":"INPUT!ID331","v":""},{"$f":"INPUT!IE331","v":""},{"$f":"INPUT!IF331","v":""},{"$f":"INPUT!IG331","v":""},{"$f":"INPUT!IH331","v":""},null,{"$f":"INPUT!IZ331","v":""},{"$f":"INPUT!JA331","v":""},{"$f":"INPUT!JB331","v":""},{"$f":"INPUT!JC331","v":""},{"$f":"INPUT!JD331","v":""},{"$f":"INPUT!JE331","v":""},{"$f":"INPUT!JF331","v":""},{"$f":"IF(ISNUMBER($BA331),1/$BA331,\"\")","v":""},null,{"$f":"INPUT!JX331","v":""},{"$f":"INPUT!JY331","v":""},{"$f":"INPUT!JZ331","v":""},{"$f":"INPUT!KA331","v":""},{"$f":"INPUT!KB331","v":""},{"$f":"INPUT!KC331","v":""},{"$f":"INPUT!KD331","v":""},{"$f":"IF(ISNUMBER($BJ331),1/$BJ331,\"\")","v":""},null,{"$f":"INPUT!KZ331","v":""},{"$f":"INPUT!LA331","v":""},{"$f":"INPUT!LB331","v":""},{"$f":"INPUT!LC331","v":""},{"$f":"INPUT!LD331","v":""},{"$f":"INPUT!LE331","v":""},{"$f":"INPUT!LF331","v":""},{"$f":"INPUT!LG331","v":""},{"$f":"INPUT!LH331","v":""},null,{"$f":"INPUT!MB331","v":""},{"$f":"INPUT!MC331","v":""},{"$f":"INPUT!MD331","v":""},{"$f":"INPUT!ME331","v":""},{"$f":"INPUT!MF331","v":""},{"$f":"INPUT!MG331","v":""},{"$f":"INPUT!MH331","v":""},{"$f":"INPUT!MI331","v":""}]
[null,{"$f":"INPUT!EA332","v":""},{"$f":"INPUT!EB332","v":""},{"$f":"INPUT!EC332","v":""},{"$f":"INPUT!ED332","v":""},{"$f":"INPUT!EE332","v":""},{"$f":"INPUT!EF332","v":""},{"$f":"INPUT!EG332","v":""},"",null,{"$f":"INPUT!EY332","v":""},{"$f":"INPUT!EZ332","v":""},{"$f":"INPUT!FA332","v":""},{"$f":"INPUT!FB332","v":""},{"$f":"INPUT!FC332","v":""},{"$f":"INPUT!FD332","v":""},{"$f":"INPUT!FE332","v":""},"",null,{"$f":"INPUT!FW332","v":""},{"$f":"INPUT!FX332","v":""},{"$f":"INPUT!FY332","v":""},{"$f":"INPUT!FZ332","v":""},{"$f":"INPUT!GA332","v":""},{"$f":"INPUT!GB332","v":""},{"$f":"INPUT!GC332","v":""},null,{"$f":"INPUT!GY332","v":""},{"$f":"INPUT!GZ332","v":""},{"$f":"INPUT!HA332","v":""},{"$f":"INPUT!HB332","v":""},{"$f":"INPUT!HC332","v":""},{"$f":"INPUT!HD332","v":""},{"$f":"INPUT!HE332","v":""},{"$f":"INPUT!HF332","v":""},{"$f":"INPUT!HG332","v":""},null,{"$f":"INPUT!IA332","v":""},{"$f":"INPUT!IB332","v":""},{"$f":"INPUT!IC332","v":""},{"$f":"INPUT!ID332","v":""},{"$f":"INPUT!IE332","v":""},{"$f":"INPUT!IF332","v":""},{"$f":"INPUT!IG332","v":""},{"$f":"INPUT!IH332","v":""},null,{"$f":"INPUT!IZ332","v":""},{"$f":"INPUT!JA332","v":""},{"$f":"INPUT!JB332","v":""},{"$f":"INPUT!JC332","v":""},{"$f":"INPUT!JD332","v":""},{"$f":"INPUT!JE332","v":""},{"$f":"INPUT!JF332","v":""},"",null,{"$f":"INPUT!JX332","v":""},{"$f":"INPUT!JY332","v":""},{"$f":"INPUT!JZ332","v":""},{"$f":"INPUT!KA332","v":""},{"$f":"INPUT!KB332","v":""},{"$f":"INPUT!KC332","v":""},{"$f":"INPUT!KD332","v":""},"",null,{"$f":"INPUT!KZ332","v":""},{"$f":"INPUT!LA332","v":""},{"$f":"INPUT!LB332","v":""},{"$f":"INPUT!LC332","v":""},{"$f":"INPUT!LD332","v":""},{"$f":"INPUT!LE332","v":""},{"$f":"INPUT!LF332","v":""},{"$f":"INPUT!LG332","v":""},{"$f":"INPUT!LH332","v":""},null,{"$f":"INPUT!MB332","v":""},{"$f":"INPUT!MC332","v":""},{"$f":"INPUT!MD332","v":""},{"$f":"INPUT!ME332","v":""},{"$f":"INPUT!MF332","v":""},{"$f":"INPUT!MG332","v":""},{"$f":"INPUT!MH332","v":""},{"$f":"INPUT!MI332","v":""}]
[null,{"$f":"INPUT!EA333","v":""},{"$f":"INPUT!EB333","v":""},{"$f":"INPUT!EC333","v":""},{"$f":"INPUT!ED333","v":""},{"$f":"INPUT!EE333","v":""},{"$f":"INPUT!EF333","v":""},{"$f":"INPUT!EG333","v":""},"",null,{"$f":"INPUT!EY333","v":""},{"$f":"INPUT!EZ333","v":""},{"$f":"INPUT!FA333","v":""},{"$f":"INPUT!FB333","v":""},{"$f":"INPUT!FC333","v":""},{"$f":"INPUT!FD333","v":""},{"$f":"INPUT!FE333","v":""},"",null,{"$f":"INPUT!FW333","v":""},{"$f":"INPUT!FX333","v":""},{"$f":"INPUT!FY333","v":""},{"$f":"INPUT!FZ333","v":""},{"$f":"INPUT!GA333","v":""},{"$f":"INPUT!GB333","v":""},{"$f":"INPUT!GC333","v":""},null,{"$f":"INPUT!GY333","v":""},{"$f":"INPUT!GZ333","v":""},{"$f":"INPUT!HA333","v":""},{"$f":"INPUT!HB333","v":""},{"$f":"INPUT!HC333","v":""},{"$f":"INPUT!HD333","v":""},{"$f":"INPUT!HE333","v":""},{"$f":"INPUT!HF333","v":""},{"$f":"INPUT!HG333","v":""},null,{"$f":"INPUT!IA333","v":""},{"$f":"INPUT!IB333","v":""},{"$f":"INPUT!IC333","v":""},{"$f":"INPUT!ID333","v":""},{"$f":"INPUT!IE333","v":""},{"$f":"INPUT!IF333","v":""},{"$f":"INPUT!IG333","v":""},{"$f":"INPUT!IH333","v":""},null,{"$f":"INPUT!IZ333","v":""},{"$f":"INPUT!JA333","v":""},{"$f":"INPUT!JB333","v":""},{"$f":"INPUT!JC333","v":""},{"$f":"INPUT!JD333","v":""},{"$f":"INPUT!JE333","v":""},{"$f":"INPUT!JF333","v":""},"",null,{"$f":"INPUT!JX333","v":""},{"$f":"INPUT!JY333","v":""},{"$f":"INPUT!JZ333","v":""},{"$f":"INPUT!KA333","v":""},{"$f":"INPUT!KB333","v":""},{"$f":"INPUT!KC333","v":""},{"$f":"INPUT!KD333","v":""},"",null,{"$f":"INPUT!KZ333","v":""},{"$f":"INPUT!LA333","v":""},{"$f":"INPUT!LB333","v":""},{"$f":"INPUT!LC333","v":""},{"$f":"INPUT!LD333","v":""},{"$f":"INPUT!LE333","v":""},{"$f":"INPUT!LF333","v":""},{"$f":"INPUT!LG333","v":""},{"$f":"INPUT!LH333","v":""},null,{"$f":"INPUT!MB333","v":""},{"$f":"INPUT!MC333","v":""},{"$f":"INPUT!MD333","v":""},{"$f":"INPUT!ME333","v":""},{"$f":"INPUT!MF333","v":""},{"$f":"INPUT!MG333","v":""},{"$f":"INPUT!MH333","v":""},{"$f":"INPUT!MI333","v":""}]
[null,{"$f":"INPUT!EA334","v":""},{"$f":"INPUT!EB334","v":""},{"$f":"INPUT!EC334","v":""},{"$f":"INPUT!ED334","v":""},{"$f":"INPUT!EE334","v":""},{"$f":"INPUT!EF334","v":""},{"$f":"INPUT!EG334","v":""},"",null,{"$f":"INPUT!EY334","v":""},{"$f":"INPUT!EZ334","v":""},{"$f":"INPUT!FA334","v":""},{"$f":"INPUT!FB334","v":""},{"$f":"INPUT!FC334","v":""},{"$f":"INPUT!FD334","v":""},{"$f":"INPUT!FE334","v":""},"",null,{"$f":"INPUT!FW334","v":""},{"$f":"INPUT!FX334","v":""},{"$f":"INPUT!FY334","v":""},{"$f":"INPUT!FZ334","v":""},{"$f":"INPUT!GA334","v":""},{"$f":"INPUT!GB334","v":""},{"$f":"INPUT!GC334","v":""},null,{"$f":"INPUT!GY334","v":""},{"$f":"INPUT!GZ334","v":""},{"$f":"INPUT!HA334","v":""},{"$f":"INPUT!HB334","v":""},{"$f":"INPUT!HC334","v":""},{"$f":"INPUT!HD334","v":""},{"$f":"INPUT!HE334","v":""},{"$f":"INPUT!HF334","v":""},{"$f":"INPUT!HG334","v":""},null,{"$f":"INPUT!IA334","v":""},{"$f":"INPUT!IB334","v":""},{"$f":"INPUT!IC334","v":""},{"$f":"INPUT!ID334","v":""},{"$f":"INPUT!IE334","v":""},{"$f":"INPUT!IF334","v":""},{"$f":"INPUT!IG334","v":""},{"$f":"INPUT!IH334","v":""},null,{"$f":"INPUT!IZ334","v":""},{"$f":"INPUT!JA334","v":""},{"$f":"INPUT!JB334","v":""},{"$f":"INPUT!JC334","v":""},{"$f":"INPUT!JD334","v":""},{"$f":"INPUT!JE334","v":""},{"$f":"INPUT!JF334","v":""},"",null,{"$f":"INPUT!JX334","v":""},{"$f":"INPUT!JY334","v":""},{"$f":"INPUT!JZ334","v":""},{"$f":"INPUT!KA334","v":""},{"$f":"INPUT!KB334","v":""},{"$f":"INPUT!KC334","v":""},{"$f":"INPUT!KD334","v":""},"",null,{"$f":"INPUT!KZ334","v":""},{"$f":"INPUT!LA334","v":""},{"$f":"INPUT!LB334","v":""},{"$f":"INPUT!LC334","v":""},{"$f":"INPUT!LD334","v":""},{"$f":"INPUT!LE334","v":""},{"$f":"INPUT!LF334","v":""},{"$f":"INPUT!LG334","v":""},{"$f":"INPUT!LH334","v":""},null,{"$f":"INPUT!MB334","v":""},{"$f":"INPUT!MC334","v":""},{"$f":"INPUT!MD334","v":""},{"$f":"INPUT!ME334","v":""},{"$f":"INPUT!MF334","v":""},{"$f":"INPUT!MG334","v":""},{"$f":"INPUT!MH334","v":""},{"$f":"INPUT!MI334","v":""}]
[null,{"$f":"INPUT!EA335","v":""},{"$f":"INPUT!EB335","v":""},{"$f":"INPUT!EC335","v":""},{"$f":"INPUT!ED335","v":""},{"$f":"INPUT!EE335","v":""},{"$f":"INPUT!EF335","v":""},{"$f":"INPUT!EG335","v":""},"",null,{"$f":"INPUT!EY335","v":""},{"$f":"INPUT!EZ335","v":""},{"$f":"INPUT!FA335","v":""},{"$f":"INPUT!FB335","v":""},{"$f":"INPUT!FC335","v":""},{"$f":"INPUT!FD335","v":""},{"$f":"INPUT!FE335","v":""},"",null,{"$f":"INPUT!FW335","v":""},{"$f":"INPUT!FX335","v":""},{"$f":"INPUT!FY335","v":""},{"$f":"INPUT!FZ335","v":""},{"$f":"INPUT!GA335","v":""},{"$f":"INPUT!GB335","v":""},{"$f":"INPUT!GC335","v":""},null,{"$f":"INPUT!GY335","v":""},{"$f":"INPUT!GZ335","v":""},{"$f":"INPUT!HA335","v":""},{"$f":"INPUT!HB335","v":""},{"$f":"INPUT!HC335","v":""},{"$f":"INPUT!HD335","v":""},{"$f":"INPUT!HE335","v":""},{"$f":"INPUT!HF335","v":""},{"$f":"INPUT!HG335","v":""},null,{"$f":"INPUT!IA335","v":""},{"$f":"INPUT!IB335","v":""},{"$f":"INPUT!IC335","v":""},{"$f":"INPUT!ID335","v":""},{"$f":"INPUT!IE335","v":""},{"$f":"INPUT!IF335","v":""},{"$f":"INPUT!IG335","v":""},{"$f":"INPUT!IH335","v":""},null,{"$f":"INPUT!IZ335","v":""},{"$f":"INPUT!JA335","v":""},{"$f":"INPUT!JB335","v":""},{"$f":"INPUT!JC335","v":""},{"$f":"INPUT!JD335","v":""},{"$f":"INPUT!JE335","v":""},{"$f":"INPUT!JF335","v":""},"",null,{"$f":"INPUT!JX335","v":""},{"$f":"INPUT!JY335","v":""},{"$f":"INPUT!JZ335","v":""},{"$f":"INPUT!KA335","v":""},{"$f":"INPUT!KB335","v":""},{"$f":"INPUT!KC335","v":""},{"$f":"INPUT!KD335","v":""},"",null,{"$f":"INPUT!KZ335","v":""},{"$f":"INPUT!LA335","v":""},{"$f":"INPUT!LB335","v":""},{"$f":"INPUT!LC335","v":""},{"$f":"INPUT!LD335","v":""},{"$f":"INPUT!LE335","v":""},{"$f":"INPUT!LF335","v":""},{"$f":"INPUT!LG335","v":""},{"$f":"INPUT!LH335","v":""},null,{"$f":"INPUT!MB335","v":""},{"$f":"INPUT!MC335","v":""},{"$f":"INPUT!MD335","v":""},{"$f":"INPUT!ME335","v":""},{"$f":"INPUT!MF335","v":""},{"$f":"INPUT!MG335","v":""},{"$f":"INPUT!MH335","v":""},{"$f":"INPUT!MI335","v":""}]
[null,{"$f":"INPUT!EA336","v":""},{"$f":"INPUT!EB336","v":""},{"$f":"INPUT!EC336","v":""},{"$f":"INPUT!ED336","v":""},{"$f":"INPUT!EE336","v":""},{"$f":"INPUT!EF336","v":""},{"$f":"INPUT!EG336","v":""},"",null,{"$f":"INPUT!EY336","v":""},{"$f":"INPUT!EZ336","v":""},{"$f":"INPUT!FA336","v":""},{"$f":"INPUT!FB336","v":""},{"$f":"INPUT!FC336","v":""},{"$f":"INPUT!FD336","v":""},{"$f":"INPUT!FE336","v":""},"",null,{"$f":"INPUT!FW336","v":""},{"$f":"INPUT!FX336","v":""},{"$f":"INPUT!FY336","v":""},{"$f":"INPUT!FZ336","v":""},{"$f":"INPUT!GA336","v":""},{"$f":"INPUT!GB336","v":""},{"$f":"INPUT!GC336","v":""},null,{"$f":"INPUT!GY336","v":""},{"$f":"INPUT!GZ336","v":""},{"$f":"INPUT!HA336","v":""},{"$f":"INPUT!HB336","v":""},{"$f":"INPUT!HC336","v":""},{"$f":"INPUT!HD336","v":""},{"$f":"INPUT!HE336","v":""},{"$f":"INPUT!HF336","v":""},{"$f":"INPUT!HG336","v":""},null,{"$f":"INPUT!IA336","v":""},{"$f":"INPUT!IB336","v":""},{"$f":"INPUT!IC336","v":""},{"$f":"INPUT!ID336","v":""},{"$f":"INPUT!IE336","v":""},{"$f":"INPUT!IF336","v":""},{"$f":"INPUT!IG336","v":""},{"$f":"INPUT!IH336","v":""},null,{"$f":"INPUT!IZ336","v":""},{"$f":"INPUT!JA336","v":""},{"$f":"INPUT!JB336","v":""},{"$f":"INPUT!JC336","v":""},{"$f":"INPUT!JD336","v":""},{"$f":"INPUT!JE336","v":""},{"$f":"INPUT!JF336","v":""},"",null,{"$f":"INPUT!JX336","v":""},{"$f":"INPUT!JY336","v":""},{"$f":"INPUT!JZ336","v":""},{"$f":"INPUT!KA336","v":""},{"$f":"INPUT!KB336","v":""},{"$f":"INPUT!KC336","v":""},{"$f":"INPUT!KD336","v":""},"",null,{"$f":"INPUT!KZ336","v":""},{"$f":"INPUT!LA336","v":""},{"$f":"INPUT!LB336","v":""},{"$f":"INPUT!LC336","v":""},{"$f":"INPUT!LD336","v":""},{"$f":"INPUT!LE336","v":""},{"$f":"INPUT!LF336","v":""},{"$f":"INPUT!LG336","v":""},{"$f":"INPUT!LH336","v":""},null,{"$f":"INPUT!MB336","v":""},{"$f":"INPUT!MC336","v":""},{"$f":"INPUT!MD336","v":""},{"$f":"INPUT!ME336","v":""},{"$f":"INPUT!MF336","v":""},{"$f":"INPUT!MG336","v":""},{"$f":"INPUT!MH336","v":""},{"$f":"INPUT!MI336","v":""}]
[null,{"$f":"INPUT!EA337","v":""},{"$f":"INPUT!EB337","v":""},{"$f":"INPUT!EC337","v":""},{"$f":"INPUT!ED337","v":""},{"$f":"INPUT!EE337","v":""},{"$f":"INPUT!EF337","v":""},{"$f":"INPUT!EG337","v":""},"",null,{"$f":"INPUT!EY337","v":""},{"$f":"INPUT!EZ337","v":""},{"$f":"INPUT!FA337","v":""},{"$f":"INPUT!FB337","v":""},{"$f":"INPUT!FC337","v":""},{"$f":"INPUT!FD337","v":""},{"$f":"INPUT!FE337","v":""},"",null,{"$f":"INPUT!FW337","v":""},{"$f":"INPUT!FX337","v":""},{"$f":"INPUT!FY337","v":""},{"$f":"INPUT!FZ337","v":""},{"$f":"INPUT!GA337","v":""},{"$f":"INPUT!GB337","v":""},{"$f":"INPUT!GC337","v":""},null,{"$f":"INPUT!GY337","v":""},{"$f":"INPUT!GZ337","v":""},{"$f":"INPUT!HA337","v":""},{"$f":"INPUT!HB337","v":""},{"$f":"INPUT!HC337","v":""},{"$f":"INPUT!HD337","v":""},{"$f":"INPUT!HE337","v":""},{"$f":"INPUT!HF337","v":""},{"$f":"INPUT!HG337","v":""},null,{"$f":"INPUT!IA337","v":""},{"$f":"INPUT!IB337","v":""},{"$f":"INPUT!IC337","v":""},{"$f":"INPUT!ID337","v":""},{"$f":"INPUT!IE337","v":""},{"$f":"INPUT!IF337","v":""},{"$f":"INPUT!IG337","v":""},{"$f":"INPUT!IH337","v":""},null,{"$f":"INPUT!IZ337","v":""},{"$f":"INPUT!JA337","v":""},{"$f":"INPUT!JB337","v":""},{"$f":"INPUT!JC337","v":""},{"$f":"INPUT!JD337","v":""},{"$f":"INPUT!JE337","v":""},{"$f":"INPUT!JF337","v":""},"",null,{"$f":"INPUT!JX337","v":""},{"$f":"INPUT!JY337","v":""},{"$f":"INPUT!JZ337","v":""},{"$f":"INPUT!KA337","v":""},{"$f":"INPUT!KB337","v":""},{"$f":"INPUT!KC337","v":""},{"$f":"INPUT!KD337","v":""},"",null,{"$f":"INPUT!KZ337","v":""},{"$f":"INPUT!LA337","v":""},{"$f":"INPUT!LB337","v":""},{"$f":"INPUT!LC337","v":""},{"$f":"INPUT!LD337","v":""},{"$f":"INPUT!LE337","v":""},{"$f":"INPUT!LF337","v":""},{"$f":"INPUT!LG337","v":""},{"$f":"INPUT!LH337","v":""},null,{"$f":"INPUT!MB337","v":""},{"$f":"INPUT!MC337","v":""},{"$f":"INPUT!MD337","v":""},{"$f":"INPUT!ME337","v":""},{"$f":"INPUT!MF337","v":""},{"$f":"INPUT!MG337","v":""},{"$f":"INPUT!MH337","v":""},{"$f":"INPUT!MI337","v":""}]
[null,{"$f":"INPUT!EA338","v":""},{"$f":"INPUT!EB338","v":""},{"$f":"INPUT!EC338","v":""},{"$f":"INPUT!ED338","v":""},{"$f":"INPUT!EE338","v":""},{"$f":"INPUT!EF338","v":""},{"$f":"INPUT!EG338","v":""},"",null,{"$f":"INPUT!EY338","v":""},{"$f":"INPUT!EZ338","v":""},{"$f":"INPUT!FA338","v":""},{"$f":"INPUT!FB338","v":""},{"$f":"INPUT!FC338","v":""},{"$f":"INPUT!FD338","v":""},{"$f":"INPUT!FE338","v":""},"",null,{"$f":"INPUT!FW338","v":""},{"$f":"INPUT!FX338","v":""},{"$f":"INPUT!FY338","v":""},{"$f":"INPUT!FZ338","v":""},{"$f":"INPUT!GA338","v":""},{"$f":"INPUT!GB338","v":""},{"$f":"INPUT!GC338","v":""},null,{"$f":"INPUT!GY338","v":""},{"$f":"INPUT!GZ338","v":""},{"$f":"INPUT!HA338","v":""},{"$f":"INPUT!HB338","v":""},{"$f":"INPUT!HC338","v":""},{"$f":"INPUT!HD338","v":""},{"$f":"INPUT!HE338","v":""},{"$f":"INPUT!HF338","v":""},{"$f":"INPUT!HG338","v":""},null,{"$f":"INPUT!IA338","v":""},{"$f":"INPUT!IB338","v":""},{"$f":"INPUT!IC338","v":""},{"$f":"INPUT!ID338","v":""},{"$f":"INPUT!IE338","v":""},{"$f":"INPUT!IF338","v":""},{"$f":"INPUT!IG338","v":""},{"$f":"INPUT!IH338","v":""},null,{"$f":"INPUT!IZ338","v":""},{"$f":"INPUT!JA338","v":""},{"$f":"INPUT!JB338","v":""},{"$f":"INPUT!JC338","v":""},{"$f":"INPUT!JD338","v":""},{"$f":"INPUT!JE338","v":""},{"$f":"INPUT!JF338","v":""},"",null,{"$f":"INPUT!JX338","v":""},{"$f":"INPUT!JY338","v":""},{"$f":"INPUT!JZ338","v":""},{"$f":"INPUT!KA338","v":""},{"$f":"INPUT!KB338","v":""},{"$f":"INPUT!KC338","v":""},{"$f":"INPUT!KD338","v":""},"",null,{"$f":"INPUT!KZ338","v":""},{"$f":"INPUT!LA338","v":""},{"$f":"INPUT!LB338","v":""},{"$f":"INPUT!LC338","v":""},{"$f":"INPUT!LD338","v":""},{"$f":"INPUT!LE338","v":""},{"$f":"INPUT!LF338","v":""},{"$f":"INPUT!LG338","v":""},{"$f":"INPUT!LH338","v":""},null,{"$f":"INPUT!MB338","v":""},{"$f":"INPUT!MC338","v":""},{"$f":"INPUT!MD338","v":""},{"$f":"INPUT!ME338","v":""},{"$f":"INPUT!MF338","v":""},{"$f":"INPUT!MG338","v":""},{"$f":"INPUT!MH338","v":""},{"$f":"INPUT!MI338","v":""}]
[null,{"$f":"INPUT!EA339","v":""},{"$f":"INPUT!EB339","v":""},{"$f":"INPUT!EC339","v":""},{"$f":"INPUT!ED339","v":""},{"$f":"INPUT!EE339","v":""},{"$f":"INPUT!EF339","v":""},{"$f":"INPUT!EG339","v":""},"",null,{"$f":"INPUT!EY339","v":""},{"$f":"INPUT!EZ339","v":""},{"$f":"INPUT!FA339","v":""},{"$f":"INPUT!FB339","v":""},{"$f":"INPUT!FC339","v":""},{"$f":"INPUT!FD339","v":""},{"$f":"INPUT!FE339","v":""},"",null,{"$f":"INPUT!FW339","v":""},{"$f":"INPUT!FX339","v":""},{"$f":"INPUT!FY339","v":""},{"$f":"INPUT!FZ339","v":""},{"$f":"INPUT!GA339","v":""},{"$f":"INPUT!GB339","v":""},{"$f":"INPUT!GC339","v":""},null,{"$f":"INPUT!GY339","v":""},{"$f":"INPUT!GZ339","v":""},{"$f":"INPUT!HA339","v":""},{"$f":"INPUT!HB339","v":""},{"$f":"INPUT!HC339","v":""},{"$f":"INPUT!HD339","v":""},{"$f":"INPUT!HE339","v":""},{"$f":"INPUT!HF339","v":""},{"$f":"INPUT!HG339","v":""},null,{"$f":"INPUT!IA339","v":""},{"$f":"INPUT!IB339","v":""},{"$f":"INPUT!IC339","v":""},{"$f":"INPUT!ID339","v":""},{"$f":"INPUT!IE339","v":""},{"$f":"INPUT!IF339","v":""},{"$f":"INPUT!IG339","v":""},{"$f":"INPUT!IH339","v":""},null,{"$f":"INPUT!IZ339","v":""},{"$f":"INPUT!JA339","v":""},{"$f":"INPUT!JB339","v":""},{"$f":"INPUT!JC339","v":""},{"$f":"INPUT!JD339","v":""},{"$f":"INPUT!JE339","v":""},{"$f":"INPUT!JF339","v":""},"",null,{"$f":"INPUT!JX339","v":""},{"$f":"INPUT!JY339","v":""},{"$f":"INPUT!JZ339","v":""},{"$f":"INPUT!KA339","v":""},{"$f":"INPUT!KB339","v":""},{"$f":"INPUT!KC339","v":""},{"$f":"INPUT!KD339","v":""},"",null,{"$f":"INPUT!KZ339","v":""},{"$f":"INPUT!LA339","v":""},{"$f":"INPUT!LB339","v":""},{"$f":"INPUT!LC339","v":""},{"$f":"INPUT!LD339","v":""},{"$f":"INPUT!LE339","v":""},{"$f":"INPUT!LF339","v":""},{"$f":"INPUT!LG339","v":""},{"$f":"INPUT!LH339","v":""},null,{"$f":"INPUT!MB339","v":""},{"$f":"INPUT!MC339","v":""},{"$f":"INPUT!MD339","v":""},{"$f":"INPUT!ME339","v":""},{"$f":"INPUT!MF339","v":""},{"$f":"INPUT!MG339","v":""},{"$f":"INPUT!MH339","v":""},{"$f":"INPUT!MI339","v":""}]
[null,{"$f":"INPUT!EA340","v":""},{"$f":"INPUT!EB340","v":""},{"$f":"INPUT!EC340","v":""},{"$f":"INPUT!ED340","v":""},{"$f":"INPUT!EE340","v":""},{"$f":"INPUT!EF340","v":""},{"$f":"INPUT!EG340","v":""},"",null,{"$f":"INPUT!EY340","v":""},{"$f":"INPUT!EZ340","v":""},{"$f":"INPUT!FA340","v":""},{"$f":"INPUT!FB340","v":""},{"$f":"INPUT!FC340","v":""},{"$f":"INPUT!FD340","v":""},{"$f":"INPUT!FE340","v":""},"",null,{"$f":"INPUT!FW340","v":""},{"$f":"INPUT!FX340","v":""},{"$f":"INPUT!FY340","v":""},{"$f":"INPUT!FZ340","v":""},{"$f":"INPUT!GA340","v":""},{"$f":"INPUT!GB340","v":""},{"$f":"INPUT!GC340","v":""},null,{"$f":"INPUT!GY340","v":""},{"$f":"INPUT!GZ340","v":""},{"$f":"INPUT!HA340","v":""},{"$f":"INPUT!HB340","v":""},{"$f":"INPUT!HC340","v":""},{"$f":"INPUT!HD340","v":""},{"$f":"INPUT!HE340","v":""},{"$f":"INPUT!HF340","v":""},{"$f":"INPUT!HG340","v":""},null,{"$f":"INPUT!IA340","v":""},{"$f":"INPUT!IB340","v":""},{"$f":"INPUT!IC340","v":""},{"$f":"INPUT!ID340","v":""},{"$f":"INPUT!IE340","v":""},{"$f":"INPUT!IF340","v":""},{"$f":"INPUT!IG340","v":""},{"$f":"INPUT!IH340","v":""},null,{"$f":"INPUT!IZ340","v":""},{"$f":"INPUT!JA340","v":""},{"$f":"INPUT!JB340","v":""},{"$f":"INPUT!JC340","v":""},{"$f":"INPUT!JD340","v":""},{"$f":"INPUT!JE340","v":""},{"$f":"INPUT!JF340","v":""},"",null,{"$f":"INPUT!JX340","v":""},{"$f":"INPUT!JY340","v":""},{"$f":"INPUT!JZ340","v":""},{"$f":"INPUT!KA340","v":""},{"$f":"INPUT!KB340","v":""},{"$f":"INPUT!KC340","v":""},{"$f":"INPUT!KD340","v":""},"",null,{"$f":"INPUT!KZ340","v":""},{"$f":"INPUT!LA340","v":""},{"$f":"INPUT!LB340","v":""},{"$f":"INPUT!LC340","v":""},{"$f":"INPUT!LD340","v":""},{"$f":"INPUT!LE340","v":""},{"$f":"INPUT!LF340","v":""},{"$f":"INPUT!LG340","v":""},{"$f":"INPUT!LH340","v":""},null,{"$f":"INPUT!MB340","v":""},{"$f":"INPUT!MC340","v":""},{"$f":"INPUT!MD340","v":""},{"$f":"INPUT!ME340","v":""},{"$f":"INPUT!MF340","v":""},{"$f":"INPUT!MG340","v":""},{"$f":"INPUT!MH340","v":""},{"$f":"INPUT!MI340","v":""}]
[null,{"$f":"INPUT!EA341","v":""},{"$f":"INPUT!EB341","v":""},{"$f":"INPUT!EC341","v":""},{"$f":"INPUT!ED341","v":""},{"$f":"INPUT!EE341","v":""},{"$f":"INPUT!EF341","v":""},{"$f":"INPUT!EG341","v":""},"",null,{"$f":"INPUT!EY341","v":""},{"$f":"INPUT!EZ341","v":""},{"$f":"INPUT!FA341","v":""},{"$f":"INPUT!FB341","v":""},{"$f":"INPUT!FC341","v":""},{"$f":"INPUT!FD341","v":""},{"$f":"INPUT!FE341","v":""},"",null,{"$f":"INPUT!FW341","v":""},{"$f":"INPUT!FX341","v":""},{"$f":"INPUT!FY341","v":""},{"$f":"INPUT!FZ341","v":""},{"$f":"INPUT!GA341","v":""},{"$f":"INPUT!GB341","v":""},{"$f":"INPUT!GC341","v":""},null,{"$f":"INPUT!GY341","v":""},{"$f":"INPUT!GZ341","v":""},{"$f":"INPUT!HA341","v":""},{"$f":"INPUT!HB341","v":""},{"$f":"INPUT!HC341","v":""},{"$f":"INPUT!HD341","v":""},{"$f":"INPUT!HE341","v":""},{"$f":"INPUT!HF341","v":""},{"$f":"INPUT!HG341","v":""},null,{"$f":"INPUT!IA341","v":""},{"$f":"INPUT!IB341","v":""},{"$f":"INPUT!IC341","v":""},{"$f":"INPUT!ID341","v":""},{"$f":"INPUT!IE341","v":""},{"$f":"INPUT!IF341","v":""},{"$f":"INPUT!IG341","v":""},{"$f":"INPUT!IH341","v":""},null,{"$f":"INPUT!IZ341","v":""},{"$f":"INPUT!JA341","v":""},{"$f":"INPUT!JB341","v":""},{"$f":"INPUT!JC341","v":""},{"$f":"INPUT!JD341","v":""},{"$f":"INPUT!JE341","v":""},{"$f":"INPUT!JF341","v":""},"",null,{"$f":"INPUT!JX341","v":""},{"$f":"INPUT!JY341","v":""},{"$f":"INPUT!JZ341","v":""},{"$f":"INPUT!KA341","v":""},{"$f":"INPUT!KB341","v":""},{"$f":"INPUT!KC341","v":""},{"$f":"INPUT!KD341","v":""},"",null,{"$f":"INPUT!KZ341","v":""},{"$f":"INPUT!LA341","v":""},{"$f":"INPUT!LB341","v":""},{"$f":"INPUT!LC341","v":""},{"$f":"INPUT!LD341","v":""},{"$f":"INPUT!LE341","v":""},{"$f":"INPUT!LF341","v":""},{"$f":"INPUT!LG341","v":""},{"$f":"INPUT!LH341","v":""},null,{"$f":"INPUT!MB341","v":""},{"$f":"INPUT!MC341","v":""},{"$f":"INPUT!MD341","v":""},{"$f":"INPUT!ME341","v":""},{"$f":"INPUT!MF341","v":""},{"$f":"INPUT!MG341","v":""},{"$f":"INPUT!MH341","v":""},{"$f":"INPUT!MI341","v":""}]
[null,{"$f":"INPUT!EA342","v":""},{"$f":"INPUT!EB342","v":""},{"$f":"INPUT!EC342","v":""},{"$f":"INPUT!ED342","v":""},{"$f":"INPUT!EE342","v":""},{"$f":"INPUT!EF342","v":""},{"$f":"INPUT!EG342","v":""},"",null,{"$f":"INPUT!EY342","v":""},{"$f":"INPUT!EZ342","v":""},{"$f":"INPUT!FA342","v":""},{"$f":"INPUT!FB342","v":""},{"$f":"INPUT!FC342","v":""},{"$f":"INPUT!FD342","v":""},{"$f":"INPUT!FE342","v":""},"",null,{"$f":"INPUT!FW342","v":""},{"$f":"INPUT!FX342","v":""},{"$f":"INPUT!FY342","v":""},{"$f":"INPUT!FZ342","v":""},{"$f":"INPUT!GA342","v":""},{"$f":"INPUT!GB342","v":""},{"$f":"INPUT!GC342","v":""},null,{"$f":"INPUT!GY342","v":""},{"$f":"INPUT!GZ342","v":""},{"$f":"INPUT!HA342","v":""},{"$f":"INPUT!HB342","v":""},{"$f":"INPUT!HC342","v":""},{"$f":"INPUT!HD342","v":""},{"$f":"INPUT!HE342","v":""},{"$f":"INPUT!HF342","v":""},{"$f":"INPUT!HG342","v":""},null,{"$f":"INPUT!IA342","v":""},{"$f":"INPUT!IB342","v":""},{"$f":"INPUT!IC342","v":""},{"$f":"INPUT!ID342","v":""},{"$f":"INPUT!IE342","v":""},{"$f":"INPUT!IF342","v":""},{"$f":"INPUT!IG342","v":""},{"$f":"INPUT!IH342","v":""},null,{"$f":"INPUT!IZ342","v":""},{"$f":"INPUT!JA342","v":""},{"$f":"INPUT!JB342","v":""},{"$f":"INPUT!JC342","v":""},{"$f":"INPUT!JD342","v":""},{"$f":"INPUT!JE342","v":""},{"$f":"INPUT!JF342","v":""},"",null,{"$f":"INPUT!JX342","v":""},{"$f":"INPUT!JY342","v":""},{"$f":"INPUT!JZ342","v":""},{"$f":"INPUT!KA342","v":""},{"$f":"INPUT!KB342","v":""},{"$f":"INPUT!KC342","v":""},{"$f":"INPUT!KD342","v":""},"",null,{"$f":"INPUT!KZ342","v":""},{"$f":"INPUT!LA342","v":""},{"$f":"INPUT!LB342","v":""},{"$f":"INPUT!LC342","v":""},{"$f":"INPUT!LD342","v":""},{"$f":"INPUT!LE342","v":""},{"$f":"INPUT!LF342","v":""},{"$f":"INPUT!LG342","v":""},{"$f":"INPUT!LH342","v":""},null,{"$f":"INPUT!MB342","v":""},{"$f":"INPUT!MC342","v":""},{"$f":"INPUT!MD342","v":""},{"$f":"INPUT!ME342","v":""},{"$f":"INPUT!MF342","v":""},{"$f":"INPUT!MG342","v":""},{"$f":"INPUT!MH342","v":""},{"$f":"INPUT!MI342","v":""}]
[null,{"$f":"INPUT!EA343","v":""},{"$f":"INPUT!EB343","v":""},{"$f":"INPUT!EC343","v":""},{"$f":"INPUT!ED343","v":""},{"$f":"INPUT!EE343","v":""},{"$f":"INPUT!EF343","v":""},{"$f":"INPUT!EG343","v":""},"",null,{"$f":"INPUT!EY343","v":""},{"$f":"INPUT!EZ343","v":""},{"$f":"INPUT!FA343","v":""},{"$f":"INPUT!FB343","v":""},{"$f":"INPUT!FC343","v":""},{"$f":"INPUT!FD343","v":""},{"$f":"INPUT!FE343","v":""},"",null,{"$f":"INPUT!FW343","v":""},{"$f":"INPUT!FX343","v":""},{"$f":"INPUT!FY343","v":""},{"$f":"INPUT!FZ343","v":""},{"$f":"INPUT!GA343","v":""},{"$f":"INPUT!GB343","v":""},{"$f":"INPUT!GC343","v":""},null,{"$f":"INPUT!GY343","v":""},{"$f":"INPUT!GZ343","v":""},{"$f":"INPUT!HA343","v":""},{"$f":"INPUT!HB343","v":""},{"$f":"INPUT!HC343","v":""},{"$f":"INPUT!HD343","v":""},{"$f":"INPUT!HE343","v":""},{"$f":"INPUT!HF343","v":""},{"$f":"INPUT!HG343","v":""},null,{"$f":"INPUT!IA343","v":""},{"$f":"INPUT!IB343","v":""},{"$f":"INPUT!IC343","v":""},{"$f":"INPUT!ID343","v":""},{"$f":"INPUT!IE343","v":""},{"$f":"INPUT!IF343","v":""},{"$f":"INPUT!IG343","v":""},{"$f":"INPUT!IH343","v":""},null,{"$f":"INPUT!IZ343","v":""},{"$f":"INPUT!JA343","v":""},{"$f":"INPUT!JB343","v":""},{"$f":"INPUT!JC343","v":""},{"$f":"INPUT!JD343","v":""},{"$f":"INPUT!JE343","v":""},{"$f":"INPUT!JF343","v":""},"",null,{"$f":"INPUT!JX343","v":""},{"$f":"INPUT!JY343","v":""},{"$f":"INPUT!JZ343","v":""},{"$f":"INPUT!KA343","v":""},{"$f":"INPUT!KB343","v":""},{"$f":"INPUT!KC343","v":""},{"$f":"INPUT!KD343","v":""},"",null,{"$f":"INPUT!KZ343","v":""},{"$f":"INPUT!LA343","v":""},{"$f":"INPUT!LB343","v":""},{"$f":"INPUT!LC343","v":""},{"$f":"INPUT!LD343","v":""},{"$f":"INPUT!LE343","v":""},{"$f":"INPUT!LF343","v":""},{"$f":"INPUT!LG343","v":""},{"$f":"INPUT!LH343","v":""},null,{"$f":"INPUT!MB343","v":""},{"$f":"INPUT!MC343","v":""},{"$f":"INPUT!MD343","v":""},{"$f":"INPUT!ME343","v":""},{"$f":"INPUT!MF343","v":""},{"$f":"INPUT!MG343","v":""},{"$f":"INPUT!MH343","v":""},{"$f":"INPUT!MI343","v":""}]
[null,{"$f":"INPUT!EA344","v":""},{"$f":"INPUT!EB344","v":""},{"$f":"INPUT!EC344","v":""},{"$f":"INPUT!ED344","v":""},{"$f":"INPUT!EE344","v":""},{"$f":"INPUT!EF344","v":""},{"$f":"INPUT!EG344","v":""},"",null,{"$f":"INPUT!EY344","v":""},{"$f":"INPUT!EZ344","v":""},{"$f":"INPUT!FA344","v":""},{"$f":"INPUT!FB344","v":""},{"$f":"INPUT!FC344","v":""},{"$f":"INPUT!FD344","v":""},{"$f":"INPUT!FE344","v":""},"",null,{"$f":"INPUT!FW344","v":""},{"$f":"INPUT!FX344","v":""},{"$f":"INPUT!FY344","v":""},{"$f":"INPUT!FZ344","v":""},{"$f":"INPUT!GA344","v":""},{"$f":"INPUT!GB344","v":""},{"$f":"INPUT!GC344","v":""},null,{"$f":"INPUT!GY344","v":""},{"$f":"INPUT!GZ344","v":""},{"$f":"INPUT!HA344","v":""},{"$f":"INPUT!HB344","v":""},{"$f":"INPUT!HC344","v":""},{"$f":"INPUT!HD344","v":""},{"$f":"INPUT!HE344","v":""},{"$f":"INPUT!HF344","v":""},{"$f":"INPUT!HG344","v":""},null,{"$f":"INPUT!IA344","v":""},{"$f":"INPUT!IB344","v":""},{"$f":"INPUT!IC344","v":""},{"$f":"INPUT!ID344","v":""},{"$f":"INPUT!IE344","v":""},{"$f":"INPUT!IF344","v":""},{"$f":"INPUT!IG344","v":""},{"$f":"INPUT!IH344","v":""},null,{"$f":"INPUT!IZ344","v":""},{"$f":"INPUT!JA344","v":""},{"$f":"INPUT!JB344","v":""},{"$f":"INPUT!JC344","v":""},{"$f":"INPUT!JD344","v":""},{"$f":"INPUT!JE344","v":""},{"$f":"INPUT!JF344","v":""},"",null,{"$f":"INPUT!JX344","v":""},{"$f":"INPUT!JY344","v":""},{"$f":"INPUT!JZ344","v":""},{"$f":"INPUT!KA344","v":""},{"$f":"INPUT!KB344","v":""},{"$f":"INPUT!KC344","v":""},{"$f":"INPUT!KD344","v":""},"",null,{"$f":"INPUT!KZ344","v":""},{"$f":"INPUT!LA344","v":""},{"$f":"INPUT!LB344","v":""},{"$f":"INPUT!LC344","v":""},{"$f":"INPUT!LD344","v":""},{"$f":"INPUT!LE344","v":""},{"$f":"INPUT!LF344","v":""},{"$f":"INPUT!LG344","v":""},{"$f":"INPUT!LH344","v":""},null,{"$f":"INPUT!MB344","v":""},{"$f":"INPUT!MC344","v":""},{"$f":"INPUT!MD344","v":""},{"$f":"INPUT!ME344","v":""},{"$f":"INPUT!MF344","v":""},{"$f":"INPUT!MG344","v":""},{"$f":"INPUT!MH344","v":""},{"$f":"INPUT!MI344","v":""}]
[null,{"$f":"INPUT!EA345","v":""},{"$f":"INPUT!EB345","v":""},{"$f":"INPUT!EC345","v":""},{"$f":"INPUT!ED345","v":""},{"$f":"INPUT!EE345","v":""},{"$f":"INPUT!EF345","v":""},{"$f":"INPUT!EG345","v":""},"",null,{"$f":"INPUT!EY345","v":""},{"$f":"INPUT!EZ345","v":""},{"$f":"INPUT!FA345","v":""},{"$f":"INPUT!FB345","v":""},{"$f":"INPUT!FC345","v":""},{"$f":"INPUT!FD345","v":""},{"$f":"INPUT!FE345","v":""},"",null,{"$f":"INPUT!FW345","v":""},{"$f":"INPUT!FX345","v":""},{"$f":"INPUT!FY345","v":""},{"$f":"INPUT!FZ345","v":""},{"$f":"INPUT!GA345","v":""},{"$f":"INPUT!GB345","v":""},{"$f":"INPUT!GC345","v":""},null,{"$f":"INPUT!GY345","v":""},{"$f":"INPUT!GZ345","v":""},{"$f":"INPUT!HA345","v":""},{"$f":"INPUT!HB345","v":""},{"$f":"INPUT!HC345","v":""},{"$f":"INPUT!HD345","v":""},{"$f":"INPUT!HE345","v":""},{"$f":"INPUT!HF345","v":""},{"$f":"INPUT!HG345","v":""},null,{"$f":"INPUT!IA345","v":""},{"$f":"INPUT!IB345","v":""},{"$f":"INPUT!IC345","v":""},{"$f":"INPUT!ID345","v":""},{"$f":"INPUT!IE345","v":""},{"$f":"INPUT!IF345","v":""},{"$f":"INPUT!IG345","v":""},{"$f":"INPUT!IH345","v":""},null,{"$f":"INPUT!IZ345","v":""},{"$f":"INPUT!JA345","v":""},{"$f":"INPUT!JB345","v":""},{"$f":"INPUT!JC345","v":""},{"$f":"INPUT!JD345","v":""},{"$f":"INPUT!JE345","v":""},{"$f":"INPUT!JF345","v":""},"",null,{"$f":"INPUT!JX345","v":""},{"$f":"INPUT!JY345","v":""},{"$f":"INPUT!JZ345","v":""},{"$f":"INPUT!KA345","v":""},{"$f":"INPUT!KB345","v":""},{"$f":"INPUT!KC345","v":""},{"$f":"INPUT!KD345","v":""},"",null,{"$f":"INPUT!KZ345","v":""},{"$f":"INPUT!LA345","v":""},{"$f":"INPUT!LB345","v":""},{"$f":"INPUT!LC345","v":""},{"$f":"INPUT!LD345","v":""},{"$f":"INPUT!LE345","v":""},{"$f":"INPUT!LF345","v":""},{"$f":"INPUT!LG345","v":""},{"$f":"INPUT!LH345","v":""},null,{"$f":"INPUT!MB345","v":""},{"$f":"INPUT!MC345","v":""},{"$f":"INPUT!MD345","v":""},{"$f":"INPUT!ME345","v":""},{"$f":"INPUT!MF345","v":""},{"$f":"INPUT!MG345","v":""},{"$f":"INPUT!MH345","v":""},{"$f":"INPUT!MI345","v":""}]
[null,{"$f":"INPUT!EA346","v":""},{"$f":"INPUT!EB346","v":""},{"$f":"INPUT!EC346","v":""},{"$f":"INPUT!ED346","v":""},{"$f":"INPUT!EE346","v":""},{"$f":"INPUT!EF346","v":""},{"$f":"INPUT!EG346","v":""},"",null,{"$f":"INPUT!EY346","v":""},{"$f":"INPUT!EZ346","v":""},{"$f":"INPUT!FA346","v":""},{"$f":"INPUT!FB346","v":""},{"$f":"INPUT!FC346","v":""},{"$f":"INPUT!FD346","v":""},{"$f":"INPUT!FE346","v":""},"",null,{"$f":"INPUT!FW346","v":""},{"$f":"INPUT!FX346","v":""},{"$f":"INPUT!FY346","v":""},{"$f":"INPUT!FZ346","v":""},{"$f":"INPUT!GA346","v":""},{"$f":"INPUT!GB346","v":""},{"$f":"INPUT!GC346","v":""},null,{"$f":"INPUT!GY346","v":""},{"$f":"INPUT!GZ346","v":""},{"$f":"INPUT!HA346","v":""},{"$f":"INPUT!HB346","v":""},{"$f":"INPUT!HC346","v":""},{"$f":"INPUT!HD346","v":""},{"$f":"INPUT!HE346","v":""},{"$f":"INPUT!HF346","v":""},{"$f":"INPUT!HG346","v":""},null,{"$f":"INPUT!IA346","v":""},{"$f":"INPUT!IB346","v":""},{"$f":"INPUT!IC346","v":""},{"$f":"INPUT!ID346","v":""},{"$f":"INPUT!IE346","v":""},{"$f":"INPUT!IF346","v":""},{"$f":"INPUT!IG346","v":""},{"$f":"INPUT!IH346","v":""},null,{"$f":"INPUT!IZ346","v":""},{"$f":"INPUT!JA346","v":""},{"$f":"INPUT!JB346","v":""},{"$f":"INPUT!JC346","v":""},{"$f":"INPUT!JD346","v":""},{"$f":"INPUT!JE346","v":""},{"$f":"INPUT!JF346","v":""},"",null,{"$f":"INPUT!JX346","v":""},{"$f":"INPUT!JY346","v":""},{"$f":"INPUT!JZ346","v":""},{"$f":"INPUT!KA346","v":""},{"$f":"INPUT!KB346","v":""},{"$f":"INPUT!KC346","v":""},{"$f":"INPUT!KD346","v":""},"",null,{"$f":"INPUT!KZ346","v":""},{"$f":"INPUT!LA346","v":""},{"$f":"INPUT!LB346","v":""},{"$f":"INPUT!LC346","v":""},{"$f":"INPUT!LD346","v":""},{"$f":"INPUT!LE346","v":""},{"$f":"INPUT!LF346","v":""},{"$f":"INPUT!LG346","v":""},{"$f":"INPUT!LH346","v":""},null,{"$f":"INPUT!MB346","v":""},{"$f":"INPUT!MC346","v":""},{"$f":"INPUT!MD346","v":""},{"$f":"INPUT!ME346","v":""},{"$f":"INPUT!MF346","v":""},{"$f":"INPUT!MG346","v":""},{"$f":"INPUT!MH346","v":""},{"$f":"INPUT!MI346","v":""}]
[null,{"$f":"INPUT!EA347","v":""},{"$f":"INPUT!EB347","v":""},{"$f":"INPUT!EC347","v":""},{"$f":"INPUT!ED347","v":""},{"$f":"INPUT!EE347","v":""},{"$f":"INPUT!EF347","v":""},{"$f":"INPUT!EG347","v":""},"",null,{"$f":"INPUT!EY347","v":""},{"$f":"INPUT!EZ347","v":""},{"$f":"INPUT!FA347","v":""},{"$f":"INPUT!FB347","v":""},{"$f":"INPUT!FC347","v":""},{"$f":"INPUT!FD347","v":""},{"$f":"INPUT!FE347","v":""},"",null,{"$f":"INPUT!FW347","v":""},{"$f":"INPUT!FX347","v":""},{"$f":"INPUT!FY347","v":""},{"$f":"INPUT!FZ347","v":""},{"$f":"INPUT!GA347","v":""},{"$f":"INPUT!GB347","v":""},{"$f":"INPUT!GC347","v":""},null,{"$f":"INPUT!GY347","v":""},{"$f":"INPUT!GZ347","v":""},{"$f":"INPUT!HA347","v":""},{"$f":"INPUT!HB347","v":""},{"$f":"INPUT!HC347","v":""},{"$f":"INPUT!HD347","v":""},{"$f":"INPUT!HE347","v":""},{"$f":"INPUT!HF347","v":""},{"$f":"INPUT!HG347","v":""},null,{"$f":"INPUT!IA347","v":""},{"$f":"INPUT!IB347","v":""},{"$f":"INPUT!IC347","v":""},{"$f":"INPUT!ID347","v":""},{"$f":"INPUT!IE347","v":""},{"$f":"INPUT!IF347","v":""},{"$f":"INPUT!IG347","v":""},{"$f":"INPUT!IH347","v":""},null,{"$f":"INPUT!IZ347","v":""},{"$f":"INPUT!JA347","v":""},{"$f":"INPUT!JB347","v":""},{"$f":"INPUT!JC347","v":""},{"$f":"INPUT!JD347","v":""},{"$f":"INPUT!JE347","v":""},{"$f":"INPUT!JF347","v":""},"",null,{"$f":"INPUT!JX347","v":""},{"$f":"INPUT!JY347","v":""},{"$f":"INPUT!JZ347","v":""},{"$f":"INPUT!KA347","v":""},{"$f":"INPUT!KB347","v":""},{"$f":"INPUT!KC347","v":""},{"$f":"INPUT!KD347","v":""},"",null,{"$f":"INPUT!KZ347","v":""},{"$f":"INPUT!LA347","v":""},{"$f":"INPUT!LB347","v":""},{"$f":"INPUT!LC347","v":""},{"$f":"INPUT!LD347","v":""},{"$f":"INPUT!LE347","v":""},{"$f":"INPUT!LF347","v":""},{"$f":"INPUT!LG347","v":""},{"$f":"INPUT!LH347","v":""},null,{"$f":"INPUT!MB347","v":""},{"$f":"INPUT!MC347","v":""},{"$f":"INPUT!MD347","v":""},{"$f":"INPUT!ME347","v":""},{"$f":"INPUT!MF347","v":""},{"$f":"INPUT!MG347","v":""},{"$f":"INPUT!MH347","v":""},{"$f":"INPUT!MI347","v":""}]
[null,{"$f":"INPUT!EA348","v":""},{"$f":"INPUT!EB348","v":""},{"$f":"INPUT!EC348","v":""},{"$f":"INPUT!ED348","v":""},{"$f":"INPUT!EE348","v":""},{"$f":"INPUT!EF348","v":""},{"$f":"INPUT!EG348","v":""},"",null,{"$f":"INPUT!EY348","v":""},{"$f":"INPUT!EZ348","v":""},{"$f":"INPUT!FA348","v":""},{"$f":"INPUT!FB348","v":""},{"$f":"INPUT!FC348","v":""},{"$f":"INPUT!FD348","v":""},{"$f":"INPUT!FE348","v":""},"",null,{"$f":"INPUT!FW348","v":""},{"$f":"INPUT!FX348","v":""},{"$f":"INPUT!FY348","v":""},{"$f":"INPUT!FZ348","v":""},{"$f":"INPUT!GA348","v":""},{"$f":"INPUT!GB348","v":""},{"$f":"INPUT!GC348","v":""},null,{"$f":"INPUT!GY348","v":""},{"$f":"INPUT!GZ348","v":""},{"$f":"INPUT!HA348","v":""},{"$f":"INPUT!HB348","v":""},{"$f":"INPUT!HC348","v":""},{"$f":"INPUT!HD348","v":""},{"$f":"INPUT!HE348","v":""},{"$f":"INPUT!HF348","v":""},{"$f":"INPUT!HG348","v":""},null,{"$f":"INPUT!IA348","v":""},{"$f":"INPUT!IB348","v":""},{"$f":"INPUT!IC348","v":""},{"$f":"INPUT!ID348","v":""},{"$f":"INPUT!IE348","v":""},{"$f":"INPUT!IF348","v":""},{"$f":"INPUT!IG348","v":""},{"$f":"INPUT!IH348","v":""},null,{"$f":"INPUT!IZ348","v":""},{"$f":"INPUT!JA348","v":""},{"$f":"INPUT!JB348","v":""},{"$f":"INPUT!JC348","v":""},{"$f":"INPUT!JD348","v":""},{"$f":"INPUT!JE348","v":""},{"$f":"INPUT!JF348","v":""},"",null,{"$f":"INPUT!JX348","v":""},{"$f":"INPUT!JY348","v":""},{"$f":"INPUT!JZ348","v":""},{"$f":"INPUT!KA348","v":""},{"$f":"INPUT!KB348","v":""},{"$f":"INPUT!KC348","v":""},{"$f":"INPUT!KD348","v":""},"",null,{"$f":"INPUT!KZ348","v":""},{"$f":"INPUT!LA348","v":""},{"$f":"INPUT!LB348","v":""},{"$f":"INPUT!LC348","v":""},{"$f":"INPUT!LD348","v":""},{"$f":"INPUT!LE348","v":""},{"$f":"INPUT!LF348","v":""},{"$f":"INPUT!LG348","v":""},{"$f":"INPUT!LH348","v":""},null,{"$f":"INPUT!MB348","v":""},{"$f":"INPUT!MC348","v":""},{"$f":"INPUT!MD348","v":""},{"$f":"INPUT!ME348","v":""},{"$f":"INPUT!MF348","v":""},{"$f":"INPUT!MG348","v":""},{"$f":"INPUT!MH348","v":""},{"$f":"INPUT!MI348","v":""}]
[null,{"$f":"INPUT!EA349","v":""},{"$f":"INPUT!EB349","v":""},{"$f":"INPUT!EC349","v":""},{"$f":"INPUT!ED349","v":""},{"$f":"INPUT!EE349","v":""},{"$f":"INPUT!EF349","v":""},{"$f":"INPUT!EG349","v":""},"",null,{"$f":"INPUT!EY349","v":""},{"$f":"INPUT!EZ349","v":""},{"$f":"INPUT!FA349","v":""},{"$f":"INPUT!FB349","v":""},{"$f":"INPUT!FC349","v":""},{"$f":"INPUT!FD349","v":""},{"$f":"INPUT!FE349","v":""},"",null,{"$f":"INPUT!FW349","v":""},{"$f":"INPUT!FX349","v":""},{"$f":"INPUT!FY349","v":""},{"$f":"INPUT!FZ349","v":""},{"$f":"INPUT!GA349","v":""},{"$f":"INPUT!GB349","v":""},{"$f":"INPUT!GC349","v":""},null,{"$f":"INPUT!GY349","v":""},{"$f":"INPUT!GZ349","v":""},{"$f":"INPUT!HA349","v":""},{"$f":"INPUT!HB349","v":""},{"$f":"INPUT!HC349","v":""},{"$f":"INPUT!HD349","v":""},{"$f":"INPUT!HE349","v":""},{"$f":"INPUT!HF349","v":""},{"$f":"INPUT!HG349","v":""},null,{"$f":"INPUT!IA349","v":""},{"$f":"INPUT!IB349","v":""},{"$f":"INPUT!IC349","v":""},{"$f":"INPUT!ID349","v":""},{"$f":"INPUT!IE349","v":""},{"$f":"INPUT!IF349","v":""},{"$f":"INPUT!IG349","v":""},{"$f":"INPUT!IH349","v":""},null,{"$f":"INPUT!IZ349","v":""},{"$f":"INPUT!JA349","v":""},{"$f":"INPUT!JB349","v":""},{"$f":"INPUT!JC349","v":""},{"$f":"INPUT!JD349","v":""},{"$f":"INPUT!JE349","v":""},{"$f":"INPUT!JF349","v":""},"",null,{"$f":"INPUT!JX349","v":""},{"$f":"INPUT!JY349","v":""},{"$f":"INPUT!JZ349","v":""},{"$f":"INPUT!KA349","v":""},{"$f":"INPUT!KB349","v":""},{"$f":"INPUT!KC349","v":""},{"$f":"INPUT!KD349","v":""},"",null,{"$f":"INPUT!KZ349","v":""},{"$f":"INPUT!LA349","v":""},{"$f":"INPUT!LB349","v":""},{"$f":"INPUT!LC349","v":""},{"$f":"INPUT!LD349","v":""},{"$f":"INPUT!LE349","v":""},{"$f":"INPUT!LF349","v":""},{"$f":"INPUT!LG349","v":""},{"$f":"INPUT!LH349","v":""},null,{"$f":"INPUT!MB349","v":""},{"$f":"INPUT!MC349","v":""},{"$f":"INPUT!MD349","v":""},{"$f":"INPUT!ME349","v":""},{"$f":"INPUT!MF349","v":""},{"$f":"INPUT!MG349","v":""},{"$f":"INPUT!MH349","v":""},{"$f":"INPUT!MI349","v":""}]
[null,{"$f":"INPUT!EA350","v":""},{"$f":"INPUT!EB350","v":""},{"$f":"INPUT!EC350","v":""},{"$f":"INPUT!ED350","v":""},{"$f":"INPUT!EE350","v":""},{"$f":"INPUT!EF350","v":""},{"$f":"INPUT!EG350","v":""},"",null,{"$f":"INPUT!EY350","v":""},{"$f":"INPUT!EZ350","v":""},{"$f":"INPUT!FA350","v":""},{"$f":"INPUT!FB350","v":""},{"$f":"INPUT!FC350","v":""},{"$f":"INPUT!FD350","v":""},{"$f":"INPUT!FE350","v":""},"",null,{"$f":"INPUT!FW350","v":""},{"$f":"INPUT!FX350","v":""},{"$f":"INPUT!FY350","v":""},{"$f":"INPUT!FZ350","v":""},{"$f":"INPUT!GA350","v":""},{"$f":"INPUT!GB350","v":""},{"$f":"INPUT!GC350","v":""},null,{"$f":"INPUT!GY350","v":""},{"$f":"INPUT!GZ350","v":""},{"$f":"INPUT!HA350","v":""},{"$f":"INPUT!HB350","v":""},{"$f":"INPUT!HC350","v":""},{"$f":"INPUT!HD350","v":""},{"$f":"INPUT!HE350","v":""},{"$f":"INPUT!HF350","v":""},{"$f":"INPUT!HG350","v":""},null,{"$f":"INPUT!IA350","v":""},{"$f":"INPUT!IB350","v":""},{"$f":"INPUT!IC350","v":""},{"$f":"INPUT!ID350","v":""},{"$f":"INPUT!IE350","v":""},{"$f":"INPUT!IF350","v":""},{"$f":"INPUT!IG350","v":""},{"$f":"INPUT!IH350","v":""},null,{"$f":"INPUT!IZ350","v":""},{"$f":"INPUT!JA350","v":""},{"$f":"INPUT!JB350","v":""},{"$f":"INPUT!JC350","v":""},{"$f":"INPUT!JD350","v":""},{"$f":"INPUT!JE350","v":""},{"$f":"INPUT!JF350","v":""},"",null,{"$f":"INPUT!JX350","v":""},{"$f":"INPUT!JY350","v":""},{"$f":"INPUT!JZ350","v":""},{"$f":"INPUT!KA350","v":""},{"$f":"INPUT!KB350","v":""},{"$f":"INPUT!KC350","v":""},{"$f":"INPUT!KD350","v":""},"",null,{"$f":"INPUT!KZ350","v":""},{"$f":"INPUT!LA350","v":""},{"$f":"INPUT!LB350","v":""},{"$f":"INPUT!LC350","v":""},{"$f":"INPUT!LD350","v":""},{"$f":"INPUT!LE350","v":""},{"$f":"INPUT!LF350","v":""},{"$f":"INPUT!LG350","v":""},{"$f":"INPUT!LH350","v":""},null,{"$f":"INPUT!MB350","v":""},{"$f":"INPUT!MC350","v":""},{"$f":"INPUT!MD350","v":""},{"$f":"INPUT!ME350","v":""},{"$f":"INPUT!MF350","v":""},{"$f":"INPUT!MG350","v":""},{"$f":"INPUT!MH350","v":""},{"$f":"INPUT!MI350","v":""}]
[null,{"$f":"INPUT!EA351","v":""},{"$f":"INPUT!EB351","v":""},{"$f":"INPUT!EC351","v":""},{"$f":"INPUT!ED351","v":""},{"$f":"INPUT!EE351","v":""},{"$f":"INPUT!EF351","v":""},{"$f":"INPUT!EG351","v":""},"",null,{"$f":"INPUT!EY351","v":""},{"$f":"INPUT!EZ351","v":""},{"$f":"INPUT!FA351","v":""},{"$f":"INPUT!FB351","v":""},{"$f":"INPUT!FC351","v":""},{"$f":"INPUT!FD351","v":""},{"$f":"INPUT!FE351","v":""},"",null,{"$f":"INPUT!FW351","v":""},{"$f":"INPUT!FX351","v":""},{"$f":"INPUT!FY351","v":""},{"$f":"INPUT!FZ351","v":""},{"$f":"INPUT!GA351","v":""},{"$f":"INPUT!GB351","v":""},{"$f":"INPUT!GC351","v":""},null,{"$f":"INPUT!GY351","v":""},{"$f":"INPUT!GZ351","v":""},{"$f":"INPUT!HA351","v":""},{"$f":"INPUT!HB351","v":""},{"$f":"INPUT!HC351","v":""},{"$f":"INPUT!HD351","v":""},{"$f":"INPUT!HE351","v":""},{"$f":"INPUT!HF351","v":""},{"$f":"INPUT!HG351","v":""},null,{"$f":"INPUT!IA351","v":""},{"$f":"INPUT!IB351","v":""},{"$f":"INPUT!IC351","v":""},{"$f":"INPUT!ID351","v":""},{"$f":"INPUT!IE351","v":""},{"$f":"INPUT!IF351","v":""},{"$f":"INPUT!IG351","v":""},{"$f":"INPUT!IH351","v":""},null,{"$f":"INPUT!IZ351","v":""},{"$f":"INPUT!JA351","v":""},{"$f":"INPUT!JB351","v":""},{"$f":"INPUT!JC351","v":""},{"$f":"INPUT!JD351","v":""},{"$f":"INPUT!JE351","v":""},{"$f":"INPUT!JF351","v":""},"",null,{"$f":"INPUT!JX351","v":""},{"$f":"INPUT!JY351","v":""},{"$f":"INPUT!JZ351","v":""},{"$f":"INPUT!KA351","v":""},{"$f":"INPUT!KB351","v":""},{"$f":"INPUT!KC351","v":""},{"$f":"INPUT!KD351","v":""},"",null,{"$f":"INPUT!KZ351","v":""},{"$f":"INPUT!LA351","v":""},{"$f":"INPUT!LB351","v":""},{"$f":"INPUT!LC351","v":""},{"$f":"INPUT!LD351","v":""},{"$f":"INPUT!LE351","v":""},{"$f":"INPUT!LF351","v":""},{"$f":"INPUT!LG351","v":""},{"$f":"INPUT!LH351","v":""},null,{"$f":"INPUT!MB351","v":""},{"$f":"INPUT!MC351","v":""},{"$f":"INPUT!MD351","v":""},{"$f":"INPUT!ME351","v":""},{"$f":"INPUT!MF351","v":""},{"$f":"INPUT!MG351","v":""},{"$f":"INPUT!MH351","v":""},{"$f":"INPUT!MI351","v":""}]
[null,{"$f":"INPUT!EA352","v":""},{"$f":"INPUT!EB352","v":""},{"$f":"INPUT!EC352","v":""},{"$f":"INPUT!ED352","v":""},{"$f":"INPUT!EE352","v":""},{"$f":"INPUT!EF352","v":""},{"$f":"INPUT!EG352","v":""},"",null,{"$f":"INPUT!EY352","v":""},{"$f":"INPUT!EZ352","v":""},{"$f":"INPUT!FA352","v":""},{"$f":"INPUT!FB352","v":""},{"$f":"INPUT!FC352","v":""},{"$f":"INPUT!FD352","v":""},{"$f":"INPUT!FE352","v":""},"",null,{"$f":"INPUT!FW352","v":""},{"$f":"INPUT!FX352","v":""},{"$f":"INPUT!FY352","v":""},{"$f":"INPUT!FZ352","v":""},{"$f":"INPUT!GA352","v":""},{"$f":"INPUT!GB352","v":""},{"$f":"INPUT!GC352","v":""},null,{"$f":"INPUT!GY352","v":""},{"$f":"INPUT!GZ352","v":""},{"$f":"INPUT!HA352","v":""},{"$f":"INPUT!HB352","v":""},{"$f":"INPUT!HC352","v":""},{"$f":"INPUT!HD352","v":""},{"$f":"INPUT!HE352","v":""},{"$f":"INPUT!HF352","v":""},{"$f":"INPUT!HG352","v":""},null,{"$f":"INPUT!IA352","v":""},{"$f":"INPUT!IB352","v":""},{"$f":"INPUT!IC352","v":""},{"$f":"INPUT!ID352","v":""},{"$f":"INPUT!IE352","v":""},{"$f":"INPUT!IF352","v":""},{"$f":"INPUT!IG352","v":""},{"$f":"INPUT!IH352","v":""},null,{"$f":"INPUT!IZ352","v":""},{"$f":"INPUT!JA352","v":""},{"$f":"INPUT!JB352","v":""},{"$f":"INPUT!JC352","v":""},{"$f":"INPUT!JD352","v":""},{"$f":"INPUT!JE352","v":""},{"$f":"INPUT!JF352","v":""},"",null,{"$f":"INPUT!JX352","v":""},{"$f":"INPUT!JY352","v":""},{"$f":"INPUT!JZ352","v":""},{"$f":"INPUT!KA352","v":""},{"$f":"INPUT!KB352","v":""},{"$f":"INPUT!KC352","v":""},{"$f":"INPUT!KD352","v":""},"",null,{"$f":"INPUT!KZ352","v":""},{"$f":"INPUT!LA352","v":""},{"$f":"INPUT!LB352","v":""},{"$f":"INPUT!LC352","v":""},{"$f":"INPUT!LD352","v":""},{"$f":"INPUT!LE352","v":""},{"$f":"INPUT!LF352","v":""},{"$f":"INPUT!LG352","v":""},{"$f":"INPUT!LH352","v":""},null,{"$f":"INPUT!MB352","v":""},{"$f":"INPUT!MC352","v":""},{"$f":"INPUT!MD352","v":""},{"$f":"INPUT!ME352","v":""},{"$f":"INPUT!MF352","v":""},{"$f":"INPUT!MG352","v":""},{"$f":"INPUT!MH352","v":""},{"$f":"INPUT!MI352","v":""}]
[null,{"$f":"INPUT!EA353","v":""},{"$f":"INPUT!EB353","v":""},{"$f":"INPUT!EC353","v":""},{"$f":"INPUT!ED353","v":""},{"$f":"INPUT!EE353","v":""},{"$f":"INPUT!EF353","v":""},{"$f":"INPUT!EG353","v":""},"",null,{"$f":"INPUT!EY353","v":""},{"$f":"INPUT!EZ353","v":""},{"$f":"INPUT!FA353","v":""},{"$f":"INPUT!FB353","v":""},{"$f":"INPUT!FC353","v":""},{"$f":"INPUT!FD353","v":""},{"$f":"INPUT!FE353","v":""},"",null,{"$f":"INPUT!FW353","v":""},{"$f":"INPUT!FX353","v":""},{"$f":"INPUT!FY353","v":""},{"$f":"INPUT!FZ353","v":""},{"$f":"INPUT!GA353","v":""},{"$f":"INPUT!GB353","v":""},{"$f":"INPUT!GC353","v":""},null,{"$f":"INPUT!GY353","v":""},{"$f":"INPUT!GZ353","v":""},{"$f":"INPUT!HA353","v":""},{"$f":"INPUT!HB353","v":""},{"$f":"INPUT!HC353","v":""},{"$f":"INPUT!HD353","v":""},{"$f":"INPUT!HE353","v":""},{"$f":"INPUT!HF353","v":""},{"$f":"INPUT!HG353","v":""},null,{"$f":"INPUT!IA353","v":""},{"$f":"INPUT!IB353","v":""},{"$f":"INPUT!IC353","v":""},{"$f":"INPUT!ID353","v":""},{"$f":"INPUT!IE353","v":""},{"$f":"INPUT!IF353","v":""},{"$f":"INPUT!IG353","v":""},{"$f":"INPUT!IH353","v":""},null,{"$f":"INPUT!IZ353","v":""},{"$f":"INPUT!JA353","v":""},{"$f":"INPUT!JB353","v":""},{"$f":"INPUT!JC353","v":""},{"$f":"INPUT!JD353","v":""},{"$f":"INPUT!JE353","v":""},{"$f":"INPUT!JF353","v":""},"",null,{"$f":"INPUT!JX353","v":""},{"$f":"INPUT!JY353","v":""},{"$f":"INPUT!JZ353","v":""},{"$f":"INPUT!KA353","v":""},{"$f":"INPUT!KB353","v":""},{"$f":"INPUT!KC353","v":""},{"$f":"INPUT!KD353","v":""},"",null,{"$f":"INPUT!KZ353","v":""},{"$f":"INPUT!LA353","v":""},{"$f":"INPUT!LB353","v":""},{"$f":"INPUT!LC353","v":""},{"$f":"INPUT!LD353","v":""},{"$f":"INPUT!LE353","v":""},{"$f":"INPUT!LF353","v":""},{"$f":"INPUT!LG353","v":""},{"$f":"INPUT!LH353","v":""},null,{"$f":"INPUT!MB353","v":""},{"$f":"INPUT!MC353","v":""},{"$f":"INPUT!MD353","v":""},{"$f":"INPUT!ME353","v":""},{"$f":"INPUT!MF353","v":""},{"$f":"INPUT!MG353","v":""},{"$f":"INPUT!MH353","v":""},{"$f":"INPUT!MI353","v":""}]
[null,{"$f":"INPUT!EA354","v":""},{"$f":"INPUT!EB354","v":""},{"$f":"INPUT!EC354","v":""},{"$f":"INPUT!ED354","v":""},{"$f":"INPUT!EE354","v":""},{"$f":"INPUT!EF354","v":""},{"$f":"INPUT!EG354","v":""},"",null,{"$f":"INPUT!EY354","v":""},{"$f":"INPUT!EZ354","v":""},{"$f":"INPUT!FA354","v":""},{"$f":"INPUT!FB354","v":""},{"$f":"INPUT!FC354","v":""},{"$f":"INPUT!FD354","v":""},{"$f":"INPUT!FE354","v":""},"",null,{"$f":"INPUT!FW354","v":""},{"$f":"INPUT!FX354","v":""},{"$f":"INPUT!FY354","v":""},{"$f":"INPUT!FZ354","v":""},{"$f":"INPUT!GA354","v":""},{"$f":"INPUT!GB354","v":""},{"$f":"INPUT!GC354","v":""},null,{"$f":"INPUT!GY354","v":""},{"$f":"INPUT!GZ354","v":""},{"$f":"INPUT!HA354","v":""},{"$f":"INPUT!HB354","v":""},{"$f":"INPUT!HC354","v":""},{"$f":"INPUT!HD354","v":""},{"$f":"INPUT!HE354","v":""},{"$f":"INPUT!HF354","v":""},{"$f":"INPUT!HG354","v":""},null,{"$f":"INPUT!IA354","v":""},{"$f":"INPUT!IB354","v":""},{"$f":"INPUT!IC354","v":""},{"$f":"INPUT!ID354","v":""},{"$f":"INPUT!IE354","v":""},{"$f":"INPUT!IF354","v":""},{"$f":"INPUT!IG354","v":""},{"$f":"INPUT!IH354","v":""},null,{"$f":"INPUT!IZ354","v":""},{"$f":"INPUT!JA354","v":""},{"$f":"INPUT!JB354","v":""},{"$f":"INPUT!JC354","v":""},{"$f":"INPUT!JD354","v":""},{"$f":"INPUT!JE354","v":""},{"$f":"INPUT!JF354","v":""},"",null,{"$f":"INPUT!JX354","v":""},{"$f":"INPUT!JY354","v":""},{"$f":"INPUT!JZ354","v":""},{"$f":"INPUT!KA354","v":""},{"$f":"INPUT!KB354","v":""},{"$f":"INPUT!KC354","v":""},{"$f":"INPUT!KD354","v":""},"",null,{"$f":"INPUT!KZ354","v":""},{"$f":"INPUT!LA354","v":""},{"$f":"INPUT!LB354","v":""},{"$f":"INPUT!LC354","v":""},{"$f":"INPUT!LD354","v":""},{"$f":"INPUT!LE354","v":""},{"$f":"INPUT!LF354","v":""},{"$f":"INPUT!LG354","v":""},{"$f":"INPUT!LH354","v":""},null,{"$f":"INPUT!MB354","v":""},{"$f":"INPUT!MC354","v":""},{"$f":"INPUT!MD354","v":""},{"$f":"INPUT!ME354","v":""},{"$f":"INPUT!MF354","v":""},{"$f":"INPUT!MG354","v":""},{"$f":"INPUT!MH354","v":""},{"$f":"INPUT!MI354","v":""}]
[null,{"$f":"INPUT!EA355","v":""},{"$f":"INPUT!EB355","v":""},{"$f":"INPUT!EC355","v":""},{"$f":"INPUT!ED355","v":""},{"$f":"INPUT!EE355","v":""},{"$f":"INPUT!EF355","v":""},{"$f":"INPUT!EG355","v":""},"",null,{"$f":"INPUT!EY355","v":""},{"$f":"INPUT!EZ355","v":""},{"$f":"INPUT!FA355","v":""},{"$f":"INPUT!FB355","v":""},{"$f":"INPUT!FC355","v":""},{"$f":"INPUT!FD355","v":""},{"$f":"INPUT!FE355","v":""},"",null,{"$f":"INPUT!FW355","v":""},{"$f":"INPUT!FX355","v":""},{"$f":"INPUT!FY355","v":""},{"$f":"INPUT!FZ355","v":""},{"$f":"INPUT!GA355","v":""},{"$f":"INPUT!GB355","v":""},{"$f":"INPUT!GC355","v":""},null,{"$f":"INPUT!GY355","v":""},{"$f":"INPUT!GZ355","v":""},{"$f":"INPUT!HA355","v":""},{"$f":"INPUT!HB355","v":""},{"$f":"INPUT!HC355","v":""},{"$f":"INPUT!HD355","v":""},{"$f":"INPUT!HE355","v":""},{"$f":"INPUT!HF355","v":""},{"$f":"INPUT!HG355","v":""},null,{"$f":"INPUT!IA355","v":""},{"$f":"INPUT!IB355","v":""},{"$f":"INPUT!IC355","v":""},{"$f":"INPUT!ID355","v":""},{"$f":"INPUT!IE355","v":""},{"$f":"INPUT!IF355","v":""},{"$f":"INPUT!IG355","v":""},{"$f":"INPUT!IH355","v":""},null,{"$f":"INPUT!IZ355","v":""},{"$f":"INPUT!JA355","v":""},{"$f":"INPUT!JB355","v":""},{"$f":"INPUT!JC355","v":""},{"$f":"INPUT!JD355","v":""},{"$f":"INPUT!JE355","v":""},{"$f":"INPUT!JF355","v":""},"",null,{"$f":"INPUT!JX355","v":""},{"$f":"INPUT!JY355","v":""},{"$f":"INPUT!JZ355","v":""},{"$f":"INPUT!KA355","v":""},{"$f":"INPUT!KB355","v":""},{"$f":"INPUT!KC355","v":""},{"$f":"INPUT!KD355","v":""},"",null,{"$f":"INPUT!KZ355","v":""},{"$f":"INPUT!LA355","v":""},{"$f":"INPUT!LB355","v":""},{"$f":"INPUT!LC355","v":""},{"$f":"INPUT!LD355","v":""},{"$f":"INPUT!LE355","v":""},{"$f":"INPUT!LF355","v":""},{"$f":"INPUT!LG355","v":""},{"$f":"INPUT!LH355","v":""},null,{"$f":"INPUT!MB355","v":""},{"$f":"INPUT!MC355","v":""},{"$f":"INPUT!MD355","v":""},{"$f":"INPUT!ME355","v":""},{"$f":"INPUT!MF355","v":""},{"$f":"INPUT!MG355","v":""},{"$f":"INPUT!MH355","v":""},{"$f":"INPUT!MI355","v":""}]
[null,{"$f":"INPUT!EA356","v":""},{"$f":"INPUT!EB356","v":""},{"$f":"INPUT!EC356","v":""},{"$f":"INPUT!ED356","v":""},{"$f":"INPUT!EE356","v":""},{"$f":"INPUT!EF356","v":""},{"$f":"INPUT!EG356","v":""},"",null,{"$f":"INPUT!EY356","v":""},{"$f":"INPUT!EZ356","v":""},{"$f":"INPUT!FA356","v":""},{"$f":"INPUT!FB356","v":""},{"$f":"INPUT!FC356","v":""},{"$f":"INPUT!FD356","v":""},{"$f":"INPUT!FE356","v":""},"",null,{"$f":"INPUT!FW356","v":""},{"$f":"INPUT!FX356","v":""},{"$f":"INPUT!FY356","v":""},{"$f":"INPUT!FZ356","v":""},{"$f":"INPUT!GA356","v":""},{"$f":"INPUT!GB356","v":""},{"$f":"INPUT!GC356","v":""},null,{"$f":"INPUT!GY356","v":""},{"$f":"INPUT!GZ356","v":""},{"$f":"INPUT!HA356","v":""},{"$f":"INPUT!HB356","v":""},{"$f":"INPUT!HC356","v":""},{"$f":"INPUT!HD356","v":""},{"$f":"INPUT!HE356","v":""},{"$f":"INPUT!HF356","v":""},{"$f":"INPUT!HG356","v":""},null,{"$f":"INPUT!IA356","v":""},{"$f":"INPUT!IB356","v":""},{"$f":"INPUT!IC356","v":""},{"$f":"INPUT!ID356","v":""},{"$f":"INPUT!IE356","v":""},{"$f":"INPUT!IF356","v":""},{"$f":"INPUT!IG356","v":""},{"$f":"INPUT!IH356","v":""},null,{"$f":"INPUT!IZ356","v":""},{"$f":"INPUT!JA356","v":""},{"$f":"INPUT!JB356","v":""},{"$f":"INPUT!JC356","v":""},{"$f":"INPUT!JD356","v":""},{"$f":"INPUT!JE356","v":""},{"$f":"INPUT!JF356","v":""},"",null,{"$f":"INPUT!JX356","v":""},{"$f":"INPUT!JY356","v":""},{"$f":"INPUT!JZ356","v":""},{"$f":"INPUT!KA356","v":""},{"$f":"INPUT!KB356","v":""},{"$f":"INPUT!KC356","v":""},{"$f":"INPUT!KD356","v":""},"",null,{"$f":"INPUT!KZ356","v":""},{"$f":"INPUT!LA356","v":""},{"$f":"INPUT!LB356","v":""},{"$f":"INPUT!LC356","v":""},{"$f":"INPUT!LD356","v":""},{"$f":"INPUT!LE356","v":""},{"$f":"INPUT!LF356","v":""},{"$f":"INPUT!LG356","v":""},{"$f":"INPUT!LH356","v":""},null,{"$f":"INPUT!MB356","v":""},{"$f":"INPUT!MC356","v":""},{"$f":"INPUT!MD356","v":""},{"$f":"INPUT!ME356","v":""},{"$f":"INPUT!MF356","v":""},{"$f":"INPUT!MG356","v":""},{"$f":"INPUT!MH356","v":""},{"$f":"INPUT!MI356","v":""}]
[null,{"$f":"INPUT!EA357","v":""},{"$f":"INPUT!EB357","v":""},{"$f":"INPUT!EC357","v":""},{"$f":"INPUT!ED357","v":""},{"$f":"INPUT!EE357","v":""},{"$f":"INPUT!EF357","v":""},{"$f":"INPUT!EG357","v":""},"",null,{"$f":"INPUT!EY357","v":""},{"$f":"INPUT!EZ357","v":""},{"$f":"INPUT!FA357","v":""},{"$f":"INPUT!FB357","v":""},{"$f":"INPUT!FC357","v":""},{"$f":"INPUT!FD357","v":""},{"$f":"INPUT!FE357","v":""},"",null,{"$f":"INPUT!FW357","v":""},{"$f":"INPUT!FX357","v":""},{"$f":"INPUT!FY357","v":""},{"$f":"INPUT!FZ357","v":""},{"$f":"INPUT!GA357","v":""},{"$f":"INPUT!GB357","v":""},{"$f":"INPUT!GC357","v":""},null,{"$f":"INPUT!GY357","v":""},{"$f":"INPUT!GZ357","v":""},{"$f":"INPUT!HA357","v":""},{"$f":"INPUT!HB357","v":""},{"$f":"INPUT!HC357","v":""},{"$f":"INPUT!HD357","v":""},{"$f":"INPUT!HE357","v":""},{"$f":"INPUT!HF357","v":""},{"$f":"INPUT!HG357","v":""},null,{"$f":"INPUT!IA357","v":""},{"$f":"INPUT!IB357","v":""},{"$f":"INPUT!IC357","v":""},{"$f":"INPUT!ID357","v":""},{"$f":"INPUT!IE357","v":""},{"$f":"INPUT!IF357","v":""},{"$f":"INPUT!IG357","v":""},{"$f":"INPUT!IH357","v":""},null,{"$f":"INPUT!IZ357","v":""},{"$f":"INPUT!JA357","v":""},{"$f":"INPUT!JB357","v":""},{"$f":"INPUT!JC357","v":""},{"$f":"INPUT!JD357","v":""},{"$f":"INPUT!JE357","v":""},{"$f":"INPUT!JF357","v":""},"",null,{"$f":"INPUT!JX357","v":""},{"$f":"INPUT!JY357","v":""},{"$f":"INPUT!JZ357","v":""},{"$f":"INPUT!KA357","v":""},{"$f":"INPUT!KB357","v":""},{"$f":"INPUT!KC357","v":""},{"$f":"INPUT!KD357","v":""},"",null,{"$f":"INPUT!KZ357","v":""},{"$f":"INPUT!LA357","v":""},{"$f":"INPUT!LB357","v":""},{"$f":"INPUT!LC357","v":""},{"$f":"INPUT!LD357","v":""},{"$f":"INPUT!LE357","v":""},{"$f":"INPUT!LF357","v":""},{"$f":"INPUT!LG357","v":""},{"$f":"INPUT!LH357","v":""},null,{"$f":"INPUT!MB357","v":""},{"$f":"INPUT!MC357","v":""},{"$f":"INPUT!MD357","v":""},{"$f":"INPUT!ME357","v":""},{"$f":"INPUT!MF357","v":""},{"$f":"INPUT!MG357","v":""},{"$f":"INPUT!MH357","v":""},{"$f":"INPUT!MI357","v":""}]
[null,{"$f":"INPUT!EA358","v":""},{"$f":"INPUT!EB358","v":""},{"$f":"INPUT!EC358","v":""},{"$f":"INPUT!ED358","v":""},{"$f":"INPUT!EE358","v":""},{"$f":"INPUT!EF358","v":""},{"$f":"INPUT!EG358","v":""},"",null,{"$f":"INPUT!EY358","v":""},{"$f":"INPUT!EZ358","v":""},{"$f":"INPUT!FA358","v":""},{"$f":"INPUT!FB358","v":""},{"$f":"INPUT!FC358","v":""},{"$f":"INPUT!FD358","v":""},{"$f":"INPUT!FE358","v":""},"",null,{"$f":"INPUT!FW358","v":""},{"$f":"INPUT!FX358","v":""},{"$f":"INPUT!FY358","v":""},{"$f":"INPUT!FZ358","v":""},{"$f":"INPUT!GA358","v":""},{"$f":"INPUT!GB358","v":""},{"$f":"INPUT!GC358","v":""},null,{"$f":"INPUT!GY358","v":""},{"$f":"INPUT!GZ358","v":""},{"$f":"INPUT!HA358","v":""},{"$f":"INPUT!HB358","v":""},{"$f":"INPUT!HC358","v":""},{"$f":"INPUT!HD358","v":""},{"$f":"INPUT!HE358","v":""},{"$f":"INPUT!HF358","v":""},{"$f":"INPUT!HG358","v":""},null,{"$f":"INPUT!IA358","v":""},{"$f":"INPUT!IB358","v":""},{"$f":"INPUT!IC358","v":""},{"$f":"INPUT!ID358","v":""},{"$f":"INPUT!IE358","v":""},{"$f":"INPUT!IF358","v":""},{"$f":"INPUT!IG358","v":""},{"$f":"INPUT!IH358","v":""},null,{"$f":"INPUT!IZ358","v":""},{"$f":"INPUT!JA358","v":""},{"$f":"INPUT!JB358","v":""},{"$f":"INPUT!JC358","v":""},{"$f":"INPUT!JD358","v":""},{"$f":"INPUT!JE358","v":""},{"$f":"INPUT!JF358","v":""},"",null,{"$f":"INPUT!JX358","v":""},{"$f":"INPUT!JY358","v":""},{"$f":"INPUT!JZ358","v":""},{"$f":"INPUT!KA358","v":""},{"$f":"INPUT!KB358","v":""},{"$f":"INPUT!KC358","v":""},{"$f":"INPUT!KD358","v":""},"",null,{"$f":"INPUT!KZ358","v":""},{"$f":"INPUT!LA358","v":""},{"$f":"INPUT!LB358","v":""},{"$f":"INPUT!LC358","v":""},{"$f":"INPUT!LD358","v":""},{"$f":"INPUT!LE358","v":""},{"$f":"INPUT!LF358","v":""},{"$f":"INPUT!LG358","v":""},{"$f":"INPUT!LH358","v":""},null,{"$f":"INPUT!MB358","v":""},{"$f":"INPUT!MC358","v":""},{"$f":"INPUT!MD358","v":""},{"$f":"INPUT!ME358","v":""},{"$f":"INPUT!MF358","v":""},{"$f":"INPUT!MG358","v":""},{"$f":"INPUT!MH358","v":""},{"$f":"INPUT!MI358","v":""}]
[null,{"$f":"INPUT!EA359","v":""},{"$f":"INPUT!EB359","v":""},{"$f":"INPUT!EC359","v":""},{"$f":"INPUT!ED359","v":""},{"$f":"INPUT!EE359","v":""},{"$f":"INPUT!EF359","v":""},{"$f":"INPUT!EG359","v":""},"",null,{"$f":"INPUT!EY359","v":""},{"$f":"INPUT!EZ359","v":""},{"$f":"INPUT!FA359","v":""},{"$f":"INPUT!FB359","v":""},{"$f":"INPUT!FC359","v":""},{"$f":"INPUT!FD359","v":""},{"$f":"INPUT!FE359","v":""},"",null,{"$f":"INPUT!FW359","v":""},{"$f":"INPUT!FX359","v":""},{"$f":"INPUT!FY359","v":""},{"$f":"INPUT!FZ359","v":""},{"$f":"INPUT!GA359","v":""},{"$f":"INPUT!GB359","v":""},{"$f":"INPUT!GC359","v":""},null,{"$f":"INPUT!GY359","v":""},{"$f":"INPUT!GZ359","v":""},{"$f":"INPUT!HA359","v":""},{"$f":"INPUT!HB359","v":""},{"$f":"INPUT!HC359","v":""},{"$f":"INPUT!HD359","v":""},{"$f":"INPUT!HE359","v":""},{"$f":"INPUT!HF359","v":""},{"$f":"INPUT!HG359","v":""},null,{"$f":"INPUT!IA359","v":""},{"$f":"INPUT!IB359","v":""},{"$f":"INPUT!IC359","v":""},{"$f":"INPUT!ID359","v":""},{"$f":"INPUT!IE359","v":""},{"$f":"INPUT!IF359","v":""},{"$f":"INPUT!IG359","v":""},{"$f":"INPUT!IH359","v":""},null,{"$f":"INPUT!IZ359","v":""},{"$f":"INPUT!JA359","v":""},{"$f":"INPUT!JB359","v":""},{"$f":"INPUT!JC359","v":""},{"$f":"INPUT!JD359","v":""},{"$f":"INPUT!JE359","v":""},{"$f":"INPUT!JF359","v":""},"",null,{"$f":"INPUT!JX359","v":""},{"$f":"INPUT!JY359","v":""},{"$f":"INPUT!JZ359","v":""},{"$f":"INPUT!KA359","v":""},{"$f":"INPUT!KB359","v":""},{"$f":"INPUT!KC359","v":""},{"$f":"INPUT!KD359","v":""},"",null,{"$f":"INPUT!KZ359","v":""},{"$f":"INPUT!LA359","v":""},{"$f":"INPUT!LB359","v":""},{"$f":"INPUT!LC359","v":""},{"$f":"INPUT!LD359","v":""},{"$f":"INPUT!LE359","v":""},{"$f":"INPUT!LF359","v":""},{"$f":"INPUT!LG359","v":""},{"$f":"INPUT!LH359","v":""},null,{"$f":"INPUT!MB359","v":""},{"$f":"INPUT!MC359","v":""},{"$f":"INPUT!MD359","v":""},{"$f":"INPUT!ME359","v":""},{"$f":"INPUT!MF359","v":""},{"$f":"INPUT!MG359","v":""},{"$f":"INPUT!MH359","v":""},{"$f":"INPUT!MI359","v":""}]
[null,{"$f":"INPUT!EA360","v":""},{"$f":"INPUT!EB360","v":""},{"$f":"INPUT!EC360","v":""},{"$f":"INPUT!ED360","v":""},{"$f":"INPUT!EE360","v":""},{"$f":"INPUT!EF360","v":""},{"$f":"INPUT!EG360","v":""},"",null,{"$f":"INPUT!EY360","v":""},{"$f":"INPUT!EZ360","v":""},{"$f":"INPUT!FA360","v":""},{"$f":"INPUT!FB360","v":""},{"$f":"INPUT!FC360","v":""},{"$f":"INPUT!FD360","v":""},{"$f":"INPUT!FE360","v":""},"",null,{"$f":"INPUT!FW360","v":""},{"$f":"INPUT!FX360","v":""},{"$f":"INPUT!FY360","v":""},{"$f":"INPUT!FZ360","v":""},{"$f":"INPUT!GA360","v":""},{"$f":"INPUT!GB360","v":""},{"$f":"INPUT!GC360","v":""},null,{"$f":"INPUT!GY360","v":""},{"$f":"INPUT!GZ360","v":""},{"$f":"INPUT!HA360","v":""},{"$f":"INPUT!HB360","v":""},{"$f":"INPUT!HC360","v":""},{"$f":"INPUT!HD360","v":""},{"$f":"INPUT!HE360","v":""},{"$f":"INPUT!HF360","v":""},{"$f":"INPUT!HG360","v":""},null,{"$f":"INPUT!IA360","v":""},{"$f":"INPUT!IB360","v":""},{"$f":"INPUT!IC360","v":""},{"$f":"INPUT!ID360","v":""},{"$f":"INPUT!IE360","v":""},{"$f":"INPUT!IF360","v":""},{"$f":"INPUT!IG360","v":""},{"$f":"INPUT!IH360","v":""},null,{"$f":"INPUT!IZ360","v":""},{"$f":"INPUT!JA360","v":""},{"$f":"INPUT!JB360","v":""},{"$f":"INPUT!JC360","v":""},{"$f":"INPUT!JD360","v":""},{"$f":"INPUT!JE360","v":""},{"$f":"INPUT!JF360","v":""},"",null,{"$f":"INPUT!JX360","v":""},{"$f":"INPUT!JY360","v":""},{"$f":"INPUT!JZ360","v":""},{"$f":"INPUT!KA360","v":""},{"$f":"INPUT!KB360","v":""},{"$f":"INPUT!KC360","v":""},{"$f":"INPUT!KD360","v":""},"",null,{"$f":"INPUT!KZ360","v":""},{"$f":"INPUT!LA360","v":""},{"$f":"INPUT!LB360","v":""},{"$f":"INPUT!LC360","v":""},{"$f":"INPUT!LD360","v":""},{"$f":"INPUT!LE360","v":""},{"$f":"INPUT!LF360","v":""},{"$f":"INPUT!LG360","v":""},{"$f":"INPUT!LH360","v":""},null,{"$f":"INPUT!MB360","v":""},{"$f":"INPUT!MC360","v":""},{"$f":"INPUT!MD360","v":""},{"$f":"INPUT!ME360","v":""},{"$f":"INPUT!MF360","v":""},{"$f":"INPUT!MG360","v":""},{"$f":"INPUT!MH360","v":""},{"$f":"INPUT!MI360","v":""}]
[null,{"$f":"INPUT!EA361","v":""},{"$f":"INPUT!EB361","v":""},{"$f":"INPUT!EC361","v":""},{"$f":"INPUT!ED361","v":""},{"$f":"INPUT!EE361","v":""},{"$f":"INPUT!EF361","v":""},{"$f":"INPUT!EG361","v":""},"",null,{"$f":"INPUT!EY361","v":""},{"$f":"INPUT!EZ361","v":""},{"$f":"INPUT!FA361","v":""},{"$f":"INPUT!FB361","v":""},{"$f":"INPUT!FC361","v":""},{"$f":"INPUT!FD361","v":""},{"$f":"INPUT!FE361","v":""},"",null,{"$f":"INPUT!FW361","v":""},{"$f":"INPUT!FX361","v":""},{"$f":"INPUT!FY361","v":""},{"$f":"INPUT!FZ361","v":""},{"$f":"INPUT!GA361","v":""},{"$f":"INPUT!GB361","v":""},{"$f":"INPUT!GC361","v":""},null,{"$f":"INPUT!GY361","v":""},{"$f":"INPUT!GZ361","v":""},{"$f":"INPUT!HA361","v":""},{"$f":"INPUT!HB361","v":""},{"$f":"INPUT!HC361","v":""},{"$f":"INPUT!HD361","v":""},{"$f":"INPUT!HE361","v":""},{"$f":"INPUT!HF361","v":""},{"$f":"INPUT!HG361","v":""},null,{"$f":"INPUT!IA361","v":""},{"$f":"INPUT!IB361","v":""},{"$f":"INPUT!IC361","v":""},{"$f":"INPUT!ID361","v":""},{"$f":"INPUT!IE361","v":""},{"$f":"INPUT!IF361","v":""},{"$f":"INPUT!IG361","v":""},{"$f":"INPUT!IH361","v":""},null,{"$f":"INPUT!IZ361","v":""},{"$f":"INPUT!JA361","v":""},{"$f":"INPUT!JB361","v":""},{"$f":"INPUT!JC361","v":""},{"$f":"INPUT!JD361","v":""},{"$f":"INPUT!JE361","v":""},{"$f":"INPUT!JF361","v":""},"",null,{"$f":"INPUT!JX361","v":""},{"$f":"INPUT!JY361","v":""},{"$f":"INPUT!JZ361","v":""},{"$f":"INPUT!KA361","v":""},{"$f":"INPUT!KB361","v":""},{"$f":"INPUT!KC361","v":""},{"$f":"INPUT!KD361","v":""},"",null,{"$f":"INPUT!KZ361","v":""},{"$f":"INPUT!LA361","v":""},{"$f":"INPUT!LB361","v":""},{"$f":"INPUT!LC361","v":""},{"$f":"INPUT!LD361","v":""},{"$f":"INPUT!LE361","v":""},{"$f":"INPUT!LF361","v":""},{"$f":"INPUT!LG361","v":""},{"$f":"INPUT!LH361","v":""},null,{"$f":"INPUT!MB361","v":""},{"$f":"INPUT!MC361","v":""},{"$f":"INPUT!MD361","v":""},{"$f":"INPUT!ME361","v":""},{"$f":"INPUT!MF361","v":""},{"$f":"INPUT!MG361","v":""},{"$f":"INPUT!MH361","v":""},{"$f":"INPUT!MI361","v":""}]
[null,{"$f":"INPUT!EA362","v":""},{"$f":"INPUT!EB362","v":""},{"$f":"INPUT!EC362","v":""},{"$f":"INPUT!ED362","v":""},{"$f":"INPUT!EE362","v":""},{"$f":"INPUT!EF362","v":""},{"$f":"INPUT!EG362","v":""},"",null,{"$f":"INPUT!EY362","v":""},{"$f":"INPUT!EZ362","v":""},{"$f":"INPUT!FA362","v":""},{"$f":"INPUT!FB362","v":""},{"$f":"INPUT!FC362","v":""},{"$f":"INPUT!FD362","v":""},{"$f":"INPUT!FE362","v":""},"",null,{"$f":"INPUT!FW362","v":""},{"$f":"INPUT!FX362","v":""},{"$f":"INPUT!FY362","v":""},{"$f":"INPUT!FZ362","v":""},{"$f":"INPUT!GA362","v":""},{"$f":"INPUT!GB362","v":""},{"$f":"INPUT!GC362","v":""},null,{"$f":"INPUT!GY362","v":""},{"$f":"INPUT!GZ362","v":""},{"$f":"INPUT!HA362","v":""},{"$f":"INPUT!HB362","v":""},{"$f":"INPUT!HC362","v":""},{"$f":"INPUT!HD362","v":""},{"$f":"INPUT!HE362","v":""},{"$f":"INPUT!HF362","v":""},{"$f":"INPUT!HG362","v":""},null,{"$f":"INPUT!IA362","v":""},{"$f":"INPUT!IB362","v":""},{"$f":"INPUT!IC362","v":""},{"$f":"INPUT!ID362","v":""},{"$f":"INPUT!IE362","v":""},{"$f":"INPUT!IF362","v":""},{"$f":"INPUT!IG362","v":""},{"$f":"INPUT!IH362","v":""},null,{"$f":"INPUT!IZ362","v":""},{"$f":"INPUT!JA362","v":""},{"$f":"INPUT!JB362","v":""},{"$f":"INPUT!JC362","v":""},{"$f":"INPUT!JD362","v":""},{"$f":"INPUT!JE362","v":""},{"$f":"INPUT!JF362","v":""},"",null,{"$f":"INPUT!JX362","v":""},{"$f":"INPUT!JY362","v":""},{"$f":"INPUT!JZ362","v":""},{"$f":"INPUT!KA362","v":""},{"$f":"INPUT!KB362","v":""},{"$f":"INPUT!KC362","v":""},{"$f":"INPUT!KD362","v":""},"",null,{"$f":"INPUT!KZ362","v":""},{"$f":"INPUT!LA362","v":""},{"$f":"INPUT!LB362","v":""},{"$f":"INPUT!LC362","v":""},{"$f":"INPUT!LD362","v":""},{"$f":"INPUT!LE362","v":""},{"$f":"INPUT!LF362","v":""},{"$f":"INPUT!LG362","v":""},{"$f":"INPUT!LH362","v":""},null,{"$f":"INPUT!MB362","v":""},{"$f":"INPUT!MC362","v":""},{"$f":"INPUT!MD362","v":""},{"$f":"INPUT!ME362","v":""},{"$f":"INPUT!MF362","v":""},{"$f":"INPUT!MG362","v":""},{"$f":"INPUT!MH362","v":""},{"$f":"INPUT!MI362","v":""}]
[null,{"$f":"INPUT!EA363","v":""},{"$f":"INPUT!EB363","v":""},{"$f":"INPUT!EC363","v":""},{"$f":"INPUT!ED363","v":""},{"$f":"INPUT!EE363","v":""},{"$f":"INPUT!EF363","v":""},{"$f":"INPUT!EG363","v":""},"",null,{"$f":"INPUT!EY363","v":""},{"$f":"INPUT!EZ363","v":""},{"$f":"INPUT!FA363","v":""},{"$f":"INPUT!FB363","v":""},{"$f":"INPUT!FC363","v":""},{"$f":"INPUT!FD363","v":""},{"$f":"INPUT!FE363","v":""},"",null,{"$f":"INPUT!FW363","v":""},{"$f":"INPUT!FX363","v":""},{"$f":"INPUT!FY363","v":""},{"$f":"INPUT!FZ363","v":""},{"$f":"INPUT!GA363","v":""},{"$f":"INPUT!GB363","v":""},{"$f":"INPUT!GC363","v":""},null,{"$f":"INPUT!GY363","v":""},{"$f":"INPUT!GZ363","v":""},{"$f":"INPUT!HA363","v":""},{"$f":"INPUT!HB363","v":""},{"$f":"INPUT!HC363","v":""},{"$f":"INPUT!HD363","v":""},{"$f":"INPUT!HE363","v":""},{"$f":"INPUT!HF363","v":""},{"$f":"INPUT!HG363","v":""},null,{"$f":"INPUT!IA363","v":""},{"$f":"INPUT!IB363","v":""},{"$f":"INPUT!IC363","v":""},{"$f":"INPUT!ID363","v":""},{"$f":"INPUT!IE363","v":""},{"$f":"INPUT!IF363","v":""},{"$f":"INPUT!IG363","v":""},{"$f":"INPUT!IH363","v":""},null,{"$f":"INPUT!IZ363","v":""},{"$f":"INPUT!JA363","v":""},{"$f":"INPUT!JB363","v":""},{"$f":"INPUT!JC363","v":""},{"$f":"INPUT!JD363","v":""},{"$f":"INPUT!JE363","v":""},{"$f":"INPUT!JF363","v":""},"",null,{"$f":"INPUT!JX363","v":""},{"$f":"INPUT!JY363","v":""},{"$f":"INPUT!JZ363","v":""},{"$f":"INPUT!KA363","v":""},{"$f":"INPUT!KB363","v":""},{"$f":"INPUT!KC363","v":""},{"$f":"INPUT!KD363","v":""},"",null,{"$f":"INPUT!KZ363","v":""},{"$f":"INPUT!LA363","v":""},{"$f":"INPUT!LB363","v":""},{"$f":"INPUT!LC363","v":""},{"$f":"INPUT!LD363","v":""},{"$f":"INPUT!LE363","v":""},{"$f":"INPUT!LF363","v":""},{"$f":"INPUT!LG363","v":""},{"$f":"INPUT!LH363","v":""},null,{"$f":"INPUT!MB363","v":""},{"$f":"INPUT!MC363","v":""},{"$f":"INPUT!MD363","v":""},{"$f":"INPUT!ME363","v":""},{"$f":"INPUT!MF363","v":""},{"$f":"INPUT!MG363","v":""},{"$f":"INPUT!MH363","v":""},{"$f":"INPUT!MI363","v":""}]
[null,{"$f":"INPUT!EA364","v":""},{"$f":"INPUT!EB364","v":""},{"$f":"INPUT!EC364","v":""},{"$f":"INPUT!ED364","v":""},{"$f":"INPUT!EE364","v":""},{"$f":"INPUT!EF364","v":""},{"$f":"INPUT!EG364","v":""},"",null,{"$f":"INPUT!EY364","v":""},{"$f":"INPUT!EZ364","v":""},{"$f":"INPUT!FA364","v":""},{"$f":"INPUT!FB364","v":""},{"$f":"INPUT!FC364","v":""},{"$f":"INPUT!FD364","v":""},{"$f":"INPUT!FE364","v":""},"",null,{"$f":"INPUT!FW364","v":""},{"$f":"INPUT!FX364","v":""},{"$f":"INPUT!FY364","v":""},{"$f":"INPUT!FZ364","v":""},{"$f":"INPUT!GA364","v":""},{"$f":"INPUT!GB364","v":""},{"$f":"INPUT!GC364","v":""},null,{"$f":"INPUT!GY364","v":""},{"$f":"INPUT!GZ364","v":""},{"$f":"INPUT!HA364","v":""},{"$f":"INPUT!HB364","v":""},{"$f":"INPUT!HC364","v":""},{"$f":"INPUT!HD364","v":""},{"$f":"INPUT!HE364","v":""},{"$f":"INPUT!HF364","v":""},{"$f":"INPUT!HG364","v":""},null,{"$f":"INPUT!IA364","v":""},{"$f":"INPUT!IB364","v":""},{"$f":"INPUT!IC364","v":""},{"$f":"INPUT!ID364","v":""},{"$f":"INPUT!IE364","v":""},{"$f":"INPUT!IF364","v":""},{"$f":"INPUT!IG364","v":""},{"$f":"INPUT!IH364","v":""},null,{"$f":"INPUT!IZ364","v":""},{"$f":"INPUT!JA364","v":""},{"$f":"INPUT!JB364","v":""},{"$f":"INPUT!JC364","v":""},{"$f":"INPUT!JD364","v":""},{"$f":"INPUT!JE364","v":""},{"$f":"INPUT!JF364","v":""},"",null,{"$f":"INPUT!JX364","v":""},{"$f":"INPUT!JY364","v":""},{"$f":"INPUT!JZ364","v":""},{"$f":"INPUT!KA364","v":""},{"$f":"INPUT!KB364","v":""},{"$f":"INPUT!KC364","v":""},{"$f":"INPUT!KD364","v":""},"",null,{"$f":"INPUT!KZ364","v":""},{"$f":"INPUT!LA364","v":""},{"$f":"INPUT!LB364","v":""},{"$f":"INPUT!LC364","v":""},{"$f":"INPUT!LD364","v":""},{"$f":"INPUT!LE364","v":""},{"$f":"INPUT!LF364","v":""},{"$f":"INPUT!LG364","v":""},{"$f":"INPUT!LH364","v":""},null,{"$f":"INPUT!MB364","v":""},{"$f":"INPUT!MC364","v":""},{"$f":"INPUT!MD364","v":""},{"$f":"INPUT!ME364","v":""},{"$f":"INPUT!MF364","v":""},{"$f":"INPUT!MG364","v":""},{"$f":"INPUT!MH364","v":""},{"$f":"INPUT!MI364","v":""}]
[null,{"$f":"INPUT!EA365","v":""},{"$f":"INPUT!EB365","v":""},{"$f":"INPUT!EC365","v":""},{"$f":"INPUT!ED365","v":""},{"$f":"INPUT!EE365","v":""},{"$f":"INPUT!EF365","v":""},{"$f":"INPUT!EG365","v":""},"",null,{"$f":"INPUT!EY365","v":""},{"$f":"INPUT!EZ365","v":""},{"$f":"INPUT!FA365","v":""},{"$f":"INPUT!FB365","v":""},{"$f":"INPUT!FC365","v":""},{"$f":"INPUT!FD365","v":""},{"$f":"INPUT!FE365","v":""},"",null,{"$f":"INPUT!FW365","v":""},{"$f":"INPUT!FX365","v":""},{"$f":"INPUT!FY365","v":""},{"$f":"INPUT!FZ365","v":""},{"$f":"INPUT!GA365","v":""},{"$f":"INPUT!GB365","v":""},{"$f":"INPUT!GC365","v":""},null,{"$f":"INPUT!GY365","v":""},{"$f":"INPUT!GZ365","v":""},{"$f":"INPUT!HA365","v":""},{"$f":"INPUT!HB365","v":""},{"$f":"INPUT!HC365","v":""},{"$f":"INPUT!HD365","v":""},{"$f":"INPUT!HE365","v":""},{"$f":"INPUT!HF365","v":""},{"$f":"INPUT!HG365","v":""},null,{"$f":"INPUT!IA365","v":""},{"$f":"INPUT!IB365","v":""},{"$f":"INPUT!IC365","v":""},{"$f":"INPUT!ID365","v":""},{"$f":"INPUT!IE365","v":""},{"$f":"INPUT!IF365","v":""},{"$f":"INPUT!IG365","v":""},{"$f":"INPUT!IH365","v":""},null,{"$f":"INPUT!IZ365","v":""},{"$f":"INPUT!JA365","v":""},{"$f":"INPUT!JB365","v":""},{"$f":"INPUT!JC365","v":""},{"$f":"INPUT!JD365","v":""},{"$f":"INPUT!JE365","v":""},{"$f":"INPUT!JF365","v":""},"",null,{"$f":"INPUT!JX365","v":""},{"$f":"INPUT!JY365","v":""},{"$f":"INPUT!JZ365","v":""},{"$f":"INPUT!KA365","v":""},{"$f":"INPUT!KB365","v":""},{"$f":"INPUT!KC365","v":""},{"$f":"INPUT!KD365","v":""},"",null,{"$f":"INPUT!KZ365","v":""},{"$f":"INPUT!LA365","v":""},{"$f":"INPUT!LB365","v":""},{"$f":"INPUT!LC365","v":""},{"$f":"INPUT!LD365","v":""},{"$f":"INPUT!LE365","v":""},{"$f":"INPUT!LF365","v":""},{"$f":"INPUT!LG365","v":""},{"$f":"INPUT!LH365","v":""},null,{"$f":"INPUT!MB365","v":""},{"$f":"INPUT!MC365","v":""},{"$f":"INPUT!MD365","v":""},{"$f":"INPUT!ME365","v":""},{"$f":"INPUT!MF365","v":""},{"$f":"INPUT!MG365","v":""},{"$f":"INPUT!MH365","v":""},{"$f":"INPUT!MI365","v":""}]
[null,{"$f":"INPUT!EA366","v":""},{"$f":"INPUT!EB366","v":""},{"$f":"INPUT!EC366","v":""},{"$f":"INPUT!ED366","v":""},{"$f":"INPUT!EE366","v":""},{"$f":"INPUT!EF366","v":""},{"$f":"INPUT!EG366","v":""},"",null,{"$f":"INPUT!EY366","v":""},{"$f":"INPUT!EZ366","v":""},{"$f":"INPUT!FA366","v":""},{"$f":"INPUT!FB366","v":""},{"$f":"INPUT!FC366","v":""},{"$f":"INPUT!FD366","v":""},{"$f":"INPUT!FE366","v":""},"",null,{"$f":"INPUT!FW366","v":""},{"$f":"INPUT!FX366","v":""},{"$f":"INPUT!FY366","v":""},{"$f":"INPUT!FZ366","v":""},{"$f":"INPUT!GA366","v":""},{"$f":"INPUT!GB366","v":""},{"$f":"INPUT!GC366","v":""},null,{"$f":"INPUT!GY366","v":""},{"$f":"INPUT!GZ366","v":""},{"$f":"INPUT!HA366","v":""},{"$f":"INPUT!HB366","v":""},{"$f":"INPUT!HC366","v":""},{"$f":"INPUT!HD366","v":""},{"$f":"INPUT!HE366","v":""},{"$f":"INPUT!HF366","v":""},{"$f":"INPUT!HG366","v":""},null,{"$f":"INPUT!IA366","v":""},{"$f":"INPUT!IB366","v":""},{"$f":"INPUT!IC366","v":""},{"$f":"INPUT!ID366","v":""},{"$f":"INPUT!IE366","v":""},{"$f":"INPUT!IF366","v":""},{"$f":"INPUT!IG366","v":""},{"$f":"INPUT!IH366","v":""},null,{"$f":"INPUT!IZ366","v":""},{"$f":"INPUT!JA366","v":""},{"$f":"INPUT!JB366","v":""},{"$f":"INPUT!JC366","v":""},{"$f":"INPUT!JD366","v":""},{"$f":"INPUT!JE366","v":""},{"$f":"INPUT!JF366","v":""},"",null,{"$f":"INPUT!JX366","v":""},{"$f":"INPUT!JY366","v":""},{"$f":"INPUT!JZ366","v":""},{"$f":"INPUT!KA366","v":""},{"$f":"INPUT!KB366","v":""},{"$f":"INPUT!KC366","v":""},{"$f":"INPUT!KD366","v":""},"",null,{"$f":"INPUT!KZ366","v":""},{"$f":"INPUT!LA366","v":""},{"$f":"INPUT!LB366","v":""},{"$f":"INPUT!LC366","v":""},{"$f":"INPUT!LD366","v":""},{"$f":"INPUT!LE366","v":""},{"$f":"INPUT!LF366","v":""},{"$f":"INPUT!LG366","v":""},{"$f":"INPUT!LH366","v":""},null,{"$f":"INPUT!MB366","v":""},{"$f":"INPUT!MC366","v":""},{"$f":"INPUT!MD366","v":""},{"$f":"INPUT!ME366","v":""},{"$f":"INPUT!MF366","v":""},{"$f":"INPUT!MG366","v":""},{"$f":"INPUT!MH366","v":""},{"$f":"INPUT!MI366","v":""}]
[null,{"$f":"INPUT!EA367","v":""},{"$f":"INPUT!EB367","v":""},{"$f":"INPUT!EC367","v":""},{"$f":"INPUT!ED367","v":""},{"$f":"INPUT!EE367","v":""},{"$f":"INPUT!EF367","v":""},{"$f":"INPUT!EG367","v":""},"",null,{"$f":"INPUT!EY367","v":""},{"$f":"INPUT!EZ367","v":""},{"$f":"INPUT!FA367","v":""},{"$f":"INPUT!FB367","v":""},{"$f":"INPUT!FC367","v":""},{"$f":"INPUT!FD367","v":""},{"$f":"INPUT!FE367","v":""},"",null,{"$f":"INPUT!FW367","v":""},{"$f":"INPUT!FX367","v":""},{"$f":"INPUT!FY367","v":""},{"$f":"INPUT!FZ367","v":""},{"$f":"INPUT!GA367","v":""},{"$f":"INPUT!GB367","v":""},{"$f":"INPUT!GC367","v":""},null,{"$f":"INPUT!GY367","v":""},{"$f":"INPUT!GZ367","v":""},{"$f":"INPUT!HA367","v":""},{"$f":"INPUT!HB367","v":""},{"$f":"INPUT!HC367","v":""},{"$f":"INPUT!HD367","v":""},{"$f":"INPUT!HE367","v":""},{"$f":"INPUT!HF367","v":""},{"$f":"INPUT!HG367","v":""},null,{"$f":"INPUT!IA367","v":""},{"$f":"INPUT!IB367","v":""},{"$f":"INPUT!IC367","v":""},{"$f":"INPUT!ID367","v":""},{"$f":"INPUT!IE367","v":""},{"$f":"INPUT!IF367","v":""},{"$f":"INPUT!IG367","v":""},{"$f":"INPUT!IH367","v":""},null,{"$f":"INPUT!IZ367","v":""},{"$f":"INPUT!JA367","v":""},{"$f":"INPUT!JB367","v":""},{"$f":"INPUT!JC367","v":""},{"$f":"INPUT!JD367","v":""},{"$f":"INPUT!JE367","v":""},{"$f":"INPUT!JF367","v":""},"",null,{"$f":"INPUT!JX367","v":""},{"$f":"INPUT!JY367","v":""},{"$f":"INPUT!JZ367","v":""},{"$f":"INPUT!KA367","v":""},{"$f":"INPUT!KB367","v":""},{"$f":"INPUT!KC367","v":""},{"$f":"INPUT!KD367","v":""},"",null,{"$f":"INPUT!KZ367","v":""},{"$f":"INPUT!LA367","v":""},{"$f":"INPUT!LB367","v":""},{"$f":"INPUT!LC367","v":""},{"$f":"INPUT!LD367","v":""},{"$f":"INPUT!LE367","v":""},{"$f":"INPUT!LF367","v":""},{"$f":"INPUT!LG367","v":""},{"$f":"INPUT!LH367","v":""},null,{"$f":"INPUT!MB367","v":""},{"$f":"INPUT!MC367","v":""},{"$f":"INPUT!MD367","v":""},{"$f":"INPUT!ME367","v":""},{"$f":"INPUT!MF367","v":""},{"$f":"INPUT!MG367","v":""},{"$f":"INPUT!MH367","v":""},{"$f":"INPUT!MI367","v":""}]
[null,{"$f":"INPUT!EA368","v":""},{"$f":"INPUT!EB368","v":""},{"$f":"INPUT!EC368","v":""},{"$f":"INPUT!ED368","v":""},{"$f":"INPUT!EE368","v":""},{"$f":"INPUT!EF368","v":""},{"$f":"INPUT!EG368","v":""},"",null,{"$f":"INPUT!EY368","v":""},{"$f":"INPUT!EZ368","v":""},{"$f":"INPUT!FA368","v":""},{"$f":"INPUT!FB368","v":""},{"$f":"INPUT!FC368","v":""},{"$f":"INPUT!FD368","v":""},{"$f":"INPUT!FE368","v":""},"",null,{"$f":"INPUT!FW368","v":""},{"$f":"INPUT!FX368","v":""},{"$f":"INPUT!FY368","v":""},{"$f":"INPUT!FZ368","v":""},{"$f":"INPUT!GA368","v":""},{"$f":"INPUT!GB368","v":""},{"$f":"INPUT!GC368","v":""},null,{"$f":"INPUT!GY368","v":""},{"$f":"INPUT!GZ368","v":""},{"$f":"INPUT!HA368","v":""},{"$f":"INPUT!HB368","v":""},{"$f":"INPUT!HC368","v":""},{"$f":"INPUT!HD368","v":""},{"$f":"INPUT!HE368","v":""},{"$f":"INPUT!HF368","v":""},{"$f":"INPUT!HG368","v":""},null,{"$f":"INPUT!IA368","v":""},{"$f":"INPUT!IB368","v":""},{"$f":"INPUT!IC368","v":""},{"$f":"INPUT!ID368","v":""},{"$f":"INPUT!IE368","v":""},{"$f":"INPUT!IF368","v":""},{"$f":"INPUT!IG368","v":""},{"$f":"INPUT!IH368","v":""},null,{"$f":"INPUT!IZ368","v":""},{"$f":"INPUT!JA368","v":""},{"$f":"INPUT!JB368","v":""},{"$f":"INPUT!JC368","v":""},{"$f":"INPUT!JD368","v":""},{"$f":"INPUT!JE368","v":""},{"$f":"INPUT!JF368","v":""},"",null,{"$f":"INPUT!JX368","v":""},{"$f":"INPUT!JY368","v":""},{"$f":"INPUT!JZ368","v":""},{"$f":"INPUT!KA368","v":""},{"$f":"INPUT!KB368","v":""},{"$f":"INPUT!KC368","v":""},{"$f":"INPUT!KD368","v":""},"",null,{"$f":"INPUT!KZ368","v":""},{"$f":"INPUT!LA368","v":""},{"$f":"INPUT!LB368","v":""},{"$f":"INPUT!LC368","v":""},{"$f":"INPUT!LD368","v":""},{"$f":"INPUT!LE368","v":""},{"$f":"INPUT!LF368","v":""},{"$f":"INPUT!LG368","v":""},{"$f":"INPUT!LH368","v":""},null,{"$f":"INPUT!MB368","v":""},{"$f":"INPUT!MC368","v":""},{"$f":"INPUT!MD368","v":""},{"$f":"INPUT!ME368","v":""},{"$f":"INPUT!MF368","v":""},{"$f":"INPUT!MG368","v":""},{"$f":"INPUT!MH368","v":""},{"$f":"INPUT!MI368","v":""}]
[null,{"$f":"INPUT!EA369","v":""},{"$f":"INPUT!EB369","v":""},{"$f":"INPUT!EC369","v":""},{"$f":"INPUT!ED369","v":""},{"$f":"INPUT!EE369","v":""},{"$f":"INPUT!EF369","v":""},{"$f":"INPUT!EG369","v":""},"",null,{"$f":"INPUT!EY369","v":""},{"$f":"INPUT!EZ369","v":""},{"$f":"INPUT!FA369","v":""},{"$f":"INPUT!FB369","v":""},{"$f":"INPUT!FC369","v":""},{"$f":"INPUT!FD369","v":""},{"$f":"INPUT!FE369","v":""},"",null,{"$f":"INPUT!FW369","v":""},{"$f":"INPUT!FX369","v":""},{"$f":"INPUT!FY369","v":""},{"$f":"INPUT!FZ369","v":""},{"$f":"INPUT!GA369","v":""},{"$f":"INPUT!GB369","v":""},{"$f":"INPUT!GC369","v":""},null,{"$f":"INPUT!GY369","v":""},{"$f":"INPUT!GZ369","v":""},{"$f":"INPUT!HA369","v":""},{"$f":"INPUT!HB369","v":""},{"$f":"INPUT!HC369","v":""},{"$f":"INPUT!HD369","v":""},{"$f":"INPUT!HE369","v":""},{"$f":"INPUT!HF369","v":""},{"$f":"INPUT!HG369","v":""},null,{"$f":"INPUT!IA369","v":""},{"$f":"INPUT!IB369","v":""},{"$f":"INPUT!IC369","v":""},{"$f":"INPUT!ID369","v":""},{"$f":"INPUT!IE369","v":""},{"$f":"INPUT!IF369","v":""},{"$f":"INPUT!IG369","v":""},{"$f":"INPUT!IH369","v":""},null,{"$f":"INPUT!IZ369","v":""},{"$f":"INPUT!JA369","v":""},{"$f":"INPUT!JB369","v":""},{"$f":"INPUT!JC369","v":""},{"$f":"INPUT!JD369","v":""},{"$f":"INPUT!JE369","v":""},{"$f":"INPUT!JF369","v":""},"",null,{"$f":"INPUT!JX369","v":""},{"$f":"INPUT!JY369","v":""},{"$f":"INPUT!JZ369","v":""},{"$f":"INPUT!KA369","v":""},{"$f":"INPUT!KB369","v":""},{"$f":"INPUT!KC369","v":""},{"$f":"INPUT!KD369","v":""},"",null,{"$f":"INPUT!KZ369","v":""},{"$f":"INPUT!LA369","v":""},{"$f":"INPUT!LB369","v":""},{"$f":"INPUT!LC369","v":""},{"$f":"INPUT!LD369","v":""},{"$f":"INPUT!LE369","v":""},{"$f":"INPUT!LF369","v":""},{"$f":"INPUT!LG369","v":""},{"$f":"INPUT!LH369","v":""},null,{"$f":"INPUT!MB369","v":""},{"$f":"INPUT!MC369","v":""},{"$f":"INPUT!MD369","v":""},{"$f":"INPUT!ME369","v":""},{"$f":"INPUT!MF369","v":""},{"$f":"INPUT!MG369","v":""},{"$f":"INPUT!MH369","v":""},{"$f":"INPUT!MI369","v":""}]
[null,{"$f":"INPUT!EA370","v":""},{"$f":"INPUT!EB370","v":""},{"$f":"INPUT!EC370","v":""},{"$f":"INPUT!ED370","v":""},{"$f":"INPUT!EE370","v":""},{"$f":"INPUT!EF370","v":""},{"$f":"INPUT!EG370","v":""},"",null,{"$f":"INPUT!EY370","v":""},{"$f":"INPUT!EZ370","v":""},{"$f":"INPUT!FA370","v":""},{"$f":"INPUT!FB370","v":""},{"$f":"INPUT!FC370","v":""},{"$f":"INPUT!FD370","v":""},{"$f":"INPUT!FE370","v":""},"",null,{"$f":"INPUT!FW370","v":""},{"$f":"INPUT!FX370","v":""},{"$f":"INPUT!FY370","v":""},{"$f":"INPUT!FZ370","v":""},{"$f":"INPUT!GA370","v":""},{"$f":"INPUT!GB370","v":""},{"$f":"INPUT!GC370","v":""},null,{"$f":"INPUT!GY370","v":""},{"$f":"INPUT!GZ370","v":""},{"$f":"INPUT!HA370","v":""},{"$f":"INPUT!HB370","v":""},{"$f":"INPUT!HC370","v":""},{"$f":"INPUT!HD370","v":""},{"$f":"INPUT!HE370","v":""},{"$f":"INPUT!HF370","v":""},{"$f":"INPUT!HG370","v":""},null,{"$f":"INPUT!IA370","v":""},{"$f":"INPUT!IB370","v":""},{"$f":"INPUT!IC370","v":""},{"$f":"INPUT!ID370","v":""},{"$f":"INPUT!IE370","v":""},{"$f":"INPUT!IF370","v":""},{"$f":"INPUT!IG370","v":""},{"$f":"INPUT!IH370","v":""},null,{"$f":"INPUT!IZ370","v":""},{"$f":"INPUT!JA370","v":""},{"$f":"INPUT!JB370","v":""},{"$f":"INPUT!JC370","v":""},{"$f":"INPUT!JD370","v":""},{"$f":"INPUT!JE370","v":""},{"$f":"INPUT!JF370","v":""},"",null,{"$f":"INPUT!JX370","v":""},{"$f":"INPUT!JY370","v":""},{"$f":"INPUT!JZ370","v":""},{"$f":"INPUT!KA370","v":""},{"$f":"INPUT!KB370","v":""},{"$f":"INPUT!KC370","v":""},{"$f":"INPUT!KD370","v":""},"",null,{"$f":"INPUT!KZ370","v":""},{"$f":"INPUT!LA370","v":""},{"$f":"INPUT!LB370","v":""},{"$f":"INPUT!LC370","v":""},{"$f":"INPUT!LD370","v":""},{"$f":"INPUT!LE370","v":""},{"$f":"INPUT!LF370","v":""},{"$f":"INPUT!LG370","v":""},{"$f":"INPUT!LH370","v":""},null,{"$f":"INPUT!MB370","v":""},{"$f":"INPUT!MC370","v":""},{"$f":"INPUT!MD370","v":""},{"$f":"INPUT!ME370","v":""},{"$f":"INPUT!MF370","v":""},{"$f":"INPUT!MG370","v":""},{"$f":"INPUT!MH370","v":""},{"$f":"INPUT!MI370","v":""}]
[null,{"$f":"INPUT!EA371","v":""},{"$f":"INPUT!EB371","v":""},{"$f":"INPUT!EC371","v":""},{"$f":"INPUT!ED371","v":""},{"$f":"INPUT!EE371","v":""},{"$f":"INPUT!EF371","v":""},{"$f":"INPUT!EG371","v":""},"",null,{"$f":"INPUT!EY371","v":""},{"$f":"INPUT!EZ371","v":""},{"$f":"INPUT!FA371","v":""},{"$f":"INPUT!FB371","v":""},{"$f":"INPUT!FC371","v":""},{"$f":"INPUT!FD371","v":""},{"$f":"INPUT!FE371","v":""},"",null,{"$f":"INPUT!FW371","v":""},{"$f":"INPUT!FX371","v":""},{"$f":"INPUT!FY371","v":""},{"$f":"INPUT!FZ371","v":""},{"$f":"INPUT!GA371","v":""},{"$f":"INPUT!GB371","v":""},{"$f":"INPUT!GC371","v":""},null,{"$f":"INPUT!GY371","v":""},{"$f":"INPUT!GZ371","v":""},{"$f":"INPUT!HA371","v":""},{"$f":"INPUT!HB371","v":""},{"$f":"INPUT!HC371","v":""},{"$f":"INPUT!HD371","v":""},{"$f":"INPUT!HE371","v":""},{"$f":"INPUT!HF371","v":""},{"$f":"INPUT!HG371","v":""},null,{"$f":"INPUT!IA371","v":""},{"$f":"INPUT!IB371","v":""},{"$f":"INPUT!IC371","v":""},{"$f":"INPUT!ID371","v":""},{"$f":"INPUT!IE371","v":""},{"$f":"INPUT!IF371","v":""},{"$f":"INPUT!IG371","v":""},{"$f":"INPUT!IH371","v":""},null,{"$f":"INPUT!IZ371","v":""},{"$f":"INPUT!JA371","v":""},{"$f":"INPUT!JB371","v":""},{"$f":"INPUT!JC371","v":""},{"$f":"INPUT!JD371","v":""},{"$f":"INPUT!JE371","v":""},{"$f":"INPUT!JF371","v":""},"",null,{"$f":"INPUT!JX371","v":""},{"$f":"INPUT!JY371","v":""},{"$f":"INPUT!JZ371","v":""},{"$f":"INPUT!KA371","v":""},{"$f":"INPUT!KB371","v":""},{"$f":"INPUT!KC371","v":""},{"$f":"INPUT!KD371","v":""},"",null,{"$f":"INPUT!KZ371","v":""},{"$f":"INPUT!LA371","v":""},{"$f":"INPUT!LB371","v":""},{"$f":"INPUT!LC371","v":""},{"$f":"INPUT!LD371","v":""},{"$f":"INPUT!LE371","v":""},{"$f":"INPUT!LF371","v":""},{"$f":"INPUT!LG371","v":""},{"$f":"INPUT!LH371","v":""},null,{"$f":"INPUT!MB371","v":""},{"$f":"INPUT!MC371","v":""},{"$f":"INPUT!MD371","v":""},{"$f":"INPUT!ME371","v":""},{"$f":"INPUT!MF371","v":""},{"$f":"INPUT!MG371","v":""},{"$f":"INPUT!MH371","v":""},{"$f":"INPUT!MI371","v":""}]
[null,{"$f":"INPUT!EA372","v":""},{"$f":"INPUT!EB372","v":""},{"$f":"INPUT!EC372","v":""},{"$f":"INPUT!ED372","v":""},{"$f":"INPUT!EE372","v":""},{"$f":"INPUT!EF372","v":""},{"$f":"INPUT!EG372","v":""},"",null,{"$f":"INPUT!EY372","v":""},{"$f":"INPUT!EZ372","v":""},{"$f":"INPUT!FA372","v":""},{"$f":"INPUT!FB372","v":""},{"$f":"INPUT!FC372","v":""},{"$f":"INPUT!FD372","v":""},{"$f":"INPUT!FE372","v":""},"",null,{"$f":"INPUT!FW372","v":""},{"$f":"INPUT!FX372","v":""},{"$f":"INPUT!FY372","v":""},{"$f":"INPUT!FZ372","v":""},{"$f":"INPUT!GA372","v":""},{"$f":"INPUT!GB372","v":""},{"$f":"INPUT!GC372","v":""},null,{"$f":"INPUT!GY372","v":""},{"$f":"INPUT!GZ372","v":""},{"$f":"INPUT!HA372","v":""},{"$f":"INPUT!HB372","v":""},{"$f":"INPUT!HC372","v":""},{"$f":"INPUT!HD372","v":""},{"$f":"INPUT!HE372","v":""},{"$f":"INPUT!HF372","v":""},{"$f":"INPUT!HG372","v":""},null,{"$f":"INPUT!IA372","v":""},{"$f":"INPUT!IB372","v":""},{"$f":"INPUT!IC372","v":""},{"$f":"INPUT!ID372","v":""},{"$f":"INPUT!IE372","v":""},{"$f":"INPUT!IF372","v":""},{"$f":"INPUT!IG372","v":""},{"$f":"INPUT!IH372","v":""},null,{"$f":"INPUT!IZ372","v":""},{"$f":"INPUT!JA372","v":""},{"$f":"INPUT!JB372","v":""},{"$f":"INPUT!JC372","v":""},{"$f":"INPUT!JD372","v":""},{"$f":"INPUT!JE372","v":""},{"$f":"INPUT!JF372","v":""},"",null,{"$f":"INPUT!JX372","v":""},{"$f":"INPUT!JY372","v":""},{"$f":"INPUT!JZ372","v":""},{"$f":"INPUT!KA372","v":""},{"$f":"INPUT!KB372","v":""},{"$f":"INPUT!KC372","v":""},{"$f":"INPUT!KD372","v":""},"",null,{"$f":"INPUT!KZ372","v":""},{"$f":"INPUT!LA372","v":""},{"$f":"INPUT!LB372","v":""},{"$f":"INPUT!LC372","v":""},{"$f":"INPUT!LD372","v":""},{"$f":"INPUT!LE372","v":""},{"$f":"INPUT!LF372","v":""},{"$f":"INPUT!LG372","v":""},{"$f":"INPUT!LH372","v":""},null,{"$f":"INPUT!MB372","v":""},{"$f":"INPUT!MC372","v":""},{"$f":"INPUT!MD372","v":""},{"$f":"INPUT!ME372","v":""},{"$f":"INPUT!MF372","v":""},{"$f":"INPUT!MG372","v":""},{"$f":"INPUT!MH372","v":""},{"$f":"INPUT!MI372","v":""}]
[null,{"$f":"INPUT!EA373","v":""},{"$f":"INPUT!EB373","v":""},{"$f":"INPUT!EC373","v":""},{"$f":"INPUT!ED373","v":""},{"$f":"INPUT!EE373","v":""},{"$f":"INPUT!EF373","v":""},{"$f":"INPUT!EG373","v":""},"",null,{"$f":"INPUT!EY373","v":""},{"$f":"INPUT!EZ373","v":""},{"$f":"INPUT!FA373","v":""},{"$f":"INPUT!FB373","v":""},{"$f":"INPUT!FC373","v":""},{"$f":"INPUT!FD373","v":""},{"$f":"INPUT!FE373","v":""},"",null,{"$f":"INPUT!FW373","v":""},{"$f":"INPUT!FX373","v":""},{"$f":"INPUT!FY373","v":""},{"$f":"INPUT!FZ373","v":""},{"$f":"INPUT!GA373","v":""},{"$f":"INPUT!GB373","v":""},{"$f":"INPUT!GC373","v":""},null,{"$f":"INPUT!GY373","v":""},{"$f":"INPUT!GZ373","v":""},{"$f":"INPUT!HA373","v":""},{"$f":"INPUT!HB373","v":""},{"$f":"INPUT!HC373","v":""},{"$f":"INPUT!HD373","v":""},{"$f":"INPUT!HE373","v":""},{"$f":"INPUT!HF373","v":""},{"$f":"INPUT!HG373","v":""},null,{"$f":"INPUT!IA373","v":""},{"$f":"INPUT!IB373","v":""},{"$f":"INPUT!IC373","v":""},{"$f":"INPUT!ID373","v":""},{"$f":"INPUT!IE373","v":""},{"$f":"INPUT!IF373","v":""},{"$f":"INPUT!IG373","v":""},{"$f":"INPUT!IH373","v":""},null,{"$f":"INPUT!IZ373","v":""},{"$f":"INPUT!JA373","v":""},{"$f":"INPUT!JB373","v":""},{"$f":"INPUT!JC373","v":""},{"$f":"INPUT!JD373","v":""},{"$f":"INPUT!JE373","v":""},{"$f":"INPUT!JF373","v":""},"",null,{"$f":"INPUT!JX373","v":""},{"$f":"INPUT!JY373","v":""},{"$f":"INPUT!JZ373","v":""},{"$f":"INPUT!KA373","v":""},{"$f":"INPUT!KB373","v":""},{"$f":"INPUT!KC373","v":""},{"$f":"INPUT!KD373","v":""},"",null,{"$f":"INPUT!KZ373","v":""},{"$f":"INPUT!LA373","v":""},{"$f":"INPUT!LB373","v":""},{"$f":"INPUT!LC373","v":""},{"$f":"INPUT!LD373","v":""},{"$f":"INPUT!LE373","v":""},{"$f":"INPUT!LF373","v":""},{"$f":"INPUT!LG373","v":""},{"$f":"INPUT!LH373","v":""},null,{"$f":"INPUT!MB373","v":""},{"$f":"INPUT!MC373","v":""},{"$f":"INPUT!MD373","v":""},{"$f":"INPUT!ME373","v":""},{"$f":"INPUT!MF373","v":""},{"$f":"INPUT!MG373","v":""},{"$f":"INPUT!MH373","v":""},{"$f":"INPUT!MI373","v":""}]
[null,{"$f":"INPUT!EA374","v":""},{"$f":"INPUT!EB374","v":""},{"$f":"INPUT!EC374","v":""},{"$f":"INPUT!ED374","v":""},{"$f":"INPUT!EE374","v":""},{"$f":"INPUT!EF374","v":""},{"$f":"INPUT!EG374","v":""},"",null,{"$f":"INPUT!EY374","v":""},{"$f":"INPUT!EZ374","v":""},{"$f":"INPUT!FA374","v":""},{"$f":"INPUT!FB374","v":""},{"$f":"INPUT!FC374","v":""},{"$f":"INPUT!FD374","v":""},{"$f":"INPUT!FE374","v":""},"",null,{"$f":"INPUT!FW374","v":""},{"$f":"INPUT!FX374","v":""},{"$f":"INPUT!FY374","v":""},{"$f":"INPUT!FZ374","v":""},{"$f":"INPUT!GA374","v":""},{"$f":"INPUT!GB374","v":""},{"$f":"INPUT!GC374","v":""},null,{"$f":"INPUT!GY374","v":""},{"$f":"INPUT!GZ374","v":""},{"$f":"INPUT!HA374","v":""},{"$f":"INPUT!HB374","v":""},{"$f":"INPUT!HC374","v":""},{"$f":"INPUT!HD374","v":""},{"$f":"INPUT!HE374","v":""},{"$f":"INPUT!HF374","v":""},{"$f":"INPUT!HG374","v":""},null,{"$f":"INPUT!IA374","v":""},{"$f":"INPUT!IB374","v":""},{"$f":"INPUT!IC374","v":""},{"$f":"INPUT!ID374","v":""},{"$f":"INPUT!IE374","v":""},{"$f":"INPUT!IF374","v":""},{"$f":"INPUT!IG374","v":""},{"$f":"INPUT!IH374","v":""},null,{"$f":"INPUT!IZ374","v":""},{"$f":"INPUT!JA374","v":""},{"$f":"INPUT!JB374","v":""},{"$f":"INPUT!JC374","v":""},{"$f":"INPUT!JD374","v":""},{"$f":"INPUT!JE374","v":""},{"$f":"INPUT!JF374","v":""},"",null,{"$f":"INPUT!JX374","v":""},{"$f":"INPUT!JY374","v":""},{"$f":"INPUT!JZ374","v":""},{"$f":"INPUT!KA374","v":""},{"$f":"INPUT!KB374","v":""},{"$f":"INPUT!KC374","v":""},{"$f":"INPUT!KD374","v":""},"",null,{"$f":"INPUT!KZ374","v":""},{"$f":"INPUT!LA374","v":""},{"$f":"INPUT!LB374","v":""},{"$f":"INPUT!LC374","v":""},{"$f":"INPUT!LD374","v":""},{"$f":"INPUT!LE374","v":""},{"$f":"INPUT!LF374","v":""},{"$f":"INPUT!LG374","v":""},{"$f":"INPUT!LH374","v":""},null,{"$f":"INPUT!MB374","v":""},{"$f":"INPUT!MC374","v":""},{"$f":"INPUT!MD374","v":""},{"$f":"INPUT!ME374","v":""},{"$f":"INPUT!MF374","v":""},{"$f":"INPUT!MG374","v":""},{"$f":"INPUT!MH374","v":""},{"$f":"INPUT!MI374","v":""}]
[null,{"$f":"INPUT!EA375","v":""},{"$f":"INPUT!EB375","v":""},{"$f":"INPUT!EC375","v":""},{"$f":"INPUT!ED375","v":""},{"$f":"INPUT!EE375","v":""},{"$f":"INPUT!EF375","v":""},{"$f":"INPUT!EG375","v":""},"",null,{"$f":"INPUT!EY375","v":""},{"$f":"INPUT!EZ375","v":""},{"$f":"INPUT!FA375","v":""},{"$f":"INPUT!FB375","v":""},{"$f":"INPUT!FC375","v":""},{"$f":"INPUT!FD375","v":""},{"$f":"INPUT!FE375","v":""},"",null,{"$f":"INPUT!FW375","v":""},{"$f":"INPUT!FX375","v":""},{"$f":"INPUT!FY375","v":""},{"$f":"INPUT!FZ375","v":""},{"$f":"INPUT!GA375","v":""},{"$f":"INPUT!GB375","v":""},{"$f":"INPUT!GC375","v":""},null,{"$f":"INPUT!GY375","v":""},{"$f":"INPUT!GZ375","v":""},{"$f":"INPUT!HA375","v":""},{"$f":"INPUT!HB375","v":""},{"$f":"INPUT!HC375","v":""},{"$f":"INPUT!HD375","v":""},{"$f":"INPUT!HE375","v":""},{"$f":"INPUT!HF375","v":""},{"$f":"INPUT!HG375","v":""},null,{"$f":"INPUT!IA375","v":""},{"$f":"INPUT!IB375","v":""},{"$f":"INPUT!IC375","v":""},{"$f":"INPUT!ID375","v":""},{"$f":"INPUT!IE375","v":""},{"$f":"INPUT!IF375","v":""},{"$f":"INPUT!IG375","v":""},{"$f":"INPUT!IH375","v":""},null,{"$f":"INPUT!IZ375","v":""},{"$f":"INPUT!JA375","v":""},{"$f":"INPUT!JB375","v":""},{"$f":"INPUT!JC375","v":""},{"$f":"INPUT!JD375","v":""},{"$f":"INPUT!JE375","v":""},{"$f":"INPUT!JF375","v":""},"",null,{"$f":"INPUT!JX375","v":""},{"$f":"INPUT!JY375","v":""},{"$f":"INPUT!JZ375","v":""},{"$f":"INPUT!KA375","v":""},{"$f":"INPUT!KB375","v":""},{"$f":"INPUT!KC375","v":""},{"$f":"INPUT!KD375","v":""},"",null,{"$f":"INPUT!KZ375","v":""},{"$f":"INPUT!LA375","v":""},{"$f":"INPUT!LB375","v":""},{"$f":"INPUT!LC375","v":""},{"$f":"INPUT!LD375","v":""},{"$f":"INPUT!LE375","v":""},{"$f":"INPUT!LF375","v":""},{"$f":"INPUT!LG375","v":""},{"$f":"INPUT!LH375","v":""},null,{"$f":"INPUT!MB375","v":""},{"$f":"INPUT!MC375","v":""},{"$f":"INPUT!MD375","v":""},{"$f":"INPUT!ME375","v":""},{"$f":"INPUT!MF375","v":""},{"$f":"INPUT!MG375","v":""},{"$f":"INPUT!MH375","v":""},{"$f":"INPUT!MI375","v":""}]
[null,{"$f":"INPUT!EA376","v":""},{"$f":"INPUT!EB376","v":""},{"$f":"INPUT!EC376","v":""},{"$f":"INPUT!ED376","v":""},{"$f":"INPUT!EE376","v":""},{"$f":"INPUT!EF376","v":""},{"$f":"INPUT!EG376","v":""},"",null,{"$f":"INPUT!EY376","v":""},{"$f":"INPUT!EZ376","v":""},{"$f":"INPUT!FA376","v":""},{"$f":"INPUT!FB376","v":""},{"$f":"INPUT!FC376","v":""},{"$f":"INPUT!FD376","v":""},{"$f":"INPUT!FE376","v":""},"",null,{"$f":"INPUT!FW376","v":""},{"$f":"INPUT!FX376","v":""},{"$f":"INPUT!FY376","v":""},{"$f":"INPUT!FZ376","v":""},{"$f":"INPUT!GA376","v":""},{"$f":"INPUT!GB376","v":""},{"$f":"INPUT!GC376","v":""},null,{"$f":"INPUT!GY376","v":""},{"$f":"INPUT!GZ376","v":""},{"$f":"INPUT!HA376","v":""},{"$f":"INPUT!HB376","v":""},{"$f":"INPUT!HC376","v":""},{"$f":"INPUT!HD376","v":""},{"$f":"INPUT!HE376","v":""},{"$f":"INPUT!HF376","v":""},{"$f":"INPUT!HG376","v":""},null,{"$f":"INPUT!IA376","v":""},{"$f":"INPUT!IB376","v":""},{"$f":"INPUT!IC376","v":""},{"$f":"INPUT!ID376","v":""},{"$f":"INPUT!IE376","v":""},{"$f":"INPUT!IF376","v":""},{"$f":"INPUT!IG376","v":""},{"$f":"INPUT!IH376","v":""},null,{"$f":"INPUT!IZ376","v":""},{"$f":"INPUT!JA376","v":""},{"$f":"INPUT!JB376","v":""},{"$f":"INPUT!JC376","v":""},{"$f":"INPUT!JD376","v":""},{"$f":"INPUT!JE376","v":""},{"$f":"INPUT!JF376","v":""},"",null,{"$f":"INPUT!JX376","v":""},{"$f":"INPUT!JY376","v":""},{"$f":"INPUT!JZ376","v":""},{"$f":"INPUT!KA376","v":""},{"$f":"INPUT!KB376","v":""},{"$f":"INPUT!KC376","v":""},{"$f":"INPUT!KD376","v":""},"",null,{"$f":"INPUT!KZ376","v":""},{"$f":"INPUT!LA376","v":""},{"$f":"INPUT!LB376","v":""},{"$f":"INPUT!LC376","v":""},{"$f":"INPUT!LD376","v":""},{"$f":"INPUT!LE376","v":""},{"$f":"INPUT!LF376","v":""},{"$f":"INPUT!LG376","v":""},{"$f":"INPUT!LH376","v":""},null,{"$f":"INPUT!MB376","v":""},{"$f":"INPUT!MC376","v":""},{"$f":"INPUT!MD376","v":""},{"$f":"INPUT!ME376","v":""},{"$f":"INPUT!MF376","v":""},{"$f":"INPUT!MG376","v":""},{"$f":"INPUT!MH376","v":""},{"$f":"INPUT!MI376","v":""}]
[null,{"$f":"INPUT!EA377","v":""},{"$f":"INPUT!EB377","v":""},{"$f":"INPUT!EC377","v":""},{"$f":"INPUT!ED377","v":""},{"$f":"INPUT!EE377","v":""},{"$f":"INPUT!EF377","v":""},{"$f":"INPUT!EG377","v":""},"",null,{"$f":"INPUT!EY377","v":""},{"$f":"INPUT!EZ377","v":""},{"$f":"INPUT!FA377","v":""},{"$f":"INPUT!FB377","v":""},{"$f":"INPUT!FC377","v":""},{"$f":"INPUT!FD377","v":""},{"$f":"INPUT!FE377","v":""},"",null,{"$f":"INPUT!FW377","v":""},{"$f":"INPUT!FX377","v":""},{"$f":"INPUT!FY377","v":""},{"$f":"INPUT!FZ377","v":""},{"$f":"INPUT!GA377","v":""},{"$f":"INPUT!GB377","v":""},{"$f":"INPUT!GC377","v":""},null,{"$f":"INPUT!GY377","v":""},{"$f":"INPUT!GZ377","v":""},{"$f":"INPUT!HA377","v":""},{"$f":"INPUT!HB377","v":""},{"$f":"INPUT!HC377","v":""},{"$f":"INPUT!HD377","v":""},{"$f":"INPUT!HE377","v":""},{"$f":"INPUT!HF377","v":""},{"$f":"INPUT!HG377","v":""},null,{"$f":"INPUT!IA377","v":""},{"$f":"INPUT!IB377","v":""},{"$f":"INPUT!IC377","v":""},{"$f":"INPUT!ID377","v":""},{"$f":"INPUT!IE377","v":""},{"$f":"INPUT!IF377","v":""},{"$f":"INPUT!IG377","v":""},{"$f":"INPUT!IH377","v":""},null,{"$f":"INPUT!IZ377","v":""},{"$f":"INPUT!JA377","v":""},{"$f":"INPUT!JB377","v":""},{"$f":"INPUT!JC377","v":""},{"$f":"INPUT!JD377","v":""},{"$f":"INPUT!JE377","v":""},{"$f":"INPUT!JF377","v":""},"",null,{"$f":"INPUT!JX377","v":""},{"$f":"INPUT!JY377","v":""},{"$f":"INPUT!JZ377","v":""},{"$f":"INPUT!KA377","v":""},{"$f":"INPUT!KB377","v":""},{"$f":"INPUT!KC377","v":""},{"$f":"INPUT!KD377","v":""},"",null,{"$f":"INPUT!KZ377","v":""},{"$f":"INPUT!LA377","v":""},{"$f":"INPUT!LB377","v":""},{"$f":"INPUT!LC377","v":""},{"$f":"INPUT!LD377","v":""},{"$f":"INPUT!LE377","v":""},{"$f":"INPUT!LF377","v":""},{"$f":"INPUT!LG377","v":""},{"$f":"INPUT!LH377","v":""},null,{"$f":"INPUT!MB377","v":""},{"$f":"INPUT!MC377","v":""},{"$f":"INPUT!MD377","v":""},{"$f":"INPUT!ME377","v":""},{"$f":"INPUT!MF377","v":""},{"$f":"INPUT!MG377","v":""},{"$f":"INPUT!MH377","v":""},{"$f":"INPUT!MI377","v":""}]
[null,{"$f":"INPUT!EA378","v":""},{"$f":"INPUT!EB378","v":""},{"$f":"INPUT!EC378","v":""},{"$f":"INPUT!ED378","v":""},{"$f":"INPUT!EE378","v":""},{"$f":"INPUT!EF378","v":""},{"$f":"INPUT!EG378","v":""},"",null,{"$f":"INPUT!EY378","v":""},{"$f":"INPUT!EZ378","v":""},{"$f":"INPUT!FA378","v":""},{"$f":"INPUT!FB378","v":""},{"$f":"INPUT!FC378","v":""},{"$f":"INPUT!FD378","v":""},{"$f":"INPUT!FE378","v":""},"",null,{"$f":"INPUT!FW378","v":""},{"$f":"INPUT!FX378","v":""},{"$f":"INPUT!FY378","v":""},{"$f":"INPUT!FZ378","v":""},{"$f":"INPUT!GA378","v":""},{"$f":"INPUT!GB378","v":""},{"$f":"INPUT!GC378","v":""},null,{"$f":"INPUT!GY378","v":""},{"$f":"INPUT!GZ378","v":""},{"$f":"INPUT!HA378","v":""},{"$f":"INPUT!HB378","v":""},{"$f":"INPUT!HC378","v":""},{"$f":"INPUT!HD378","v":""},{"$f":"INPUT!HE378","v":""},{"$f":"INPUT!HF378","v":""},{"$f":"INPUT!HG378","v":""},null,{"$f":"INPUT!IA378","v":""},{"$f":"INPUT!IB378","v":""},{"$f":"INPUT!IC378","v":""},{"$f":"INPUT!ID378","v":""},{"$f":"INPUT!IE378","v":""},{"$f":"INPUT!IF378","v":""},{"$f":"INPUT!IG378","v":""},{"$f":"INPUT!IH378","v":""},null,{"$f":"INPUT!IZ378","v":""},{"$f":"INPUT!JA378","v":""},{"$f":"INPUT!JB378","v":""},{"$f":"INPUT!JC378","v":""},{"$f":"INPUT!JD378","v":""},{"$f":"INPUT!JE378","v":""},{"$f":"INPUT!JF378","v":""},"",null,{"$f":"INPUT!JX378","v":""},{"$f":"INPUT!JY378","v":""},{"$f":"INPUT!JZ378","v":""},{"$f":"INPUT!KA378","v":""},{"$f":"INPUT!KB378","v":""},{"$f":"INPUT!KC378","v":""},{"$f":"INPUT!KD378","v":""},"",null,{"$f":"INPUT!KZ378","v":""},{"$f":"INPUT!LA378","v":""},{"$f":"INPUT!LB378","v":""},{"$f":"INPUT!LC378","v":""},{"$f":"INPUT!LD378","v":""},{"$f":"INPUT!LE378","v":""},{"$f":"INPUT!LF378","v":""},{"$f":"INPUT!LG378","v":""},{"$f":"INPUT!LH378","v":""},null,{"$f":"INPUT!MB378","v":""},{"$f":"INPUT!MC378","v":""},{"$f":"INPUT!MD378","v":""},{"$f":"INPUT!ME378","v":""},{"$f":"INPUT!MF378","v":""},{"$f":"INPUT!MG378","v":""},{"$f":"INPUT!MH378","v":""},{"$f":"INPUT!MI378","v":""}]
[null,{"$f":"INPUT!EA379","v":""},{"$f":"INPUT!EB379","v":""},{"$f":"INPUT!EC379","v":""},{"$f":"INPUT!ED379","v":""},{"$f":"INPUT!EE379","v":""},{"$f":"INPUT!EF379","v":""},{"$f":"INPUT!EG379","v":""},"",null,{"$f":"INPUT!EY379","v":""},{"$f":"INPUT!EZ379","v":""},{"$f":"INPUT!FA379","v":""},{"$f":"INPUT!FB379","v":""},{"$f":"INPUT!FC379","v":""},{"$f":"INPUT!FD379","v":""},{"$f":"INPUT!FE379","v":""},"",null,{"$f":"INPUT!FW379","v":""},{"$f":"INPUT!FX379","v":""},{"$f":"INPUT!FY379","v":""},{"$f":"INPUT!FZ379","v":""},{"$f":"INPUT!GA379","v":""},{"$f":"INPUT!GB379","v":""},{"$f":"INPUT!GC379","v":""},null,{"$f":"INPUT!GY379","v":""},{"$f":"INPUT!GZ379","v":""},{"$f":"INPUT!HA379","v":""},{"$f":"INPUT!HB379","v":""},{"$f":"INPUT!HC379","v":""},{"$f":"INPUT!HD379","v":""},{"$f":"INPUT!HE379","v":""},{"$f":"INPUT!HF379","v":""},{"$f":"INPUT!HG379","v":""},null,{"$f":"INPUT!IA379","v":""},{"$f":"INPUT!IB379","v":""},{"$f":"INPUT!IC379","v":""},{"$f":"INPUT!ID379","v":""},{"$f":"INPUT!IE379","v":""},{"$f":"INPUT!IF379","v":""},{"$f":"INPUT!IG379","v":""},{"$f":"INPUT!IH379","v":""},null,{"$f":"INPUT!IZ379","v":""},{"$f":"INPUT!JA379","v":""},{"$f":"INPUT!JB379","v":""},{"$f":"INPUT!JC379","v":""},{"$f":"INPUT!JD379","v":""},{"$f":"INPUT!JE379","v":""},{"$f":"INPUT!JF379","v":""},"",null,{"$f":"INPUT!JX379","v":""},{"$f":"INPUT!JY379","v":""},{"$f":"INPUT!JZ379","v":""},{"$f":"INPUT!KA379","v":""},{"$f":"INPUT!KB379","v":""},{"$f":"INPUT!KC379","v":""},{"$f":"INPUT!KD379","v":""},"",null,{"$f":"INPUT!KZ379","v":""},{"$f":"INPUT!LA379","v":""},{"$f":"INPUT!LB379","v":""},{"$f":"INPUT!LC379","v":""},{"$f":"INPUT!LD379","v":""},{"$f":"INPUT!LE379","v":""},{"$f":"INPUT!LF379","v":""},{"$f":"INPUT!LG379","v":""},{"$f":"INPUT!LH379","v":""},null,{"$f":"INPUT!MB379","v":""},{"$f":"INPUT!MC379","v":""},{"$f":"INPUT!MD379","v":""},{"$f":"INPUT!ME379","v":""},{"$f":"INPUT!MF379","v":""},{"$f":"INPUT!MG379","v":""},{"$f":"INPUT!MH379","v":""},{"$f":"INPUT!MI379","v":""}]
[null,{"$f":"INPUT!EA380","v":""},{"$f":"INPUT!EB380","v":""},{"$f":"INPUT!EC380","v":""},{"$f":"INPUT!ED380","v":""},{"$f":"INPUT!EE380","v":""},{"$f":"INPUT!EF380","v":""},{"$f":"INPUT!EG380","v":""},"",null,{"$f":"INPUT!EY380","v":""},{"$f":"INPUT!EZ380","v":""},{"$f":"INPUT!FA380","v":""},{"$f":"INPUT!FB380","v":""},{"$f":"INPUT!FC380","v":""},{"$f":"INPUT!FD380","v":""},{"$f":"INPUT!FE380","v":""},"",null,{"$f":"INPUT!FW380","v":""},{"$f":"INPUT!FX380","v":""},{"$f":"INPUT!FY380","v":""},{"$f":"INPUT!FZ380","v":""},{"$f":"INPUT!GA380","v":""},{"$f":"INPUT!GB380","v":""},{"$f":"INPUT!GC380","v":""},null,{"$f":"INPUT!GY380","v":""},{"$f":"INPUT!GZ380","v":""},{"$f":"INPUT!HA380","v":""},{"$f":"INPUT!HB380","v":""},{"$f":"INPUT!HC380","v":""},{"$f":"INPUT!HD380","v":""},{"$f":"INPUT!HE380","v":""},{"$f":"INPUT!HF380","v":""},{"$f":"INPUT!HG380","v":""},null,{"$f":"INPUT!IA380","v":""},{"$f":"INPUT!IB380","v":""},{"$f":"INPUT!IC380","v":""},{"$f":"INPUT!ID380","v":""},{"$f":"INPUT!IE380","v":""},{"$f":"INPUT!IF380","v":""},{"$f":"INPUT!IG380","v":""},{"$f":"INPUT!IH380","v":""},null,{"$f":"INPUT!IZ380","v":""},{"$f":"INPUT!JA380","v":""},{"$f":"INPUT!JB380","v":""},{"$f":"INPUT!JC380","v":""},{"$f":"INPUT!JD380","v":""},{"$f":"INPUT!JE380","v":""},{"$f":"INPUT!JF380","v":""},"",null,{"$f":"INPUT!JX380","v":""},{"$f":"INPUT!JY380","v":""},{"$f":"INPUT!JZ380","v":""},{"$f":"INPUT!KA380","v":""},{"$f":"INPUT!KB380","v":""},{"$f":"INPUT!KC380","v":""},{"$f":"INPUT!KD380","v":""},"",null,{"$f":"INPUT!KZ380","v":""},{"$f":"INPUT!LA380","v":""},{"$f":"INPUT!LB380","v":""},{"$f":"INPUT!LC380","v":""},{"$f":"INPUT!LD380","v":""},{"$f":"INPUT!LE380","v":""},{"$f":"INPUT!LF380","v":""},{"$f":"INPUT!LG380","v":""},{"$f":"INPUT!LH380","v":""},null,{"$f":"INPUT!MB380","v":""},{"$f":"INPUT!MC380","v":""},{"$f":"INPUT!MD380","v":""},{"$f":"INPUT!ME380","v":""},{"$f":"INPUT!MF380","v":""},{"$f":"INPUT!MG380","v":""},{"$f":"INPUT!MH380","v":""},{"$f":"INPUT!MI380","v":""}]
[null,{"$f":"INPUT!EA381","v":""},{"$f":"INPUT!EB381","v":""},{"$f":"INPUT!EC381","v":""},{"$f":"INPUT!ED381","v":""},{"$f":"INPUT!EE381","v":""},{"$f":"INPUT!EF381","v":""},{"$f":"INPUT!EG381","v":""},"",null,{"$f":"INPUT!EY381","v":""},{"$f":"INPUT!EZ381","v":""},{"$f":"INPUT!FA381","v":""},{"$f":"INPUT!FB381","v":""},{"$f":"INPUT!FC381","v":""},{"$f":"INPUT!FD381","v":""},{"$f":"INPUT!FE381","v":""},"",null,{"$f":"INPUT!FW381","v":""},{"$f":"INPUT!FX381","v":""},{"$f":"INPUT!FY381","v":""},{"$f":"INPUT!FZ381","v":""},{"$f":"INPUT!GA381","v":""},{"$f":"INPUT!GB381","v":""},{"$f":"INPUT!GC381","v":""},null,{"$f":"INPUT!GY381","v":""},{"$f":"INPUT!GZ381","v":""},{"$f":"INPUT!HA381","v":""},{"$f":"INPUT!HB381","v":""},{"$f":"INPUT!HC381","v":""},{"$f":"INPUT!HD381","v":""},{"$f":"INPUT!HE381","v":""},{"$f":"INPUT!HF381","v":""},{"$f":"INPUT!HG381","v":""},null,{"$f":"INPUT!IA381","v":""},{"$f":"INPUT!IB381","v":""},{"$f":"INPUT!IC381","v":""},{"$f":"INPUT!ID381","v":""},{"$f":"INPUT!IE381","v":""},{"$f":"INPUT!IF381","v":""},{"$f":"INPUT!IG381","v":""},{"$f":"INPUT!IH381","v":""},null,{"$f":"INPUT!IZ381","v":""},{"$f":"INPUT!JA381","v":""},{"$f":"INPUT!JB381","v":""},{"$f":"INPUT!JC381","v":""},{"$f":"INPUT!JD381","v":""},{"$f":"INPUT!JE381","v":""},{"$f":"INPUT!JF381","v":""},"",null,{"$f":"INPUT!JX381","v":""},{"$f":"INPUT!JY381","v":""},{"$f":"INPUT!JZ381","v":""},{"$f":"INPUT!KA381","v":""},{"$f":"INPUT!KB381","v":""},{"$f":"INPUT!KC381","v":""},{"$f":"INPUT!KD381","v":""},"",null,{"$f":"INPUT!KZ381","v":""},{"$f":"INPUT!LA381","v":""},{"$f":"INPUT!LB381","v":""},{"$f":"INPUT!LC381","v":""},{"$f":"INPUT!LD381","v":""},{"$f":"INPUT!LE381","v":""},{"$f":"INPUT!LF381","v":""},{"$f":"INPUT!LG381","v":""},{"$f":"INPUT!LH381","v":""},null,{"$f":"INPUT!MB381","v":""},{"$f":"INPUT!MC381","v":""},{"$f":"INPUT!MD381","v":""},{"$f":"INPUT!ME381","v":""},{"$f":"INPUT!MF381","v":""},{"$f":"INPUT!MG381","v":""},{"$f":"INPUT!MH381","v":""},{"$f":"INPUT!MI381","v":""}]
[null,{"$f":"INPUT!EA382","v":""},{"$f":"INPUT!EB382","v":""},{"$f":"INPUT!EC382","v":""},{"$f":"INPUT!ED382","v":""},{"$f":"INPUT!EE382","v":""},{"$f":"INPUT!EF382","v":""},{"$f":"INPUT!EG382","v":""},"",null,{"$f":"INPUT!EY382","v":""},{"$f":"INPUT!EZ382","v":""},{"$f":"INPUT!FA382","v":""},{"$f":"INPUT!FB382","v":""},{"$f":"INPUT!FC382","v":""},{"$f":"INPUT!FD382","v":""},{"$f":"INPUT!FE382","v":""},"",null,{"$f":"INPUT!FW382","v":""},{"$f":"INPUT!FX382","v":""},{"$f":"INPUT!FY382","v":""},{"$f":"INPUT!FZ382","v":""},{"$f":"INPUT!GA382","v":""},{"$f":"INPUT!GB382","v":""},{"$f":"INPUT!GC382","v":""},null,{"$f":"INPUT!GY382","v":""},{"$f":"INPUT!GZ382","v":""},{"$f":"INPUT!HA382","v":""},{"$f":"INPUT!HB382","v":""},{"$f":"INPUT!HC382","v":""},{"$f":"INPUT!HD382","v":""},{"$f":"INPUT!HE382","v":""},{"$f":"INPUT!HF382","v":""},{"$f":"INPUT!HG382","v":""},null,{"$f":"INPUT!IA382","v":""},{"$f":"INPUT!IB382","v":""},{"$f":"INPUT!IC382","v":""},{"$f":"INPUT!ID382","v":""},{"$f":"INPUT!IE382","v":""},{"$f":"INPUT!IF382","v":""},{"$f":"INPUT!IG382","v":""},{"$f":"INPUT!IH382","v":""},null,{"$f":"INPUT!IZ382","v":""},{"$f":"INPUT!JA382","v":""},{"$f":"INPUT!JB382","v":""},{"$f":"INPUT!JC382","v":""},{"$f":"INPUT!JD382","v":""},{"$f":"INPUT!JE382","v":""},{"$f":"INPUT!JF382","v":""},"",null,{"$f":"INPUT!JX382","v":""},{"$f":"INPUT!JY382","v":""},{"$f":"INPUT!JZ382","v":""},{"$f":"INPUT!KA382","v":""},{"$f":"INPUT!KB382","v":""},{"$f":"INPUT!KC382","v":""},{"$f":"INPUT!KD382","v":""},"",null,{"$f":"INPUT!KZ382","v":""},{"$f":"INPUT!LA382","v":""},{"$f":"INPUT!LB382","v":""},{"$f":"INPUT!LC382","v":""},{"$f":"INPUT!LD382","v":""},{"$f":"INPUT!LE382","v":""},{"$f":"INPUT!LF382","v":""},{"$f":"INPUT!LG382","v":""},{"$f":"INPUT!LH382","v":""},null,{"$f":"INPUT!MB382","v":""},{"$f":"INPUT!MC382","v":""},{"$f":"INPUT!MD382","v":""},{"$f":"INPUT!ME382","v":""},{"$f":"INPUT!MF382","v":""},{"$f":"INPUT!MG382","v":""},{"$f":"INPUT!MH382","v":""},{"$f":"INPUT!MI382","v":""}]
[null,{"$f":"INPUT!EA383","v":""},{"$f":"INPUT!EB383","v":""},{"$f":"INPUT!EC383","v":""},{"$f":"INPUT!ED383","v":""},{"$f":"INPUT!EE383","v":""},{"$f":"INPUT!EF383","v":""},{"$f":"INPUT!EG383","v":""},"",null,{"$f":"INPUT!EY383","v":""},{"$f":"INPUT!EZ383","v":""},{"$f":"INPUT!FA383","v":""},{"$f":"INPUT!FB383","v":""},{"$f":"INPUT!FC383","v":""},{"$f":"INPUT!FD383","v":""},{"$f":"INPUT!FE383","v":""},"",null,{"$f":"INPUT!FW383","v":""},{"$f":"INPUT!FX383","v":""},{"$f":"INPUT!FY383","v":""},{"$f":"INPUT!FZ383","v":""},{"$f":"INPUT!GA383","v":""},{"$f":"INPUT!GB383","v":""},{"$f":"INPUT!GC383","v":""},null,{"$f":"INPUT!GY383","v":""},{"$f":"INPUT!GZ383","v":""},{"$f":"INPUT!HA383","v":""},{"$f":"INPUT!HB383","v":""},{"$f":"INPUT!HC383","v":""},{"$f":"INPUT!HD383","v":""},{"$f":"INPUT!HE383","v":""},{"$f":"INPUT!HF383","v":""},{"$f":"INPUT!HG383","v":""},null,{"$f":"INPUT!IA383","v":""},{"$f":"INPUT!IB383","v":""},{"$f":"INPUT!IC383","v":""},{"$f":"INPUT!ID383","v":""},{"$f":"INPUT!IE383","v":""},{"$f":"INPUT!IF383","v":""},{"$f":"INPUT!IG383","v":""},{"$f":"INPUT!IH383","v":""},null,{"$f":"INPUT!IZ383","v":""},{"$f":"INPUT!JA383","v":""},{"$f":"INPUT!JB383","v":""},{"$f":"INPUT!JC383","v":""},{"$f":"INPUT!JD383","v":""},{"$f":"INPUT!JE383","v":""},{"$f":"INPUT!JF383","v":""},"",null,{"$f":"INPUT!JX383","v":""},{"$f":"INPUT!JY383","v":""},{"$f":"INPUT!JZ383","v":""},{"$f":"INPUT!KA383","v":""},{"$f":"INPUT!KB383","v":""},{"$f":"INPUT!KC383","v":""},{"$f":"INPUT!KD383","v":""},"",null,{"$f":"INPUT!KZ383","v":""},{"$f":"INPUT!LA383","v":""},{"$f":"INPUT!LB383","v":""},{"$f":"INPUT!LC383","v":""},{"$f":"INPUT!LD383","v":""},{"$f":"INPUT!LE383","v":""},{"$f":"INPUT!LF383","v":""},{"$f":"INPUT!LG383","v":""},{"$f":"INPUT!LH383","v":""},null,{"$f":"INPUT!MB383","v":""},{"$f":"INPUT!MC383","v":""},{"$f":"INPUT!MD383","v":""},{"$f":"INPUT!ME383","v":""},{"$f":"INPUT!MF383","v":""},{"$f":"INPUT!MG383","v":""},{"$f":"INPUT!MH383","v":""},{"$f":"INPUT!MI383","v":""}]
[null,{"$f":"INPUT!EA384","v":""},{"$f":"INPUT!EB384","v":""},{"$f":"INPUT!EC384","v":""},{"$f":"INPUT!ED384","v":""},{"$f":"INPUT!EE384","v":""},{"$f":"INPUT!EF384","v":""},{"$f":"INPUT!EG384","v":""},"",null,{"$f":"INPUT!EY384","v":""},{"$f":"INPUT!EZ384","v":""},{"$f":"INPUT!FA384","v":""},{"$f":"INPUT!FB384","v":""},{"$f":"INPUT!FC384","v":""},{"$f":"INPUT!FD384","v":""},{"$f":"INPUT!FE384","v":""},"",null,{"$f":"INPUT!FW384","v":""},{"$f":"INPUT!FX384","v":""},{"$f":"INPUT!FY384","v":""},{"$f":"INPUT!FZ384","v":""},{"$f":"INPUT!GA384","v":""},{"$f":"INPUT!GB384","v":""},{"$f":"INPUT!GC384","v":""},null,{"$f":"INPUT!GY384","v":""},{"$f":"INPUT!GZ384","v":""},{"$f":"INPUT!HA384","v":""},{"$f":"INPUT!HB384","v":""},{"$f":"INPUT!HC384","v":""},{"$f":"INPUT!HD384","v":""},{"$f":"INPUT!HE384","v":""},{"$f":"INPUT!HF384","v":""},{"$f":"INPUT!HG384","v":""},null,{"$f":"INPUT!IA384","v":""},{"$f":"INPUT!IB384","v":""},{"$f":"INPUT!IC384","v":""},{"$f":"INPUT!ID384","v":""},{"$f":"INPUT!IE384","v":""},{"$f":"INPUT!IF384","v":""},{"$f":"INPUT!IG384","v":""},{"$f":"INPUT!IH384","v":""},null,{"$f":"INPUT!IZ384","v":""},{"$f":"INPUT!JA384","v":""},{"$f":"INPUT!JB384","v":""},{"$f":"INPUT!JC384","v":""},{"$f":"INPUT!JD384","v":""},{"$f":"INPUT!JE384","v":""},{"$f":"INPUT!JF384","v":""},"",null,{"$f":"INPUT!JX384","v":""},{"$f":"INPUT!JY384","v":""},{"$f":"INPUT!JZ384","v":""},{"$f":"INPUT!KA384","v":""},{"$f":"INPUT!KB384","v":""},{"$f":"INPUT!KC384","v":""},{"$f":"INPUT!KD384","v":""},"",null,{"$f":"INPUT!KZ384","v":""},{"$f":"INPUT!LA384","v":""},{"$f":"INPUT!LB384","v":""},{"$f":"INPUT!LC384","v":""},{"$f":"INPUT!LD384","v":""},{"$f":"INPUT!LE384","v":""},{"$f":"INPUT!LF384","v":""},{"$f":"INPUT!LG384","v":""},{"$f":"INPUT!LH384","v":""},null,{"$f":"INPUT!MB384","v":""},{"$f":"INPUT!MC384","v":""},{"$f":"INPUT!MD384","v":""},{"$f":"INPUT!ME384","v":""},{"$f":"INPUT!MF384","v":""},{"$f":"INPUT!MG384","v":""},{"$f":"INPUT!MH384","v":""},{"$f":"INPUT!MI384","v":""}]
[null,{"$f":"INPUT!EA385","v":""},{"$f":"INPUT!EB385","v":""},{"$f":"INPUT!EC385","v":""},{"$f":"INPUT!ED385","v":""},{"$f":"INPUT!EE385","v":""},{"$f":"INPUT!EF385","v":""},{"$f":"INPUT!EG385","v":""},"",null,{"$f":"INPUT!EY385","v":""},{"$f":"INPUT!EZ385","v":""},{"$f":"INPUT!FA385","v":""},{"$f":"INPUT!FB385","v":""},{"$f":"INPUT!FC385","v":""},{"$f":"INPUT!FD385","v":""},{"$f":"INPUT!FE385","v":""},"",null,{"$f":"INPUT!FW385","v":""},{"$f":"INPUT!FX385","v":""},{"$f":"INPUT!FY385","v":""},{"$f":"INPUT!FZ385","v":""},{"$f":"INPUT!GA385","v":""},{"$f":"INPUT!GB385","v":""},{"$f":"INPUT!GC385","v":""},null,{"$f":"INPUT!GY385","v":""},{"$f":"INPUT!GZ385","v":""},{"$f":"INPUT!HA385","v":""},{"$f":"INPUT!HB385","v":""},{"$f":"INPUT!HC385","v":""},{"$f":"INPUT!HD385","v":""},{"$f":"INPUT!HE385","v":""},{"$f":"INPUT!HF385","v":""},{"$f":"INPUT!HG385","v":""},null,{"$f":"INPUT!IA385","v":""},{"$f":"INPUT!IB385","v":""},{"$f":"INPUT!IC385","v":""},{"$f":"INPUT!ID385","v":""},{"$f":"INPUT!IE385","v":""},{"$f":"INPUT!IF385","v":""},{"$f":"INPUT!IG385","v":""},{"$f":"INPUT!IH385","v":""},null,{"$f":"INPUT!IZ385","v":""},{"$f":"INPUT!JA385","v":""},{"$f":"INPUT!JB385","v":""},{"$f":"INPUT!JC385","v":""},{"$f":"INPUT!JD385","v":""},{"$f":"INPUT!JE385","v":""},{"$f":"INPUT!JF385","v":""},"",null,{"$f":"INPUT!JX385","v":""},{"$f":"INPUT!JY385","v":""},{"$f":"INPUT!JZ385","v":""},{"$f":"INPUT!KA385","v":""},{"$f":"INPUT!KB385","v":""},{"$f":"INPUT!KC385","v":""},{"$f":"INPUT!KD385","v":""},"",null,{"$f":"INPUT!KZ385","v":""},{"$f":"INPUT!LA385","v":""},{"$f":"INPUT!LB385","v":""},{"$f":"INPUT!LC385","v":""},{"$f":"INPUT!LD385","v":""},{"$f":"INPUT!LE385","v":""},{"$f":"INPUT!LF385","v":""},{"$f":"INPUT!LG385","v":""},{"$f":"INPUT!LH385","v":""},null,{"$f":"INPUT!MB385","v":""},{"$f":"INPUT!MC385","v":""},{"$f":"INPUT!MD385","v":""},{"$f":"INPUT!ME385","v":""},{"$f":"INPUT!MF385","v":""},{"$f":"INPUT!MG385","v":""},{"$f":"INPUT!MH385","v":""},{"$f":"INPUT!MI385","v":""}]
[null,{"$f":"INPUT!EA386","v":""},{"$f":"INPUT!EB386","v":""},{"$f":"INPUT!EC386","v":""},{"$f":"INPUT!ED386","v":""},{"$f":"INPUT!EE386","v":""},{"$f":"INPUT!EF386","v":""},{"$f":"INPUT!EG386","v":""},"",null,{"$f":"INPUT!EY386","v":""},{"$f":"INPUT!EZ386","v":""},{"$f":"INPUT!FA386","v":""},{"$f":"INPUT!FB386","v":""},{"$f":"INPUT!FC386","v":""},{"$f":"INPUT!FD386","v":""},{"$f":"INPUT!FE386","v":""},"",null,{"$f":"INPUT!FW386","v":""},{"$f":"INPUT!FX386","v":""},{"$f":"INPUT!FY386","v":""},{"$f":"INPUT!FZ386","v":""},{"$f":"INPUT!GA386","v":""},{"$f":"INPUT!GB386","v":""},{"$f":"INPUT!GC386","v":""},null,{"$f":"INPUT!GY386","v":""},{"$f":"INPUT!GZ386","v":""},{"$f":"INPUT!HA386","v":""},{"$f":"INPUT!HB386","v":""},{"$f":"INPUT!HC386","v":""},{"$f":"INPUT!HD386","v":""},{"$f":"INPUT!HE386","v":""},{"$f":"INPUT!HF386","v":""},{"$f":"INPUT!HG386","v":""},null,{"$f":"INPUT!IA386","v":""},{"$f":"INPUT!IB386","v":""},{"$f":"INPUT!IC386","v":""},{"$f":"INPUT!ID386","v":""},{"$f":"INPUT!IE386","v":""},{"$f":"INPUT!IF386","v":""},{"$f":"INPUT!IG386","v":""},{"$f":"INPUT!IH386","v":""},null,{"$f":"INPUT!IZ386","v":""},{"$f":"INPUT!JA386","v":""},{"$f":"INPUT!JB386","v":""},{"$f":"INPUT!JC386","v":""},{"$f":"INPUT!JD386","v":""},{"$f":"INPUT!JE386","v":""},{"$f":"INPUT!JF386","v":""},"",null,{"$f":"INPUT!JX386","v":""},{"$f":"INPUT!JY386","v":""},{"$f":"INPUT!JZ386","v":""},{"$f":"INPUT!KA386","v":""},{"$f":"INPUT!KB386","v":""},{"$f":"INPUT!KC386","v":""},{"$f":"INPUT!KD386","v":""},"",null,{"$f":"INPUT!KZ386","v":""},{"$f":"INPUT!LA386","v":""},{"$f":"INPUT!LB386","v":""},{"$f":"INPUT!LC386","v":""},{"$f":"INPUT!LD386","v":""},{"$f":"INPUT!LE386","v":""},{"$f":"INPUT!LF386","v":""},{"$f":"INPUT!LG386","v":""},{"$f":"INPUT!LH386","v":""},null,{"$f":"INPUT!MB386","v":""},{"$f":"INPUT!MC386","v":""},{"$f":"INPUT!MD386","v":""},{"$f":"INPUT!ME386","v":""},{"$f":"INPUT!MF386","v":""},{"$f":"INPUT!MG386","v":""},{"$f":"INPUT!MH386","v":""},{"$f":"INPUT!MI386","v":""}]
[null,{"$f":"INPUT!EA387","v":""},{"$f":"INPUT!EB387","v":""},{"$f":"INPUT!EC387","v":""},{"$f":"INPUT!ED387","v":""},{"$f":"INPUT!EE387","v":""},{"$f":"INPUT!EF387","v":""},{"$f":"INPUT!EG387","v":""},"",null,{"$f":"INPUT!EY387","v":""},{"$f":"INPUT!EZ387","v":""},{"$f":"INPUT!FA387","v":""},{"$f":"INPUT!FB387","v":""},{"$f":"INPUT!FC387","v":""},{"$f":"INPUT!FD387","v":""},{"$f":"INPUT!FE387","v":""},"",null,{"$f":"INPUT!FW387","v":""},{"$f":"INPUT!FX387","v":""},{"$f":"INPUT!FY387","v":""},{"$f":"INPUT!FZ387","v":""},{"$f":"INPUT!GA387","v":""},{"$f":"INPUT!GB387","v":""},{"$f":"INPUT!GC387","v":""},null,{"$f":"INPUT!GY387","v":""},{"$f":"INPUT!GZ387","v":""},{"$f":"INPUT!HA387","v":""},{"$f":"INPUT!HB387","v":""},{"$f":"INPUT!HC387","v":""},{"$f":"INPUT!HD387","v":""},{"$f":"INPUT!HE387","v":""},{"$f":"INPUT!HF387","v":""},{"$f":"INPUT!HG387","v":""},null,{"$f":"INPUT!IA387","v":""},{"$f":"INPUT!IB387","v":""},{"$f":"INPUT!IC387","v":""},{"$f":"INPUT!ID387","v":""},{"$f":"INPUT!IE387","v":""},{"$f":"INPUT!IF387","v":""},{"$f":"INPUT!IG387","v":""},{"$f":"INPUT!IH387","v":""},null,{"$f":"INPUT!IZ387","v":""},{"$f":"INPUT!JA387","v":""},{"$f":"INPUT!JB387","v":""},{"$f":"INPUT!JC387","v":""},{"$f":"INPUT!JD387","v":""},{"$f":"INPUT!JE387","v":""},{"$f":"INPUT!JF387","v":""},"",null,{"$f":"INPUT!JX387","v":""},{"$f":"INPUT!JY387","v":""},{"$f":"INPUT!JZ387","v":""},{"$f":"INPUT!KA387","v":""},{"$f":"INPUT!KB387","v":""},{"$f":"INPUT!KC387","v":""},{"$f":"INPUT!KD387","v":""},"",null,{"$f":"INPUT!KZ387","v":""},{"$f":"INPUT!LA387","v":""},{"$f":"INPUT!LB387","v":""},{"$f":"INPUT!LC387","v":""},{"$f":"INPUT!LD387","v":""},{"$f":"INPUT!LE387","v":""},{"$f":"INPUT!LF387","v":""},{"$f":"INPUT!LG387","v":""},{"$f":"INPUT!LH387","v":""},null,{"$f":"INPUT!MB387","v":""},{"$f":"INPUT!MC387","v":""},{"$f":"INPUT!MD387","v":""},{"$f":"INPUT!ME387","v":""},{"$f":"INPUT!MF387","v":""},{"$f":"INPUT!MG387","v":""},{"$f":"INPUT!MH387","v":""},{"$f":"INPUT!MI387","v":""}]
[null,{"$f":"INPUT!EA388","v":""},{"$f":"INPUT!EB388","v":""},{"$f":"INPUT!EC388","v":""},{"$f":"INPUT!ED388","v":""},{"$f":"INPUT!EE388","v":""},{"$f":"INPUT!EF388","v":""},{"$f":"INPUT!EG388","v":""},"",null,{"$f":"INPUT!EY388","v":""},{"$f":"INPUT!EZ388","v":""},{"$f":"INPUT!FA388","v":""},{"$f":"INPUT!FB388","v":""},{"$f":"INPUT!FC388","v":""},{"$f":"INPUT!FD388","v":""},{"$f":"INPUT!FE388","v":""},"",null,{"$f":"INPUT!FW388","v":""},{"$f":"INPUT!FX388","v":""},{"$f":"INPUT!FY388","v":""},{"$f":"INPUT!FZ388","v":""},{"$f":"INPUT!GA388","v":""},{"$f":"INPUT!GB388","v":""},{"$f":"INPUT!GC388","v":""},null,{"$f":"INPUT!GY388","v":""},{"$f":"INPUT!GZ388","v":""},{"$f":"INPUT!HA388","v":""},{"$f":"INPUT!HB388","v":""},{"$f":"INPUT!HC388","v":""},{"$f":"INPUT!HD388","v":""},{"$f":"INPUT!HE388","v":""},{"$f":"INPUT!HF388","v":""},{"$f":"INPUT!HG388","v":""},null,{"$f":"INPUT!IA388","v":""},{"$f":"INPUT!IB388","v":""},{"$f":"INPUT!IC388","v":""},{"$f":"INPUT!ID388","v":""},{"$f":"INPUT!IE388","v":""},{"$f":"INPUT!IF388","v":""},{"$f":"INPUT!IG388","v":""},{"$f":"INPUT!IH388","v":""},null,{"$f":"INPUT!IZ388","v":""},{"$f":"INPUT!JA388","v":""},{"$f":"INPUT!JB388","v":""},{"$f":"INPUT!JC388","v":""},{"$f":"INPUT!JD388","v":""},{"$f":"INPUT!JE388","v":""},{"$f":"INPUT!JF388","v":""},"",null,{"$f":"INPUT!JX388","v":""},{"$f":"INPUT!JY388","v":""},{"$f":"INPUT!JZ388","v":""},{"$f":"INPUT!KA388","v":""},{"$f":"INPUT!KB388","v":""},{"$f":"INPUT!KC388","v":""},{"$f":"INPUT!KD388","v":""},"",null,{"$f":"INPUT!KZ388","v":""},{"$f":"INPUT!LA388","v":""},{"$f":"INPUT!LB388","v":""},{"$f":"INPUT!LC388","v":""},{"$f":"INPUT!LD388","v":""},{"$f":"INPUT!LE388","v":""},{"$f":"INPUT!LF388","v":""},{"$f":"INPUT!LG388","v":""},{"$f":"INPUT!LH388","v":""},null,{"$f":"INPUT!MB388","v":""},{"$f":"INPUT!MC388","v":""},{"$f":"INPUT!MD388","v":""},{"$f":"INPUT!ME388","v":""},{"$f":"INPUT!MF388","v":""},{"$f":"INPUT!MG388","v":""},{"$f":"INPUT!MH388","v":""},{"$f":"INPUT!MI388","v":""}]
[null,{"$f":"INPUT!EA389","v":""},{"$f":"INPUT!EB389","v":""},{"$f":"INPUT!EC389","v":""},{"$f":"INPUT!ED389","v":""},{"$f":"INPUT!EE389","v":""},{"$f":"INPUT!EF389","v":""},{"$f":"INPUT!EG389","v":""},"",null,{"$f":"INPUT!EY389","v":""},{"$f":"INPUT!EZ389","v":""},{"$f":"INPUT!FA389","v":""},{"$f":"INPUT!FB389","v":""},{"$f":"INPUT!FC389","v":""},{"$f":"INPUT!FD389","v":""},{"$f":"INPUT!FE389","v":""},"",null,{"$f":"INPUT!FW389","v":""},{"$f":"INPUT!FX389","v":""},{"$f":"INPUT!FY389","v":""},{"$f":"INPUT!FZ389","v":""},{"$f":"INPUT!GA389","v":""},{"$f":"INPUT!GB389","v":""},{"$f":"INPUT!GC389","v":""},null,{"$f":"INPUT!GY389","v":""},{"$f":"INPUT!GZ389","v":""},{"$f":"INPUT!HA389","v":""},{"$f":"INPUT!HB389","v":""},{"$f":"INPUT!HC389","v":""},{"$f":"INPUT!HD389","v":""},{"$f":"INPUT!HE389","v":""},{"$f":"INPUT!HF389","v":""},{"$f":"INPUT!HG389","v":""},null,{"$f":"INPUT!IA389","v":""},{"$f":"INPUT!IB389","v":""},{"$f":"INPUT!IC389","v":""},{"$f":"INPUT!ID389","v":""},{"$f":"INPUT!IE389","v":""},{"$f":"INPUT!IF389","v":""},{"$f":"INPUT!IG389","v":""},{"$f":"INPUT!IH389","v":""},null,{"$f":"INPUT!IZ389","v":""},{"$f":"INPUT!JA389","v":""},{"$f":"INPUT!JB389","v":""},{"$f":"INPUT!JC389","v":""},{"$f":"INPUT!JD389","v":""},{"$f":"INPUT!JE389","v":""},{"$f":"INPUT!JF389","v":""},"",null,{"$f":"INPUT!JX389","v":""},{"$f":"INPUT!JY389","v":""},{"$f":"INPUT!JZ389","v":""},{"$f":"INPUT!KA389","v":""},{"$f":"INPUT!KB389","v":""},{"$f":"INPUT!KC389","v":""},{"$f":"INPUT!KD389","v":""},"",null,{"$f":"INPUT!KZ389","v":""},{"$f":"INPUT!LA389","v":""},{"$f":"INPUT!LB389","v":""},{"$f":"INPUT!LC389","v":""},{"$f":"INPUT!LD389","v":""},{"$f":"INPUT!LE389","v":""},{"$f":"INPUT!LF389","v":""},{"$f":"INPUT!LG389","v":""},{"$f":"INPUT!LH389","v":""},null,{"$f":"INPUT!MB389","v":""},{"$f":"INPUT!MC389","v":""},{"$f":"INPUT!MD389","v":""},{"$f":"INPUT!ME389","v":""},{"$f":"INPUT!MF389","v":""},{"$f":"INPUT!MG389","v":""},{"$f":"INPUT!MH389","v":""},{"$f":"INPUT!MI389","v":""}]
[null,{"$f":"INPUT!EA390","v":""},{"$f":"INPUT!EB390","v":""},{"$f":"INPUT!EC390","v":""},{"$f":"INPUT!ED390","v":""},{"$f":"INPUT!EE390","v":""},{"$f":"INPUT!EF390","v":""},{"$f":"INPUT!EG390","v":""},"",null,{"$f":"INPUT!EY390","v":""},{"$f":"INPUT!EZ390","v":""},{"$f":"INPUT!FA390","v":""},{"$f":"INPUT!FB390","v":""},{"$f":"INPUT!FC390","v":""},{"$f":"INPUT!FD390","v":""},{"$f":"INPUT!FE390","v":""},"",null,{"$f":"INPUT!FW390","v":""},{"$f":"INPUT!FX390","v":""},{"$f":"INPUT!FY390","v":""},{"$f":"INPUT!FZ390","v":""},{"$f":"INPUT!GA390","v":""},{"$f":"INPUT!GB390","v":""},{"$f":"INPUT!GC390","v":""},null,{"$f":"INPUT!GY390","v":""},{"$f":"INPUT!GZ390","v":""},{"$f":"INPUT!HA390","v":""},{"$f":"INPUT!HB390","v":""},{"$f":"INPUT!HC390","v":""},{"$f":"INPUT!HD390","v":""},{"$f":"INPUT!HE390","v":""},{"$f":"INPUT!HF390","v":""},{"$f":"INPUT!HG390","v":""},null,{"$f":"INPUT!IA390","v":""},{"$f":"INPUT!IB390","v":""},{"$f":"INPUT!IC390","v":""},{"$f":"INPUT!ID390","v":""},{"$f":"INPUT!IE390","v":""},{"$f":"INPUT!IF390","v":""},{"$f":"INPUT!IG390","v":""},{"$f":"INPUT!IH390","v":""},null,{"$f":"INPUT!IZ390","v":""},{"$f":"INPUT!JA390","v":""},{"$f":"INPUT!JB390","v":""},{"$f":"INPUT!JC390","v":""},{"$f":"INPUT!JD390","v":""},{"$f":"INPUT!JE390","v":""},{"$f":"INPUT!JF390","v":""},"",null,{"$f":"INPUT!JX390","v":""},{"$f":"INPUT!JY390","v":""},{"$f":"INPUT!JZ390","v":""},{"$f":"INPUT!KA390","v":""},{"$f":"INPUT!KB390","v":""},{"$f":"INPUT!KC390","v":""},{"$f":"INPUT!KD390","v":""},"",null,{"$f":"INPUT!KZ390","v":""},{"$f":"INPUT!LA390","v":""},{"$f":"INPUT!LB390","v":""},{"$f":"INPUT!LC390","v":""},{"$f":"INPUT!LD390","v":""},{"$f":"INPUT!LE390","v":""},{"$f":"INPUT!LF390","v":""},{"$f":"INPUT!LG390","v":""},{"$f":"INPUT!LH390","v":""},null,{"$f":"INPUT!MB390","v":""},{"$f":"INPUT!MC390","v":""},{"$f":"INPUT!MD390","v":""},{"$f":"INPUT!ME390","v":""},{"$f":"INPUT!MF390","v":""},{"$f":"INPUT!MG390","v":""},{"$f":"INPUT!MH390","v":""},{"$f":"INPUT!MI390","v":""}]
[null,{"$f":"INPUT!EA391","v":""},{"$f":"INPUT!EB391","v":""},{"$f":"INPUT!EC391","v":""},{"$f":"INPUT!ED391","v":""},{"$f":"INPUT!EE391","v":""},{"$f":"INPUT!EF391","v":""},{"$f":"INPUT!EG391","v":""},"",null,{"$f":"INPUT!EY391","v":""},{"$f":"INPUT!EZ391","v":""},{"$f":"INPUT!FA391","v":""},{"$f":"INPUT!FB391","v":""},{"$f":"INPUT!FC391","v":""},{"$f":"INPUT!FD391","v":""},{"$f":"INPUT!FE391","v":""},"",null,{"$f":"INPUT!FW391","v":""},{"$f":"INPUT!FX391","v":""},{"$f":"INPUT!FY391","v":""},{"$f":"INPUT!FZ391","v":""},{"$f":"INPUT!GA391","v":""},{"$f":"INPUT!GB391","v":""},{"$f":"INPUT!GC391","v":""},null,{"$f":"INPUT!GY391","v":""},{"$f":"INPUT!GZ391","v":""},{"$f":"INPUT!HA391","v":""},{"$f":"INPUT!HB391","v":""},{"$f":"INPUT!HC391","v":""},{"$f":"INPUT!HD391","v":""},{"$f":"INPUT!HE391","v":""},{"$f":"INPUT!HF391","v":""},{"$f":"INPUT!HG391","v":""},null,{"$f":"INPUT!IA391","v":""},{"$f":"INPUT!IB391","v":""},{"$f":"INPUT!IC391","v":""},{"$f":"INPUT!ID391","v":""},{"$f":"INPUT!IE391","v":""},{"$f":"INPUT!IF391","v":""},{"$f":"INPUT!IG391","v":""},{"$f":"INPUT!IH391","v":""},null,{"$f":"INPUT!IZ391","v":""},{"$f":"INPUT!JA391","v":""},{"$f":"INPUT!JB391","v":""},{"$f":"INPUT!JC391","v":""},{"$f":"INPUT!JD391","v":""},{"$f":"INPUT!JE391","v":""},{"$f":"INPUT!JF391","v":""},"",null,{"$f":"INPUT!JX391","v":""},{"$f":"INPUT!JY391","v":""},{"$f":"INPUT!JZ391","v":""},{"$f":"INPUT!KA391","v":""},{"$f":"INPUT!KB391","v":""},{"$f":"INPUT!KC391","v":""},{"$f":"INPUT!KD391","v":""},"",null,{"$f":"INPUT!KZ391","v":""},{"$f":"INPUT!LA391","v":""},{"$f":"INPUT!LB391","v":""},{"$f":"INPUT!LC391","v":""},{"$f":"INPUT!LD391","v":""},{"$f":"INPUT!LE391","v":""},{"$f":"INPUT!LF391","v":""},{"$f":"INPUT!LG391","v":""},{"$f":"INPUT!LH391","v":""},null,{"$f":"INPUT!MB391","v":""},{"$f":"INPUT!MC391","v":""},{"$f":"INPUT!MD391","v":""},{"$f":"INPUT!ME391","v":""},{"$f":"INPUT!MF391","v":""},{"$f":"INPUT!MG391","v":""},{"$f":"INPUT!MH391","v":""},{"$f":"INPUT!MI391","v":""}]
[null,{"$f":"INPUT!EA392","v":""},{"$f":"INPUT!EB392","v":""},{"$f":"INPUT!EC392","v":""},{"$f":"INPUT!ED392","v":""},{"$f":"INPUT!EE392","v":""},{"$f":"INPUT!EF392","v":""},{"$f":"INPUT!EG392","v":""},"",null,{"$f":"INPUT!EY392","v":""},{"$f":"INPUT!EZ392","v":""},{"$f":"INPUT!FA392","v":""},{"$f":"INPUT!FB392","v":""},{"$f":"INPUT!FC392","v":""},{"$f":"INPUT!FD392","v":""},{"$f":"INPUT!FE392","v":""},"",null,{"$f":"INPUT!FW392","v":""},{"$f":"INPUT!FX392","v":""},{"$f":"INPUT!FY392","v":""},{"$f":"INPUT!FZ392","v":""},{"$f":"INPUT!GA392","v":""},{"$f":"INPUT!GB392","v":""},{"$f":"INPUT!GC392","v":""},null,{"$f":"INPUT!GY392","v":""},{"$f":"INPUT!GZ392","v":""},{"$f":"INPUT!HA392","v":""},{"$f":"INPUT!HB392","v":""},{"$f":"INPUT!HC392","v":""},{"$f":"INPUT!HD392","v":""},{"$f":"INPUT!HE392","v":""},{"$f":"INPUT!HF392","v":""},{"$f":"INPUT!HG392","v":""},null,{"$f":"INPUT!IA392","v":""},{"$f":"INPUT!IB392","v":""},{"$f":"INPUT!IC392","v":""},{"$f":"INPUT!ID392","v":""},{"$f":"INPUT!IE392","v":""},{"$f":"INPUT!IF392","v":""},{"$f":"INPUT!IG392","v":""},{"$f":"INPUT!IH392","v":""},null,{"$f":"INPUT!IZ392","v":""},{"$f":"INPUT!JA392","v":""},{"$f":"INPUT!JB392","v":""},{"$f":"INPUT!JC392","v":""},{"$f":"INPUT!JD392","v":""},{"$f":"INPUT!JE392","v":""},{"$f":"INPUT!JF392","v":""},"",null,{"$f":"INPUT!JX392","v":""},{"$f":"INPUT!JY392","v":""},{"$f":"INPUT!JZ392","v":""},{"$f":"INPUT!KA392","v":""},{"$f":"INPUT!KB392","v":""},{"$f":"INPUT!KC392","v":""},{"$f":"INPUT!KD392","v":""},"",null,{"$f":"INPUT!KZ392","v":""},{"$f":"INPUT!LA392","v":""},{"$f":"INPUT!LB392","v":""},{"$f":"INPUT!LC392","v":""},{"$f":"INPUT!LD392","v":""},{"$f":"INPUT!LE392","v":""},{"$f":"INPUT!LF392","v":""},{"$f":"INPUT!LG392","v":""},{"$f":"INPUT!LH392","v":""},null,{"$f":"INPUT!MB392","v":""},{"$f":"INPUT!MC392","v":""},{"$f":"INPUT!MD392","v":""},{"$f":"INPUT!ME392","v":""},{"$f":"INPUT!MF392","v":""},{"$f":"INPUT!MG392","v":""},{"$f":"INPUT!MH392","v":""},{"$f":"INPUT!MI392","v":""}]
[null,{"$f":"INPUT!EA393","v":""},{"$f":"INPUT!EB393","v":""},{"$f":"INPUT!EC393","v":""},{"$f":"INPUT!ED393","v":""},{"$f":"INPUT!EE393","v":""},{"$f":"INPUT!EF393","v":""},{"$f":"INPUT!EG393","v":""},"",null,{"$f":"INPUT!EY393","v":""},{"$f":"INPUT!EZ393","v":""},{"$f":"INPUT!FA393","v":""},{"$f":"INPUT!FB393","v":""},{"$f":"INPUT!FC393","v":""},{"$f":"INPUT!FD393","v":""},{"$f":"INPUT!FE393","v":""},"",null,{"$f":"INPUT!FW393","v":""},{"$f":"INPUT!FX393","v":""},{"$f":"INPUT!FY393","v":""},{"$f":"INPUT!FZ393","v":""},{"$f":"INPUT!GA393","v":""},{"$f":"INPUT!GB393","v":""},{"$f":"INPUT!GC393","v":""},null,{"$f":"INPUT!GY393","v":""},{"$f":"INPUT!GZ393","v":""},{"$f":"INPUT!HA393","v":""},{"$f":"INPUT!HB393","v":""},{"$f":"INPUT!HC393","v":""},{"$f":"INPUT!HD393","v":""},{"$f":"INPUT!HE393","v":""},{"$f":"INPUT!HF393","v":""},{"$f":"INPUT!HG393","v":""},null,{"$f":"INPUT!IA393","v":""},{"$f":"INPUT!IB393","v":""},{"$f":"INPUT!IC393","v":""},{"$f":"INPUT!ID393","v":""},{"$f":"INPUT!IE393","v":""},{"$f":"INPUT!IF393","v":""},{"$f":"INPUT!IG393","v":""},{"$f":"INPUT!IH393","v":""},null,{"$f":"INPUT!IZ393","v":""},{"$f":"INPUT!JA393","v":""},{"$f":"INPUT!JB393","v":""},{"$f":"INPUT!JC393","v":""},{"$f":"INPUT!JD393","v":""},{"$f":"INPUT!JE393","v":""},{"$f":"INPUT!JF393","v":""},"",null,{"$f":"INPUT!JX393","v":""},{"$f":"INPUT!JY393","v":""},{"$f":"INPUT!JZ393","v":""},{"$f":"INPUT!KA393","v":""},{"$f":"INPUT!KB393","v":""},{"$f":"INPUT!KC393","v":""},{"$f":"INPUT!KD393","v":""},"",null,{"$f":"INPUT!KZ393","v":""},{"$f":"INPUT!LA393","v":""},{"$f":"INPUT!LB393","v":""},{"$f":"INPUT!LC393","v":""},{"$f":"INPUT!LD393","v":""},{"$f":"INPUT!LE393","v":""},{"$f":"INPUT!LF393","v":""},{"$f":"INPUT!LG393","v":""},{"$f":"INPUT!LH393","v":""},null,{"$f":"INPUT!MB393","v":""},{"$f":"INPUT!MC393","v":""},{"$f":"INPUT!MD393","v":""},{"$f":"INPUT!ME393","v":""},{"$f":"INPUT!MF393","v":""},{"$f":"INPUT!MG393","v":""},{"$f":"INPUT!MH393","v":""},{"$f":"INPUT!MI393","v":""}]
[null,{"$f":"INPUT!EA394","v":""},{"$f":"INPUT!EB394","v":""},{"$f":"INPUT!EC394","v":""},{"$f":"INPUT!ED394","v":""},{"$f":"INPUT!EE394","v":""},{"$f":"INPUT!EF394","v":""},{"$f":"INPUT!EG394","v":""},"",null,{"$f":"INPUT!EY394","v":""},{"$f":"INPUT!EZ394","v":""},{"$f":"INPUT!FA394","v":""},{"$f":"INPUT!FB394","v":""},{"$f":"INPUT!FC394","v":""},{"$f":"INPUT!FD394","v":""},{"$f":"INPUT!FE394","v":""},"",null,{"$f":"INPUT!FW394","v":""},{"$f":"INPUT!FX394","v":""},{"$f":"INPUT!FY394","v":""},{"$f":"INPUT!FZ394","v":""},{"$f":"INPUT!GA394","v":""},{"$f":"INPUT!GB394","v":""},{"$f":"INPUT!GC394","v":""},null,{"$f":"INPUT!GY394","v":""},{"$f":"INPUT!GZ394","v":""},{"$f":"INPUT!HA394","v":""},{"$f":"INPUT!HB394","v":""},{"$f":"INPUT!HC394","v":""},{"$f":"INPUT!HD394","v":""},{"$f":"INPUT!HE394","v":""},{"$f":"INPUT!HF394","v":""},{"$f":"INPUT!HG394","v":""},null,{"$f":"INPUT!IA394","v":""},{"$f":"INPUT!IB394","v":""},{"$f":"INPUT!IC394","v":""},{"$f":"INPUT!ID394","v":""},{"$f":"INPUT!IE394","v":""},{"$f":"INPUT!IF394","v":""},{"$f":"INPUT!IG394","v":""},{"$f":"INPUT!IH394","v":""},null,{"$f":"INPUT!IZ394","v":""},{"$f":"INPUT!JA394","v":""},{"$f":"INPUT!JB394","v":""},{"$f":"INPUT!JC394","v":""},{"$f":"INPUT!JD394","v":""},{"$f":"INPUT!JE394","v":""},{"$f":"INPUT!JF394","v":""},"",null,{"$f":"INPUT!JX394","v":""},{"$f":"INPUT!JY394","v":""},{"$f":"INPUT!JZ394","v":""},{"$f":"INPUT!KA394","v":""},{"$f":"INPUT!KB394","v":""},{"$f":"INPUT!KC394","v":""},{"$f":"INPUT!KD394","v":""},"",null,{"$f":"INPUT!KZ394","v":""},{"$f":"INPUT!LA394","v":""},{"$f":"INPUT!LB394","v":""},{"$f":"INPUT!LC394","v":""},{"$f":"INPUT!LD394","v":""},{"$f":"INPUT!LE394","v":""},{"$f":"INPUT!LF394","v":""},{"$f":"INPUT!LG394","v":""},{"$f":"INPUT!LH394","v":""},null,{"$f":"INPUT!MB394","v":""},{"$f":"INPUT!MC394","v":""},{"$f":"INPUT!MD394","v":""},{"$f":"INPUT!ME394","v":""},{"$f":"INPUT!MF394","v":""},{"$f":"INPUT!MG394","v":""},{"$f":"INPUT!MH394","v":""},{"$f":"INPUT!MI394","v":""}]
[null,{"$f":"INPUT!EA395","v":""},{"$f":"INPUT!EB395","v":""},{"$f":"INPUT!EC395","v":""},{"$f":"INPUT!ED395","v":""},{"$f":"INPUT!EE395","v":""},{"$f":"INPUT!EF395","v":""},{"$f":"INPUT!EG395","v":""},{"$f":"IF(ISNUMBER($H395),1/$H395,\"\")","v":""},null,{"$f":"INPUT!EY395","v":""},{"$f":"INPUT!EZ395","v":""},{"$f":"INPUT!FA395","v":""},{"$f":"INPUT!FB395","v":""},{"$f":"INPUT!FC395","v":""},{"$f":"INPUT!FD395","v":""},{"$f":"INPUT!FE395","v":""},{"$f":"IF(ISNUMBER($Q395),1/$Q395,\"\")","v":""},null,{"$f":"INPUT!FW395","v":""},{"$f":"INPUT!FX395","v":""},{"$f":"INPUT!FY395","v":""},{"$f":"INPUT!FZ395","v":""},{"$f":"INPUT!GA395","v":""},{"$f":"INPUT!GB395","v":""},{"$f":"INPUT!GC395","v":""},null,{"$f":"INPUT!GY395","v":""},{"$f":"INPUT!GZ395","v":""},{"$f":"INPUT!HA395","v":""},{"$f":"INPUT!HB395","v":""},{"$f":"INPUT!HC395","v":""},{"$f":"INPUT!HD395","v":""},{"$f":"INPUT!HE395","v":""},{"$f":"INPUT!HF395","v":""},{"$f":"INPUT!HG395","v":""},null,{"$f":"INPUT!IA395","v":""},{"$f":"INPUT!IB395","v":""},{"$f":"INPUT!IC395","v":""},{"$f":"INPUT!ID395","v":""},{"$f":"INPUT!IE395","v":""},{"$f":"INPUT!IF395","v":""},{"$f":"INPUT!IG395","v":""},{"$f":"INPUT!IH395","v":""},null,{"$f":"INPUT!IZ395","v":""},{"$f":"INPUT!JA395","v":""},{"$f":"INPUT!JB395","v":""},{"$f":"INPUT!JC395","v":""},{"$f":"INPUT!JD395","v":""},{"$f":"INPUT!JE395","v":""},{"$f":"INPUT!JF395","v":""},{"$f":"IF(ISNUMBER($BA395),1/$BA395,\"\")","v":""},null,{"$f":"INPUT!JX395","v":""},{"$f":"INPUT!JY395","v":""},{"$f":"INPUT!JZ395","v":""},{"$f":"INPUT!KA395","v":""},{"$f":"INPUT!KB395","v":""},{"$f":"INPUT!KC395","v":""},{"$f":"INPUT!KD395","v":""},{"$f":"IF(ISNUMBER($BJ395),1/$BJ395,\"\")","v":""},null,{"$f":"INPUT!KZ395","v":""},{"$f":"INPUT!LA395","v":""},{"$f":"INPUT!LB395","v":""},{"$f":"INPUT!LC395","v":""},{"$f":"INPUT!LD395","v":""},{"$f":"INPUT!LE395","v":""},{"$f":"INPUT!LF395","v":""},{"$f":"INPUT!LG395","v":""},{"$f":"INPUT!LH395","v":""},null,{"$f":"INPUT!MB395","v":""},{"$f":"INPUT!MC395","v":""},{"$f":"INPUT!MD395","v":""},{"$f":"INPUT!ME395","v":""},{"$f":"INPUT!MF395","v":""},{"$f":"INPUT!MG395","v":""},{"$f":"INPUT!MH395","v":""},{"$f":"INPUT!MI395","v":""}]
[null,{"$f":"INPUT!EA396","v":""},{"$f":"INPUT!EB396","v":""},{"$f":"INPUT!EC396","v":""},{"$f":"INPUT!ED396","v":""},{"$f":"INPUT!EE396","v":""},{"$f":"INPUT!EF396","v":""},{"$f":"INPUT!EG396","v":""},"",null,{"$f":"INPUT!EY396","v":""},{"$f":"INPUT!EZ396","v":""},{"$f":"INPUT!FA396","v":""},{"$f":"INPUT!FB396","v":""},{"$f":"INPUT!FC396","v":""},{"$f":"INPUT!FD396","v":""},{"$f":"INPUT!FE396","v":""},"",null,{"$f":"INPUT!FW396","v":""},{"$f":"INPUT!FX396","v":""},{"$f":"INPUT!FY396","v":""},{"$f":"INPUT!FZ396","v":""},{"$f":"INPUT!GA396","v":""},{"$f":"INPUT!GB396","v":""},{"$f":"INPUT!GC396","v":""},null,{"$f":"INPUT!GY396","v":""},{"$f":"INPUT!GZ396","v":""},{"$f":"INPUT!HA396","v":""},{"$f":"INPUT!HB396","v":""},{"$f":"INPUT!HC396","v":""},{"$f":"INPUT!HD396","v":""},{"$f":"INPUT!HE396","v":""},{"$f":"INPUT!HF396","v":""},{"$f":"INPUT!HG396","v":""},null,{"$f":"INPUT!IA396","v":""},{"$f":"INPUT!IB396","v":""},{"$f":"INPUT!IC396","v":""},{"$f":"INPUT!ID396","v":""},{"$f":"INPUT!IE396","v":""},{"$f":"INPUT!IF396","v":""},{"$f":"INPUT!IG396","v":""},{"$f":"INPUT!IH396","v":""},null,{"$f":"INPUT!IZ396","v":""},{"$f":"INPUT!JA396","v":""},{"$f":"INPUT!JB396","v":""},{"$f":"INPUT!JC396","v":""},{"$f":"INPUT!JD396","v":""},{"$f":"INPUT!JE396","v":""},{"$f":"INPUT!JF396","v":""},"",null,{"$f":"INPUT!JX396","v":""},{"$f":"INPUT!JY396","v":""},{"$f":"INPUT!JZ396","v":""},{"$f":"INPUT!KA396","v":""},{"$f":"INPUT!KB396","v":""},{"$f":"INPUT!KC396","v":""},{"$f":"INPUT!KD396","v":""},"",null,{"$f":"INPUT!KZ396","v":""},{"$f":"INPUT!LA396","v":""},{"$f":"INPUT!LB396","v":""},{"$f":"INPUT!LC396","v":""},{"$f":"INPUT!LD396","v":""},{"$f":"INPUT!LE396","v":""},{"$f":"INPUT!LF396","v":""},{"$f":"INPUT!LG396","v":""},{"$f":"INPUT!LH396","v":""},null,{"$f":"INPUT!MB396","v":""},{"$f":"INPUT!MC396","v":""},{"$f":"INPUT!MD396","v":""},{"$f":"INPUT!ME396","v":""},{"$f":"INPUT!MF396","v":""},{"$f":"INPUT!MG396","v":""},{"$f":"INPUT!MH396","v":""},{"$f":"INPUT!MI396","v":""}]
[null,{"$f":"INPUT!EA397","v":""},{"$f":"INPUT!EB397","v":""},{"$f":"INPUT!EC397","v":""},{"$f":"INPUT!ED397","v":""},{"$f":"INPUT!EE397","v":""},{"$f":"INPUT!EF397","v":""},{"$f":"INPUT!EG397","v":""},"",null,{"$f":"INPUT!EY397","v":""},{"$f":"INPUT!EZ397","v":""},{"$f":"INPUT!FA397","v":""},{"$f":"INPUT!FB397","v":""},{"$f":"INPUT!FC397","v":""},{"$f":"INPUT!FD397","v":""},{"$f":"INPUT!FE397","v":""},"",null,{"$f":"INPUT!FW397","v":""},{"$f":"INPUT!FX397","v":""},{"$f":"INPUT!FY397","v":""},{"$f":"INPUT!FZ397","v":""},{"$f":"INPUT!GA397","v":""},{"$f":"INPUT!GB397","v":""},{"$f":"INPUT!GC397","v":""},null,{"$f":"INPUT!GY397","v":""},{"$f":"INPUT!GZ397","v":""},{"$f":"INPUT!HA397","v":""},{"$f":"INPUT!HB397","v":""},{"$f":"INPUT!HC397","v":""},{"$f":"INPUT!HD397","v":""},{"$f":"INPUT!HE397","v":""},{"$f":"INPUT!HF397","v":""},{"$f":"INPUT!HG397","v":""},null,{"$f":"INPUT!IA397","v":""},{"$f":"INPUT!IB397","v":""},{"$f":"INPUT!IC397","v":""},{"$f":"INPUT!ID397","v":""},{"$f":"INPUT!IE397","v":""},{"$f":"INPUT!IF397","v":""},{"$f":"INPUT!IG397","v":""},{"$f":"INPUT!IH397","v":""},null,{"$f":"INPUT!IZ397","v":""},{"$f":"INPUT!JA397","v":""},{"$f":"INPUT!JB397","v":""},{"$f":"INPUT!JC397","v":""},{"$f":"INPUT!JD397","v":""},{"$f":"INPUT!JE397","v":""},{"$f":"INPUT!JF397","v":""},"",null,{"$f":"INPUT!JX397","v":""},{"$f":"INPUT!JY397","v":""},{"$f":"INPUT!JZ397","v":""},{"$f":"INPUT!KA397","v":""},{"$f":"INPUT!KB397","v":""},{"$f":"INPUT!KC397","v":""},{"$f":"INPUT!KD397","v":""},"",null,{"$f":"INPUT!KZ397","v":""},{"$f":"INPUT!LA397","v":""},{"$f":"INPUT!LB397","v":""},{"$f":"INPUT!LC397","v":""},{"$f":"INPUT!LD397","v":""},{"$f":"INPUT!LE397","v":""},{"$f":"INPUT!LF397","v":""},{"$f":"INPUT!LG397","v":""},{"$f":"INPUT!LH397","v":""},null,{"$f":"INPUT!MB397","v":""},{"$f":"INPUT!MC397","v":""},{"$f":"INPUT!MD397","v":""},{"$f":"INPUT!ME397","v":""},{"$f":"INPUT!MF397","v":""},{"$f":"INPUT!MG397","v":""},{"$f":"INPUT!MH397","v":""},{"$f":"INPUT!MI397","v":""}]
[null,{"$f":"INPUT!EA398","v":""},{"$f":"INPUT!EB398","v":""},{"$f":"INPUT!EC398","v":""},{"$f":"INPUT!ED398","v":""},{"$f":"INPUT!EE398","v":""},{"$f":"INPUT!EF398","v":""},{"$f":"INPUT!EG398","v":""},"",null,{"$f":"INPUT!EY398","v":""},{"$f":"INPUT!EZ398","v":""},{"$f":"INPUT!FA398","v":""},{"$f":"INPUT!FB398","v":""},{"$f":"INPUT!FC398","v":""},{"$f":"INPUT!FD398","v":""},{"$f":"INPUT!FE398","v":""},"",null,{"$f":"INPUT!FW398","v":""},{"$f":"INPUT!FX398","v":""},{"$f":"INPUT!FY398","v":""},{"$f":"INPUT!FZ398","v":""},{"$f":"INPUT!GA398","v":""},{"$f":"INPUT!GB398","v":""},{"$f":"INPUT!GC398","v":""},null,{"$f":"INPUT!GY398","v":""},{"$f":"INPUT!GZ398","v":""},{"$f":"INPUT!HA398","v":""},{"$f":"INPUT!HB398","v":""},{"$f":"INPUT!HC398","v":""},{"$f":"INPUT!HD398","v":""},{"$f":"INPUT!HE398","v":""},{"$f":"INPUT!HF398","v":""},{"$f":"INPUT!HG398","v":""},null,{"$f":"INPUT!IA398","v":""},{"$f":"INPUT!IB398","v":""},{"$f":"INPUT!IC398","v":""},{"$f":"INPUT!ID398","v":""},{"$f":"INPUT!IE398","v":""},{"$f":"INPUT!IF398","v":""},{"$f":"INPUT!IG398","v":""},{"$f":"INPUT!IH398","v":""},null,{"$f":"INPUT!IZ398","v":""},{"$f":"INPUT!JA398","v":""},{"$f":"INPUT!JB398","v":""},{"$f":"INPUT!JC398","v":""},{"$f":"INPUT!JD398","v":""},{"$f":"INPUT!JE398","v":""},{"$f":"INPUT!JF398","v":""},"",null,{"$f":"INPUT!JX398","v":""},{"$f":"INPUT!JY398","v":""},{"$f":"INPUT!JZ398","v":""},{"$f":"INPUT!KA398","v":""},{"$f":"INPUT!KB398","v":""},{"$f":"INPUT!KC398","v":""},{"$f":"INPUT!KD398","v":""},"",null,{"$f":"INPUT!KZ398","v":""},{"$f":"INPUT!LA398","v":""},{"$f":"INPUT!LB398","v":""},{"$f":"INPUT!LC398","v":""},{"$f":"INPUT!LD398","v":""},{"$f":"INPUT!LE398","v":""},{"$f":"INPUT!LF398","v":""},{"$f":"INPUT!LG398","v":""},{"$f":"INPUT!LH398","v":""},null,{"$f":"INPUT!MB398","v":""},{"$f":"INPUT!MC398","v":""},{"$f":"INPUT!MD398","v":""},{"$f":"INPUT!ME398","v":""},{"$f":"INPUT!MF398","v":""},{"$f":"INPUT!MG398","v":""},{"$f":"INPUT!MH398","v":""},{"$f":"INPUT!MI398","v":""}]
[null,{"$f":"INPUT!EA399","v":""},{"$f":"INPUT!EB399","v":""},{"$f":"INPUT!EC399","v":""},{"$f":"INPUT!ED399","v":""},{"$f":"INPUT!EE399","v":""},{"$f":"INPUT!EF399","v":""},{"$f":"INPUT!EG399","v":""},"",null,{"$f":"INPUT!EY399","v":""},{"$f":"INPUT!EZ399","v":""},{"$f":"INPUT!FA399","v":""},{"$f":"INPUT!FB399","v":""},{"$f":"INPUT!FC399","v":""},{"$f":"INPUT!FD399","v":""},{"$f":"INPUT!FE399","v":""},"",null,{"$f":"INPUT!FW399","v":""},{"$f":"INPUT!FX399","v":""},{"$f":"INPUT!FY399","v":""},{"$f":"INPUT!FZ399","v":""},{"$f":"INPUT!GA399","v":""},{"$f":"INPUT!GB399","v":""},{"$f":"INPUT!GC399","v":""},null,{"$f":"INPUT!GY399","v":""},{"$f":"INPUT!GZ399","v":""},{"$f":"INPUT!HA399","v":""},{"$f":"INPUT!HB399","v":""},{"$f":"INPUT!HC399","v":""},{"$f":"INPUT!HD399","v":""},{"$f":"INPUT!HE399","v":""},{"$f":"INPUT!HF399","v":""},{"$f":"INPUT!HG399","v":""},null,{"$f":"INPUT!IA399","v":""},{"$f":"INPUT!IB399","v":""},{"$f":"INPUT!IC399","v":""},{"$f":"INPUT!ID399","v":""},{"$f":"INPUT!IE399","v":""},{"$f":"INPUT!IF399","v":""},{"$f":"INPUT!IG399","v":""},{"$f":"INPUT!IH399","v":""},null,{"$f":"INPUT!IZ399","v":""},{"$f":"INPUT!JA399","v":""},{"$f":"INPUT!JB399","v":""},{"$f":"INPUT!JC399","v":""},{"$f":"INPUT!JD399","v":""},{"$f":"INPUT!JE399","v":""},{"$f":"INPUT!JF399","v":""},"",null,{"$f":"INPUT!JX399","v":""},{"$f":"INPUT!JY399","v":""},{"$f":"INPUT!JZ399","v":""},{"$f":"INPUT!KA399","v":""},{"$f":"INPUT!KB399","v":""},{"$f":"INPUT!KC399","v":""},{"$f":"INPUT!KD399","v":""},"",null,{"$f":"INPUT!KZ399","v":""},{"$f":"INPUT!LA399","v":""},{"$f":"INPUT!LB399","v":""},{"$f":"INPUT!LC399","v":""},{"$f":"INPUT!LD399","v":""},{"$f":"INPUT!LE399","v":""},{"$f":"INPUT!LF399","v":""},{"$f":"INPUT!LG399","v":""},{"$f":"INPUT!LH399","v":""},null,{"$f":"INPUT!MB399","v":""},{"$f":"INPUT!MC399","v":""},{"$f":"INPUT!MD399","v":""},{"$f":"INPUT!ME399","v":""},{"$f":"INPUT!MF399","v":""},{"$f":"INPUT!MG399","v":""},{"$f":"INPUT!MH399","v":""},{"$f":"INPUT!MI399","v":""}]
[null,{"$f":"INPUT!EA400","v":""},{"$f":"INPUT!EB400","v":""},{"$f":"INPUT!EC400","v":""},{"$f":"INPUT!ED400","v":""},{"$f":"INPUT!EE400","v":""},{"$f":"INPUT!EF400","v":""},{"$f":"INPUT!EG400","v":""},"",null,{"$f":"INPUT!EY400","v":""},{"$f":"INPUT!EZ400","v":""},{"$f":"INPUT!FA400","v":""},{"$f":"INPUT!FB400","v":""},{"$f":"INPUT!FC400","v":""},{"$f":"INPUT!FD400","v":""},{"$f":"INPUT!FE400","v":""},"",null,{"$f":"INPUT!FW400","v":""},{"$f":"INPUT!FX400","v":""},{"$f":"INPUT!FY400","v":""},{"$f":"INPUT!FZ400","v":""},{"$f":"INPUT!GA400","v":""},{"$f":"INPUT!GB400","v":""},{"$f":"INPUT!GC400","v":""},null,{"$f":"INPUT!GY400","v":""},{"$f":"INPUT!GZ400","v":""},{"$f":"INPUT!HA400","v":""},{"$f":"INPUT!HB400","v":""},{"$f":"INPUT!HC400","v":""},{"$f":"INPUT!HD400","v":""},{"$f":"INPUT!HE400","v":""},{"$f":"INPUT!HF400","v":""},{"$f":"INPUT!HG400","v":""},null,{"$f":"INPUT!IA400","v":""},{"$f":"INPUT!IB400","v":""},{"$f":"INPUT!IC400","v":""},{"$f":"INPUT!ID400","v":""},{"$f":"INPUT!IE400","v":""},{"$f":"INPUT!IF400","v":""},{"$f":"INPUT!IG400","v":""},{"$f":"INPUT!IH400","v":""},null,{"$f":"INPUT!IZ400","v":""},{"$f":"INPUT!JA400","v":""},{"$f":"INPUT!JB400","v":""},{"$f":"INPUT!JC400","v":""},{"$f":"INPUT!JD400","v":""},{"$f":"INPUT!JE400","v":""},{"$f":"INPUT!JF400","v":""},"",null,{"$f":"INPUT!JX400","v":""},{"$f":"INPUT!JY400","v":""},{"$f":"INPUT!JZ400","v":""},{"$f":"INPUT!KA400","v":""},{"$f":"INPUT!KB400","v":""},{"$f":"INPUT!KC400","v":""},{"$f":"INPUT!KD400","v":""},"",null,{"$f":"INPUT!KZ400","v":""},{"$f":"INPUT!LA400","v":""},{"$f":"INPUT!LB400","v":""},{"$f":"INPUT!LC400","v":""},{"$f":"INPUT!LD400","v":""},{"$f":"INPUT!LE400","v":""},{"$f":"INPUT!LF400","v":""},{"$f":"INPUT!LG400","v":""},{"$f":"INPUT!LH400","v":""},null,{"$f":"INPUT!MB400","v":""},{"$f":"INPUT!MC400","v":""},{"$f":"INPUT!MD400","v":""},{"$f":"INPUT!ME400","v":""},{"$f":"INPUT!MF400","v":""},{"$f":"INPUT!MG400","v":""},{"$f":"INPUT!MH400","v":""},{"$f":"INPUT!MI400","v":""}]
[null,{"$f":"INPUT!EA401","v":""},{"$f":"INPUT!EB401","v":""},{"$f":"INPUT!EC401","v":""},{"$f":"INPUT!ED401","v":""},{"$f":"INPUT!EE401","v":""},{"$f":"INPUT!EF401","v":""},{"$f":"INPUT!EG401","v":""},"",null,{"$f":"INPUT!EY401","v":""},{"$f":"INPUT!EZ401","v":""},{"$f":"INPUT!FA401","v":""},{"$f":"INPUT!FB401","v":""},{"$f":"INPUT!FC401","v":""},{"$f":"INPUT!FD401","v":""},{"$f":"INPUT!FE401","v":""},"",null,{"$f":"INPUT!FW401","v":""},{"$f":"INPUT!FX401","v":""},{"$f":"INPUT!FY401","v":""},{"$f":"INPUT!FZ401","v":""},{"$f":"INPUT!GA401","v":""},{"$f":"INPUT!GB401","v":""},{"$f":"INPUT!GC401","v":""},null,{"$f":"INPUT!GY401","v":""},{"$f":"INPUT!GZ401","v":""},{"$f":"INPUT!HA401","v":""},{"$f":"INPUT!HB401","v":""},{"$f":"INPUT!HC401","v":""},{"$f":"INPUT!HD401","v":""},{"$f":"INPUT!HE401","v":""},{"$f":"INPUT!HF401","v":""},{"$f":"INPUT!HG401","v":""},null,{"$f":"INPUT!IA401","v":""},{"$f":"INPUT!IB401","v":""},{"$f":"INPUT!IC401","v":""},{"$f":"INPUT!ID401","v":""},{"$f":"INPUT!IE401","v":""},{"$f":"INPUT!IF401","v":""},{"$f":"INPUT!IG401","v":""},{"$f":"INPUT!IH401","v":""},null,{"$f":"INPUT!IZ401","v":""},{"$f":"INPUT!JA401","v":""},{"$f":"INPUT!JB401","v":""},{"$f":"INPUT!JC401","v":""},{"$f":"INPUT!JD401","v":""},{"$f":"INPUT!JE401","v":""},{"$f":"INPUT!JF401","v":""},"",null,{"$f":"INPUT!JX401","v":""},{"$f":"INPUT!JY401","v":""},{"$f":"INPUT!JZ401","v":""},{"$f":"INPUT!KA401","v":""},{"$f":"INPUT!KB401","v":""},{"$f":"INPUT!KC401","v":""},{"$f":"INPUT!KD401","v":""},"",null,{"$f":"INPUT!KZ401","v":""},{"$f":"INPUT!LA401","v":""},{"$f":"INPUT!LB401","v":""},{"$f":"INPUT!LC401","v":""},{"$f":"INPUT!LD401","v":""},{"$f":"INPUT!LE401","v":""},{"$f":"INPUT!LF401","v":""},{"$f":"INPUT!LG401","v":""},{"$f":"INPUT!LH401","v":""},null,{"$f":"INPUT!MB401","v":""},{"$f":"INPUT!MC401","v":""},{"$f":"INPUT!MD401","v":""},{"$f":"INPUT!ME401","v":""},{"$f":"INPUT!MF401","v":""},{"$f":"INPUT!MG401","v":""},{"$f":"INPUT!MH401","v":""},{"$f":"INPUT!MI401","v":""}]
[null,{"$f":"INPUT!EA402","v":""},{"$f":"INPUT!EB402","v":""},{"$f":"INPUT!EC402","v":""},{"$f":"INPUT!ED402","v":""},{"$f":"INPUT!EE402","v":""},{"$f":"INPUT!EF402","v":""},{"$f":"INPUT!EG402","v":""},"",null,{"$f":"INPUT!EY402","v":""},{"$f":"INPUT!EZ402","v":""},{"$f":"INPUT!FA402","v":""},{"$f":"INPUT!FB402","v":""},{"$f":"INPUT!FC402","v":""},{"$f":"INPUT!FD402","v":""},{"$f":"INPUT!FE402","v":""},"",null,{"$f":"INPUT!FW402","v":""},{"$f":"INPUT!FX402","v":""},{"$f":"INPUT!FY402","v":""},{"$f":"INPUT!FZ402","v":""},{"$f":"INPUT!GA402","v":""},{"$f":"INPUT!GB402","v":""},{"$f":"INPUT!GC402","v":""},null,{"$f":"INPUT!GY402","v":""},{"$f":"INPUT!GZ402","v":""},{"$f":"INPUT!HA402","v":""},{"$f":"INPUT!HB402","v":""},{"$f":"INPUT!HC402","v":""},{"$f":"INPUT!HD402","v":""},{"$f":"INPUT!HE402","v":""},{"$f":"INPUT!HF402","v":""},{"$f":"INPUT!HG402","v":""},null,{"$f":"INPUT!IA402","v":""},{"$f":"INPUT!IB402","v":""},{"$f":"INPUT!IC402","v":""},{"$f":"INPUT!ID402","v":""},{"$f":"INPUT!IE402","v":""},{"$f":"INPUT!IF402","v":""},{"$f":"INPUT!IG402","v":""},{"$f":"INPUT!IH402","v":""},null,{"$f":"INPUT!IZ402","v":""},{"$f":"INPUT!JA402","v":""},{"$f":"INPUT!JB402","v":""},{"$f":"INPUT!JC402","v":""},{"$f":"INPUT!JD402","v":""},{"$f":"INPUT!JE402","v":""},{"$f":"INPUT!JF402","v":""},"",null,{"$f":"INPUT!JX402","v":""},{"$f":"INPUT!JY402","v":""},{"$f":"INPUT!JZ402","v":""},{"$f":"INPUT!KA402","v":""},{"$f":"INPUT!KB402","v":""},{"$f":"INPUT!KC402","v":""},{"$f":"INPUT!KD402","v":""},"",null,{"$f":"INPUT!KZ402","v":""},{"$f":"INPUT!LA402","v":""},{"$f":"INPUT!LB402","v":""},{"$f":"INPUT!LC402","v":""},{"$f":"INPUT!LD402","v":""},{"$f":"INPUT!LE402","v":""},{"$f":"INPUT!LF402","v":""},{"$f":"INPUT!LG402","v":""},{"$f":"INPUT!LH402","v":""},null,{"$f":"INPUT!MB402","v":""},{"$f":"INPUT!MC402","v":""},{"$f":"INPUT!MD402","v":""},{"$f":"INPUT!ME402","v":""},{"$f":"INPUT!MF402","v":""},{"$f":"INPUT!MG402","v":""},{"$f":"INPUT!MH402","v":""},{"$f":"INPUT!MI402","v":""}]
[null,{"$f":"INPUT!EA403","v":""},{"$f":"INPUT!EB403","v":""},{"$f":"INPUT!EC403","v":""},{"$f":"INPUT!ED403","v":""},{"$f":"INPUT!EE403","v":""},{"$f":"INPUT!EF403","v":""},{"$f":"INPUT!EG403","v":""},"",null,{"$f":"INPUT!EY403","v":""},{"$f":"INPUT!EZ403","v":""},{"$f":"INPUT!FA403","v":""},{"$f":"INPUT!FB403","v":""},{"$f":"INPUT!FC403","v":""},{"$f":"INPUT!FD403","v":""},{"$f":"INPUT!FE403","v":""},"",null,{"$f":"INPUT!FW403","v":""},{"$f":"INPUT!FX403","v":""},{"$f":"INPUT!FY403","v":""},{"$f":"INPUT!FZ403","v":""},{"$f":"INPUT!GA403","v":""},{"$f":"INPUT!GB403","v":""},{"$f":"INPUT!GC403","v":""},null,{"$f":"INPUT!GY403","v":""},{"$f":"INPUT!GZ403","v":""},{"$f":"INPUT!HA403","v":""},{"$f":"INPUT!HB403","v":""},{"$f":"INPUT!HC403","v":""},{"$f":"INPUT!HD403","v":""},{"$f":"INPUT!HE403","v":""},{"$f":"INPUT!HF403","v":""},{"$f":"INPUT!HG403","v":""},null,{"$f":"INPUT!IA403","v":""},{"$f":"INPUT!IB403","v":""},{"$f":"INPUT!IC403","v":""},{"$f":"INPUT!ID403","v":""},{"$f":"INPUT!IE403","v":""},{"$f":"INPUT!IF403","v":""},{"$f":"INPUT!IG403","v":""},{"$f":"INPUT!IH403","v":""},null,{"$f":"INPUT!IZ403","v":""},{"$f":"INPUT!JA403","v":""},{"$f":"INPUT!JB403","v":""},{"$f":"INPUT!JC403","v":""},{"$f":"INPUT!JD403","v":""},{"$f":"INPUT!JE403","v":""},{"$f":"INPUT!JF403","v":""},"",null,{"$f":"INPUT!JX403","v":""},{"$f":"INPUT!JY403","v":""},{"$f":"INPUT!JZ403","v":""},{"$f":"INPUT!KA403","v":""},{"$f":"INPUT!KB403","v":""},{"$f":"INPUT!KC403","v":""},{"$f":"INPUT!KD403","v":""},"",null,{"$f":"INPUT!KZ403","v":""},{"$f":"INPUT!LA403","v":""},{"$f":"INPUT!LB403","v":""},{"$f":"INPUT!LC403","v":""},{"$f":"INPUT!LD403","v":""},{"$f":"INPUT!LE403","v":""},{"$f":"INPUT!LF403","v":""},{"$f":"INPUT!LG403","v":""},{"$f":"INPUT!LH403","v":""},null,{"$f":"INPUT!MB403","v":""},{"$f":"INPUT!MC403","v":""},{"$f":"INPUT!MD403","v":""},{"$f":"INPUT!ME403","v":""},{"$f":"INPUT!MF403","v":""},{"$f":"INPUT!MG403","v":""},{"$f":"INPUT!MH403","v":""},{"$f":"INPUT!MI403","v":""}]
[null,{"$f":"INPUT!EA404","v":""},{"$f":"INPUT!EB404","v":""},{"$f":"INPUT!EC404","v":""},{"$f":"INPUT!ED404","v":""},{"$f":"INPUT!EE404","v":""},{"$f":"INPUT!EF404","v":""},{"$f":"INPUT!EG404","v":""},"",null,{"$f":"INPUT!EY404","v":""},{"$f":"INPUT!EZ404","v":""},{"$f":"INPUT!FA404","v":""},{"$f":"INPUT!FB404","v":""},{"$f":"INPUT!FC404","v":""},{"$f":"INPUT!FD404","v":""},{"$f":"INPUT!FE404","v":""},"",null,{"$f":"INPUT!FW404","v":""},{"$f":"INPUT!FX404","v":""},{"$f":"INPUT!FY404","v":""},{"$f":"INPUT!FZ404","v":""},{"$f":"INPUT!GA404","v":""},{"$f":"INPUT!GB404","v":""},{"$f":"INPUT!GC404","v":""},null,{"$f":"INPUT!GY404","v":""},{"$f":"INPUT!GZ404","v":""},{"$f":"INPUT!HA404","v":""},{"$f":"INPUT!HB404","v":""},{"$f":"INPUT!HC404","v":""},{"$f":"INPUT!HD404","v":""},{"$f":"INPUT!HE404","v":""},{"$f":"INPUT!HF404","v":""},{"$f":"INPUT!HG404","v":""},null,{"$f":"INPUT!IA404","v":""},{"$f":"INPUT!IB404","v":""},{"$f":"INPUT!IC404","v":""},{"$f":"INPUT!ID404","v":""},{"$f":"INPUT!IE404","v":""},{"$f":"INPUT!IF404","v":""},{"$f":"INPUT!IG404","v":""},{"$f":"INPUT!IH404","v":""},null,{"$f":"INPUT!IZ404","v":""},{"$f":"INPUT!JA404","v":""},{"$f":"INPUT!JB404","v":""},{"$f":"INPUT!JC404","v":""},{"$f":"INPUT!JD404","v":""},{"$f":"INPUT!JE404","v":""},{"$f":"INPUT!JF404","v":""},"",null,{"$f":"INPUT!JX404","v":""},{"$f":"INPUT!JY404","v":""},{"$f":"INPUT!JZ404","v":""},{"$f":"INPUT!KA404","v":""},{"$f":"INPUT!KB404","v":""},{"$f":"INPUT!KC404","v":""},{"$f":"INPUT!KD404","v":""},"",null,{"$f":"INPUT!KZ404","v":""},{"$f":"INPUT!LA404","v":""},{"$f":"INPUT!LB404","v":""},{"$f":"INPUT!LC404","v":""},{"$f":"INPUT!LD404","v":""},{"$f":"INPUT!LE404","v":""},{"$f":"INPUT!LF404","v":""},{"$f":"INPUT!LG404","v":""},{"$f":"INPUT!LH404","v":""},null,{"$f":"INPUT!MB404","v":""},{"$f":"INPUT!MC404","v":""},{"$f":"INPUT!MD404","v":""},{"$f":"INPUT!ME404","v":""},{"$f":"INPUT!MF404","v":""},{"$f":"INPUT!MG404","v":""},{"$f":"INPUT!MH404","v":""},{"$f":"INPUT!MI404","v":""}]
[null,{"$f":"INPUT!EA405","v":""},{"$f":"INPUT!EB405","v":""},{"$f":"INPUT!EC405","v":""},{"$f":"INPUT!ED405","v":""},{"$f":"INPUT!EE405","v":""},{"$f":"INPUT!EF405","v":""},{"$f":"INPUT!EG405","v":""},"",null,{"$f":"INPUT!EY405","v":""},{"$f":"INPUT!EZ405","v":""},{"$f":"INPUT!FA405","v":""},{"$f":"INPUT!FB405","v":""},{"$f":"INPUT!FC405","v":""},{"$f":"INPUT!FD405","v":""},{"$f":"INPUT!FE405","v":""},"",null,{"$f":"INPUT!FW405","v":""},{"$f":"INPUT!FX405","v":""},{"$f":"INPUT!FY405","v":""},{"$f":"INPUT!FZ405","v":""},{"$f":"INPUT!GA405","v":""},{"$f":"INPUT!GB405","v":""},{"$f":"INPUT!GC405","v":""},null,{"$f":"INPUT!GY405","v":""},{"$f":"INPUT!GZ405","v":""},{"$f":"INPUT!HA405","v":""},{"$f":"INPUT!HB405","v":""},{"$f":"INPUT!HC405","v":""},{"$f":"INPUT!HD405","v":""},{"$f":"INPUT!HE405","v":""},{"$f":"INPUT!HF405","v":""},{"$f":"INPUT!HG405","v":""},null,{"$f":"INPUT!IA405","v":""},{"$f":"INPUT!IB405","v":""},{"$f":"INPUT!IC405","v":""},{"$f":"INPUT!ID405","v":""},{"$f":"INPUT!IE405","v":""},{"$f":"INPUT!IF405","v":""},{"$f":"INPUT!IG405","v":""},{"$f":"INPUT!IH405","v":""},null,{"$f":"INPUT!IZ405","v":""},{"$f":"INPUT!JA405","v":""},{"$f":"INPUT!JB405","v":""},{"$f":"INPUT!JC405","v":""},{"$f":"INPUT!JD405","v":""},{"$f":"INPUT!JE405","v":""},{"$f":"INPUT!JF405","v":""},"",null,{"$f":"INPUT!JX405","v":""},{"$f":"INPUT!JY405","v":""},{"$f":"INPUT!JZ405","v":""},{"$f":"INPUT!KA405","v":""},{"$f":"INPUT!KB405","v":""},{"$f":"INPUT!KC405","v":""},{"$f":"INPUT!KD405","v":""},"",null,{"$f":"INPUT!KZ405","v":""},{"$f":"INPUT!LA405","v":""},{"$f":"INPUT!LB405","v":""},{"$f":"INPUT!LC405","v":""},{"$f":"INPUT!LD405","v":""},{"$f":"INPUT!LE405","v":""},{"$f":"INPUT!LF405","v":""},{"$f":"INPUT!LG405","v":""},{"$f":"INPUT!LH405","v":""},null,{"$f":"INPUT!MB405","v":""},{"$f":"INPUT!MC405","v":""},{"$f":"INPUT!MD405","v":""},{"$f":"INPUT!ME405","v":""},{"$f":"INPUT!MF405","v":""},{"$f":"INPUT!MG405","v":""},{"$f":"INPUT!MH405","v":""},{"$f":"INPUT!MI405","v":""}]
[null,{"$f":"INPUT!EA406","v":""},{"$f":"INPUT!EB406","v":""},{"$f":"INPUT!EC406","v":""},{"$f":"INPUT!ED406","v":""},{"$f":"INPUT!EE406","v":""},{"$f":"INPUT!EF406","v":""},{"$f":"INPUT!EG406","v":""},"",null,{"$f":"INPUT!EY406","v":""},{"$f":"INPUT!EZ406","v":""},{"$f":"INPUT!FA406","v":""},{"$f":"INPUT!FB406","v":""},{"$f":"INPUT!FC406","v":""},{"$f":"INPUT!FD406","v":""},{"$f":"INPUT!FE406","v":""},"",null,{"$f":"INPUT!FW406","v":""},{"$f":"INPUT!FX406","v":""},{"$f":"INPUT!FY406","v":""},{"$f":"INPUT!FZ406","v":""},{"$f":"INPUT!GA406","v":""},{"$f":"INPUT!GB406","v":""},{"$f":"INPUT!GC406","v":""},null,{"$f":"INPUT!GY406","v":""},{"$f":"INPUT!GZ406","v":""},{"$f":"INPUT!HA406","v":""},{"$f":"INPUT!HB406","v":""},{"$f":"INPUT!HC406","v":""},{"$f":"INPUT!HD406","v":""},{"$f":"INPUT!HE406","v":""},{"$f":"INPUT!HF406","v":""},{"$f":"INPUT!HG406","v":""},null,{"$f":"INPUT!IA406","v":""},{"$f":"INPUT!IB406","v":""},{"$f":"INPUT!IC406","v":""},{"$f":"INPUT!ID406","v":""},{"$f":"INPUT!IE406","v":""},{"$f":"INPUT!IF406","v":""},{"$f":"INPUT!IG406","v":""},{"$f":"INPUT!IH406","v":""},null,{"$f":"INPUT!IZ406","v":""},{"$f":"INPUT!JA406","v":""},{"$f":"INPUT!JB406","v":""},{"$f":"INPUT!JC406","v":""},{"$f":"INPUT!JD406","v":""},{"$f":"INPUT!JE406","v":""},{"$f":"INPUT!JF406","v":""},"",null,{"$f":"INPUT!JX406","v":""},{"$f":"INPUT!JY406","v":""},{"$f":"INPUT!JZ406","v":""},{"$f":"INPUT!KA406","v":""},{"$f":"INPUT!KB406","v":""},{"$f":"INPUT!KC406","v":""},{"$f":"INPUT!KD406","v":""},"",null,{"$f":"INPUT!KZ406","v":""},{"$f":"INPUT!LA406","v":""},{"$f":"INPUT!LB406","v":""},{"$f":"INPUT!LC406","v":""},{"$f":"INPUT!LD406","v":""},{"$f":"INPUT!LE406","v":""},{"$f":"INPUT!LF406","v":""},{"$f":"INPUT!LG406","v":""},{"$f":"INPUT!LH406","v":""},null,{"$f":"INPUT!MB406","v":""},{"$f":"INPUT!MC406","v":""},{"$f":"INPUT!MD406","v":""},{"$f":"INPUT!ME406","v":""},{"$f":"INPUT!MF406","v":""},{"$f":"INPUT!MG406","v":""},{"$f":"INPUT!MH406","v":""},{"$f":"INPUT!MI406","v":""}]
[null,{"$f":"INPUT!EA407","v":""},{"$f":"INPUT!EB407","v":""},{"$f":"INPUT!EC407","v":""},{"$f":"INPUT!ED407","v":""},{"$f":"INPUT!EE407","v":""},{"$f":"INPUT!EF407","v":""},{"$f":"INPUT!EG407","v":""},"",null,{"$f":"INPUT!EY407","v":""},{"$f":"INPUT!EZ407","v":""},{"$f":"INPUT!FA407","v":""},{"$f":"INPUT!FB407","v":""},{"$f":"INPUT!FC407","v":""},{"$f":"INPUT!FD407","v":""},{"$f":"INPUT!FE407","v":""},"",null,{"$f":"INPUT!FW407","v":""},{"$f":"INPUT!FX407","v":""},{"$f":"INPUT!FY407","v":""},{"$f":"INPUT!FZ407","v":""},{"$f":"INPUT!GA407","v":""},{"$f":"INPUT!GB407","v":""},{"$f":"INPUT!GC407","v":""},null,{"$f":"INPUT!GY407","v":""},{"$f":"INPUT!GZ407","v":""},{"$f":"INPUT!HA407","v":""},{"$f":"INPUT!HB407","v":""},{"$f":"INPUT!HC407","v":""},{"$f":"INPUT!HD407","v":""},{"$f":"INPUT!HE407","v":""},{"$f":"INPUT!HF407","v":""},{"$f":"INPUT!HG407","v":""},null,{"$f":"INPUT!IA407","v":""},{"$f":"INPUT!IB407","v":""},{"$f":"INPUT!IC407","v":""},{"$f":"INPUT!ID407","v":""},{"$f":"INPUT!IE407","v":""},{"$f":"INPUT!IF407","v":""},{"$f":"INPUT!IG407","v":""},{"$f":"INPUT!IH407","v":""},null,{"$f":"INPUT!IZ407","v":""},{"$f":"INPUT!JA407","v":""},{"$f":"INPUT!JB407","v":""},{"$f":"INPUT!JC407","v":""},{"$f":"INPUT!JD407","v":""},{"$f":"INPUT!JE407","v":""},{"$f":"INPUT!JF407","v":""},"",null,{"$f":"INPUT!JX407","v":""},{"$f":"INPUT!JY407","v":""},{"$f":"INPUT!JZ407","v":""},{"$f":"INPUT!KA407","v":""},{"$f":"INPUT!KB407","v":""},{"$f":"INPUT!KC407","v":""},{"$f":"INPUT!KD407","v":""},"",null,{"$f":"INPUT!KZ407","v":""},{"$f":"INPUT!LA407","v":""},{"$f":"INPUT!LB407","v":""},{"$f":"INPUT!LC407","v":""},{"$f":"INPUT!LD407","v":""},{"$f":"INPUT!LE407","v":""},{"$f":"INPUT!LF407","v":""},{"$f":"INPUT!LG407","v":""},{"$f":"INPUT!LH407","v":""},null,{"$f":"INPUT!MB407","v":""},{"$f":"INPUT!MC407","v":""},{"$f":"INPUT!MD407","v":""},{"$f":"INPUT!ME407","v":""},{"$f":"INPUT!MF407","v":""},{"$f":"INPUT!MG407","v":""},{"$f":"INPUT!MH407","v":""},{"$f":"INPUT!MI407","v":""}]
[null,{"$f":"INPUT!EA408","v":""},{"$f":"INPUT!EB408","v":""},{"$f":"INPUT!EC408","v":""},{"$f":"INPUT!ED408","v":""},{"$f":"INPUT!EE408","v":""},{"$f":"INPUT!EF408","v":""},{"$f":"INPUT!EG408","v":""},"",null,{"$f":"INPUT!EY408","v":""},{"$f":"INPUT!EZ408","v":""},{"$f":"INPUT!FA408","v":""},{"$f":"INPUT!FB408","v":""},{"$f":"INPUT!FC408","v":""},{"$f":"INPUT!FD408","v":""},{"$f":"INPUT!FE408","v":""},"",null,{"$f":"INPUT!FW408","v":""},{"$f":"INPUT!FX408","v":""},{"$f":"INPUT!FY408","v":""},{"$f":"INPUT!FZ408","v":""},{"$f":"INPUT!GA408","v":""},{"$f":"INPUT!GB408","v":""},{"$f":"INPUT!GC408","v":""},null,{"$f":"INPUT!GY408","v":""},{"$f":"INPUT!GZ408","v":""},{"$f":"INPUT!HA408","v":""},{"$f":"INPUT!HB408","v":""},{"$f":"INPUT!HC408","v":""},{"$f":"INPUT!HD408","v":""},{"$f":"INPUT!HE408","v":""},{"$f":"INPUT!HF408","v":""},{"$f":"INPUT!HG408","v":""},null,{"$f":"INPUT!IA408","v":""},{"$f":"INPUT!IB408","v":""},{"$f":"INPUT!IC408","v":""},{"$f":"INPUT!ID408","v":""},{"$f":"INPUT!IE408","v":""},{"$f":"INPUT!IF408","v":""},{"$f":"INPUT!IG408","v":""},{"$f":"INPUT!IH408","v":""},null,{"$f":"INPUT!IZ408","v":""},{"$f":"INPUT!JA408","v":""},{"$f":"INPUT!JB408","v":""},{"$f":"INPUT!JC408","v":""},{"$f":"INPUT!JD408","v":""},{"$f":"INPUT!JE408","v":""},{"$f":"INPUT!JF408","v":""},"",null,{"$f":"INPUT!JX408","v":""},{"$f":"INPUT!JY408","v":""},{"$f":"INPUT!JZ408","v":""},{"$f":"INPUT!KA408","v":""},{"$f":"INPUT!KB408","v":""},{"$f":"INPUT!KC408","v":""},{"$f":"INPUT!KD408","v":""},"",null,{"$f":"INPUT!KZ408","v":""},{"$f":"INPUT!LA408","v":""},{"$f":"INPUT!LB408","v":""},{"$f":"INPUT!LC408","v":""},{"$f":"INPUT!LD408","v":""},{"$f":"INPUT!LE408","v":""},{"$f":"INPUT!LF408","v":""},{"$f":"INPUT!LG408","v":""},{"$f":"INPUT!LH408","v":""},null,{"$f":"INPUT!MB408","v":""},{"$f":"INPUT!MC408","v":""},{"$f":"INPUT!MD408","v":""},{"$f":"INPUT!ME408","v":""},{"$f":"INPUT!MF408","v":""},{"$f":"INPUT!MG408","v":""},{"$f":"INPUT!MH408","v":""},{"$f":"INPUT!MI408","v":""}]
[null,{"$f":"INPUT!EA409","v":""},{"$f":"INPUT!EB409","v":""},{"$f":"INPUT!EC409","v":""},{"$f":"INPUT!ED409","v":""},{"$f":"INPUT!EE409","v":""},{"$f":"INPUT!EF409","v":""},{"$f":"INPUT!EG409","v":""},"",null,{"$f":"INPUT!EY409","v":""},{"$f":"INPUT!EZ409","v":""},{"$f":"INPUT!FA409","v":""},{"$f":"INPUT!FB409","v":""},{"$f":"INPUT!FC409","v":""},{"$f":"INPUT!FD409","v":""},{"$f":"INPUT!FE409","v":""},"",null,{"$f":"INPUT!FW409","v":""},{"$f":"INPUT!FX409","v":""},{"$f":"INPUT!FY409","v":""},{"$f":"INPUT!FZ409","v":""},{"$f":"INPUT!GA409","v":""},{"$f":"INPUT!GB409","v":""},{"$f":"INPUT!GC409","v":""},null,{"$f":"INPUT!GY409","v":""},{"$f":"INPUT!GZ409","v":""},{"$f":"INPUT!HA409","v":""},{"$f":"INPUT!HB409","v":""},{"$f":"INPUT!HC409","v":""},{"$f":"INPUT!HD409","v":""},{"$f":"INPUT!HE409","v":""},{"$f":"INPUT!HF409","v":""},{"$f":"INPUT!HG409","v":""},null,{"$f":"INPUT!IA409","v":""},{"$f":"INPUT!IB409","v":""},{"$f":"INPUT!IC409","v":""},{"$f":"INPUT!ID409","v":""},{"$f":"INPUT!IE409","v":""},{"$f":"INPUT!IF409","v":""},{"$f":"INPUT!IG409","v":""},{"$f":"INPUT!IH409","v":""},null,{"$f":"INPUT!IZ409","v":""},{"$f":"INPUT!JA409","v":""},{"$f":"INPUT!JB409","v":""},{"$f":"INPUT!JC409","v":""},{"$f":"INPUT!JD409","v":""},{"$f":"INPUT!JE409","v":""},{"$f":"INPUT!JF409","v":""},"",null,{"$f":"INPUT!JX409","v":""},{"$f":"INPUT!JY409","v":""},{"$f":"INPUT!JZ409","v":""},{"$f":"INPUT!KA409","v":""},{"$f":"INPUT!KB409","v":""},{"$f":"INPUT!KC409","v":""},{"$f":"INPUT!KD409","v":""},"",null,{"$f":"INPUT!KZ409","v":""},{"$f":"INPUT!LA409","v":""},{"$f":"INPUT!LB409","v":""},{"$f":"INPUT!LC409","v":""},{"$f":"INPUT!LD409","v":""},{"$f":"INPUT!LE409","v":""},{"$f":"INPUT!LF409","v":""},{"$f":"INPUT!LG409","v":""},{"$f":"INPUT!LH409","v":""},null,{"$f":"INPUT!MB409","v":""},{"$f":"INPUT!MC409","v":""},{"$f":"INPUT!MD409","v":""},{"$f":"INPUT!ME409","v":""},{"$f":"INPUT!MF409","v":""},{"$f":"INPUT!MG409","v":""},{"$f":"INPUT!MH409","v":""},{"$f":"INPUT!MI409","v":""}]
[null,{"$f":"INPUT!EA410","v":""},{"$f":"INPUT!EB410","v":""},{"$f":"INPUT!EC410","v":""},{"$f":"INPUT!ED410","v":""},{"$f":"INPUT!EE410","v":""},{"$f":"INPUT!EF410","v":""},{"$f":"INPUT!EG410","v":""},"",null,{"$f":"INPUT!EY410","v":""},{"$f":"INPUT!EZ410","v":""},{"$f":"INPUT!FA410","v":""},{"$f":"INPUT!FB410","v":""},{"$f":"INPUT!FC410","v":""},{"$f":"INPUT!FD410","v":""},{"$f":"INPUT!FE410","v":""},"",null,{"$f":"INPUT!FW410","v":""},{"$f":"INPUT!FX410","v":""},{"$f":"INPUT!FY410","v":""},{"$f":"INPUT!FZ410","v":""},{"$f":"INPUT!GA410","v":""},{"$f":"INPUT!GB410","v":""},{"$f":"INPUT!GC410","v":""},null,{"$f":"INPUT!GY410","v":""},{"$f":"INPUT!GZ410","v":""},{"$f":"INPUT!HA410","v":""},{"$f":"INPUT!HB410","v":""},{"$f":"INPUT!HC410","v":""},{"$f":"INPUT!HD410","v":""},{"$f":"INPUT!HE410","v":""},{"$f":"INPUT!HF410","v":""},{"$f":"INPUT!HG410","v":""},null,{"$f":"INPUT!IA410","v":""},{"$f":"INPUT!IB410","v":""},{"$f":"INPUT!IC410","v":""},{"$f":"INPUT!ID410","v":""},{"$f":"INPUT!IE410","v":""},{"$f":"INPUT!IF410","v":""},{"$f":"INPUT!IG410","v":""},{"$f":"INPUT!IH410","v":""},null,{"$f":"INPUT!IZ410","v":""},{"$f":"INPUT!JA410","v":""},{"$f":"INPUT!JB410","v":""},{"$f":"INPUT!JC410","v":""},{"$f":"INPUT!JD410","v":""},{"$f":"INPUT!JE410","v":""},{"$f":"INPUT!JF410","v":""},"",null,{"$f":"INPUT!JX410","v":""},{"$f":"INPUT!JY410","v":""},{"$f":"INPUT!JZ410","v":""},{"$f":"INPUT!KA410","v":""},{"$f":"INPUT!KB410","v":""},{"$f":"INPUT!KC410","v":""},{"$f":"INPUT!KD410","v":""},"",null,{"$f":"INPUT!KZ410","v":""},{"$f":"INPUT!LA410","v":""},{"$f":"INPUT!LB410","v":""},{"$f":"INPUT!LC410","v":""},{"$f":"INPUT!LD410","v":""},{"$f":"INPUT!LE410","v":""},{"$f":"INPUT!LF410","v":""},{"$f":"INPUT!LG410","v":""},{"$f":"INPUT!LH410","v":""},null,{"$f":"INPUT!MB410","v":""},{"$f":"INPUT!MC410","v":""},{"$f":"INPUT!MD410","v":""},{"$f":"INPUT!ME410","v":""},{"$f":"INPUT!MF410","v":""},{"$f":"INPUT!MG410","v":""},{"$f":"INPUT!MH410","v":""},{"$f":"INPUT!MI410","v":""}]
[null,{"$f":"INPUT!EA411","v":""},{"$f":"INPUT!EB411","v":""},{"$f":"INPUT!EC411","v":""},{"$f":"INPUT!ED411","v":""},{"$f":"INPUT!EE411","v":""},{"$f":"INPUT!EF411","v":""},{"$f":"INPUT!EG411","v":""},"",null,{"$f":"INPUT!EY411","v":""},{"$f":"INPUT!EZ411","v":""},{"$f":"INPUT!FA411","v":""},{"$f":"INPUT!FB411","v":""},{"$f":"INPUT!FC411","v":""},{"$f":"INPUT!FD411","v":""},{"$f":"INPUT!FE411","v":""},"",null,{"$f":"INPUT!FW411","v":""},{"$f":"INPUT!FX411","v":""},{"$f":"INPUT!FY411","v":""},{"$f":"INPUT!FZ411","v":""},{"$f":"INPUT!GA411","v":""},{"$f":"INPUT!GB411","v":""},{"$f":"INPUT!GC411","v":""},null,{"$f":"INPUT!GY411","v":""},{"$f":"INPUT!GZ411","v":""},{"$f":"INPUT!HA411","v":""},{"$f":"INPUT!HB411","v":""},{"$f":"INPUT!HC411","v":""},{"$f":"INPUT!HD411","v":""},{"$f":"INPUT!HE411","v":""},{"$f":"INPUT!HF411","v":""},{"$f":"INPUT!HG411","v":""},null,{"$f":"INPUT!IA411","v":""},{"$f":"INPUT!IB411","v":""},{"$f":"INPUT!IC411","v":""},{"$f":"INPUT!ID411","v":""},{"$f":"INPUT!IE411","v":""},{"$f":"INPUT!IF411","v":""},{"$f":"INPUT!IG411","v":""},{"$f":"INPUT!IH411","v":""},null,{"$f":"INPUT!IZ411","v":""},{"$f":"INPUT!JA411","v":""},{"$f":"INPUT!JB411","v":""},{"$f":"INPUT!JC411","v":""},{"$f":"INPUT!JD411","v":""},{"$f":"INPUT!JE411","v":""},{"$f":"INPUT!JF411","v":""},"",null,{"$f":"INPUT!JX411","v":""},{"$f":"INPUT!JY411","v":""},{"$f":"INPUT!JZ411","v":""},{"$f":"INPUT!KA411","v":""},{"$f":"INPUT!KB411","v":""},{"$f":"INPUT!KC411","v":""},{"$f":"INPUT!KD411","v":""},"",null,{"$f":"INPUT!KZ411","v":""},{"$f":"INPUT!LA411","v":""},{"$f":"INPUT!LB411","v":""},{"$f":"INPUT!LC411","v":""},{"$f":"INPUT!LD411","v":""},{"$f":"INPUT!LE411","v":""},{"$f":"INPUT!LF411","v":""},{"$f":"INPUT!LG411","v":""},{"$f":"INPUT!LH411","v":""},null,{"$f":"INPUT!MB411","v":""},{"$f":"INPUT!MC411","v":""},{"$f":"INPUT!MD411","v":""},{"$f":"INPUT!ME411","v":""},{"$f":"INPUT!MF411","v":""},{"$f":"INPUT!MG411","v":""},{"$f":"INPUT!MH411","v":""},{"$f":"INPUT!MI411","v":""}]
[null,{"$f":"INPUT!EA412","v":""},{"$f":"INPUT!EB412","v":""},{"$f":"INPUT!EC412","v":""},{"$f":"INPUT!ED412","v":""},{"$f":"INPUT!EE412","v":""},{"$f":"INPUT!EF412","v":""},{"$f":"INPUT!EG412","v":""},"",null,{"$f":"INPUT!EY412","v":""},{"$f":"INPUT!EZ412","v":""},{"$f":"INPUT!FA412","v":""},{"$f":"INPUT!FB412","v":""},{"$f":"INPUT!FC412","v":""},{"$f":"INPUT!FD412","v":""},{"$f":"INPUT!FE412","v":""},"",null,{"$f":"INPUT!FW412","v":""},{"$f":"INPUT!FX412","v":""},{"$f":"INPUT!FY412","v":""},{"$f":"INPUT!FZ412","v":""},{"$f":"INPUT!GA412","v":""},{"$f":"INPUT!GB412","v":""},{"$f":"INPUT!GC412","v":""},null,{"$f":"INPUT!GY412","v":""},{"$f":"INPUT!GZ412","v":""},{"$f":"INPUT!HA412","v":""},{"$f":"INPUT!HB412","v":""},{"$f":"INPUT!HC412","v":""},{"$f":"INPUT!HD412","v":""},{"$f":"INPUT!HE412","v":""},{"$f":"INPUT!HF412","v":""},{"$f":"INPUT!HG412","v":""},null,{"$f":"INPUT!IA412","v":""},{"$f":"INPUT!IB412","v":""},{"$f":"INPUT!IC412","v":""},{"$f":"INPUT!ID412","v":""},{"$f":"INPUT!IE412","v":""},{"$f":"INPUT!IF412","v":""},{"$f":"INPUT!IG412","v":""},{"$f":"INPUT!IH412","v":""},null,{"$f":"INPUT!IZ412","v":""},{"$f":"INPUT!JA412","v":""},{"$f":"INPUT!JB412","v":""},{"$f":"INPUT!JC412","v":""},{"$f":"INPUT!JD412","v":""},{"$f":"INPUT!JE412","v":""},{"$f":"INPUT!JF412","v":""},"",null,{"$f":"INPUT!JX412","v":""},{"$f":"INPUT!JY412","v":""},{"$f":"INPUT!JZ412","v":""},{"$f":"INPUT!KA412","v":""},{"$f":"INPUT!KB412","v":""},{"$f":"INPUT!KC412","v":""},{"$f":"INPUT!KD412","v":""},"",null,{"$f":"INPUT!KZ412","v":""},{"$f":"INPUT!LA412","v":""},{"$f":"INPUT!LB412","v":""},{"$f":"INPUT!LC412","v":""},{"$f":"INPUT!LD412","v":""},{"$f":"INPUT!LE412","v":""},{"$f":"INPUT!LF412","v":""},{"$f":"INPUT!LG412","v":""},{"$f":"INPUT!LH412","v":""},null,{"$f":"INPUT!MB412","v":""},{"$f":"INPUT!MC412","v":""},{"$f":"INPUT!MD412","v":""},{"$f":"INPUT!ME412","v":""},{"$f":"INPUT!MF412","v":""},{"$f":"INPUT!MG412","v":""},{"$f":"INPUT!MH412","v":""},{"$f":"INPUT!MI412","v":""}]
[null,{"$f":"INPUT!EA413","v":""},{"$f":"INPUT!EB413","v":""},{"$f":"INPUT!EC413","v":""},{"$f":"INPUT!ED413","v":""},{"$f":"INPUT!EE413","v":""},{"$f":"INPUT!EF413","v":""},{"$f":"INPUT!EG413","v":""},"",null,{"$f":"INPUT!EY413","v":""},{"$f":"INPUT!EZ413","v":""},{"$f":"INPUT!FA413","v":""},{"$f":"INPUT!FB413","v":""},{"$f":"INPUT!FC413","v":""},{"$f":"INPUT!FD413","v":""},{"$f":"INPUT!FE413","v":""},"",null,{"$f":"INPUT!FW413","v":""},{"$f":"INPUT!FX413","v":""},{"$f":"INPUT!FY413","v":""},{"$f":"INPUT!FZ413","v":""},{"$f":"INPUT!GA413","v":""},{"$f":"INPUT!GB413","v":""},{"$f":"INPUT!GC413","v":""},null,{"$f":"INPUT!GY413","v":""},{"$f":"INPUT!GZ413","v":""},{"$f":"INPUT!HA413","v":""},{"$f":"INPUT!HB413","v":""},{"$f":"INPUT!HC413","v":""},{"$f":"INPUT!HD413","v":""},{"$f":"INPUT!HE413","v":""},{"$f":"INPUT!HF413","v":""},{"$f":"INPUT!HG413","v":""},null,{"$f":"INPUT!IA413","v":""},{"$f":"INPUT!IB413","v":""},{"$f":"INPUT!IC413","v":""},{"$f":"INPUT!ID413","v":""},{"$f":"INPUT!IE413","v":""},{"$f":"INPUT!IF413","v":""},{"$f":"INPUT!IG413","v":""},{"$f":"INPUT!IH413","v":""},null,{"$f":"INPUT!IZ413","v":""},{"$f":"INPUT!JA413","v":""},{"$f":"INPUT!JB413","v":""},{"$f":"INPUT!JC413","v":""},{"$f":"INPUT!JD413","v":""},{"$f":"INPUT!JE413","v":""},{"$f":"INPUT!JF413","v":""},"",null,{"$f":"INPUT!JX413","v":""},{"$f":"INPUT!JY413","v":""},{"$f":"INPUT!JZ413","v":""},{"$f":"INPUT!KA413","v":""},{"$f":"INPUT!KB413","v":""},{"$f":"INPUT!KC413","v":""},{"$f":"INPUT!KD413","v":""},"",null,{"$f":"INPUT!KZ413","v":""},{"$f":"INPUT!LA413","v":""},{"$f":"INPUT!LB413","v":""},{"$f":"INPUT!LC413","v":""},{"$f":"INPUT!LD413","v":""},{"$f":"INPUT!LE413","v":""},{"$f":"INPUT!LF413","v":""},{"$f":"INPUT!LG413","v":""},{"$f":"INPUT!LH413","v":""},null,{"$f":"INPUT!MB413","v":""},{"$f":"INPUT!MC413","v":""},{"$f":"INPUT!MD413","v":""},{"$f":"INPUT!ME413","v":""},{"$f":"INPUT!MF413","v":""},{"$f":"INPUT!MG413","v":""},{"$f":"INPUT!MH413","v":""},{"$f":"INPUT!MI413","v":""}]
[null,{"$f":"INPUT!EA414","v":""},{"$f":"INPUT!EB414","v":""},{"$f":"INPUT!EC414","v":""},{"$f":"INPUT!ED414","v":""},{"$f":"INPUT!EE414","v":""},{"$f":"INPUT!EF414","v":""},{"$f":"INPUT!EG414","v":""},"",null,{"$f":"INPUT!EY414","v":""},{"$f":"INPUT!EZ414","v":""},{"$f":"INPUT!FA414","v":""},{"$f":"INPUT!FB414","v":""},{"$f":"INPUT!FC414","v":""},{"$f":"INPUT!FD414","v":""},{"$f":"INPUT!FE414","v":""},"",null,{"$f":"INPUT!FW414","v":""},{"$f":"INPUT!FX414","v":""},{"$f":"INPUT!FY414","v":""},{"$f":"INPUT!FZ414","v":""},{"$f":"INPUT!GA414","v":""},{"$f":"INPUT!GB414","v":""},{"$f":"INPUT!GC414","v":""},null,{"$f":"INPUT!GY414","v":""},{"$f":"INPUT!GZ414","v":""},{"$f":"INPUT!HA414","v":""},{"$f":"INPUT!HB414","v":""},{"$f":"INPUT!HC414","v":""},{"$f":"INPUT!HD414","v":""},{"$f":"INPUT!HE414","v":""},{"$f":"INPUT!HF414","v":""},{"$f":"INPUT!HG414","v":""},null,{"$f":"INPUT!IA414","v":""},{"$f":"INPUT!IB414","v":""},{"$f":"INPUT!IC414","v":""},{"$f":"INPUT!ID414","v":""},{"$f":"INPUT!IE414","v":""},{"$f":"INPUT!IF414","v":""},{"$f":"INPUT!IG414","v":""},{"$f":"INPUT!IH414","v":""},null,{"$f":"INPUT!IZ414","v":""},{"$f":"INPUT!JA414","v":""},{"$f":"INPUT!JB414","v":""},{"$f":"INPUT!JC414","v":""},{"$f":"INPUT!JD414","v":""},{"$f":"INPUT!JE414","v":""},{"$f":"INPUT!JF414","v":""},"",null,{"$f":"INPUT!JX414","v":""},{"$f":"INPUT!JY414","v":""},{"$f":"INPUT!JZ414","v":""},{"$f":"INPUT!KA414","v":""},{"$f":"INPUT!KB414","v":""},{"$f":"INPUT!KC414","v":""},{"$f":"INPUT!KD414","v":""},"",null,{"$f":"INPUT!KZ414","v":""},{"$f":"INPUT!LA414","v":""},{"$f":"INPUT!LB414","v":""},{"$f":"INPUT!LC414","v":""},{"$f":"INPUT!LD414","v":""},{"$f":"INPUT!LE414","v":""},{"$f":"INPUT!LF414","v":""},{"$f":"INPUT!LG414","v":""},{"$f":"INPUT!LH414","v":""},null,{"$f":"INPUT!MB414","v":""},{"$f":"INPUT!MC414","v":""},{"$f":"INPUT!MD414","v":""},{"$f":"INPUT!ME414","v":""},{"$f":"INPUT!MF414","v":""},{"$f":"INPUT!MG414","v":""},{"$f":"INPUT!MH414","v":""},{"$f":"INPUT!MI414","v":""}]
[null,{"$f":"INPUT!EA415","v":""},{"$f":"INPUT!EB415","v":""},{"$f":"INPUT!EC415","v":""},{"$f":"INPUT!ED415","v":""},{"$f":"INPUT!EE415","v":""},{"$f":"INPUT!EF415","v":""},{"$f":"INPUT!EG415","v":""},"",null,{"$f":"INPUT!EY415","v":""},{"$f":"INPUT!EZ415","v":""},{"$f":"INPUT!FA415","v":""},{"$f":"INPUT!FB415","v":""},{"$f":"INPUT!FC415","v":""},{"$f":"INPUT!FD415","v":""},{"$f":"INPUT!FE415","v":""},"",null,{"$f":"INPUT!FW415","v":""},{"$f":"INPUT!FX415","v":""},{"$f":"INPUT!FY415","v":""},{"$f":"INPUT!FZ415","v":""},{"$f":"INPUT!GA415","v":""},{"$f":"INPUT!GB415","v":""},{"$f":"INPUT!GC415","v":""},null,{"$f":"INPUT!GY415","v":""},{"$f":"INPUT!GZ415","v":""},{"$f":"INPUT!HA415","v":""},{"$f":"INPUT!HB415","v":""},{"$f":"INPUT!HC415","v":""},{"$f":"INPUT!HD415","v":""},{"$f":"INPUT!HE415","v":""},{"$f":"INPUT!HF415","v":""},{"$f":"INPUT!HG415","v":""},null,{"$f":"INPUT!IA415","v":""},{"$f":"INPUT!IB415","v":""},{"$f":"INPUT!IC415","v":""},{"$f":"INPUT!ID415","v":""},{"$f":"INPUT!IE415","v":""},{"$f":"INPUT!IF415","v":""},{"$f":"INPUT!IG415","v":""},{"$f":"INPUT!IH415","v":""},null,{"$f":"INPUT!IZ415","v":""},{"$f":"INPUT!JA415","v":""},{"$f":"INPUT!JB415","v":""},{"$f":"INPUT!JC415","v":""},{"$f":"INPUT!JD415","v":""},{"$f":"INPUT!JE415","v":""},{"$f":"INPUT!JF415","v":""},"",null,{"$f":"INPUT!JX415","v":""},{"$f":"INPUT!JY415","v":""},{"$f":"INPUT!JZ415","v":""},{"$f":"INPUT!KA415","v":""},{"$f":"INPUT!KB415","v":""},{"$f":"INPUT!KC415","v":""},{"$f":"INPUT!KD415","v":""},"",null,{"$f":"INPUT!KZ415","v":""},{"$f":"INPUT!LA415","v":""},{"$f":"INPUT!LB415","v":""},{"$f":"INPUT!LC415","v":""},{"$f":"INPUT!LD415","v":""},{"$f":"INPUT!LE415","v":""},{"$f":"INPUT!LF415","v":""},{"$f":"INPUT!LG415","v":""},{"$f":"INPUT!LH415","v":""},null,{"$f":"INPUT!MB415","v":""},{"$f":"INPUT!MC415","v":""},{"$f":"INPUT!MD415","v":""},{"$f":"INPUT!ME415","v":""},{"$f":"INPUT!MF415","v":""},{"$f":"INPUT!MG415","v":""},{"$f":"INPUT!MH415","v":""},{"$f":"INPUT!MI415","v":""}]
[null,{"$f":"INPUT!EA416","v":""},{"$f":"INPUT!EB416","v":""},{"$f":"INPUT!EC416","v":""},{"$f":"INPUT!ED416","v":""},{"$f":"INPUT!EE416","v":""},{"$f":"INPUT!EF416","v":""},{"$f":"INPUT!EG416","v":""},"",null,{"$f":"INPUT!EY416","v":""},{"$f":"INPUT!EZ416","v":""},{"$f":"INPUT!FA416","v":""},{"$f":"INPUT!FB416","v":""},{"$f":"INPUT!FC416","v":""},{"$f":"INPUT!FD416","v":""},{"$f":"INPUT!FE416","v":""},"",null,{"$f":"INPUT!FW416","v":""},{"$f":"INPUT!FX416","v":""},{"$f":"INPUT!FY416","v":""},{"$f":"INPUT!FZ416","v":""},{"$f":"INPUT!GA416","v":""},{"$f":"INPUT!GB416","v":""},{"$f":"INPUT!GC416","v":""},null,{"$f":"INPUT!GY416","v":""},{"$f":"INPUT!GZ416","v":""},{"$f":"INPUT!HA416","v":""},{"$f":"INPUT!HB416","v":""},{"$f":"INPUT!HC416","v":""},{"$f":"INPUT!HD416","v":""},{"$f":"INPUT!HE416","v":""},{"$f":"INPUT!HF416","v":""},{"$f":"INPUT!HG416","v":""},null,{"$f":"INPUT!IA416","v":""},{"$f":"INPUT!IB416","v":""},{"$f":"INPUT!IC416","v":""},{"$f":"INPUT!ID416","v":""},{"$f":"INPUT!IE416","v":""},{"$f":"INPUT!IF416","v":""},{"$f":"INPUT!IG416","v":""},{"$f":"INPUT!IH416","v":""},null,{"$f":"INPUT!IZ416","v":""},{"$f":"INPUT!JA416","v":""},{"$f":"INPUT!JB416","v":""},{"$f":"INPUT!JC416","v":""},{"$f":"INPUT!JD416","v":""},{"$f":"INPUT!JE416","v":""},{"$f":"INPUT!JF416","v":""},"",null,{"$f":"INPUT!JX416","v":""},{"$f":"INPUT!JY416","v":""},{"$f":"INPUT!JZ416","v":""},{"$f":"INPUT!KA416","v":""},{"$f":"INPUT!KB416","v":""},{"$f":"INPUT!KC416","v":""},{"$f":"INPUT!KD416","v":""},"",null,{"$f":"INPUT!KZ416","v":""},{"$f":"INPUT!LA416","v":""},{"$f":"INPUT!LB416","v":""},{"$f":"INPUT!LC416","v":""},{"$f":"INPUT!LD416","v":""},{"$f":"INPUT!LE416","v":""},{"$f":"INPUT!LF416","v":""},{"$f":"INPUT!LG416","v":""},{"$f":"INPUT!LH416","v":""},null,{"$f":"INPUT!MB416","v":""},{"$f":"INPUT!MC416","v":""},{"$f":"INPUT!MD416","v":""},{"$f":"INPUT!ME416","v":""},{"$f":"INPUT!MF416","v":""},{"$f":"INPUT!MG416","v":""},{"$f":"INPUT!MH416","v":""},{"$f":"INPUT!MI416","v":""}]
[null,{"$f":"INPUT!EA417","v":""},{"$f":"INPUT!EB417","v":""},{"$f":"INPUT!EC417","v":""},{"$f":"INPUT!ED417","v":""},{"$f":"INPUT!EE417","v":""},{"$f":"INPUT!EF417","v":""},{"$f":"INPUT!EG417","v":""},"",null,{"$f":"INPUT!EY417","v":""},{"$f":"INPUT!EZ417","v":""},{"$f":"INPUT!FA417","v":""},{"$f":"INPUT!FB417","v":""},{"$f":"INPUT!FC417","v":""},{"$f":"INPUT!FD417","v":""},{"$f":"INPUT!FE417","v":""},"",null,{"$f":"INPUT!FW417","v":""},{"$f":"INPUT!FX417","v":""},{"$f":"INPUT!FY417","v":""},{"$f":"INPUT!FZ417","v":""},{"$f":"INPUT!GA417","v":""},{"$f":"INPUT!GB417","v":""},{"$f":"INPUT!GC417","v":""},null,{"$f":"INPUT!GY417","v":""},{"$f":"INPUT!GZ417","v":""},{"$f":"INPUT!HA417","v":""},{"$f":"INPUT!HB417","v":""},{"$f":"INPUT!HC417","v":""},{"$f":"INPUT!HD417","v":""},{"$f":"INPUT!HE417","v":""},{"$f":"INPUT!HF417","v":""},{"$f":"INPUT!HG417","v":""},null,{"$f":"INPUT!IA417","v":""},{"$f":"INPUT!IB417","v":""},{"$f":"INPUT!IC417","v":""},{"$f":"INPUT!ID417","v":""},{"$f":"INPUT!IE417","v":""},{"$f":"INPUT!IF417","v":""},{"$f":"INPUT!IG417","v":""},{"$f":"INPUT!IH417","v":""},null,{"$f":"INPUT!IZ417","v":""},{"$f":"INPUT!JA417","v":""},{"$f":"INPUT!JB417","v":""},{"$f":"INPUT!JC417","v":""},{"$f":"INPUT!JD417","v":""},{"$f":"INPUT!JE417","v":""},{"$f":"INPUT!JF417","v":""},"",null,{"$f":"INPUT!JX417","v":""},{"$f":"INPUT!JY417","v":""},{"$f":"INPUT!JZ417","v":""},{"$f":"INPUT!KA417","v":""},{"$f":"INPUT!KB417","v":""},{"$f":"INPUT!KC417","v":""},{"$f":"INPUT!KD417","v":""},"",null,{"$f":"INPUT!KZ417","v":""},{"$f":"INPUT!LA417","v":""},{"$f":"INPUT!LB417","v":""},{"$f":"INPUT!LC417","v":""},{"$f":"INPUT!LD417","v":""},{"$f":"INPUT!LE417","v":""},{"$f":"INPUT!LF417","v":""},{"$f":"INPUT!LG417","v":""},{"$f":"INPUT!LH417","v":""},null,{"$f":"INPUT!MB417","v":""},{"$f":"INPUT!MC417","v":""},{"$f":"INPUT!MD417","v":""},{"$f":"INPUT!ME417","v":""},{"$f":"INPUT!MF417","v":""},{"$f":"INPUT!MG417","v":""},{"$f":"INPUT!MH417","v":""},{"$f":"INPUT!MI417","v":""}]
[null,{"$f":"INPUT!EA418","v":""},{"$f":"INPUT!EB418","v":""},{"$f":"INPUT!EC418","v":""},{"$f":"INPUT!ED418","v":""},{"$f":"INPUT!EE418","v":""},{"$f":"INPUT!EF418","v":""},{"$f":"INPUT!EG418","v":""},"",null,{"$f":"INPUT!EY418","v":""},{"$f":"INPUT!EZ418","v":""},{"$f":"INPUT!FA418","v":""},{"$f":"INPUT!FB418","v":""},{"$f":"INPUT!FC418","v":""},{"$f":"INPUT!FD418","v":""},{"$f":"INPUT!FE418","v":""},"",null,{"$f":"INPUT!FW418","v":""},{"$f":"INPUT!FX418","v":""},{"$f":"INPUT!FY418","v":""},{"$f":"INPUT!FZ418","v":""},{"$f":"INPUT!GA418","v":""},{"$f":"INPUT!GB418","v":""},{"$f":"INPUT!GC418","v":""},null,{"$f":"INPUT!GY418","v":""},{"$f":"INPUT!GZ418","v":""},{"$f":"INPUT!HA418","v":""},{"$f":"INPUT!HB418","v":""},{"$f":"INPUT!HC418","v":""},{"$f":"INPUT!HD418","v":""},{"$f":"INPUT!HE418","v":""},{"$f":"INPUT!HF418","v":""},{"$f":"INPUT!HG418","v":""},null,{"$f":"INPUT!IA418","v":""},{"$f":"INPUT!IB418","v":""},{"$f":"INPUT!IC418","v":""},{"$f":"INPUT!ID418","v":""},{"$f":"INPUT!IE418","v":""},{"$f":"INPUT!IF418","v":""},{"$f":"INPUT!IG418","v":""},{"$f":"INPUT!IH418","v":""},null,{"$f":"INPUT!IZ418","v":""},{"$f":"INPUT!JA418","v":""},{"$f":"INPUT!JB418","v":""},{"$f":"INPUT!JC418","v":""},{"$f":"INPUT!JD418","v":""},{"$f":"INPUT!JE418","v":""},{"$f":"INPUT!JF418","v":""},"",null,{"$f":"INPUT!JX418","v":""},{"$f":"INPUT!JY418","v":""},{"$f":"INPUT!JZ418","v":""},{"$f":"INPUT!KA418","v":""},{"$f":"INPUT!KB418","v":""},{"$f":"INPUT!KC418","v":""},{"$f":"INPUT!KD418","v":""},"",null,{"$f":"INPUT!KZ418","v":""},{"$f":"INPUT!LA418","v":""},{"$f":"INPUT!LB418","v":""},{"$f":"INPUT!LC418","v":""},{"$f":"INPUT!LD418","v":""},{"$f":"INPUT!LE418","v":""},{"$f":"INPUT!LF418","v":""},{"$f":"INPUT!LG418","v":""},{"$f":"INPUT!LH418","v":""},null,{"$f":"INPUT!MB418","v":""},{"$f":"INPUT!MC418","v":""},{"$f":"INPUT!MD418","v":""},{"$f":"INPUT!ME418","v":""},{"$f":"INPUT!MF418","v":""},{"$f":"INPUT!MG418","v":""},{"$f":"INPUT!MH418","v":""},{"$f":"INPUT!MI418","v":""}]
[null,{"$f":"INPUT!EA419","v":""},{"$f":"INPUT!EB419","v":""},{"$f":"INPUT!EC419","v":""},{"$f":"INPUT!ED419","v":""},{"$f":"INPUT!EE419","v":""},{"$f":"INPUT!EF419","v":""},{"$f":"INPUT!EG419","v":""},"",null,{"$f":"INPUT!EY419","v":""},{"$f":"INPUT!EZ419","v":""},{"$f":"INPUT!FA419","v":""},{"$f":"INPUT!FB419","v":""},{"$f":"INPUT!FC419","v":""},{"$f":"INPUT!FD419","v":""},{"$f":"INPUT!FE419","v":""},"",null,{"$f":"INPUT!FW419","v":""},{"$f":"INPUT!FX419","v":""},{"$f":"INPUT!FY419","v":""},{"$f":"INPUT!FZ419","v":""},{"$f":"INPUT!GA419","v":""},{"$f":"INPUT!GB419","v":""},{"$f":"INPUT!GC419","v":""},null,{"$f":"INPUT!GY419","v":""},{"$f":"INPUT!GZ419","v":""},{"$f":"INPUT!HA419","v":""},{"$f":"INPUT!HB419","v":""},{"$f":"INPUT!HC419","v":""},{"$f":"INPUT!HD419","v":""},{"$f":"INPUT!HE419","v":""},{"$f":"INPUT!HF419","v":""},{"$f":"INPUT!HG419","v":""},null,{"$f":"INPUT!IA419","v":""},{"$f":"INPUT!IB419","v":""},{"$f":"INPUT!IC419","v":""},{"$f":"INPUT!ID419","v":""},{"$f":"INPUT!IE419","v":""},{"$f":"INPUT!IF419","v":""},{"$f":"INPUT!IG419","v":""},{"$f":"INPUT!IH419","v":""},null,{"$f":"INPUT!IZ419","v":""},{"$f":"INPUT!JA419","v":""},{"$f":"INPUT!JB419","v":""},{"$f":"INPUT!JC419","v":""},{"$f":"INPUT!JD419","v":""},{"$f":"INPUT!JE419","v":""},{"$f":"INPUT!JF419","v":""},"",null,{"$f":"INPUT!JX419","v":""},{"$f":"INPUT!JY419","v":""},{"$f":"INPUT!JZ419","v":""},{"$f":"INPUT!KA419","v":""},{"$f":"INPUT!KB419","v":""},{"$f":"INPUT!KC419","v":""},{"$f":"INPUT!KD419","v":""},"",null,{"$f":"INPUT!KZ419","v":""},{"$f":"INPUT!LA419","v":""},{"$f":"INPUT!LB419","v":""},{"$f":"INPUT!LC419","v":""},{"$f":"INPUT!LD419","v":""},{"$f":"INPUT!LE419","v":""},{"$f":"INPUT!LF419","v":""},{"$f":"INPUT!LG419","v":""},{"$f":"INPUT!LH419","v":""},null,{"$f":"INPUT!MB419","v":""},{"$f":"INPUT!MC419","v":""},{"$f":"INPUT!MD419","v":""},{"$f":"INPUT!ME419","v":""},{"$f":"INPUT!MF419","v":""},{"$f":"INPUT!MG419","v":""},{"$f":"INPUT!MH419","v":""},{"$f":"INPUT!MI419","v":""}]
[null,{"$f":"INPUT!EA420","v":""},{"$f":"INPUT!EB420","v":""},{"$f":"INPUT!EC420","v":""},{"$f":"INPUT!ED420","v":""},{"$f":"INPUT!EE420","v":""},{"$f":"INPUT!EF420","v":""},{"$f":"INPUT!EG420","v":""},"",null,{"$f":"INPUT!EY420","v":""},{"$f":"INPUT!EZ420","v":""},{"$f":"INPUT!FA420","v":""},{"$f":"INPUT!FB420","v":""},{"$f":"INPUT!FC420","v":""},{"$f":"INPUT!FD420","v":""},{"$f":"INPUT!FE420","v":""},"",null,{"$f":"INPUT!FW420","v":""},{"$f":"INPUT!FX420","v":""},{"$f":"INPUT!FY420","v":""},{"$f":"INPUT!FZ420","v":""},{"$f":"INPUT!GA420","v":""},{"$f":"INPUT!GB420","v":""},{"$f":"INPUT!GC420","v":""},null,{"$f":"INPUT!GY420","v":""},{"$f":"INPUT!GZ420","v":""},{"$f":"INPUT!HA420","v":""},{"$f":"INPUT!HB420","v":""},{"$f":"INPUT!HC420","v":""},{"$f":"INPUT!HD420","v":""},{"$f":"INPUT!HE420","v":""},{"$f":"INPUT!HF420","v":""},{"$f":"INPUT!HG420","v":""},null,{"$f":"INPUT!IA420","v":""},{"$f":"INPUT!IB420","v":""},{"$f":"INPUT!IC420","v":""},{"$f":"INPUT!ID420","v":""},{"$f":"INPUT!IE420","v":""},{"$f":"INPUT!IF420","v":""},{"$f":"INPUT!IG420","v":""},{"$f":"INPUT!IH420","v":""},null,{"$f":"INPUT!IZ420","v":""},{"$f":"INPUT!JA420","v":""},{"$f":"INPUT!JB420","v":""},{"$f":"INPUT!JC420","v":""},{"$f":"INPUT!JD420","v":""},{"$f":"INPUT!JE420","v":""},{"$f":"INPUT!JF420","v":""},"",null,{"$f":"INPUT!JX420","v":""},{"$f":"INPUT!JY420","v":""},{"$f":"INPUT!JZ420","v":""},{"$f":"INPUT!KA420","v":""},{"$f":"INPUT!KB420","v":""},{"$f":"INPUT!KC420","v":""},{"$f":"INPUT!KD420","v":""},"",null,{"$f":"INPUT!KZ420","v":""},{"$f":"INPUT!LA420","v":""},{"$f":"INPUT!LB420","v":""},{"$f":"INPUT!LC420","v":""},{"$f":"INPUT!LD420","v":""},{"$f":"INPUT!LE420","v":""},{"$f":"INPUT!LF420","v":""},{"$f":"INPUT!LG420","v":""},{"$f":"INPUT!LH420","v":""},null,{"$f":"INPUT!MB420","v":""},{"$f":"INPUT!MC420","v":""},{"$f":"INPUT!MD420","v":""},{"$f":"INPUT!ME420","v":""},{"$f":"INPUT!MF420","v":""},{"$f":"INPUT!MG420","v":""},{"$f":"INPUT!MH420","v":""},{"$f":"INPUT!MI420","v":""}]
[null,{"$f":"INPUT!EA421","v":""},{"$f":"INPUT!EB421","v":""},{"$f":"INPUT!EC421","v":""},{"$f":"INPUT!ED421","v":""},{"$f":"INPUT!EE421","v":""},{"$f":"INPUT!EF421","v":""},{"$f":"INPUT!EG421","v":""},"",null,{"$f":"INPUT!EY421","v":""},{"$f":"INPUT!EZ421","v":""},{"$f":"INPUT!FA421","v":""},{"$f":"INPUT!FB421","v":""},{"$f":"INPUT!FC421","v":""},{"$f":"INPUT!FD421","v":""},{"$f":"INPUT!FE421","v":""},"",null,{"$f":"INPUT!FW421","v":""},{"$f":"INPUT!FX421","v":""},{"$f":"INPUT!FY421","v":""},{"$f":"INPUT!FZ421","v":""},{"$f":"INPUT!GA421","v":""},{"$f":"INPUT!GB421","v":""},{"$f":"INPUT!GC421","v":""},null,{"$f":"INPUT!GY421","v":""},{"$f":"INPUT!GZ421","v":""},{"$f":"INPUT!HA421","v":""},{"$f":"INPUT!HB421","v":""},{"$f":"INPUT!HC421","v":""},{"$f":"INPUT!HD421","v":""},{"$f":"INPUT!HE421","v":""},{"$f":"INPUT!HF421","v":""},{"$f":"INPUT!HG421","v":""},null,{"$f":"INPUT!IA421","v":""},{"$f":"INPUT!IB421","v":""},{"$f":"INPUT!IC421","v":""},{"$f":"INPUT!ID421","v":""},{"$f":"INPUT!IE421","v":""},{"$f":"INPUT!IF421","v":""},{"$f":"INPUT!IG421","v":""},{"$f":"INPUT!IH421","v":""},null,{"$f":"INPUT!IZ421","v":""},{"$f":"INPUT!JA421","v":""},{"$f":"INPUT!JB421","v":""},{"$f":"INPUT!JC421","v":""},{"$f":"INPUT!JD421","v":""},{"$f":"INPUT!JE421","v":""},{"$f":"INPUT!JF421","v":""},"",null,{"$f":"INPUT!JX421","v":""},{"$f":"INPUT!JY421","v":""},{"$f":"INPUT!JZ421","v":""},{"$f":"INPUT!KA421","v":""},{"$f":"INPUT!KB421","v":""},{"$f":"INPUT!KC421","v":""},{"$f":"INPUT!KD421","v":""},"",null,{"$f":"INPUT!KZ421","v":""},{"$f":"INPUT!LA421","v":""},{"$f":"INPUT!LB421","v":""},{"$f":"INPUT!LC421","v":""},{"$f":"INPUT!LD421","v":""},{"$f":"INPUT!LE421","v":""},{"$f":"INPUT!LF421","v":""},{"$f":"INPUT!LG421","v":""},{"$f":"INPUT!LH421","v":""},null,{"$f":"INPUT!MB421","v":""},{"$f":"INPUT!MC421","v":""},{"$f":"INPUT!MD421","v":""},{"$f":"INPUT!ME421","v":""},{"$f":"INPUT!MF421","v":""},{"$f":"INPUT!MG421","v":""},{"$f":"INPUT!MH421","v":""},{"$f":"INPUT!MI421","v":""}]
[null,{"$f":"INPUT!EA422","v":""},{"$f":"INPUT!EB422","v":""},{"$f":"INPUT!EC422","v":""},{"$f":"INPUT!ED422","v":""},{"$f":"INPUT!EE422","v":""},{"$f":"INPUT!EF422","v":""},{"$f":"INPUT!EG422","v":""},"",null,{"$f":"INPUT!EY422","v":""},{"$f":"INPUT!EZ422","v":""},{"$f":"INPUT!FA422","v":""},{"$f":"INPUT!FB422","v":""},{"$f":"INPUT!FC422","v":""},{"$f":"INPUT!FD422","v":""},{"$f":"INPUT!FE422","v":""},"",null,{"$f":"INPUT!FW422","v":""},{"$f":"INPUT!FX422","v":""},{"$f":"INPUT!FY422","v":""},{"$f":"INPUT!FZ422","v":""},{"$f":"INPUT!GA422","v":""},{"$f":"INPUT!GB422","v":""},{"$f":"INPUT!GC422","v":""},null,{"$f":"INPUT!GY422","v":""},{"$f":"INPUT!GZ422","v":""},{"$f":"INPUT!HA422","v":""},{"$f":"INPUT!HB422","v":""},{"$f":"INPUT!HC422","v":""},{"$f":"INPUT!HD422","v":""},{"$f":"INPUT!HE422","v":""},{"$f":"INPUT!HF422","v":""},{"$f":"INPUT!HG422","v":""},null,{"$f":"INPUT!IA422","v":""},{"$f":"INPUT!IB422","v":""},{"$f":"INPUT!IC422","v":""},{"$f":"INPUT!ID422","v":""},{"$f":"INPUT!IE422","v":""},{"$f":"INPUT!IF422","v":""},{"$f":"INPUT!IG422","v":""},{"$f":"INPUT!IH422","v":""},null,{"$f":"INPUT!IZ422","v":""},{"$f":"INPUT!JA422","v":""},{"$f":"INPUT!JB422","v":""},{"$f":"INPUT!JC422","v":""},{"$f":"INPUT!JD422","v":""},{"$f":"INPUT!JE422","v":""},{"$f":"INPUT!JF422","v":""},"",null,{"$f":"INPUT!JX422","v":""},{"$f":"INPUT!JY422","v":""},{"$f":"INPUT!JZ422","v":""},{"$f":"INPUT!KA422","v":""},{"$f":"INPUT!KB422","v":""},{"$f":"INPUT!KC422","v":""},{"$f":"INPUT!KD422","v":""},"",null,{"$f":"INPUT!KZ422","v":""},{"$f":"INPUT!LA422","v":""},{"$f":"INPUT!LB422","v":""},{"$f":"INPUT!LC422","v":""},{"$f":"INPUT!LD422","v":""},{"$f":"INPUT!LE422","v":""},{"$f":"INPUT!LF422","v":""},{"$f":"INPUT!LG422","v":""},{"$f":"INPUT!LH422","v":""},null,{"$f":"INPUT!MB422","v":""},{"$f":"INPUT!MC422","v":""},{"$f":"INPUT!MD422","v":""},{"$f":"INPUT!ME422","v":""},{"$f":"INPUT!MF422","v":""},{"$f":"INPUT!MG422","v":""},{"$f":"INPUT!MH422","v":""},{"$f":"INPUT!MI422","v":""}]
[null,{"$f":"INPUT!EA423","v":""},{"$f":"INPUT!EB423","v":""},{"$f":"INPUT!EC423","v":""},{"$f":"INPUT!ED423","v":""},{"$f":"INPUT!EE423","v":""},{"$f":"INPUT!EF423","v":""},{"$f":"INPUT!EG423","v":""},"",null,{"$f":"INPUT!EY423","v":""},{"$f":"INPUT!EZ423","v":""},{"$f":"INPUT!FA423","v":""},{"$f":"INPUT!FB423","v":""},{"$f":"INPUT!FC423","v":""},{"$f":"INPUT!FD423","v":""},{"$f":"INPUT!FE423","v":""},"",null,{"$f":"INPUT!FW423","v":""},{"$f":"INPUT!FX423","v":""},{"$f":"INPUT!FY423","v":""},{"$f":"INPUT!FZ423","v":""},{"$f":"INPUT!GA423","v":""},{"$f":"INPUT!GB423","v":""},{"$f":"INPUT!GC423","v":""},null,{"$f":"INPUT!GY423","v":""},{"$f":"INPUT!GZ423","v":""},{"$f":"INPUT!HA423","v":""},{"$f":"INPUT!HB423","v":""},{"$f":"INPUT!HC423","v":""},{"$f":"INPUT!HD423","v":""},{"$f":"INPUT!HE423","v":""},{"$f":"INPUT!HF423","v":""},{"$f":"INPUT!HG423","v":""},null,{"$f":"INPUT!IA423","v":""},{"$f":"INPUT!IB423","v":""},{"$f":"INPUT!IC423","v":""},{"$f":"INPUT!ID423","v":""},{"$f":"INPUT!IE423","v":""},{"$f":"INPUT!IF423","v":""},{"$f":"INPUT!IG423","v":""},{"$f":"INPUT!IH423","v":""},null,{"$f":"INPUT!IZ423","v":""},{"$f":"INPUT!JA423","v":""},{"$f":"INPUT!JB423","v":""},{"$f":"INPUT!JC423","v":""},{"$f":"INPUT!JD423","v":""},{"$f":"INPUT!JE423","v":""},{"$f":"INPUT!JF423","v":""},"",null,{"$f":"INPUT!JX423","v":""},{"$f":"INPUT!JY423","v":""},{"$f":"INPUT!JZ423","v":""},{"$f":"INPUT!KA423","v":""},{"$f":"INPUT!KB423","v":""},{"$f":"INPUT!KC423","v":""},{"$f":"INPUT!KD423","v":""},"",null,{"$f":"INPUT!KZ423","v":""},{"$f":"INPUT!LA423","v":""},{"$f":"INPUT!LB423","v":""},{"$f":"INPUT!LC423","v":""},{"$f":"INPUT!LD423","v":""},{"$f":"INPUT!LE423","v":""},{"$f":"INPUT!LF423","v":""},{"$f":"INPUT!LG423","v":""},{"$f":"INPUT!LH423","v":""},null,{"$f":"INPUT!MB423","v":""},{"$f":"INPUT!MC423","v":""},{"$f":"INPUT!MD423","v":""},{"$f":"INPUT!ME423","v":""},{"$f":"INPUT!MF423","v":""},{"$f":"INPUT!MG423","v":""},{"$f":"INPUT!MH423","v":""},{"$f":"INPUT!MI423","v":""}]
[null,{"$f":"INPUT!EA424","v":""},{"$f":"INPUT!EB424","v":""},{"$f":"INPUT!EC424","v":""},{"$f":"INPUT!ED424","v":""},{"$f":"INPUT!EE424","v":""},{"$f":"INPUT!EF424","v":""},{"$f":"INPUT!EG424","v":""},"",null,{"$f":"INPUT!EY424","v":""},{"$f":"INPUT!EZ424","v":""},{"$f":"INPUT!FA424","v":""},{"$f":"INPUT!FB424","v":""},{"$f":"INPUT!FC424","v":""},{"$f":"INPUT!FD424","v":""},{"$f":"INPUT!FE424","v":""},"",null,{"$f":"INPUT!FW424","v":""},{"$f":"INPUT!FX424","v":""},{"$f":"INPUT!FY424","v":""},{"$f":"INPUT!FZ424","v":""},{"$f":"INPUT!GA424","v":""},{"$f":"INPUT!GB424","v":""},{"$f":"INPUT!GC424","v":""},null,{"$f":"INPUT!GY424","v":""},{"$f":"INPUT!GZ424","v":""},{"$f":"INPUT!HA424","v":""},{"$f":"INPUT!HB424","v":""},{"$f":"INPUT!HC424","v":""},{"$f":"INPUT!HD424","v":""},{"$f":"INPUT!HE424","v":""},{"$f":"INPUT!HF424","v":""},{"$f":"INPUT!HG424","v":""},null,{"$f":"INPUT!IA424","v":""},{"$f":"INPUT!IB424","v":""},{"$f":"INPUT!IC424","v":""},{"$f":"INPUT!ID424","v":""},{"$f":"INPUT!IE424","v":""},{"$f":"INPUT!IF424","v":""},{"$f":"INPUT!IG424","v":""},{"$f":"INPUT!IH424","v":""},null,{"$f":"INPUT!IZ424","v":""},{"$f":"INPUT!JA424","v":""},{"$f":"INPUT!JB424","v":""},{"$f":"INPUT!JC424","v":""},{"$f":"INPUT!JD424","v":""},{"$f":"INPUT!JE424","v":""},{"$f":"INPUT!JF424","v":""},"",null,{"$f":"INPUT!JX424","v":""},{"$f":"INPUT!JY424","v":""},{"$f":"INPUT!JZ424","v":""},{"$f":"INPUT!KA424","v":""},{"$f":"INPUT!KB424","v":""},{"$f":"INPUT!KC424","v":""},{"$f":"INPUT!KD424","v":""},"",null,{"$f":"INPUT!KZ424","v":""},{"$f":"INPUT!LA424","v":""},{"$f":"INPUT!LB424","v":""},{"$f":"INPUT!LC424","v":""},{"$f":"INPUT!LD424","v":""},{"$f":"INPUT!LE424","v":""},{"$f":"INPUT!LF424","v":""},{"$f":"INPUT!LG424","v":""},{"$f":"INPUT!LH424","v":""},null,{"$f":"INPUT!MB424","v":""},{"$f":"INPUT!MC424","v":""},{"$f":"INPUT!MD424","v":""},{"$f":"INPUT!ME424","v":""},{"$f":"INPUT!MF424","v":""},{"$f":"INPUT!MG424","v":""},{"$f":"INPUT!MH424","v":""},{"$f":"INPUT!MI424","v":""}]
[null,{"$f":"INPUT!EA425","v":""},{"$f":"INPUT!EB425","v":""},{"$f":"INPUT!EC425","v":""},{"$f":"INPUT!ED425","v":""},{"$f":"INPUT!EE425","v":""},{"$f":"INPUT!EF425","v":""},{"$f":"INPUT!EG425","v":""},"",null,{"$f":"INPUT!EY425","v":""},{"$f":"INPUT!EZ425","v":""},{"$f":"INPUT!FA425","v":""},{"$f":"INPUT!FB425","v":""},{"$f":"INPUT!FC425","v":""},{"$f":"INPUT!FD425","v":""},{"$f":"INPUT!FE425","v":""},"",null,{"$f":"INPUT!FW425","v":""},{"$f":"INPUT!FX425","v":""},{"$f":"INPUT!FY425","v":""},{"$f":"INPUT!FZ425","v":""},{"$f":"INPUT!GA425","v":""},{"$f":"INPUT!GB425","v":""},{"$f":"INPUT!GC425","v":""},null,{"$f":"INPUT!GY425","v":""},{"$f":"INPUT!GZ425","v":""},{"$f":"INPUT!HA425","v":""},{"$f":"INPUT!HB425","v":""},{"$f":"INPUT!HC425","v":""},{"$f":"INPUT!HD425","v":""},{"$f":"INPUT!HE425","v":""},{"$f":"INPUT!HF425","v":""},{"$f":"INPUT!HG425","v":""},null,{"$f":"INPUT!IA425","v":""},{"$f":"INPUT!IB425","v":""},{"$f":"INPUT!IC425","v":""},{"$f":"INPUT!ID425","v":""},{"$f":"INPUT!IE425","v":""},{"$f":"INPUT!IF425","v":""},{"$f":"INPUT!IG425","v":""},{"$f":"INPUT!IH425","v":""},null,{"$f":"INPUT!IZ425","v":""},{"$f":"INPUT!JA425","v":""},{"$f":"INPUT!JB425","v":""},{"$f":"INPUT!JC425","v":""},{"$f":"INPUT!JD425","v":""},{"$f":"INPUT!JE425","v":""},{"$f":"INPUT!JF425","v":""},"",null,{"$f":"INPUT!JX425","v":""},{"$f":"INPUT!JY425","v":""},{"$f":"INPUT!JZ425","v":""},{"$f":"INPUT!KA425","v":""},{"$f":"INPUT!KB425","v":""},{"$f":"INPUT!KC425","v":""},{"$f":"INPUT!KD425","v":""},"",null,{"$f":"INPUT!KZ425","v":""},{"$f":"INPUT!LA425","v":""},{"$f":"INPUT!LB425","v":""},{"$f":"INPUT!LC425","v":""},{"$f":"INPUT!LD425","v":""},{"$f":"INPUT!LE425","v":""},{"$f":"INPUT!LF425","v":""},{"$f":"INPUT!LG425","v":""},{"$f":"INPUT!LH425","v":""},null,{"$f":"INPUT!MB425","v":""},{"$f":"INPUT!MC425","v":""},{"$f":"INPUT!MD425","v":""},{"$f":"INPUT!ME425","v":""},{"$f":"INPUT!MF425","v":""},{"$f":"INPUT!MG425","v":""},{"$f":"INPUT!MH425","v":""},{"$f":"INPUT!MI425","v":""}]
[null,{"$f":"INPUT!EA426","v":""},{"$f":"INPUT!EB426","v":""},{"$f":"INPUT!EC426","v":""},{"$f":"INPUT!ED426","v":""},{"$f":"INPUT!EE426","v":""},{"$f":"INPUT!EF426","v":""},{"$f":"INPUT!EG426","v":""},"",null,{"$f":"INPUT!EY426","v":""},{"$f":"INPUT!EZ426","v":""},{"$f":"INPUT!FA426","v":""},{"$f":"INPUT!FB426","v":""},{"$f":"INPUT!FC426","v":""},{"$f":"INPUT!FD426","v":""},{"$f":"INPUT!FE426","v":""},"",null,{"$f":"INPUT!FW426","v":""},{"$f":"INPUT!FX426","v":""},{"$f":"INPUT!FY426","v":""},{"$f":"INPUT!FZ426","v":""},{"$f":"INPUT!GA426","v":""},{"$f":"INPUT!GB426","v":""},{"$f":"INPUT!GC426","v":""},null,{"$f":"INPUT!GY426","v":""},{"$f":"INPUT!GZ426","v":""},{"$f":"INPUT!HA426","v":""},{"$f":"INPUT!HB426","v":""},{"$f":"INPUT!HC426","v":""},{"$f":"INPUT!HD426","v":""},{"$f":"INPUT!HE426","v":""},{"$f":"INPUT!HF426","v":""},{"$f":"INPUT!HG426","v":""},null,{"$f":"INPUT!IA426","v":""},{"$f":"INPUT!IB426","v":""},{"$f":"INPUT!IC426","v":""},{"$f":"INPUT!ID426","v":""},{"$f":"INPUT!IE426","v":""},{"$f":"INPUT!IF426","v":""},{"$f":"INPUT!IG426","v":""},{"$f":"INPUT!IH426","v":""},null,{"$f":"INPUT!IZ426","v":""},{"$f":"INPUT!JA426","v":""},{"$f":"INPUT!JB426","v":""},{"$f":"INPUT!JC426","v":""},{"$f":"INPUT!JD426","v":""},{"$f":"INPUT!JE426","v":""},{"$f":"INPUT!JF426","v":""},"",null,{"$f":"INPUT!JX426","v":""},{"$f":"INPUT!JY426","v":""},{"$f":"INPUT!JZ426","v":""},{"$f":"INPUT!KA426","v":""},{"$f":"INPUT!KB426","v":""},{"$f":"INPUT!KC426","v":""},{"$f":"INPUT!KD426","v":""},"",null,{"$f":"INPUT!KZ426","v":""},{"$f":"INPUT!LA426","v":""},{"$f":"INPUT!LB426","v":""},{"$f":"INPUT!LC426","v":""},{"$f":"INPUT!LD426","v":""},{"$f":"INPUT!LE426","v":""},{"$f":"INPUT!LF426","v":""},{"$f":"INPUT!LG426","v":""},{"$f":"INPUT!LH426","v":""},null,{"$f":"INPUT!MB426","v":""},{"$f":"INPUT!MC426","v":""},{"$f":"INPUT!MD426","v":""},{"$f":"INPUT!ME426","v":""},{"$f":"INPUT!MF426","v":""},{"$f":"INPUT!MG426","v":""},{"$f":"INPUT!MH426","v":""},{"$f":"INPUT!MI426","v":""}]
[null,{"$f":"INPUT!EA427","v":""},{"$f":"INPUT!EB427","v":""},{"$f":"INPUT!EC427","v":""},{"$f":"INPUT!ED427","v":""},{"$f":"INPUT!EE427","v":""},{"$f":"INPUT!EF427","v":""},{"$f":"INPUT!EG427","v":""},"",null,{"$f":"INPUT!EY427","v":""},{"$f":"INPUT!EZ427","v":""},{"$f":"INPUT!FA427","v":""},{"$f":"INPUT!FB427","v":""},{"$f":"INPUT!FC427","v":""},{"$f":"INPUT!FD427","v":""},{"$f":"INPUT!FE427","v":""},"",null,{"$f":"INPUT!FW427","v":""},{"$f":"INPUT!FX427","v":""},{"$f":"INPUT!FY427","v":""},{"$f":"INPUT!FZ427","v":""},{"$f":"INPUT!GA427","v":""},{"$f":"INPUT!GB427","v":""},{"$f":"INPUT!GC427","v":""},null,{"$f":"INPUT!GY427","v":""},{"$f":"INPUT!GZ427","v":""},{"$f":"INPUT!HA427","v":""},{"$f":"INPUT!HB427","v":""},{"$f":"INPUT!HC427","v":""},{"$f":"INPUT!HD427","v":""},{"$f":"INPUT!HE427","v":""},{"$f":"INPUT!HF427","v":""},{"$f":"INPUT!HG427","v":""},null,{"$f":"INPUT!IA427","v":""},{"$f":"INPUT!IB427","v":""},{"$f":"INPUT!IC427","v":""},{"$f":"INPUT!ID427","v":""},{"$f":"INPUT!IE427","v":""},{"$f":"INPUT!IF427","v":""},{"$f":"INPUT!IG427","v":""},{"$f":"INPUT!IH427","v":""},null,{"$f":"INPUT!IZ427","v":""},{"$f":"INPUT!JA427","v":""},{"$f":"INPUT!JB427","v":""},{"$f":"INPUT!JC427","v":""},{"$f":"INPUT!JD427","v":""},{"$f":"INPUT!JE427","v":""},{"$f":"INPUT!JF427","v":""},"",null,{"$f":"INPUT!JX427","v":""},{"$f":"INPUT!JY427","v":""},{"$f":"INPUT!JZ427","v":""},{"$f":"INPUT!KA427","v":""},{"$f":"INPUT!KB427","v":""},{"$f":"INPUT!KC427","v":""},{"$f":"INPUT!KD427","v":""},"",null,{"$f":"INPUT!KZ427","v":""},{"$f":"INPUT!LA427","v":""},{"$f":"INPUT!LB427","v":""},{"$f":"INPUT!LC427","v":""},{"$f":"INPUT!LD427","v":""},{"$f":"INPUT!LE427","v":""},{"$f":"INPUT!LF427","v":""},{"$f":"INPUT!LG427","v":""},{"$f":"INPUT!LH427","v":""},null,{"$f":"INPUT!MB427","v":""},{"$f":"INPUT!MC427","v":""},{"$f":"INPUT!MD427","v":""},{"$f":"INPUT!ME427","v":""},{"$f":"INPUT!MF427","v":""},{"$f":"INPUT!MG427","v":""},{"$f":"INPUT!MH427","v":""},{"$f":"INPUT!MI427","v":""}]
[null,{"$f":"INPUT!EA428","v":""},{"$f":"INPUT!EB428","v":""},{"$f":"INPUT!EC428","v":""},{"$f":"INPUT!ED428","v":""},{"$f":"INPUT!EE428","v":""},{"$f":"INPUT!EF428","v":""},{"$f":"INPUT!EG428","v":""},"",null,{"$f":"INPUT!EY428","v":""},{"$f":"INPUT!EZ428","v":""},{"$f":"INPUT!FA428","v":""},{"$f":"INPUT!FB428","v":""},{"$f":"INPUT!FC428","v":""},{"$f":"INPUT!FD428","v":""},{"$f":"INPUT!FE428","v":""},"",null,{"$f":"INPUT!FW428","v":""},{"$f":"INPUT!FX428","v":""},{"$f":"INPUT!FY428","v":""},{"$f":"INPUT!FZ428","v":""},{"$f":"INPUT!GA428","v":""},{"$f":"INPUT!GB428","v":""},{"$f":"INPUT!GC428","v":""},null,{"$f":"INPUT!GY428","v":""},{"$f":"INPUT!GZ428","v":""},{"$f":"INPUT!HA428","v":""},{"$f":"INPUT!HB428","v":""},{"$f":"INPUT!HC428","v":""},{"$f":"INPUT!HD428","v":""},{"$f":"INPUT!HE428","v":""},{"$f":"INPUT!HF428","v":""},{"$f":"INPUT!HG428","v":""},null,{"$f":"INPUT!IA428","v":""},{"$f":"INPUT!IB428","v":""},{"$f":"INPUT!IC428","v":""},{"$f":"INPUT!ID428","v":""},{"$f":"INPUT!IE428","v":""},{"$f":"INPUT!IF428","v":""},{"$f":"INPUT!IG428","v":""},{"$f":"INPUT!IH428","v":""},null,{"$f":"INPUT!IZ428","v":""},{"$f":"INPUT!JA428","v":""},{"$f":"INPUT!JB428","v":""},{"$f":"INPUT!JC428","v":""},{"$f":"INPUT!JD428","v":""},{"$f":"INPUT!JE428","v":""},{"$f":"INPUT!JF428","v":""},"",null,{"$f":"INPUT!JX428","v":""},{"$f":"INPUT!JY428","v":""},{"$f":"INPUT!JZ428","v":""},{"$f":"INPUT!KA428","v":""},{"$f":"INPUT!KB428","v":""},{"$f":"INPUT!KC428","v":""},{"$f":"INPUT!KD428","v":""},"",null,{"$f":"INPUT!KZ428","v":""},{"$f":"INPUT!LA428","v":""},{"$f":"INPUT!LB428","v":""},{"$f":"INPUT!LC428","v":""},{"$f":"INPUT!LD428","v":""},{"$f":"INPUT!LE428","v":""},{"$f":"INPUT!LF428","v":""},{"$f":"INPUT!LG428","v":""},{"$f":"INPUT!LH428","v":""},null,{"$f":"INPUT!MB428","v":""},{"$f":"INPUT!MC428","v":""},{"$f":"INPUT!MD428","v":""},{"$f":"INPUT!ME428","v":""},{"$f":"INPUT!MF428","v":""},{"$f":"INPUT!MG428","v":""},{"$f":"INPUT!MH428","v":""},{"$f":"INPUT!MI428","v":""}]
[null,{"$f":"INPUT!EA429","v":""},{"$f":"INPUT!EB429","v":""},{"$f":"INPUT!EC429","v":""},{"$f":"INPUT!ED429","v":""},{"$f":"INPUT!EE429","v":""},{"$f":"INPUT!EF429","v":""},{"$f":"INPUT!EG429","v":""},"",null,{"$f":"INPUT!EY429","v":""},{"$f":"INPUT!EZ429","v":""},{"$f":"INPUT!FA429","v":""},{"$f":"INPUT!FB429","v":""},{"$f":"INPUT!FC429","v":""},{"$f":"INPUT!FD429","v":""},{"$f":"INPUT!FE429","v":""},"",null,{"$f":"INPUT!FW429","v":""},{"$f":"INPUT!FX429","v":""},{"$f":"INPUT!FY429","v":""},{"$f":"INPUT!FZ429","v":""},{"$f":"INPUT!GA429","v":""},{"$f":"INPUT!GB429","v":""},{"$f":"INPUT!GC429","v":""},null,{"$f":"INPUT!GY429","v":""},{"$f":"INPUT!GZ429","v":""},{"$f":"INPUT!HA429","v":""},{"$f":"INPUT!HB429","v":""},{"$f":"INPUT!HC429","v":""},{"$f":"INPUT!HD429","v":""},{"$f":"INPUT!HE429","v":""},{"$f":"INPUT!HF429","v":""},{"$f":"INPUT!HG429","v":""},null,{"$f":"INPUT!IA429","v":""},{"$f":"INPUT!IB429","v":""},{"$f":"INPUT!IC429","v":""},{"$f":"INPUT!ID429","v":""},{"$f":"INPUT!IE429","v":""},{"$f":"INPUT!IF429","v":""},{"$f":"INPUT!IG429","v":""},{"$f":"INPUT!IH429","v":""},null,{"$f":"INPUT!IZ429","v":""},{"$f":"INPUT!JA429","v":""},{"$f":"INPUT!JB429","v":""},{"$f":"INPUT!JC429","v":""},{"$f":"INPUT!JD429","v":""},{"$f":"INPUT!JE429","v":""},{"$f":"INPUT!JF429","v":""},"",null,{"$f":"INPUT!JX429","v":""},{"$f":"INPUT!JY429","v":""},{"$f":"INPUT!JZ429","v":""},{"$f":"INPUT!KA429","v":""},{"$f":"INPUT!KB429","v":""},{"$f":"INPUT!KC429","v":""},{"$f":"INPUT!KD429","v":""},"",null,{"$f":"INPUT!KZ429","v":""},{"$f":"INPUT!LA429","v":""},{"$f":"INPUT!LB429","v":""},{"$f":"INPUT!LC429","v":""},{"$f":"INPUT!LD429","v":""},{"$f":"INPUT!LE429","v":""},{"$f":"INPUT!LF429","v":""},{"$f":"INPUT!LG429","v":""},{"$f":"INPUT!LH429","v":""},null,{"$f":"INPUT!MB429","v":""},{"$f":"INPUT!MC429","v":""},{"$f":"INPUT!MD429","v":""},{"$f":"INPUT!ME429","v":""},{"$f":"INPUT!MF429","v":""},{"$f":"INPUT!MG429","v":""},{"$f":"INPUT!MH429","v":""},{"$f":"INPUT!MI429","v":""}]
[null,{"$f":"INPUT!EA430","v":""},{"$f":"INPUT!EB430","v":""},{"$f":"INPUT!EC430","v":""},{"$f":"INPUT!ED430","v":""},{"$f":"INPUT!EE430","v":""},{"$f":"INPUT!EF430","v":""},{"$f":"INPUT!EG430","v":""},"",null,{"$f":"INPUT!EY430","v":""},{"$f":"INPUT!EZ430","v":""},{"$f":"INPUT!FA430","v":""},{"$f":"INPUT!FB430","v":""},{"$f":"INPUT!FC430","v":""},{"$f":"INPUT!FD430","v":""},{"$f":"INPUT!FE430","v":""},"",null,{"$f":"INPUT!FW430","v":""},{"$f":"INPUT!FX430","v":""},{"$f":"INPUT!FY430","v":""},{"$f":"INPUT!FZ430","v":""},{"$f":"INPUT!GA430","v":""},{"$f":"INPUT!GB430","v":""},{"$f":"INPUT!GC430","v":""},null,{"$f":"INPUT!GY430","v":""},{"$f":"INPUT!GZ430","v":""},{"$f":"INPUT!HA430","v":""},{"$f":"INPUT!HB430","v":""},{"$f":"INPUT!HC430","v":""},{"$f":"INPUT!HD430","v":""},{"$f":"INPUT!HE430","v":""},{"$f":"INPUT!HF430","v":""},{"$f":"INPUT!HG430","v":""},null,{"$f":"INPUT!IA430","v":""},{"$f":"INPUT!IB430","v":""},{"$f":"INPUT!IC430","v":""},{"$f":"INPUT!ID430","v":""},{"$f":"INPUT!IE430","v":""},{"$f":"INPUT!IF430","v":""},{"$f":"INPUT!IG430","v":""},{"$f":"INPUT!IH430","v":""},null,{"$f":"INPUT!IZ430","v":""},{"$f":"INPUT!JA430","v":""},{"$f":"INPUT!JB430","v":""},{"$f":"INPUT!JC430","v":""},{"$f":"INPUT!JD430","v":""},{"$f":"INPUT!JE430","v":""},{"$f":"INPUT!JF430","v":""},"",null,{"$f":"INPUT!JX430","v":""},{"$f":"INPUT!JY430","v":""},{"$f":"INPUT!JZ430","v":""},{"$f":"INPUT!KA430","v":""},{"$f":"INPUT!KB430","v":""},{"$f":"INPUT!KC430","v":""},{"$f":"INPUT!KD430","v":""},"",null,{"$f":"INPUT!KZ430","v":""},{"$f":"INPUT!LA430","v":""},{"$f":"INPUT!LB430","v":""},{"$f":"INPUT!LC430","v":""},{"$f":"INPUT!LD430","v":""},{"$f":"INPUT!LE430","v":""},{"$f":"INPUT!LF430","v":""},{"$f":"INPUT!LG430","v":""},{"$f":"INPUT!LH430","v":""},null,{"$f":"INPUT!MB430","v":""},{"$f":"INPUT!MC430","v":""},{"$f":"INPUT!MD430","v":""},{"$f":"INPUT!ME430","v":""},{"$f":"INPUT!MF430","v":""},{"$f":"INPUT!MG430","v":""},{"$f":"INPUT!MH430","v":""},{"$f":"INPUT!MI430","v":""}]
[null,{"$f":"INPUT!EA431","v":""},{"$f":"INPUT!EB431","v":""},{"$f":"INPUT!EC431","v":""},{"$f":"INPUT!ED431","v":""},{"$f":"INPUT!EE431","v":""},{"$f":"INPUT!EF431","v":""},{"$f":"INPUT!EG431","v":""},"",null,{"$f":"INPUT!EY431","v":""},{"$f":"INPUT!EZ431","v":""},{"$f":"INPUT!FA431","v":""},{"$f":"INPUT!FB431","v":""},{"$f":"INPUT!FC431","v":""},{"$f":"INPUT!FD431","v":""},{"$f":"INPUT!FE431","v":""},"",null,{"$f":"INPUT!FW431","v":""},{"$f":"INPUT!FX431","v":""},{"$f":"INPUT!FY431","v":""},{"$f":"INPUT!FZ431","v":""},{"$f":"INPUT!GA431","v":""},{"$f":"INPUT!GB431","v":""},{"$f":"INPUT!GC431","v":""},null,{"$f":"INPUT!GY431","v":""},{"$f":"INPUT!GZ431","v":""},{"$f":"INPUT!HA431","v":""},{"$f":"INPUT!HB431","v":""},{"$f":"INPUT!HC431","v":""},{"$f":"INPUT!HD431","v":""},{"$f":"INPUT!HE431","v":""},{"$f":"INPUT!HF431","v":""},{"$f":"INPUT!HG431","v":""},null,{"$f":"INPUT!IA431","v":""},{"$f":"INPUT!IB431","v":""},{"$f":"INPUT!IC431","v":""},{"$f":"INPUT!ID431","v":""},{"$f":"INPUT!IE431","v":""},{"$f":"INPUT!IF431","v":""},{"$f":"INPUT!IG431","v":""},{"$f":"INPUT!IH431","v":""},null,{"$f":"INPUT!IZ431","v":""},{"$f":"INPUT!JA431","v":""},{"$f":"INPUT!JB431","v":""},{"$f":"INPUT!JC431","v":""},{"$f":"INPUT!JD431","v":""},{"$f":"INPUT!JE431","v":""},{"$f":"INPUT!JF431","v":""},"",null,{"$f":"INPUT!JX431","v":""},{"$f":"INPUT!JY431","v":""},{"$f":"INPUT!JZ431","v":""},{"$f":"INPUT!KA431","v":""},{"$f":"INPUT!KB431","v":""},{"$f":"INPUT!KC431","v":""},{"$f":"INPUT!KD431","v":""},"",null,{"$f":"INPUT!KZ431","v":""},{"$f":"INPUT!LA431","v":""},{"$f":"INPUT!LB431","v":""},{"$f":"INPUT!LC431","v":""},{"$f":"INPUT!LD431","v":""},{"$f":"INPUT!LE431","v":""},{"$f":"INPUT!LF431","v":""},{"$f":"INPUT!LG431","v":""},{"$f":"INPUT!LH431","v":""},null,{"$f":"INPUT!MB431","v":""},{"$f":"INPUT!MC431","v":""},{"$f":"INPUT!MD431","v":""},{"$f":"INPUT!ME431","v":""},{"$f":"INPUT!MF431","v":""},{"$f":"INPUT!MG431","v":""},{"$f":"INPUT!MH431","v":""},{"$f":"INPUT!MI431","v":""}]
[null,{"$f":"INPUT!EA432","v":""},{"$f":"INPUT!EB432","v":""},{"$f":"INPUT!EC432","v":""},{"$f":"INPUT!ED432","v":""},{"$f":"INPUT!EE432","v":""},{"$f":"INPUT!EF432","v":""},{"$f":"INPUT!EG432","v":""},"",null,{"$f":"INPUT!EY432","v":""},{"$f":"INPUT!EZ432","v":""},{"$f":"INPUT!FA432","v":""},{"$f":"INPUT!FB432","v":""},{"$f":"INPUT!FC432","v":""},{"$f":"INPUT!FD432","v":""},{"$f":"INPUT!FE432","v":""},"",null,{"$f":"INPUT!FW432","v":""},{"$f":"INPUT!FX432","v":""},{"$f":"INPUT!FY432","v":""},{"$f":"INPUT!FZ432","v":""},{"$f":"INPUT!GA432","v":""},{"$f":"INPUT!GB432","v":""},{"$f":"INPUT!GC432","v":""},null,{"$f":"INPUT!GY432","v":""},{"$f":"INPUT!GZ432","v":""},{"$f":"INPUT!HA432","v":""},{"$f":"INPUT!HB432","v":""},{"$f":"INPUT!HC432","v":""},{"$f":"INPUT!HD432","v":""},{"$f":"INPUT!HE432","v":""},{"$f":"INPUT!HF432","v":""},{"$f":"INPUT!HG432","v":""},null,{"$f":"INPUT!IA432","v":""},{"$f":"INPUT!IB432","v":""},{"$f":"INPUT!IC432","v":""},{"$f":"INPUT!ID432","v":""},{"$f":"INPUT!IE432","v":""},{"$f":"INPUT!IF432","v":""},{"$f":"INPUT!IG432","v":""},{"$f":"INPUT!IH432","v":""},null,{"$f":"INPUT!IZ432","v":""},{"$f":"INPUT!JA432","v":""},{"$f":"INPUT!JB432","v":""},{"$f":"INPUT!JC432","v":""},{"$f":"INPUT!JD432","v":""},{"$f":"INPUT!JE432","v":""},{"$f":"INPUT!JF432","v":""},"",null,{"$f":"INPUT!JX432","v":""},{"$f":"INPUT!JY432","v":""},{"$f":"INPUT!JZ432","v":""},{"$f":"INPUT!KA432","v":""},{"$f":"INPUT!KB432","v":""},{"$f":"INPUT!KC432","v":""},{"$f":"INPUT!KD432","v":""},"",null,{"$f":"INPUT!KZ432","v":""},{"$f":"INPUT!LA432","v":""},{"$f":"INPUT!LB432","v":""},{"$f":"INPUT!LC432","v":""},{"$f":"INPUT!LD432","v":""},{"$f":"INPUT!LE432","v":""},{"$f":"INPUT!LF432","v":""},{"$f":"INPUT!LG432","v":""},{"$f":"INPUT!LH432","v":""},null,{"$f":"INPUT!MB432","v":""},{"$f":"INPUT!MC432","v":""},{"$f":"INPUT!MD432","v":""},{"$f":"INPUT!ME432","v":""},{"$f":"INPUT!MF432","v":""},{"$f":"INPUT!MG432","v":""},{"$f":"INPUT!MH432","v":""},{"$f":"INPUT!MI432","v":""}]
[null,{"$f":"INPUT!EA433","v":""},{"$f":"INPUT!EB433","v":""},{"$f":"INPUT!EC433","v":""},{"$f":"INPUT!ED433","v":""},{"$f":"INPUT!EE433","v":""},{"$f":"INPUT!EF433","v":""},{"$f":"INPUT!EG433","v":""},"",null,{"$f":"INPUT!EY433","v":""},{"$f":"INPUT!EZ433","v":""},{"$f":"INPUT!FA433","v":""},{"$f":"INPUT!FB433","v":""},{"$f":"INPUT!FC433","v":""},{"$f":"INPUT!FD433","v":""},{"$f":"INPUT!FE433","v":""},"",null,{"$f":"INPUT!FW433","v":""},{"$f":"INPUT!FX433","v":""},{"$f":"INPUT!FY433","v":""},{"$f":"INPUT!FZ433","v":""},{"$f":"INPUT!GA433","v":""},{"$f":"INPUT!GB433","v":""},{"$f":"INPUT!GC433","v":""},null,{"$f":"INPUT!GY433","v":""},{"$f":"INPUT!GZ433","v":""},{"$f":"INPUT!HA433","v":""},{"$f":"INPUT!HB433","v":""},{"$f":"INPUT!HC433","v":""},{"$f":"INPUT!HD433","v":""},{"$f":"INPUT!HE433","v":""},{"$f":"INPUT!HF433","v":""},{"$f":"INPUT!HG433","v":""},null,{"$f":"INPUT!IA433","v":""},{"$f":"INPUT!IB433","v":""},{"$f":"INPUT!IC433","v":""},{"$f":"INPUT!ID433","v":""},{"$f":"INPUT!IE433","v":""},{"$f":"INPUT!IF433","v":""},{"$f":"INPUT!IG433","v":""},{"$f":"INPUT!IH433","v":""},null,{"$f":"INPUT!IZ433","v":""},{"$f":"INPUT!JA433","v":""},{"$f":"INPUT!JB433","v":""},{"$f":"INPUT!JC433","v":""},{"$f":"INPUT!JD433","v":""},{"$f":"INPUT!JE433","v":""},{"$f":"INPUT!JF433","v":""},"",null,{"$f":"INPUT!JX433","v":""},{"$f":"INPUT!JY433","v":""},{"$f":"INPUT!JZ433","v":""},{"$f":"INPUT!KA433","v":""},{"$f":"INPUT!KB433","v":""},{"$f":"INPUT!KC433","v":""},{"$f":"INPUT!KD433","v":""},"",null,{"$f":"INPUT!KZ433","v":""},{"$f":"INPUT!LA433","v":""},{"$f":"INPUT!LB433","v":""},{"$f":"INPUT!LC433","v":""},{"$f":"INPUT!LD433","v":""},{"$f":"INPUT!LE433","v":""},{"$f":"INPUT!LF433","v":""},{"$f":"INPUT!LG433","v":""},{"$f":"INPUT!LH433","v":""},null,{"$f":"INPUT!MB433","v":""},{"$f":"INPUT!MC433","v":""},{"$f":"INPUT!MD433","v":""},{"$f":"INPUT!ME433","v":""},{"$f":"INPUT!MF433","v":""},{"$f":"INPUT!MG433","v":""},{"$f":"INPUT!MH433","v":""},{"$f":"INPUT!MI433","v":""}]
[null,{"$f":"INPUT!EA434","v":""},{"$f":"INPUT!EB434","v":""},{"$f":"INPUT!EC434","v":""},{"$f":"INPUT!ED434","v":""},{"$f":"INPUT!EE434","v":""},{"$f":"INPUT!EF434","v":""},{"$f":"INPUT!EG434","v":""},"",null,{"$f":"INPUT!EY434","v":""},{"$f":"INPUT!EZ434","v":""},{"$f":"INPUT!FA434","v":""},{"$f":"INPUT!FB434","v":""},{"$f":"INPUT!FC434","v":""},{"$f":"INPUT!FD434","v":""},{"$f":"INPUT!FE434","v":""},"",null,{"$f":"INPUT!FW434","v":""},{"$f":"INPUT!FX434","v":""},{"$f":"INPUT!FY434","v":""},{"$f":"INPUT!FZ434","v":""},{"$f":"INPUT!GA434","v":""},{"$f":"INPUT!GB434","v":""},{"$f":"INPUT!GC434","v":""},null,{"$f":"INPUT!GY434","v":""},{"$f":"INPUT!GZ434","v":""},{"$f":"INPUT!HA434","v":""},{"$f":"INPUT!HB434","v":""},{"$f":"INPUT!HC434","v":""},{"$f":"INPUT!HD434","v":""},{"$f":"INPUT!HE434","v":""},{"$f":"INPUT!HF434","v":""},{"$f":"INPUT!HG434","v":""},null,{"$f":"INPUT!IA434","v":""},{"$f":"INPUT!IB434","v":""},{"$f":"INPUT!IC434","v":""},{"$f":"INPUT!ID434","v":""},{"$f":"INPUT!IE434","v":""},{"$f":"INPUT!IF434","v":""},{"$f":"INPUT!IG434","v":""},{"$f":"INPUT!IH434","v":""},null,{"$f":"INPUT!IZ434","v":""},{"$f":"INPUT!JA434","v":""},{"$f":"INPUT!JB434","v":""},{"$f":"INPUT!JC434","v":""},{"$f":"INPUT!JD434","v":""},{"$f":"INPUT!JE434","v":""},{"$f":"INPUT!JF434","v":""},"",null,{"$f":"INPUT!JX434","v":""},{"$f":"INPUT!JY434","v":""},{"$f":"INPUT!JZ434","v":""},{"$f":"INPUT!KA434","v":""},{"$f":"INPUT!KB434","v":""},{"$f":"INPUT!KC434","v":""},{"$f":"INPUT!KD434","v":""},"",null,{"$f":"INPUT!KZ434","v":""},{"$f":"INPUT!LA434","v":""},{"$f":"INPUT!LB434","v":""},{"$f":"INPUT!LC434","v":""},{"$f":"INPUT!LD434","v":""},{"$f":"INPUT!LE434","v":""},{"$f":"INPUT!LF434","v":""},{"$f":"INPUT!LG434","v":""},{"$f":"INPUT!LH434","v":""},null,{"$f":"INPUT!MB434","v":""},{"$f":"INPUT!MC434","v":""},{"$f":"INPUT!MD434","v":""},{"$f":"INPUT!ME434","v":""},{"$f":"INPUT!MF434","v":""},{"$f":"INPUT!MG434","v":""},{"$f":"INPUT!MH434","v":""},{"$f":"INPUT!MI434","v":""}]
[null,{"$f":"INPUT!EA435","v":""},{"$f":"INPUT!EB435","v":""},{"$f":"INPUT!EC435","v":""},{"$f":"INPUT!ED435","v":""},{"$f":"INPUT!EE435","v":""},{"$f":"INPUT!EF435","v":""},{"$f":"INPUT!EG435","v":""},"",null,{"$f":"INPUT!EY435","v":""},{"$f":"INPUT!EZ435","v":""},{"$f":"INPUT!FA435","v":""},{"$f":"INPUT!FB435","v":""},{"$f":"INPUT!FC435","v":""},{"$f":"INPUT!FD435","v":""},{"$f":"INPUT!FE435","v":""},"",null,{"$f":"INPUT!FW435","v":""},{"$f":"INPUT!FX435","v":""},{"$f":"INPUT!FY435","v":""},{"$f":"INPUT!FZ435","v":""},{"$f":"INPUT!GA435","v":""},{"$f":"INPUT!GB435","v":""},{"$f":"INPUT!GC435","v":""},null,{"$f":"INPUT!GY435","v":""},{"$f":"INPUT!GZ435","v":""},{"$f":"INPUT!HA435","v":""},{"$f":"INPUT!HB435","v":""},{"$f":"INPUT!HC435","v":""},{"$f":"INPUT!HD435","v":""},{"$f":"INPUT!HE435","v":""},{"$f":"INPUT!HF435","v":""},{"$f":"INPUT!HG435","v":""},null,{"$f":"INPUT!IA435","v":""},{"$f":"INPUT!IB435","v":""},{"$f":"INPUT!IC435","v":""},{"$f":"INPUT!ID435","v":""},{"$f":"INPUT!IE435","v":""},{"$f":"INPUT!IF435","v":""},{"$f":"INPUT!IG435","v":""},{"$f":"INPUT!IH435","v":""},null,{"$f":"INPUT!IZ435","v":""},{"$f":"INPUT!JA435","v":""},{"$f":"INPUT!JB435","v":""},{"$f":"INPUT!JC435","v":""},{"$f":"INPUT!JD435","v":""},{"$f":"INPUT!JE435","v":""},{"$f":"INPUT!JF435","v":""},"",null,{"$f":"INPUT!JX435","v":""},{"$f":"INPUT!JY435","v":""},{"$f":"INPUT!JZ435","v":""},{"$f":"INPUT!KA435","v":""},{"$f":"INPUT!KB435","v":""},{"$f":"INPUT!KC435","v":""},{"$f":"INPUT!KD435","v":""},"",null,{"$f":"INPUT!KZ435","v":""},{"$f":"INPUT!LA435","v":""},{"$f":"INPUT!LB435","v":""},{"$f":"INPUT!LC435","v":""},{"$f":"INPUT!LD435","v":""},{"$f":"INPUT!LE435","v":""},{"$f":"INPUT!LF435","v":""},{"$f":"INPUT!LG435","v":""},{"$f":"INPUT!LH435","v":""},null,{"$f":"INPUT!MB435","v":""},{"$f":"INPUT!MC435","v":""},{"$f":"INPUT!MD435","v":""},{"$f":"INPUT!ME435","v":""},{"$f":"INPUT!MF435","v":""},{"$f":"INPUT!MG435","v":""},{"$f":"INPUT!MH435","v":""},{"$f":"INPUT!MI435","v":""}]
[null,{"$f":"INPUT!EA436","v":""},{"$f":"INPUT!EB436","v":""},{"$f":"INPUT!EC436","v":""},{"$f":"INPUT!ED436","v":""},{"$f":"INPUT!EE436","v":""},{"$f":"INPUT!EF436","v":""},{"$f":"INPUT!EG436","v":""},"",null,{"$f":"INPUT!EY436","v":""},{"$f":"INPUT!EZ436","v":""},{"$f":"INPUT!FA436","v":""},{"$f":"INPUT!FB436","v":""},{"$f":"INPUT!FC436","v":""},{"$f":"INPUT!FD436","v":""},{"$f":"INPUT!FE436","v":""},"",null,{"$f":"INPUT!FW436","v":""},{"$f":"INPUT!FX436","v":""},{"$f":"INPUT!FY436","v":""},{"$f":"INPUT!FZ436","v":""},{"$f":"INPUT!GA436","v":""},{"$f":"INPUT!GB436","v":""},{"$f":"INPUT!GC436","v":""},null,{"$f":"INPUT!GY436","v":""},{"$f":"INPUT!GZ436","v":""},{"$f":"INPUT!HA436","v":""},{"$f":"INPUT!HB436","v":""},{"$f":"INPUT!HC436","v":""},{"$f":"INPUT!HD436","v":""},{"$f":"INPUT!HE436","v":""},{"$f":"INPUT!HF436","v":""},{"$f":"INPUT!HG436","v":""},null,{"$f":"INPUT!IA436","v":""},{"$f":"INPUT!IB436","v":""},{"$f":"INPUT!IC436","v":""},{"$f":"INPUT!ID436","v":""},{"$f":"INPUT!IE436","v":""},{"$f":"INPUT!IF436","v":""},{"$f":"INPUT!IG436","v":""},{"$f":"INPUT!IH436","v":""},null,{"$f":"INPUT!IZ436","v":""},{"$f":"INPUT!JA436","v":""},{"$f":"INPUT!JB436","v":""},{"$f":"INPUT!JC436","v":""},{"$f":"INPUT!JD436","v":""},{"$f":"INPUT!JE436","v":""},{"$f":"INPUT!JF436","v":""},"",null,{"$f":"INPUT!JX436","v":""},{"$f":"INPUT!JY436","v":""},{"$f":"INPUT!JZ436","v":""},{"$f":"INPUT!KA436","v":""},{"$f":"INPUT!KB436","v":""},{"$f":"INPUT!KC436","v":""},{"$f":"INPUT!KD436","v":""},"",null,{"$f":"INPUT!KZ436","v":""},{"$f":"INPUT!LA436","v":""},{"$f":"INPUT!LB436","v":""},{"$f":"INPUT!LC436","v":""},{"$f":"INPUT!LD436","v":""},{"$f":"INPUT!LE436","v":""},{"$f":"INPUT!LF436","v":""},{"$f":"INPUT!LG436","v":""},{"$f":"INPUT!LH436","v":""},null,{"$f":"INPUT!MB436","v":""},{"$f":"INPUT!MC436","v":""},{"$f":"INPUT!MD436","v":""},{"$f":"INPUT!ME436","v":""},{"$f":"INPUT!MF436","v":""},{"$f":"INPUT!MG436","v":""},{"$f":"INPUT!MH436","v":""},{"$f":"INPUT!MI436","v":""}]
[null,{"$f":"INPUT!EA437","v":""},{"$f":"INPUT!EB437","v":""},{"$f":"INPUT!EC437","v":""},{"$f":"INPUT!ED437","v":""},{"$f":"INPUT!EE437","v":""},{"$f":"INPUT!EF437","v":""},{"$f":"INPUT!EG437","v":""},"",null,{"$f":"INPUT!EY437","v":""},{"$f":"INPUT!EZ437","v":""},{"$f":"INPUT!FA437","v":""},{"$f":"INPUT!FB437","v":""},{"$f":"INPUT!FC437","v":""},{"$f":"INPUT!FD437","v":""},{"$f":"INPUT!FE437","v":""},"",null,{"$f":"INPUT!FW437","v":""},{"$f":"INPUT!FX437","v":""},{"$f":"INPUT!FY437","v":""},{"$f":"INPUT!FZ437","v":""},{"$f":"INPUT!GA437","v":""},{"$f":"INPUT!GB437","v":""},{"$f":"INPUT!GC437","v":""},null,{"$f":"INPUT!GY437","v":""},{"$f":"INPUT!GZ437","v":""},{"$f":"INPUT!HA437","v":""},{"$f":"INPUT!HB437","v":""},{"$f":"INPUT!HC437","v":""},{"$f":"INPUT!HD437","v":""},{"$f":"INPUT!HE437","v":""},{"$f":"INPUT!HF437","v":""},{"$f":"INPUT!HG437","v":""},null,{"$f":"INPUT!IA437","v":""},{"$f":"INPUT!IB437","v":""},{"$f":"INPUT!IC437","v":""},{"$f":"INPUT!ID437","v":""},{"$f":"INPUT!IE437","v":""},{"$f":"INPUT!IF437","v":""},{"$f":"INPUT!IG437","v":""},{"$f":"INPUT!IH437","v":""},null,{"$f":"INPUT!IZ437","v":""},{"$f":"INPUT!JA437","v":""},{"$f":"INPUT!JB437","v":""},{"$f":"INPUT!JC437","v":""},{"$f":"INPUT!JD437","v":""},{"$f":"INPUT!JE437","v":""},{"$f":"INPUT!JF437","v":""},"",null,{"$f":"INPUT!JX437","v":""},{"$f":"INPUT!JY437","v":""},{"$f":"INPUT!JZ437","v":""},{"$f":"INPUT!KA437","v":""},{"$f":"INPUT!KB437","v":""},{"$f":"INPUT!KC437","v":""},{"$f":"INPUT!KD437","v":""},"",null,{"$f":"INPUT!KZ437","v":""},{"$f":"INPUT!LA437","v":""},{"$f":"INPUT!LB437","v":""},{"$f":"INPUT!LC437","v":""},{"$f":"INPUT!LD437","v":""},{"$f":"INPUT!LE437","v":""},{"$f":"INPUT!LF437","v":""},{"$f":"INPUT!LG437","v":""},{"$f":"INPUT!LH437","v":""},null,{"$f":"INPUT!MB437","v":""},{"$f":"INPUT!MC437","v":""},{"$f":"INPUT!MD437","v":""},{"$f":"INPUT!ME437","v":""},{"$f":"INPUT!MF437","v":""},{"$f":"INPUT!MG437","v":""},{"$f":"INPUT!MH437","v":""},{"$f":"INPUT!MI437","v":""}]
[null,{"$f":"INPUT!EA438","v":""},{"$f":"INPUT!EB438","v":""},{"$f":"INPUT!EC438","v":""},{"$f":"INPUT!ED438","v":""},{"$f":"INPUT!EE438","v":""},{"$f":"INPUT!EF438","v":""},{"$f":"INPUT!EG438","v":""},"",null,{"$f":"INPUT!EY438","v":""},{"$f":"INPUT!EZ438","v":""},{"$f":"INPUT!FA438","v":""},{"$f":"INPUT!FB438","v":""},{"$f":"INPUT!FC438","v":""},{"$f":"INPUT!FD438","v":""},{"$f":"INPUT!FE438","v":""},"",null,{"$f":"INPUT!FW438","v":""},{"$f":"INPUT!FX438","v":""},{"$f":"INPUT!FY438","v":""},{"$f":"INPUT!FZ438","v":""},{"$f":"INPUT!GA438","v":""},{"$f":"INPUT!GB438","v":""},{"$f":"INPUT!GC438","v":""},null,{"$f":"INPUT!GY438","v":""},{"$f":"INPUT!GZ438","v":""},{"$f":"INPUT!HA438","v":""},{"$f":"INPUT!HB438","v":""},{"$f":"INPUT!HC438","v":""},{"$f":"INPUT!HD438","v":""},{"$f":"INPUT!HE438","v":""},{"$f":"INPUT!HF438","v":""},{"$f":"INPUT!HG438","v":""},null,{"$f":"INPUT!IA438","v":""},{"$f":"INPUT!IB438","v":""},{"$f":"INPUT!IC438","v":""},{"$f":"INPUT!ID438","v":""},{"$f":"INPUT!IE438","v":""},{"$f":"INPUT!IF438","v":""},{"$f":"INPUT!IG438","v":""},{"$f":"INPUT!IH438","v":""},null,{"$f":"INPUT!IZ438","v":""},{"$f":"INPUT!JA438","v":""},{"$f":"INPUT!JB438","v":""},{"$f":"INPUT!JC438","v":""},{"$f":"INPUT!JD438","v":""},{"$f":"INPUT!JE438","v":""},{"$f":"INPUT!JF438","v":""},"",null,{"$f":"INPUT!JX438","v":""},{"$f":"INPUT!JY438","v":""},{"$f":"INPUT!JZ438","v":""},{"$f":"INPUT!KA438","v":""},{"$f":"INPUT!KB438","v":""},{"$f":"INPUT!KC438","v":""},{"$f":"INPUT!KD438","v":""},"",null,{"$f":"INPUT!KZ438","v":""},{"$f":"INPUT!LA438","v":""},{"$f":"INPUT!LB438","v":""},{"$f":"INPUT!LC438","v":""},{"$f":"INPUT!LD438","v":""},{"$f":"INPUT!LE438","v":""},{"$f":"INPUT!LF438","v":""},{"$f":"INPUT!LG438","v":""},{"$f":"INPUT!LH438","v":""},null,{"$f":"INPUT!MB438","v":""},{"$f":"INPUT!MC438","v":""},{"$f":"INPUT!MD438","v":""},{"$f":"INPUT!ME438","v":""},{"$f":"INPUT!MF438","v":""},{"$f":"INPUT!MG438","v":""},{"$f":"INPUT!MH438","v":""},{"$f":"INPUT!MI438","v":""}]
[null,{"$f":"INPUT!EA439","v":""},{"$f":"INPUT!EB439","v":""},{"$f":"INPUT!EC439","v":""},{"$f":"INPUT!ED439","v":""},{"$f":"INPUT!EE439","v":""},{"$f":"INPUT!EF439","v":""},{"$f":"INPUT!EG439","v":""},"",null,{"$f":"INPUT!EY439","v":""},{"$f":"INPUT!EZ439","v":""},{"$f":"INPUT!FA439","v":""},{"$f":"INPUT!FB439","v":""},{"$f":"INPUT!FC439","v":""},{"$f":"INPUT!FD439","v":""},{"$f":"INPUT!FE439","v":""},"",null,{"$f":"INPUT!FW439","v":""},{"$f":"INPUT!FX439","v":""},{"$f":"INPUT!FY439","v":""},{"$f":"INPUT!FZ439","v":""},{"$f":"INPUT!GA439","v":""},{"$f":"INPUT!GB439","v":""},{"$f":"INPUT!GC439","v":""},null,{"$f":"INPUT!GY439","v":""},{"$f":"INPUT!GZ439","v":""},{"$f":"INPUT!HA439","v":""},{"$f":"INPUT!HB439","v":""},{"$f":"INPUT!HC439","v":""},{"$f":"INPUT!HD439","v":""},{"$f":"INPUT!HE439","v":""},{"$f":"INPUT!HF439","v":""},{"$f":"INPUT!HG439","v":""},null,{"$f":"INPUT!IA439","v":""},{"$f":"INPUT!IB439","v":""},{"$f":"INPUT!IC439","v":""},{"$f":"INPUT!ID439","v":""},{"$f":"INPUT!IE439","v":""},{"$f":"INPUT!IF439","v":""},{"$f":"INPUT!IG439","v":""},{"$f":"INPUT!IH439","v":""},null,{"$f":"INPUT!IZ439","v":""},{"$f":"INPUT!JA439","v":""},{"$f":"INPUT!JB439","v":""},{"$f":"INPUT!JC439","v":""},{"$f":"INPUT!JD439","v":""},{"$f":"INPUT!JE439","v":""},{"$f":"INPUT!JF439","v":""},"",null,{"$f":"INPUT!JX439","v":""},{"$f":"INPUT!JY439","v":""},{"$f":"INPUT!JZ439","v":""},{"$f":"INPUT!KA439","v":""},{"$f":"INPUT!KB439","v":""},{"$f":"INPUT!KC439","v":""},{"$f":"INPUT!KD439","v":""},"",null,{"$f":"INPUT!KZ439","v":""},{"$f":"INPUT!LA439","v":""},{"$f":"INPUT!LB439","v":""},{"$f":"INPUT!LC439","v":""},{"$f":"INPUT!LD439","v":""},{"$f":"INPUT!LE439","v":""},{"$f":"INPUT!LF439","v":""},{"$f":"INPUT!LG439","v":""},{"$f":"INPUT!LH439","v":""},null,{"$f":"INPUT!MB439","v":""},{"$f":"INPUT!MC439","v":""},{"$f":"INPUT!MD439","v":""},{"$f":"INPUT!ME439","v":""},{"$f":"INPUT!MF439","v":""},{"$f":"INPUT!MG439","v":""},{"$f":"INPUT!MH439","v":""},{"$f":"INPUT!MI439","v":""}]
[null,{"$f":"INPUT!EA440","v":""},{"$f":"INPUT!EB440","v":""},{"$f":"INPUT!EC440","v":""},{"$f":"INPUT!ED440","v":""},{"$f":"INPUT!EE440","v":""},{"$f":"INPUT!EF440","v":""},{"$f":"INPUT!EG440","v":""},"",null,{"$f":"INPUT!EY440","v":""},{"$f":"INPUT!EZ440","v":""},{"$f":"INPUT!FA440","v":""},{"$f":"INPUT!FB440","v":""},{"$f":"INPUT!FC440","v":""},{"$f":"INPUT!FD440","v":""},{"$f":"INPUT!FE440","v":""},"",null,{"$f":"INPUT!FW440","v":""},{"$f":"INPUT!FX440","v":""},{"$f":"INPUT!FY440","v":""},{"$f":"INPUT!FZ440","v":""},{"$f":"INPUT!GA440","v":""},{"$f":"INPUT!GB440","v":""},{"$f":"INPUT!GC440","v":""},null,{"$f":"INPUT!GY440","v":""},{"$f":"INPUT!GZ440","v":""},{"$f":"INPUT!HA440","v":""},{"$f":"INPUT!HB440","v":""},{"$f":"INPUT!HC440","v":""},{"$f":"INPUT!HD440","v":""},{"$f":"INPUT!HE440","v":""},{"$f":"INPUT!HF440","v":""},{"$f":"INPUT!HG440","v":""},null,{"$f":"INPUT!IA440","v":""},{"$f":"INPUT!IB440","v":""},{"$f":"INPUT!IC440","v":""},{"$f":"INPUT!ID440","v":""},{"$f":"INPUT!IE440","v":""},{"$f":"INPUT!IF440","v":""},{"$f":"INPUT!IG440","v":""},{"$f":"INPUT!IH440","v":""},null,{"$f":"INPUT!IZ440","v":""},{"$f":"INPUT!JA440","v":""},{"$f":"INPUT!JB440","v":""},{"$f":"INPUT!JC440","v":""},{"$f":"INPUT!JD440","v":""},{"$f":"INPUT!JE440","v":""},{"$f":"INPUT!JF440","v":""},"",null,{"$f":"INPUT!JX440","v":""},{"$f":"INPUT!JY440","v":""},{"$f":"INPUT!JZ440","v":""},{"$f":"INPUT!KA440","v":""},{"$f":"INPUT!KB440","v":""},{"$f":"INPUT!KC440","v":""},{"$f":"INPUT!KD440","v":""},"",null,{"$f":"INPUT!KZ440","v":""},{"$f":"INPUT!LA440","v":""},{"$f":"INPUT!LB440","v":""},{"$f":"INPUT!LC440","v":""},{"$f":"INPUT!LD440","v":""},{"$f":"INPUT!LE440","v":""},{"$f":"INPUT!LF440","v":""},{"$f":"INPUT!LG440","v":""},{"$f":"INPUT!LH440","v":""},null,{"$f":"INPUT!MB440","v":""},{"$f":"INPUT!MC440","v":""},{"$f":"INPUT!MD440","v":""},{"$f":"INPUT!ME440","v":""},{"$f":"INPUT!MF440","v":""},{"$f":"INPUT!MG440","v":""},{"$f":"INPUT!MH440","v":""},{"$f":"INPUT!MI440","v":""}]
[null,{"$f":"INPUT!EA441","v":""},{"$f":"INPUT!EB441","v":""},{"$f":"INPUT!EC441","v":""},{"$f":"INPUT!ED441","v":""},{"$f":"INPUT!EE441","v":""},{"$f":"INPUT!EF441","v":""},{"$f":"INPUT!EG441","v":""},"",null,{"$f":"INPUT!EY441","v":""},{"$f":"INPUT!EZ441","v":""},{"$f":"INPUT!FA441","v":""},{"$f":"INPUT!FB441","v":""},{"$f":"INPUT!FC441","v":""},{"$f":"INPUT!FD441","v":""},{"$f":"INPUT!FE441","v":""},"",null,{"$f":"INPUT!FW441","v":""},{"$f":"INPUT!FX441","v":""},{"$f":"INPUT!FY441","v":""},{"$f":"INPUT!FZ441","v":""},{"$f":"INPUT!GA441","v":""},{"$f":"INPUT!GB441","v":""},{"$f":"INPUT!GC441","v":""},null,{"$f":"INPUT!GY441","v":""},{"$f":"INPUT!GZ441","v":""},{"$f":"INPUT!HA441","v":""},{"$f":"INPUT!HB441","v":""},{"$f":"INPUT!HC441","v":""},{"$f":"INPUT!HD441","v":""},{"$f":"INPUT!HE441","v":""},{"$f":"INPUT!HF441","v":""},{"$f":"INPUT!HG441","v":""},null,{"$f":"INPUT!IA441","v":""},{"$f":"INPUT!IB441","v":""},{"$f":"INPUT!IC441","v":""},{"$f":"INPUT!ID441","v":""},{"$f":"INPUT!IE441","v":""},{"$f":"INPUT!IF441","v":""},{"$f":"INPUT!IG441","v":""},{"$f":"INPUT!IH441","v":""},null,{"$f":"INPUT!IZ441","v":""},{"$f":"INPUT!JA441","v":""},{"$f":"INPUT!JB441","v":""},{"$f":"INPUT!JC441","v":""},{"$f":"INPUT!JD441","v":""},{"$f":"INPUT!JE441","v":""},{"$f":"INPUT!JF441","v":""},"",null,{"$f":"INPUT!JX441","v":""},{"$f":"INPUT!JY441","v":""},{"$f":"INPUT!JZ441","v":""},{"$f":"INPUT!KA441","v":""},{"$f":"INPUT!KB441","v":""},{"$f":"INPUT!KC441","v":""},{"$f":"INPUT!KD441","v":""},"",null,{"$f":"INPUT!KZ441","v":""},{"$f":"INPUT!LA441","v":""},{"$f":"INPUT!LB441","v":""},{"$f":"INPUT!LC441","v":""},{"$f":"INPUT!LD441","v":""},{"$f":"INPUT!LE441","v":""},{"$f":"INPUT!LF441","v":""},{"$f":"INPUT!LG441","v":""},{"$f":"INPUT!LH441","v":""},null,{"$f":"INPUT!MB441","v":""},{"$f":"INPUT!MC441","v":""},{"$f":"INPUT!MD441","v":""},{"$f":"INPUT!ME441","v":""},{"$f":"INPUT!MF441","v":""},{"$f":"INPUT!MG441","v":""},{"$f":"INPUT!MH441","v":""},{"$f":"INPUT!MI441","v":""}]
[null,{"$f":"INPUT!EA442","v":""},{"$f":"INPUT!EB442","v":""},{"$f":"INPUT!EC442","v":""},{"$f":"INPUT!ED442","v":""},{"$f":"INPUT!EE442","v":""},{"$f":"INPUT!EF442","v":""},{"$f":"INPUT!EG442","v":""},"",null,{"$f":"INPUT!EY442","v":""},{"$f":"INPUT!EZ442","v":""},{"$f":"INPUT!FA442","v":""},{"$f":"INPUT!FB442","v":""},{"$f":"INPUT!FC442","v":""},{"$f":"INPUT!FD442","v":""},{"$f":"INPUT!FE442","v":""},"",null,{"$f":"INPUT!FW442","v":""},{"$f":"INPUT!FX442","v":""},{"$f":"INPUT!FY442","v":""},{"$f":"INPUT!FZ442","v":""},{"$f":"INPUT!GA442","v":""},{"$f":"INPUT!GB442","v":""},{"$f":"INPUT!GC442","v":""},null,{"$f":"INPUT!GY442","v":""},{"$f":"INPUT!GZ442","v":""},{"$f":"INPUT!HA442","v":""},{"$f":"INPUT!HB442","v":""},{"$f":"INPUT!HC442","v":""},{"$f":"INPUT!HD442","v":""},{"$f":"INPUT!HE442","v":""},{"$f":"INPUT!HF442","v":""},{"$f":"INPUT!HG442","v":""},null,{"$f":"INPUT!IA442","v":""},{"$f":"INPUT!IB442","v":""},{"$f":"INPUT!IC442","v":""},{"$f":"INPUT!ID442","v":""},{"$f":"INPUT!IE442","v":""},{"$f":"INPUT!IF442","v":""},{"$f":"INPUT!IG442","v":""},{"$f":"INPUT!IH442","v":""},null,{"$f":"INPUT!IZ442","v":""},{"$f":"INPUT!JA442","v":""},{"$f":"INPUT!JB442","v":""},{"$f":"INPUT!JC442","v":""},{"$f":"INPUT!JD442","v":""},{"$f":"INPUT!JE442","v":""},{"$f":"INPUT!JF442","v":""},"",null,{"$f":"INPUT!JX442","v":""},{"$f":"INPUT!JY442","v":""},{"$f":"INPUT!JZ442","v":""},{"$f":"INPUT!KA442","v":""},{"$f":"INPUT!KB442","v":""},{"$f":"INPUT!KC442","v":""},{"$f":"INPUT!KD442","v":""},"",null,{"$f":"INPUT!KZ442","v":""},{"$f":"INPUT!LA442","v":""},{"$f":"INPUT!LB442","v":""},{"$f":"INPUT!LC442","v":""},{"$f":"INPUT!LD442","v":""},{"$f":"INPUT!LE442","v":""},{"$f":"INPUT!LF442","v":""},{"$f":"INPUT!LG442","v":""},{"$f":"INPUT!LH442","v":""},null,{"$f":"INPUT!MB442","v":""},{"$f":"INPUT!MC442","v":""},{"$f":"INPUT!MD442","v":""},{"$f":"INPUT!ME442","v":""},{"$f":"INPUT!MF442","v":""},{"$f":"INPUT!MG442","v":""},{"$f":"INPUT!MH442","v":""},{"$f":"INPUT!MI442","v":""}]
[null,{"$f":"INPUT!EA443","v":""},{"$f":"INPUT!EB443","v":""},{"$f":"INPUT!EC443","v":""},{"$f":"INPUT!ED443","v":""},{"$f":"INPUT!EE443","v":""},{"$f":"INPUT!EF443","v":""},{"$f":"INPUT!EG443","v":""},"",null,{"$f":"INPUT!EY443","v":""},{"$f":"INPUT!EZ443","v":""},{"$f":"INPUT!FA443","v":""},{"$f":"INPUT!FB443","v":""},{"$f":"INPUT!FC443","v":""},{"$f":"INPUT!FD443","v":""},{"$f":"INPUT!FE443","v":""},"",null,{"$f":"INPUT!FW443","v":""},{"$f":"INPUT!FX443","v":""},{"$f":"INPUT!FY443","v":""},{"$f":"INPUT!FZ443","v":""},{"$f":"INPUT!GA443","v":""},{"$f":"INPUT!GB443","v":""},{"$f":"INPUT!GC443","v":""},null,{"$f":"INPUT!GY443","v":""},{"$f":"INPUT!GZ443","v":""},{"$f":"INPUT!HA443","v":""},{"$f":"INPUT!HB443","v":""},{"$f":"INPUT!HC443","v":""},{"$f":"INPUT!HD443","v":""},{"$f":"INPUT!HE443","v":""},{"$f":"INPUT!HF443","v":""},{"$f":"INPUT!HG443","v":""},null,{"$f":"INPUT!IA443","v":""},{"$f":"INPUT!IB443","v":""},{"$f":"INPUT!IC443","v":""},{"$f":"INPUT!ID443","v":""},{"$f":"INPUT!IE443","v":""},{"$f":"INPUT!IF443","v":""},{"$f":"INPUT!IG443","v":""},{"$f":"INPUT!IH443","v":""},null,{"$f":"INPUT!IZ443","v":""},{"$f":"INPUT!JA443","v":""},{"$f":"INPUT!JB443","v":""},{"$f":"INPUT!JC443","v":""},{"$f":"INPUT!JD443","v":""},{"$f":"INPUT!JE443","v":""},{"$f":"INPUT!JF443","v":""},"",null,{"$f":"INPUT!JX443","v":""},{"$f":"INPUT!JY443","v":""},{"$f":"INPUT!JZ443","v":""},{"$f":"INPUT!KA443","v":""},{"$f":"INPUT!KB443","v":""},{"$f":"INPUT!KC443","v":""},{"$f":"INPUT!KD443","v":""},"",null,{"$f":"INPUT!KZ443","v":""},{"$f":"INPUT!LA443","v":""},{"$f":"INPUT!LB443","v":""},{"$f":"INPUT!LC443","v":""},{"$f":"INPUT!LD443","v":""},{"$f":"INPUT!LE443","v":""},{"$f":"INPUT!LF443","v":""},{"$f":"INPUT!LG443","v":""},{"$f":"INPUT!LH443","v":""},null,{"$f":"INPUT!MB443","v":""},{"$f":"INPUT!MC443","v":""},{"$f":"INPUT!MD443","v":""},{"$f":"INPUT!ME443","v":""},{"$f":"INPUT!MF443","v":""},{"$f":"INPUT!MG443","v":""},{"$f":"INPUT!MH443","v":""},{"$f":"INPUT!MI443","v":""}]
[null,{"$f":"INPUT!EA444","v":""},{"$f":"INPUT!EB444","v":""},{"$f":"INPUT!EC444","v":""},{"$f":"INPUT!ED444","v":""},{"$f":"INPUT!EE444","v":""},{"$f":"INPUT!EF444","v":""},{"$f":"INPUT!EG444","v":""},"",null,{"$f":"INPUT!EY444","v":""},{"$f":"INPUT!EZ444","v":""},{"$f":"INPUT!FA444","v":""},{"$f":"INPUT!FB444","v":""},{"$f":"INPUT!FC444","v":""},{"$f":"INPUT!FD444","v":""},{"$f":"INPUT!FE444","v":""},"",null,{"$f":"INPUT!FW444","v":""},{"$f":"INPUT!FX444","v":""},{"$f":"INPUT!FY444","v":""},{"$f":"INPUT!FZ444","v":""},{"$f":"INPUT!GA444","v":""},{"$f":"INPUT!GB444","v":""},{"$f":"INPUT!GC444","v":""},null,{"$f":"INPUT!GY444","v":""},{"$f":"INPUT!GZ444","v":""},{"$f":"INPUT!HA444","v":""},{"$f":"INPUT!HB444","v":""},{"$f":"INPUT!HC444","v":""},{"$f":"INPUT!HD444","v":""},{"$f":"INPUT!HE444","v":""},{"$f":"INPUT!HF444","v":""},{"$f":"INPUT!HG444","v":""},null,{"$f":"INPUT!IA444","v":""},{"$f":"INPUT!IB444","v":""},{"$f":"INPUT!IC444","v":""},{"$f":"INPUT!ID444","v":""},{"$f":"INPUT!IE444","v":""},{"$f":"INPUT!IF444","v":""},{"$f":"INPUT!IG444","v":""},{"$f":"INPUT!IH444","v":""},null,{"$f":"INPUT!IZ444","v":""},{"$f":"INPUT!JA444","v":""},{"$f":"INPUT!JB444","v":""},{"$f":"INPUT!JC444","v":""},{"$f":"INPUT!JD444","v":""},{"$f":"INPUT!JE444","v":""},{"$f":"INPUT!JF444","v":""},"",null,{"$f":"INPUT!JX444","v":""},{"$f":"INPUT!JY444","v":""},{"$f":"INPUT!JZ444","v":""},{"$f":"INPUT!KA444","v":""},{"$f":"INPUT!KB444","v":""},{"$f":"INPUT!KC444","v":""},{"$f":"INPUT!KD444","v":""},"",null,{"$f":"INPUT!KZ444","v":""},{"$f":"INPUT!LA444","v":""},{"$f":"INPUT!LB444","v":""},{"$f":"INPUT!LC444","v":""},{"$f":"INPUT!LD444","v":""},{"$f":"INPUT!LE444","v":""},{"$f":"INPUT!LF444","v":""},{"$f":"INPUT!LG444","v":""},{"$f":"INPUT!LH444","v":""},null,{"$f":"INPUT!MB444","v":""},{"$f":"INPUT!MC444","v":""},{"$f":"INPUT!MD444","v":""},{"$f":"INPUT!ME444","v":""},{"$f":"INPUT!MF444","v":""},{"$f":"INPUT!MG444","v":""},{"$f":"INPUT!MH444","v":""},{"$f":"INPUT!MI444","v":""}]
[null,{"$f":"INPUT!EA445","v":""},{"$f":"INPUT!EB445","v":""},{"$f":"INPUT!EC445","v":""},{"$f":"INPUT!ED445","v":""},{"$f":"INPUT!EE445","v":""},{"$f":"INPUT!EF445","v":""},{"$f":"INPUT!EG445","v":""},"",null,{"$f":"INPUT!EY445","v":""},{"$f":"INPUT!EZ445","v":""},{"$f":"INPUT!FA445","v":""},{"$f":"INPUT!FB445","v":""},{"$f":"INPUT!FC445","v":""},{"$f":"INPUT!FD445","v":""},{"$f":"INPUT!FE445","v":""},"",null,{"$f":"INPUT!FW445","v":""},{"$f":"INPUT!FX445","v":""},{"$f":"INPUT!FY445","v":""},{"$f":"INPUT!FZ445","v":""},{"$f":"INPUT!GA445","v":""},{"$f":"INPUT!GB445","v":""},{"$f":"INPUT!GC445","v":""},null,{"$f":"INPUT!GY445","v":""},{"$f":"INPUT!GZ445","v":""},{"$f":"INPUT!HA445","v":""},{"$f":"INPUT!HB445","v":""},{"$f":"INPUT!HC445","v":""},{"$f":"INPUT!HD445","v":""},{"$f":"INPUT!HE445","v":""},{"$f":"INPUT!HF445","v":""},{"$f":"INPUT!HG445","v":""},null,{"$f":"INPUT!IA445","v":""},{"$f":"INPUT!IB445","v":""},{"$f":"INPUT!IC445","v":""},{"$f":"INPUT!ID445","v":""},{"$f":"INPUT!IE445","v":""},{"$f":"INPUT!IF445","v":""},{"$f":"INPUT!IG445","v":""},{"$f":"INPUT!IH445","v":""},null,{"$f":"INPUT!IZ445","v":""},{"$f":"INPUT!JA445","v":""},{"$f":"INPUT!JB445","v":""},{"$f":"INPUT!JC445","v":""},{"$f":"INPUT!JD445","v":""},{"$f":"INPUT!JE445","v":""},{"$f":"INPUT!JF445","v":""},"",null,{"$f":"INPUT!JX445","v":""},{"$f":"INPUT!JY445","v":""},{"$f":"INPUT!JZ445","v":""},{"$f":"INPUT!KA445","v":""},{"$f":"INPUT!KB445","v":""},{"$f":"INPUT!KC445","v":""},{"$f":"INPUT!KD445","v":""},"",null,{"$f":"INPUT!KZ445","v":""},{"$f":"INPUT!LA445","v":""},{"$f":"INPUT!LB445","v":""},{"$f":"INPUT!LC445","v":""},{"$f":"INPUT!LD445","v":""},{"$f":"INPUT!LE445","v":""},{"$f":"INPUT!LF445","v":""},{"$f":"INPUT!LG445","v":""},{"$f":"INPUT!LH445","v":""},null,{"$f":"INPUT!MB445","v":""},{"$f":"INPUT!MC445","v":""},{"$f":"INPUT!MD445","v":""},{"$f":"INPUT!ME445","v":""},{"$f":"INPUT!MF445","v":""},{"$f":"INPUT!MG445","v":""},{"$f":"INPUT!MH445","v":""},{"$f":"INPUT!MI445","v":""}]
[null,{"$f":"INPUT!EA446","v":""},{"$f":"INPUT!EB446","v":""},{"$f":"INPUT!EC446","v":""},{"$f":"INPUT!ED446","v":""},{"$f":"INPUT!EE446","v":""},{"$f":"INPUT!EF446","v":""},{"$f":"INPUT!EG446","v":""},"",null,{"$f":"INPUT!EY446","v":""},{"$f":"INPUT!EZ446","v":""},{"$f":"INPUT!FA446","v":""},{"$f":"INPUT!FB446","v":""},{"$f":"INPUT!FC446","v":""},{"$f":"INPUT!FD446","v":""},{"$f":"INPUT!FE446","v":""},"",null,{"$f":"INPUT!FW446","v":""},{"$f":"INPUT!FX446","v":""},{"$f":"INPUT!FY446","v":""},{"$f":"INPUT!FZ446","v":""},{"$f":"INPUT!GA446","v":""},{"$f":"INPUT!GB446","v":""},{"$f":"INPUT!GC446","v":""},null,{"$f":"INPUT!GY446","v":""},{"$f":"INPUT!GZ446","v":""},{"$f":"INPUT!HA446","v":""},{"$f":"INPUT!HB446","v":""},{"$f":"INPUT!HC446","v":""},{"$f":"INPUT!HD446","v":""},{"$f":"INPUT!HE446","v":""},{"$f":"INPUT!HF446","v":""},{"$f":"INPUT!HG446","v":""},null,{"$f":"INPUT!IA446","v":""},{"$f":"INPUT!IB446","v":""},{"$f":"INPUT!IC446","v":""},{"$f":"INPUT!ID446","v":""},{"$f":"INPUT!IE446","v":""},{"$f":"INPUT!IF446","v":""},{"$f":"INPUT!IG446","v":""},{"$f":"INPUT!IH446","v":""},null,{"$f":"INPUT!IZ446","v":""},{"$f":"INPUT!JA446","v":""},{"$f":"INPUT!JB446","v":""},{"$f":"INPUT!JC446","v":""},{"$f":"INPUT!JD446","v":""},{"$f":"INPUT!JE446","v":""},{"$f":"INPUT!JF446","v":""},"",null,{"$f":"INPUT!JX446","v":""},{"$f":"INPUT!JY446","v":""},{"$f":"INPUT!JZ446","v":""},{"$f":"INPUT!KA446","v":""},{"$f":"INPUT!KB446","v":""},{"$f":"INPUT!KC446","v":""},{"$f":"INPUT!KD446","v":""},"",null,{"$f":"INPUT!KZ446","v":""},{"$f":"INPUT!LA446","v":""},{"$f":"INPUT!LB446","v":""},{"$f":"INPUT!LC446","v":""},{"$f":"INPUT!LD446","v":""},{"$f":"INPUT!LE446","v":""},{"$f":"INPUT!LF446","v":""},{"$f":"INPUT!LG446","v":""},{"$f":"INPUT!LH446","v":""},null,{"$f":"INPUT!MB446","v":""},{"$f":"INPUT!MC446","v":""},{"$f":"INPUT!MD446","v":""},{"$f":"INPUT!ME446","v":""},{"$f":"INPUT!MF446","v":""},{"$f":"INPUT!MG446","v":""},{"$f":"INPUT!MH446","v":""},{"$f":"INPUT!MI446","v":""}]
[null,{"$f":"INPUT!EA447","v":""},{"$f":"INPUT!EB447","v":""},{"$f":"INPUT!EC447","v":""},{"$f":"INPUT!ED447","v":""},{"$f":"INPUT!EE447","v":""},{"$f":"INPUT!EF447","v":""},{"$f":"INPUT!EG447","v":""},"",null,{"$f":"INPUT!EY447","v":""},{"$f":"INPUT!EZ447","v":""},{"$f":"INPUT!FA447","v":""},{"$f":"INPUT!FB447","v":""},{"$f":"INPUT!FC447","v":""},{"$f":"INPUT!FD447","v":""},{"$f":"INPUT!FE447","v":""},"",null,{"$f":"INPUT!FW447","v":""},{"$f":"INPUT!FX447","v":""},{"$f":"INPUT!FY447","v":""},{"$f":"INPUT!FZ447","v":""},{"$f":"INPUT!GA447","v":""},{"$f":"INPUT!GB447","v":""},{"$f":"INPUT!GC447","v":""},null,{"$f":"INPUT!GY447","v":""},{"$f":"INPUT!GZ447","v":""},{"$f":"INPUT!HA447","v":""},{"$f":"INPUT!HB447","v":""},{"$f":"INPUT!HC447","v":""},{"$f":"INPUT!HD447","v":""},{"$f":"INPUT!HE447","v":""},{"$f":"INPUT!HF447","v":""},{"$f":"INPUT!HG447","v":""},null,{"$f":"INPUT!IA447","v":""},{"$f":"INPUT!IB447","v":""},{"$f":"INPUT!IC447","v":""},{"$f":"INPUT!ID447","v":""},{"$f":"INPUT!IE447","v":""},{"$f":"INPUT!IF447","v":""},{"$f":"INPUT!IG447","v":""},{"$f":"INPUT!IH447","v":""},null,{"$f":"INPUT!IZ447","v":""},{"$f":"INPUT!JA447","v":""},{"$f":"INPUT!JB447","v":""},{"$f":"INPUT!JC447","v":""},{"$f":"INPUT!JD447","v":""},{"$f":"INPUT!JE447","v":""},{"$f":"INPUT!JF447","v":""},"",null,{"$f":"INPUT!JX447","v":""},{"$f":"INPUT!JY447","v":""},{"$f":"INPUT!JZ447","v":""},{"$f":"INPUT!KA447","v":""},{"$f":"INPUT!KB447","v":""},{"$f":"INPUT!KC447","v":""},{"$f":"INPUT!KD447","v":""},"",null,{"$f":"INPUT!KZ447","v":""},{"$f":"INPUT!LA447","v":""},{"$f":"INPUT!LB447","v":""},{"$f":"INPUT!LC447","v":""},{"$f":"INPUT!LD447","v":""},{"$f":"INPUT!LE447","v":""},{"$f":"INPUT!LF447","v":""},{"$f":"INPUT!LG447","v":""},{"$f":"INPUT!LH447","v":""},null,{"$f":"INPUT!MB447","v":""},{"$f":"INPUT!MC447","v":""},{"$f":"INPUT!MD447","v":""},{"$f":"INPUT!ME447","v":""},{"$f":"INPUT!MF447","v":""},{"$f":"INPUT!MG447","v":""},{"$f":"INPUT!MH447","v":""},{"$f":"INPUT!MI447","v":""}]
[null,{"$f":"INPUT!EA448","v":""},{"$f":"INPUT!EB448","v":""},{"$f":"INPUT!EC448","v":""},{"$f":"INPUT!ED448","v":""},{"$f":"INPUT!EE448","v":""},{"$f":"INPUT!EF448","v":""},{"$f":"INPUT!EG448","v":""},"",null,{"$f":"INPUT!EY448","v":""},{"$f":"INPUT!EZ448","v":""},{"$f":"INPUT!FA448","v":""},{"$f":"INPUT!FB448","v":""},{"$f":"INPUT!FC448","v":""},{"$f":"INPUT!FD448","v":""},{"$f":"INPUT!FE448","v":""},"",null,{"$f":"INPUT!FW448","v":""},{"$f":"INPUT!FX448","v":""},{"$f":"INPUT!FY448","v":""},{"$f":"INPUT!FZ448","v":""},{"$f":"INPUT!GA448","v":""},{"$f":"INPUT!GB448","v":""},{"$f":"INPUT!GC448","v":""},null,{"$f":"INPUT!GY448","v":""},{"$f":"INPUT!GZ448","v":""},{"$f":"INPUT!HA448","v":""},{"$f":"INPUT!HB448","v":""},{"$f":"INPUT!HC448","v":""},{"$f":"INPUT!HD448","v":""},{"$f":"INPUT!HE448","v":""},{"$f":"INPUT!HF448","v":""},{"$f":"INPUT!HG448","v":""},null,{"$f":"INPUT!IA448","v":""},{"$f":"INPUT!IB448","v":""},{"$f":"INPUT!IC448","v":""},{"$f":"INPUT!ID448","v":""},{"$f":"INPUT!IE448","v":""},{"$f":"INPUT!IF448","v":""},{"$f":"INPUT!IG448","v":""},{"$f":"INPUT!IH448","v":""},null,{"$f":"INPUT!IZ448","v":""},{"$f":"INPUT!JA448","v":""},{"$f":"INPUT!JB448","v":""},{"$f":"INPUT!JC448","v":""},{"$f":"INPUT!JD448","v":""},{"$f":"INPUT!JE448","v":""},{"$f":"INPUT!JF448","v":""},"",null,{"$f":"INPUT!JX448","v":""},{"$f":"INPUT!JY448","v":""},{"$f":"INPUT!JZ448","v":""},{"$f":"INPUT!KA448","v":""},{"$f":"INPUT!KB448","v":""},{"$f":"INPUT!KC448","v":""},{"$f":"INPUT!KD448","v":""},"",null,{"$f":"INPUT!KZ448","v":""},{"$f":"INPUT!LA448","v":""},{"$f":"INPUT!LB448","v":""},{"$f":"INPUT!LC448","v":""},{"$f":"INPUT!LD448","v":""},{"$f":"INPUT!LE448","v":""},{"$f":"INPUT!LF448","v":""},{"$f":"INPUT!LG448","v":""},{"$f":"INPUT!LH448","v":""},null,{"$f":"INPUT!MB448","v":""},{"$f":"INPUT!MC448","v":""},{"$f":"INPUT!MD448","v":""},{"$f":"INPUT!ME448","v":""},{"$f":"INPUT!MF448","v":""},{"$f":"INPUT!MG448","v":""},{"$f":"INPUT!MH448","v":""},{"$f":"INPUT!MI448","v":""}]
[null,{"$f":"INPUT!EA449","v":""},{"$f":"INPUT!EB449","v":""},{"$f":"INPUT!EC449","v":""},{"$f":"INPUT!ED449","v":""},{"$f":"INPUT!EE449","v":""},{"$f":"INPUT!EF449","v":""},{"$f":"INPUT!EG449","v":""},"",null,{"$f":"INPUT!EY449","v":""},{"$f":"INPUT!EZ449","v":""},{"$f":"INPUT!FA449","v":""},{"$f":"INPUT!FB449","v":""},{"$f":"INPUT!FC449","v":""},{"$f":"INPUT!FD449","v":""},{"$f":"INPUT!FE449","v":""},"",null,{"$f":"INPUT!FW449","v":""},{"$f":"INPUT!FX449","v":""},{"$f":"INPUT!FY449","v":""},{"$f":"INPUT!FZ449","v":""},{"$f":"INPUT!GA449","v":""},{"$f":"INPUT!GB449","v":""},{"$f":"INPUT!GC449","v":""},null,{"$f":"INPUT!GY449","v":""},{"$f":"INPUT!GZ449","v":""},{"$f":"INPUT!HA449","v":""},{"$f":"INPUT!HB449","v":""},{"$f":"INPUT!HC449","v":""},{"$f":"INPUT!HD449","v":""},{"$f":"INPUT!HE449","v":""},{"$f":"INPUT!HF449","v":""},{"$f":"INPUT!HG449","v":""},null,{"$f":"INPUT!IA449","v":""},{"$f":"INPUT!IB449","v":""},{"$f":"INPUT!IC449","v":""},{"$f":"INPUT!ID449","v":""},{"$f":"INPUT!IE449","v":""},{"$f":"INPUT!IF449","v":""},{"$f":"INPUT!IG449","v":""},{"$f":"INPUT!IH449","v":""},null,{"$f":"INPUT!IZ449","v":""},{"$f":"INPUT!JA449","v":""},{"$f":"INPUT!JB449","v":""},{"$f":"INPUT!JC449","v":""},{"$f":"INPUT!JD449","v":""},{"$f":"INPUT!JE449","v":""},{"$f":"INPUT!JF449","v":""},"",null,{"$f":"INPUT!JX449","v":""},{"$f":"INPUT!JY449","v":""},{"$f":"INPUT!JZ449","v":""},{"$f":"INPUT!KA449","v":""},{"$f":"INPUT!KB449","v":""},{"$f":"INPUT!KC449","v":""},{"$f":"INPUT!KD449","v":""},"",null,{"$f":"INPUT!KZ449","v":""},{"$f":"INPUT!LA449","v":""},{"$f":"INPUT!LB449","v":""},{"$f":"INPUT!LC449","v":""},{"$f":"INPUT!LD449","v":""},{"$f":"INPUT!LE449","v":""},{"$f":"INPUT!LF449","v":""},{"$f":"INPUT!LG449","v":""},{"$f":"INPUT!LH449","v":""},null,{"$f":"INPUT!MB449","v":""},{"$f":"INPUT!MC449","v":""},{"$f":"INPUT!MD449","v":""},{"$f":"INPUT!ME449","v":""},{"$f":"INPUT!MF449","v":""},{"$f":"INPUT!MG449","v":""},{"$f":"INPUT!MH449","v":""},{"$f":"INPUT!MI449","v":""}]
[null,{"$f":"INPUT!EA450","v":""},{"$f":"INPUT!EB450","v":""},{"$f":"INPUT!EC450","v":""},{"$f":"INPUT!ED450","v":""},{"$f":"INPUT!EE450","v":""},{"$f":"INPUT!EF450","v":""},{"$f":"INPUT!EG450","v":""},"",null,{"$f":"INPUT!EY450","v":""},{"$f":"INPUT!EZ450","v":""},{"$f":"INPUT!FA450","v":""},{"$f":"INPUT!FB450","v":""},{"$f":"INPUT!FC450","v":""},{"$f":"INPUT!FD450","v":""},{"$f":"INPUT!FE450","v":""},"",null,{"$f":"INPUT!FW450","v":""},{"$f":"INPUT!FX450","v":""},{"$f":"INPUT!FY450","v":""},{"$f":"INPUT!FZ450","v":""},{"$f":"INPUT!GA450","v":""},{"$f":"INPUT!GB450","v":""},{"$f":"INPUT!GC450","v":""},null,{"$f":"INPUT!GY450","v":""},{"$f":"INPUT!GZ450","v":""},{"$f":"INPUT!HA450","v":""},{"$f":"INPUT!HB450","v":""},{"$f":"INPUT!HC450","v":""},{"$f":"INPUT!HD450","v":""},{"$f":"INPUT!HE450","v":""},{"$f":"INPUT!HF450","v":""},{"$f":"INPUT!HG450","v":""},null,{"$f":"INPUT!IA450","v":""},{"$f":"INPUT!IB450","v":""},{"$f":"INPUT!IC450","v":""},{"$f":"INPUT!ID450","v":""},{"$f":"INPUT!IE450","v":""},{"$f":"INPUT!IF450","v":""},{"$f":"INPUT!IG450","v":""},{"$f":"INPUT!IH450","v":""},null,{"$f":"INPUT!IZ450","v":""},{"$f":"INPUT!JA450","v":""},{"$f":"INPUT!JB450","v":""},{"$f":"INPUT!JC450","v":""},{"$f":"INPUT!JD450","v":""},{"$f":"INPUT!JE450","v":""},{"$f":"INPUT!JF450","v":""},"",null,{"$f":"INPUT!JX450","v":""},{"$f":"INPUT!JY450","v":""},{"$f":"INPUT!JZ450","v":""},{"$f":"INPUT!KA450","v":""},{"$f":"INPUT!KB450","v":""},{"$f":"INPUT!KC450","v":""},{"$f":"INPUT!KD450","v":""},"",null,{"$f":"INPUT!KZ450","v":""},{"$f":"INPUT!LA450","v":""},{"$f":"INPUT!LB450","v":""},{"$f":"INPUT!LC450","v":""},{"$f":"INPUT!LD450","v":""},{"$f":"INPUT!LE450","v":""},{"$f":"INPUT!LF450","v":""},{"$f":"INPUT!LG450","v":""},{"$f":"INPUT!LH450","v":""},null,{"$f":"INPUT!MB450","v":""},{"$f":"INPUT!MC450","v":""},{"$f":"INPUT!MD450","v":""},{"$f":"INPUT!ME450","v":""},{"$f":"INPUT!MF450","v":""},{"$f":"INPUT!MG450","v":""},{"$f":"INPUT!MH450","v":""},{"$f":"INPUT!MI450","v":""}]
[null,{"$f":"INPUT!EA451","v":""},{"$f":"INPUT!EB451","v":""},{"$f":"INPUT!EC451","v":""},{"$f":"INPUT!ED451","v":""},{"$f":"INPUT!EE451","v":""},{"$f":"INPUT!EF451","v":""},{"$f":"INPUT!EG451","v":""},"",null,{"$f":"INPUT!EY451","v":""},{"$f":"INPUT!EZ451","v":""},{"$f":"INPUT!FA451","v":""},{"$f":"INPUT!FB451","v":""},{"$f":"INPUT!FC451","v":""},{"$f":"INPUT!FD451","v":""},{"$f":"INPUT!FE451","v":""},"",null,{"$f":"INPUT!FW451","v":""},{"$f":"INPUT!FX451","v":""},{"$f":"INPUT!FY451","v":""},{"$f":"INPUT!FZ451","v":""},{"$f":"INPUT!GA451","v":""},{"$f":"INPUT!GB451","v":""},{"$f":"INPUT!GC451","v":""},null,{"$f":"INPUT!GY451","v":""},{"$f":"INPUT!GZ451","v":""},{"$f":"INPUT!HA451","v":""},{"$f":"INPUT!HB451","v":""},{"$f":"INPUT!HC451","v":""},{"$f":"INPUT!HD451","v":""},{"$f":"INPUT!HE451","v":""},{"$f":"INPUT!HF451","v":""},{"$f":"INPUT!HG451","v":""},null,{"$f":"INPUT!IA451","v":""},{"$f":"INPUT!IB451","v":""},{"$f":"INPUT!IC451","v":""},{"$f":"INPUT!ID451","v":""},{"$f":"INPUT!IE451","v":""},{"$f":"INPUT!IF451","v":""},{"$f":"INPUT!IG451","v":""},{"$f":"INPUT!IH451","v":""},null,{"$f":"INPUT!IZ451","v":""},{"$f":"INPUT!JA451","v":""},{"$f":"INPUT!JB451","v":""},{"$f":"INPUT!JC451","v":""},{"$f":"INPUT!JD451","v":""},{"$f":"INPUT!JE451","v":""},{"$f":"INPUT!JF451","v":""},"",null,{"$f":"INPUT!JX451","v":""},{"$f":"INPUT!JY451","v":""},{"$f":"INPUT!JZ451","v":""},{"$f":"INPUT!KA451","v":""},{"$f":"INPUT!KB451","v":""},{"$f":"INPUT!KC451","v":""},{"$f":"INPUT!KD451","v":""},"",null,{"$f":"INPUT!KZ451","v":""},{"$f":"INPUT!LA451","v":""},{"$f":"INPUT!LB451","v":""},{"$f":"INPUT!LC451","v":""},{"$f":"INPUT!LD451","v":""},{"$f":"INPUT!LE451","v":""},{"$f":"INPUT!LF451","v":""},{"$f":"INPUT!LG451","v":""},{"$f":"INPUT!LH451","v":""},null,{"$f":"INPUT!MB451","v":""},{"$f":"INPUT!MC451","v":""},{"$f":"INPUT!MD451","v":""},{"$f":"INPUT!ME451","v":""},{"$f":"INPUT!MF451","v":""},{"$f":"INPUT!MG451","v":""},{"$f":"INPUT!MH451","v":""},{"$f":"INPUT!MI451","v":""}]
[null,{"$f":"INPUT!EA452","v":""},{"$f":"INPUT!EB452","v":""},{"$f":"INPUT!EC452","v":""},{"$f":"INPUT!ED452","v":""},{"$f":"INPUT!EE452","v":""},{"$f":"INPUT!EF452","v":""},{"$f":"INPUT!EG452","v":""},"",null,{"$f":"INPUT!EY452","v":""},{"$f":"INPUT!EZ452","v":""},{"$f":"INPUT!FA452","v":""},{"$f":"INPUT!FB452","v":""},{"$f":"INPUT!FC452","v":""},{"$f":"INPUT!FD452","v":""},{"$f":"INPUT!FE452","v":""},"",null,{"$f":"INPUT!FW452","v":""},{"$f":"INPUT!FX452","v":""},{"$f":"INPUT!FY452","v":""},{"$f":"INPUT!FZ452","v":""},{"$f":"INPUT!GA452","v":""},{"$f":"INPUT!GB452","v":""},{"$f":"INPUT!GC452","v":""},null,{"$f":"INPUT!GY452","v":""},{"$f":"INPUT!GZ452","v":""},{"$f":"INPUT!HA452","v":""},{"$f":"INPUT!HB452","v":""},{"$f":"INPUT!HC452","v":""},{"$f":"INPUT!HD452","v":""},{"$f":"INPUT!HE452","v":""},{"$f":"INPUT!HF452","v":""},{"$f":"INPUT!HG452","v":""},null,{"$f":"INPUT!IA452","v":""},{"$f":"INPUT!IB452","v":""},{"$f":"INPUT!IC452","v":""},{"$f":"INPUT!ID452","v":""},{"$f":"INPUT!IE452","v":""},{"$f":"INPUT!IF452","v":""},{"$f":"INPUT!IG452","v":""},{"$f":"INPUT!IH452","v":""},null,{"$f":"INPUT!IZ452","v":""},{"$f":"INPUT!JA452","v":""},{"$f":"INPUT!JB452","v":""},{"$f":"INPUT!JC452","v":""},{"$f":"INPUT!JD452","v":""},{"$f":"INPUT!JE452","v":""},{"$f":"INPUT!JF452","v":""},"",null,{"$f":"INPUT!JX452","v":""},{"$f":"INPUT!JY452","v":""},{"$f":"INPUT!JZ452","v":""},{"$f":"INPUT!KA452","v":""},{"$f":"INPUT!KB452","v":""},{"$f":"INPUT!KC452","v":""},{"$f":"INPUT!KD452","v":""},"",null,{"$f":"INPUT!KZ452","v":""},{"$f":"INPUT!LA452","v":""},{"$f":"INPUT!LB452","v":""},{"$f":"INPUT!LC452","v":""},{"$f":"INPUT!LD452","v":""},{"$f":"INPUT!LE452","v":""},{"$f":"INPUT!LF452","v":""},{"$f":"INPUT!LG452","v":""},{"$f":"INPUT!LH452","v":""},null,{"$f":"INPUT!MB452","v":""},{"$f":"INPUT!MC452","v":""},{"$f":"INPUT!MD452","v":""},{"$f":"INPUT!ME452","v":""},{"$f":"INPUT!MF452","v":""},{"$f":"INPUT!MG452","v":""},{"$f":"INPUT!MH452","v":""},{"$f":"INPUT!MI452","v":""}]
[null,{"$f":"INPUT!EA453","v":""},{"$f":"INPUT!EB453","v":""},{"$f":"INPUT!EC453","v":""},{"$f":"INPUT!ED453","v":""},{"$f":"INPUT!EE453","v":""},{"$f":"INPUT!EF453","v":""},{"$f":"INPUT!EG453","v":""},"",null,{"$f":"INPUT!EY453","v":""},{"$f":"INPUT!EZ453","v":""},{"$f":"INPUT!FA453","v":""},{"$f":"INPUT!FB453","v":""},{"$f":"INPUT!FC453","v":""},{"$f":"INPUT!FD453","v":""},{"$f":"INPUT!FE453","v":""},"",null,{"$f":"INPUT!FW453","v":""},{"$f":"INPUT!FX453","v":""},{"$f":"INPUT!FY453","v":""},{"$f":"INPUT!FZ453","v":""},{"$f":"INPUT!GA453","v":""},{"$f":"INPUT!GB453","v":""},{"$f":"INPUT!GC453","v":""},null,{"$f":"INPUT!GY453","v":""},{"$f":"INPUT!GZ453","v":""},{"$f":"INPUT!HA453","v":""},{"$f":"INPUT!HB453","v":""},{"$f":"INPUT!HC453","v":""},{"$f":"INPUT!HD453","v":""},{"$f":"INPUT!HE453","v":""},{"$f":"INPUT!HF453","v":""},{"$f":"INPUT!HG453","v":""},null,{"$f":"INPUT!IA453","v":""},{"$f":"INPUT!IB453","v":""},{"$f":"INPUT!IC453","v":""},{"$f":"INPUT!ID453","v":""},{"$f":"INPUT!IE453","v":""},{"$f":"INPUT!IF453","v":""},{"$f":"INPUT!IG453","v":""},{"$f":"INPUT!IH453","v":""},null,{"$f":"INPUT!IZ453","v":""},{"$f":"INPUT!JA453","v":""},{"$f":"INPUT!JB453","v":""},{"$f":"INPUT!JC453","v":""},{"$f":"INPUT!JD453","v":""},{"$f":"INPUT!JE453","v":""},{"$f":"INPUT!JF453","v":""},"",null,{"$f":"INPUT!JX453","v":""},{"$f":"INPUT!JY453","v":""},{"$f":"INPUT!JZ453","v":""},{"$f":"INPUT!KA453","v":""},{"$f":"INPUT!KB453","v":""},{"$f":"INPUT!KC453","v":""},{"$f":"INPUT!KD453","v":""},"",null,{"$f":"INPUT!KZ453","v":""},{"$f":"INPUT!LA453","v":""},{"$f":"INPUT!LB453","v":""},{"$f":"INPUT!LC453","v":""},{"$f":"INPUT!LD453","v":""},{"$f":"INPUT!LE453","v":""},{"$f":"INPUT!LF453","v":""},{"$f":"INPUT!LG453","v":""},{"$f":"INPUT!LH453","v":""},null,{"$f":"INPUT!MB453","v":""},{"$f":"INPUT!MC453","v":""},{"$f":"INPUT!MD453","v":""},{"$f":"INPUT!ME453","v":""},{"$f":"INPUT!MF453","v":""},{"$f":"INPUT!MG453","v":""},{"$f":"INPUT!MH453","v":""},{"$f":"INPUT!MI453","v":""}]
[null,{"$f":"INPUT!EA454","v":""},{"$f":"INPUT!EB454","v":""},{"$f":"INPUT!EC454","v":""},{"$f":"INPUT!ED454","v":""},{"$f":"INPUT!EE454","v":""},{"$f":"INPUT!EF454","v":""},{"$f":"INPUT!EG454","v":""},"",null,{"$f":"INPUT!EY454","v":""},{"$f":"INPUT!EZ454","v":""},{"$f":"INPUT!FA454","v":""},{"$f":"INPUT!FB454","v":""},{"$f":"INPUT!FC454","v":""},{"$f":"INPUT!FD454","v":""},{"$f":"INPUT!FE454","v":""},"",null,{"$f":"INPUT!FW454","v":""},{"$f":"INPUT!FX454","v":""},{"$f":"INPUT!FY454","v":""},{"$f":"INPUT!FZ454","v":""},{"$f":"INPUT!GA454","v":""},{"$f":"INPUT!GB454","v":""},{"$f":"INPUT!GC454","v":""},null,{"$f":"INPUT!GY454","v":""},{"$f":"INPUT!GZ454","v":""},{"$f":"INPUT!HA454","v":""},{"$f":"INPUT!HB454","v":""},{"$f":"INPUT!HC454","v":""},{"$f":"INPUT!HD454","v":""},{"$f":"INPUT!HE454","v":""},{"$f":"INPUT!HF454","v":""},{"$f":"INPUT!HG454","v":""},null,{"$f":"INPUT!IA454","v":""},{"$f":"INPUT!IB454","v":""},{"$f":"INPUT!IC454","v":""},{"$f":"INPUT!ID454","v":""},{"$f":"INPUT!IE454","v":""},{"$f":"INPUT!IF454","v":""},{"$f":"INPUT!IG454","v":""},{"$f":"INPUT!IH454","v":""},null,{"$f":"INPUT!IZ454","v":""},{"$f":"INPUT!JA454","v":""},{"$f":"INPUT!JB454","v":""},{"$f":"INPUT!JC454","v":""},{"$f":"INPUT!JD454","v":""},{"$f":"INPUT!JE454","v":""},{"$f":"INPUT!JF454","v":""},"",null,{"$f":"INPUT!JX454","v":""},{"$f":"INPUT!JY454","v":""},{"$f":"INPUT!JZ454","v":""},{"$f":"INPUT!KA454","v":""},{"$f":"INPUT!KB454","v":""},{"$f":"INPUT!KC454","v":""},{"$f":"INPUT!KD454","v":""},"",null,{"$f":"INPUT!KZ454","v":""},{"$f":"INPUT!LA454","v":""},{"$f":"INPUT!LB454","v":""},{"$f":"INPUT!LC454","v":""},{"$f":"INPUT!LD454","v":""},{"$f":"INPUT!LE454","v":""},{"$f":"INPUT!LF454","v":""},{"$f":"INPUT!LG454","v":""},{"$f":"INPUT!LH454","v":""},null,{"$f":"INPUT!MB454","v":""},{"$f":"INPUT!MC454","v":""},{"$f":"INPUT!MD454","v":""},{"$f":"INPUT!ME454","v":""},{"$f":"INPUT!MF454","v":""},{"$f":"INPUT!MG454","v":""},{"$f":"INPUT!MH454","v":""},{"$f":"INPUT!MI454","v":""}]
[null,{"$f":"INPUT!EA455","v":""},{"$f":"INPUT!EB455","v":""},{"$f":"INPUT!EC455","v":""},{"$f":"INPUT!ED455","v":""},{"$f":"INPUT!EE455","v":""},{"$f":"INPUT!EF455","v":""},{"$f":"INPUT!EG455","v":""},"",null,{"$f":"INPUT!EY455","v":""},{"$f":"INPUT!EZ455","v":""},{"$f":"INPUT!FA455","v":""},{"$f":"INPUT!FB455","v":""},{"$f":"INPUT!FC455","v":""},{"$f":"INPUT!FD455","v":""},{"$f":"INPUT!FE455","v":""},"",null,{"$f":"INPUT!FW455","v":""},{"$f":"INPUT!FX455","v":""},{"$f":"INPUT!FY455","v":""},{"$f":"INPUT!FZ455","v":""},{"$f":"INPUT!GA455","v":""},{"$f":"INPUT!GB455","v":""},{"$f":"INPUT!GC455","v":""},null,{"$f":"INPUT!GY455","v":""},{"$f":"INPUT!GZ455","v":""},{"$f":"INPUT!HA455","v":""},{"$f":"INPUT!HB455","v":""},{"$f":"INPUT!HC455","v":""},{"$f":"INPUT!HD455","v":""},{"$f":"INPUT!HE455","v":""},{"$f":"INPUT!HF455","v":""},{"$f":"INPUT!HG455","v":""},null,{"$f":"INPUT!IA455","v":""},{"$f":"INPUT!IB455","v":""},{"$f":"INPUT!IC455","v":""},{"$f":"INPUT!ID455","v":""},{"$f":"INPUT!IE455","v":""},{"$f":"INPUT!IF455","v":""},{"$f":"INPUT!IG455","v":""},{"$f":"INPUT!IH455","v":""},null,{"$f":"INPUT!IZ455","v":""},{"$f":"INPUT!JA455","v":""},{"$f":"INPUT!JB455","v":""},{"$f":"INPUT!JC455","v":""},{"$f":"INPUT!JD455","v":""},{"$f":"INPUT!JE455","v":""},{"$f":"INPUT!JF455","v":""},"",null,{"$f":"INPUT!JX455","v":""},{"$f":"INPUT!JY455","v":""},{"$f":"INPUT!JZ455","v":""},{"$f":"INPUT!KA455","v":""},{"$f":"INPUT!KB455","v":""},{"$f":"INPUT!KC455","v":""},{"$f":"INPUT!KD455","v":""},"",null,{"$f":"INPUT!KZ455","v":""},{"$f":"INPUT!LA455","v":""},{"$f":"INPUT!LB455","v":""},{"$f":"INPUT!LC455","v":""},{"$f":"INPUT!LD455","v":""},{"$f":"INPUT!LE455","v":""},{"$f":"INPUT!LF455","v":""},{"$f":"INPUT!LG455","v":""},{"$f":"INPUT!LH455","v":""},null,{"$f":"INPUT!MB455","v":""},{"$f":"INPUT!MC455","v":""},{"$f":"INPUT!MD455","v":""},{"$f":"INPUT!ME455","v":""},{"$f":"INPUT!MF455","v":""},{"$f":"INPUT!MG455","v":""},{"$f":"INPUT!MH455","v":""},{"$f":"INPUT!MI455","v":""}]
[null,{"$f":"INPUT!EA456","v":""},{"$f":"INPUT!EB456","v":""},{"$f":"INPUT!EC456","v":""},{"$f":"INPUT!ED456","v":""},{"$f":"INPUT!EE456","v":""},{"$f":"INPUT!EF456","v":""},{"$f":"INPUT!EG456","v":""},"",null,{"$f":"INPUT!EY456","v":""},{"$f":"INPUT!EZ456","v":""},{"$f":"INPUT!FA456","v":""},{"$f":"INPUT!FB456","v":""},{"$f":"INPUT!FC456","v":""},{"$f":"INPUT!FD456","v":""},{"$f":"INPUT!FE456","v":""},"",null,{"$f":"INPUT!FW456","v":""},{"$f":"INPUT!FX456","v":""},{"$f":"INPUT!FY456","v":""},{"$f":"INPUT!FZ456","v":""},{"$f":"INPUT!GA456","v":""},{"$f":"INPUT!GB456","v":""},{"$f":"INPUT!GC456","v":""},null,{"$f":"INPUT!GY456","v":""},{"$f":"INPUT!GZ456","v":""},{"$f":"INPUT!HA456","v":""},{"$f":"INPUT!HB456","v":""},{"$f":"INPUT!HC456","v":""},{"$f":"INPUT!HD456","v":""},{"$f":"INPUT!HE456","v":""},{"$f":"INPUT!HF456","v":""},{"$f":"INPUT!HG456","v":""},null,{"$f":"INPUT!IA456","v":""},{"$f":"INPUT!IB456","v":""},{"$f":"INPUT!IC456","v":""},{"$f":"INPUT!ID456","v":""},{"$f":"INPUT!IE456","v":""},{"$f":"INPUT!IF456","v":""},{"$f":"INPUT!IG456","v":""},{"$f":"INPUT!IH456","v":""},null,{"$f":"INPUT!IZ456","v":""},{"$f":"INPUT!JA456","v":""},{"$f":"INPUT!JB456","v":""},{"$f":"INPUT!JC456","v":""},{"$f":"INPUT!JD456","v":""},{"$f":"INPUT!JE456","v":""},{"$f":"INPUT!JF456","v":""},"",null,{"$f":"INPUT!JX456","v":""},{"$f":"INPUT!JY456","v":""},{"$f":"INPUT!JZ456","v":""},{"$f":"INPUT!KA456","v":""},{"$f":"INPUT!KB456","v":""},{"$f":"INPUT!KC456","v":""},{"$f":"INPUT!KD456","v":""},"",null,{"$f":"INPUT!KZ456","v":""},{"$f":"INPUT!LA456","v":""},{"$f":"INPUT!LB456","v":""},{"$f":"INPUT!LC456","v":""},{"$f":"INPUT!LD456","v":""},{"$f":"INPUT!LE456","v":""},{"$f":"INPUT!LF456","v":""},{"$f":"INPUT!LG456","v":""},{"$f":"INPUT!LH456","v":""},null,{"$f":"INPUT!MB456","v":""},{"$f":"INPUT!MC456","v":""},{"$f":"INPUT!MD456","v":""},{"$f":"INPUT!ME456","v":""},{"$f":"INPUT!MF456","v":""},{"$f":"INPUT!MG456","v":""},{"$f":"INPUT!MH456","v":""},{"$f":"INPUT!MI456","v":""}]
[null,{"$f":"INPUT!EA457","v":""},{"$f":"INPUT!EB457","v":""},{"$f":"INPUT!EC457","v":""},{"$f":"INPUT!ED457","v":""},{"$f":"INPUT!EE457","v":""},{"$f":"INPUT!EF457","v":""},{"$f":"INPUT!EG457","v":""},"",null,{"$f":"INPUT!EY457","v":""},{"$f":"INPUT!EZ457","v":""},{"$f":"INPUT!FA457","v":""},{"$f":"INPUT!FB457","v":""},{"$f":"INPUT!FC457","v":""},{"$f":"INPUT!FD457","v":""},{"$f":"INPUT!FE457","v":""},"",null,{"$f":"INPUT!FW457","v":""},{"$f":"INPUT!FX457","v":""},{"$f":"INPUT!FY457","v":""},{"$f":"INPUT!FZ457","v":""},{"$f":"INPUT!GA457","v":""},{"$f":"INPUT!GB457","v":""},{"$f":"INPUT!GC457","v":""},null,{"$f":"INPUT!GY457","v":""},{"$f":"INPUT!GZ457","v":""},{"$f":"INPUT!HA457","v":""},{"$f":"INPUT!HB457","v":""},{"$f":"INPUT!HC457","v":""},{"$f":"INPUT!HD457","v":""},{"$f":"INPUT!HE457","v":""},{"$f":"INPUT!HF457","v":""},{"$f":"INPUT!HG457","v":""},null,{"$f":"INPUT!IA457","v":""},{"$f":"INPUT!IB457","v":""},{"$f":"INPUT!IC457","v":""},{"$f":"INPUT!ID457","v":""},{"$f":"INPUT!IE457","v":""},{"$f":"INPUT!IF457","v":""},{"$f":"INPUT!IG457","v":""},{"$f":"INPUT!IH457","v":""},null,{"$f":"INPUT!IZ457","v":""},{"$f":"INPUT!JA457","v":""},{"$f":"INPUT!JB457","v":""},{"$f":"INPUT!JC457","v":""},{"$f":"INPUT!JD457","v":""},{"$f":"INPUT!JE457","v":""},{"$f":"INPUT!JF457","v":""},"",null,{"$f":"INPUT!JX457","v":""},{"$f":"INPUT!JY457","v":""},{"$f":"INPUT!JZ457","v":""},{"$f":"INPUT!KA457","v":""},{"$f":"INPUT!KB457","v":""},{"$f":"INPUT!KC457","v":""},{"$f":"INPUT!KD457","v":""},"",null,{"$f":"INPUT!KZ457","v":""},{"$f":"INPUT!LA457","v":""},{"$f":"INPUT!LB457","v":""},{"$f":"INPUT!LC457","v":""},{"$f":"INPUT!LD457","v":""},{"$f":"INPUT!LE457","v":""},{"$f":"INPUT!LF457","v":""},{"$f":"INPUT!LG457","v":""},{"$f":"INPUT!LH457","v":""},null,{"$f":"INPUT!MB457","v":""},{"$f":"INPUT!MC457","v":""},{"$f":"INPUT!MD457","v":""},{"$f":"INPUT!ME457","v":""},{"$f":"INPUT!MF457","v":""},{"$f":"INPUT!MG457","v":""},{"$f":"INPUT!MH457","v":""},{"$f":"INPUT!MI457","v":""}]
[null,{"$f":"INPUT!EA458","v":""},{"$f":"INPUT!EB458","v":""},{"$f":"INPUT!EC458","v":""},{"$f":"INPUT!ED458","v":""},{"$f":"INPUT!EE458","v":""},{"$f":"INPUT!EF458","v":""},{"$f":"INPUT!EG458","v":""},"",null,{"$f":"INPUT!EY458","v":""},{"$f":"INPUT!EZ458","v":""},{"$f":"INPUT!FA458","v":""},{"$f":"INPUT!FB458","v":""},{"$f":"INPUT!FC458","v":""},{"$f":"INPUT!FD458","v":""},{"$f":"INPUT!FE458","v":""},"",null,{"$f":"INPUT!FW458","v":""},{"$f":"INPUT!FX458","v":""},{"$f":"INPUT!FY458","v":""},{"$f":"INPUT!FZ458","v":""},{"$f":"INPUT!GA458","v":""},{"$f":"INPUT!GB458","v":""},{"$f":"INPUT!GC458","v":""},null,{"$f":"INPUT!GY458","v":""},{"$f":"INPUT!GZ458","v":""},{"$f":"INPUT!HA458","v":""},{"$f":"INPUT!HB458","v":""},{"$f":"INPUT!HC458","v":""},{"$f":"INPUT!HD458","v":""},{"$f":"INPUT!HE458","v":""},{"$f":"INPUT!HF458","v":""},{"$f":"INPUT!HG458","v":""},null,{"$f":"INPUT!IA458","v":""},{"$f":"INPUT!IB458","v":""},{"$f":"INPUT!IC458","v":""},{"$f":"INPUT!ID458","v":""},{"$f":"INPUT!IE458","v":""},{"$f":"INPUT!IF458","v":""},{"$f":"INPUT!IG458","v":""},{"$f":"INPUT!IH458","v":""},null,{"$f":"INPUT!IZ458","v":""},{"$f":"INPUT!JA458","v":""},{"$f":"INPUT!JB458","v":""},{"$f":"INPUT!JC458","v":""},{"$f":"INPUT!JD458","v":""},{"$f":"INPUT!JE458","v":""},{"$f":"INPUT!JF458","v":""},"",null,{"$f":"INPUT!JX458","v":""},{"$f":"INPUT!JY458","v":""},{"$f":"INPUT!JZ458","v":""},{"$f":"INPUT!KA458","v":""},{"$f":"INPUT!KB458","v":""},{"$f":"INPUT!KC458","v":""},{"$f":"INPUT!KD458","v":""},"",null,{"$f":"INPUT!KZ458","v":""},{"$f":"INPUT!LA458","v":""},{"$f":"INPUT!LB458","v":""},{"$f":"INPUT!LC458","v":""},{"$f":"INPUT!LD458","v":""},{"$f":"INPUT!LE458","v":""},{"$f":"INPUT!LF458","v":""},{"$f":"INPUT!LG458","v":""},{"$f":"INPUT!LH458","v":""},null,{"$f":"INPUT!MB458","v":""},{"$f":"INPUT!MC458","v":""},{"$f":"INPUT!MD458","v":""},{"$f":"INPUT!ME458","v":""},{"$f":"INPUT!MF458","v":""},{"$f":"INPUT!MG458","v":""},{"$f":"INPUT!MH458","v":""},{"$f":"INPUT!MI458","v":""}]
[null,{"$f":"INPUT!EA459","v":""},{"$f":"INPUT!EB459","v":""},{"$f":"INPUT!EC459","v":""},{"$f":"INPUT!ED459","v":""},{"$f":"INPUT!EE459","v":""},{"$f":"INPUT!EF459","v":""},{"$f":"INPUT!EG459","v":""},{"$f":"IF(ISNUMBER($H459),1/$H459,\"\")","v":""},null,{"$f":"INPUT!EY459","v":""},{"$f":"INPUT!EZ459","v":""},{"$f":"INPUT!FA459","v":""},{"$f":"INPUT!FB459","v":""},{"$f":"INPUT!FC459","v":""},{"$f":"INPUT!FD459","v":""},{"$f":"INPUT!FE459","v":""},{"$f":"IF(ISNUMBER($Q459),1/$Q459,\"\")","v":""},null,{"$f":"INPUT!FW459","v":""},{"$f":"INPUT!FX459","v":""},{"$f":"INPUT!FY459","v":""},{"$f":"INPUT!FZ459","v":""},{"$f":"INPUT!GA459","v":""},{"$f":"INPUT!GB459","v":""},{"$f":"INPUT!GC459","v":""},null,{"$f":"INPUT!GY459","v":""},{"$f":"INPUT!GZ459","v":""},{"$f":"INPUT!HA459","v":""},{"$f":"INPUT!HB459","v":""},{"$f":"INPUT!HC459","v":""},{"$f":"INPUT!HD459","v":""},{"$f":"INPUT!HE459","v":""},{"$f":"INPUT!HF459","v":""},{"$f":"INPUT!HG459","v":""},null,{"$f":"INPUT!IA459","v":""},{"$f":"INPUT!IB459","v":""},{"$f":"INPUT!IC459","v":""},{"$f":"INPUT!ID459","v":""},{"$f":"INPUT!IE459","v":""},{"$f":"INPUT!IF459","v":""},{"$f":"INPUT!IG459","v":""},{"$f":"INPUT!IH459","v":""},null,{"$f":"INPUT!IZ459","v":""},{"$f":"INPUT!JA459","v":""},{"$f":"INPUT!JB459","v":""},{"$f":"INPUT!JC459","v":""},{"$f":"INPUT!JD459","v":""},{"$f":"INPUT!JE459","v":""},{"$f":"INPUT!JF459","v":""},{"$f":"IF(ISNUMBER($BA459),1/$BA459,\"\")","v":""},null,{"$f":"INPUT!JX459","v":""},{"$f":"INPUT!JY459","v":""},{"$f":"INPUT!JZ459","v":""},{"$f":"INPUT!KA459","v":""},{"$f":"INPUT!KB459","v":""},{"$f":"INPUT!KC459","v":""},{"$f":"INPUT!KD459","v":""},{"$f":"IF(ISNUMBER($BJ459),1/$BJ459,\"\")","v":""},null,{"$f":"INPUT!KZ459","v":""},{"$f":"INPUT!LA459","v":""},{"$f":"INPUT!LB459","v":""},{"$f":"INPUT!LC459","v":""},{"$f":"INPUT!LD459","v":""},{"$f":"INPUT!LE459","v":""},{"$f":"INPUT!LF459","v":""},{"$f":"INPUT!LG459","v":""},{"$f":"INPUT!LH459","v":""},null,{"$f":"INPUT!MB459","v":""},{"$f":"INPUT!MC459","v":""},{"$f":"INPUT!MD459","v":""},{"$f":"INPUT!ME459","v":""},{"$f":"INPUT!MF459","v":""},{"$f":"INPUT!MG459","v":""},{"$f":"INPUT!MH459","v":""},{"$f":"INPUT!MI459","v":""}]
[null,{"$f":"INPUT!EA460","v":""},{"$f":"INPUT!EB460","v":""},{"$f":"INPUT!EC460","v":""},{"$f":"INPUT!ED460","v":""},{"$f":"INPUT!EE460","v":""},{"$f":"INPUT!EF460","v":""},{"$f":"INPUT!EG460","v":""},"",null,{"$f":"INPUT!EY460","v":""},{"$f":"INPUT!EZ460","v":""},{"$f":"INPUT!FA460","v":""},{"$f":"INPUT!FB460","v":""},{"$f":"INPUT!FC460","v":""},{"$f":"INPUT!FD460","v":""},{"$f":"INPUT!FE460","v":""},"",null,{"$f":"INPUT!FW460","v":""},{"$f":"INPUT!FX460","v":""},{"$f":"INPUT!FY460","v":""},{"$f":"INPUT!FZ460","v":""},{"$f":"INPUT!GA460","v":""},{"$f":"INPUT!GB460","v":""},{"$f":"INPUT!GC460","v":""},null,{"$f":"INPUT!GY460","v":""},{"$f":"INPUT!GZ460","v":""},{"$f":"INPUT!HA460","v":""},{"$f":"INPUT!HB460","v":""},{"$f":"INPUT!HC460","v":""},{"$f":"INPUT!HD460","v":""},{"$f":"INPUT!HE460","v":""},{"$f":"INPUT!HF460","v":""},{"$f":"INPUT!HG460","v":""},null,{"$f":"INPUT!IA460","v":""},{"$f":"INPUT!IB460","v":""},{"$f":"INPUT!IC460","v":""},{"$f":"INPUT!ID460","v":""},{"$f":"INPUT!IE460","v":""},{"$f":"INPUT!IF460","v":""},{"$f":"INPUT!IG460","v":""},{"$f":"INPUT!IH460","v":""},null,{"$f":"INPUT!IZ460","v":""},{"$f":"INPUT!JA460","v":""},{"$f":"INPUT!JB460","v":""},{"$f":"INPUT!JC460","v":""},{"$f":"INPUT!JD460","v":""},{"$f":"INPUT!JE460","v":""},{"$f":"INPUT!JF460","v":""},"",null,{"$f":"INPUT!JX460","v":""},{"$f":"INPUT!JY460","v":""},{"$f":"INPUT!JZ460","v":""},{"$f":"INPUT!KA460","v":""},{"$f":"INPUT!KB460","v":""},{"$f":"INPUT!KC460","v":""},{"$f":"INPUT!KD460","v":""},"",null,{"$f":"INPUT!KZ460","v":""},{"$f":"INPUT!LA460","v":""},{"$f":"INPUT!LB460","v":""},{"$f":"INPUT!LC460","v":""},{"$f":"INPUT!LD460","v":""},{"$f":"INPUT!LE460","v":""},{"$f":"INPUT!LF460","v":""},{"$f":"INPUT!LG460","v":""},{"$f":"INPUT!LH460","v":""},null,{"$f":"INPUT!MB460","v":""},{"$f":"INPUT!MC460","v":""},{"$f":"INPUT!MD460","v":""},{"$f":"INPUT!ME460","v":""},{"$f":"INPUT!MF460","v":""},{"$f":"INPUT!MG460","v":""},{"$f":"INPUT!MH460","v":""},{"$f":"INPUT!MI460","v":""}]
[null,{"$f":"INPUT!EA461","v":""},{"$f":"INPUT!EB461","v":""},{"$f":"INPUT!EC461","v":""},{"$f":"INPUT!ED461","v":""},{"$f":"INPUT!EE461","v":""},{"$f":"INPUT!EF461","v":""},{"$f":"INPUT!EG461","v":""},"",null,{"$f":"INPUT!EY461","v":""},{"$f":"INPUT!EZ461","v":""},{"$f":"INPUT!FA461","v":""},{"$f":"INPUT!FB461","v":""},{"$f":"INPUT!FC461","v":""},{"$f":"INPUT!FD461","v":""},{"$f":"INPUT!FE461","v":""},"",null,{"$f":"INPUT!FW461","v":""},{"$f":"INPUT!FX461","v":""},{"$f":"INPUT!FY461","v":""},{"$f":"INPUT!FZ461","v":""},{"$f":"INPUT!GA461","v":""},{"$f":"INPUT!GB461","v":""},{"$f":"INPUT!GC461","v":""},null,{"$f":"INPUT!GY461","v":""},{"$f":"INPUT!GZ461","v":""},{"$f":"INPUT!HA461","v":""},{"$f":"INPUT!HB461","v":""},{"$f":"INPUT!HC461","v":""},{"$f":"INPUT!HD461","v":""},{"$f":"INPUT!HE461","v":""},{"$f":"INPUT!HF461","v":""},{"$f":"INPUT!HG461","v":""},null,{"$f":"INPUT!IA461","v":""},{"$f":"INPUT!IB461","v":""},{"$f":"INPUT!IC461","v":""},{"$f":"INPUT!ID461","v":""},{"$f":"INPUT!IE461","v":""},{"$f":"INPUT!IF461","v":""},{"$f":"INPUT!IG461","v":""},{"$f":"INPUT!IH461","v":""},null,{"$f":"INPUT!IZ461","v":""},{"$f":"INPUT!JA461","v":""},{"$f":"INPUT!JB461","v":""},{"$f":"INPUT!JC461","v":""},{"$f":"INPUT!JD461","v":""},{"$f":"INPUT!JE461","v":""},{"$f":"INPUT!JF461","v":""},"",null,{"$f":"INPUT!JX461","v":""},{"$f":"INPUT!JY461","v":""},{"$f":"INPUT!JZ461","v":""},{"$f":"INPUT!KA461","v":""},{"$f":"INPUT!KB461","v":""},{"$f":"INPUT!KC461","v":""},{"$f":"INPUT!KD461","v":""},"",null,{"$f":"INPUT!KZ461","v":""},{"$f":"INPUT!LA461","v":""},{"$f":"INPUT!LB461","v":""},{"$f":"INPUT!LC461","v":""},{"$f":"INPUT!LD461","v":""},{"$f":"INPUT!LE461","v":""},{"$f":"INPUT!LF461","v":""},{"$f":"INPUT!LG461","v":""},{"$f":"INPUT!LH461","v":""},null,{"$f":"INPUT!MB461","v":""},{"$f":"INPUT!MC461","v":""},{"$f":"INPUT!MD461","v":""},{"$f":"INPUT!ME461","v":""},{"$f":"INPUT!MF461","v":""},{"$f":"INPUT!MG461","v":""},{"$f":"INPUT!MH461","v":""},{"$f":"INPUT!MI461","v":""}]
[null,{"$f":"INPUT!EA462","v":""},{"$f":"INPUT!EB462","v":""},{"$f":"INPUT!EC462","v":""},{"$f":"INPUT!ED462","v":""},{"$f":"INPUT!EE462","v":""},{"$f":"INPUT!EF462","v":""},{"$f":"INPUT!EG462","v":""},"",null,{"$f":"INPUT!EY462","v":""},{"$f":"INPUT!EZ462","v":""},{"$f":"INPUT!FA462","v":""},{"$f":"INPUT!FB462","v":""},{"$f":"INPUT!FC462","v":""},{"$f":"INPUT!FD462","v":""},{"$f":"INPUT!FE462","v":""},"",null,{"$f":"INPUT!FW462","v":""},{"$f":"INPUT!FX462","v":""},{"$f":"INPUT!FY462","v":""},{"$f":"INPUT!FZ462","v":""},{"$f":"INPUT!GA462","v":""},{"$f":"INPUT!GB462","v":""},{"$f":"INPUT!GC462","v":""},null,{"$f":"INPUT!GY462","v":""},{"$f":"INPUT!GZ462","v":""},{"$f":"INPUT!HA462","v":""},{"$f":"INPUT!HB462","v":""},{"$f":"INPUT!HC462","v":""},{"$f":"INPUT!HD462","v":""},{"$f":"INPUT!HE462","v":""},{"$f":"INPUT!HF462","v":""},{"$f":"INPUT!HG462","v":""},null,{"$f":"INPUT!IA462","v":""},{"$f":"INPUT!IB462","v":""},{"$f":"INPUT!IC462","v":""},{"$f":"INPUT!ID462","v":""},{"$f":"INPUT!IE462","v":""},{"$f":"INPUT!IF462","v":""},{"$f":"INPUT!IG462","v":""},{"$f":"INPUT!IH462","v":""},null,{"$f":"INPUT!IZ462","v":""},{"$f":"INPUT!JA462","v":""},{"$f":"INPUT!JB462","v":""},{"$f":"INPUT!JC462","v":""},{"$f":"INPUT!JD462","v":""},{"$f":"INPUT!JE462","v":""},{"$f":"INPUT!JF462","v":""},"",null,{"$f":"INPUT!JX462","v":""},{"$f":"INPUT!JY462","v":""},{"$f":"INPUT!JZ462","v":""},{"$f":"INPUT!KA462","v":""},{"$f":"INPUT!KB462","v":""},{"$f":"INPUT!KC462","v":""},{"$f":"INPUT!KD462","v":""},"",null,{"$f":"INPUT!KZ462","v":""},{"$f":"INPUT!LA462","v":""},{"$f":"INPUT!LB462","v":""},{"$f":"INPUT!LC462","v":""},{"$f":"INPUT!LD462","v":""},{"$f":"INPUT!LE462","v":""},{"$f":"INPUT!LF462","v":""},{"$f":"INPUT!LG462","v":""},{"$f":"INPUT!LH462","v":""},null,{"$f":"INPUT!MB462","v":""},{"$f":"INPUT!MC462","v":""},{"$f":"INPUT!MD462","v":""},{"$f":"INPUT!ME462","v":""},{"$f":"INPUT!MF462","v":""},{"$f":"INPUT!MG462","v":""},{"$f":"INPUT!MH462","v":""},{"$f":"INPUT!MI462","v":""}]
[null,{"$f":"INPUT!EA463","v":""},{"$f":"INPUT!EB463","v":""},{"$f":"INPUT!EC463","v":""},{"$f":"INPUT!ED463","v":""},{"$f":"INPUT!EE463","v":""},{"$f":"INPUT!EF463","v":""},{"$f":"INPUT!EG463","v":""},"",null,{"$f":"INPUT!EY463","v":""},{"$f":"INPUT!EZ463","v":""},{"$f":"INPUT!FA463","v":""},{"$f":"INPUT!FB463","v":""},{"$f":"INPUT!FC463","v":""},{"$f":"INPUT!FD463","v":""},{"$f":"INPUT!FE463","v":""},"",null,{"$f":"INPUT!FW463","v":""},{"$f":"INPUT!FX463","v":""},{"$f":"INPUT!FY463","v":""},{"$f":"INPUT!FZ463","v":""},{"$f":"INPUT!GA463","v":""},{"$f":"INPUT!GB463","v":""},{"$f":"INPUT!GC463","v":""},null,{"$f":"INPUT!GY463","v":""},{"$f":"INPUT!GZ463","v":""},{"$f":"INPUT!HA463","v":""},{"$f":"INPUT!HB463","v":""},{"$f":"INPUT!HC463","v":""},{"$f":"INPUT!HD463","v":""},{"$f":"INPUT!HE463","v":""},{"$f":"INPUT!HF463","v":""},{"$f":"INPUT!HG463","v":""},null,{"$f":"INPUT!IA463","v":""},{"$f":"INPUT!IB463","v":""},{"$f":"INPUT!IC463","v":""},{"$f":"INPUT!ID463","v":""},{"$f":"INPUT!IE463","v":""},{"$f":"INPUT!IF463","v":""},{"$f":"INPUT!IG463","v":""},{"$f":"INPUT!IH463","v":""},null,{"$f":"INPUT!IZ463","v":""},{"$f":"INPUT!JA463","v":""},{"$f":"INPUT!JB463","v":""},{"$f":"INPUT!JC463","v":""},{"$f":"INPUT!JD463","v":""},{"$f":"INPUT!JE463","v":""},{"$f":"INPUT!JF463","v":""},"",null,{"$f":"INPUT!JX463","v":""},{"$f":"INPUT!JY463","v":""},{"$f":"INPUT!JZ463","v":""},{"$f":"INPUT!KA463","v":""},{"$f":"INPUT!KB463","v":""},{"$f":"INPUT!KC463","v":""},{"$f":"INPUT!KD463","v":""},"",null,{"$f":"INPUT!KZ463","v":""},{"$f":"INPUT!LA463","v":""},{"$f":"INPUT!LB463","v":""},{"$f":"INPUT!LC463","v":""},{"$f":"INPUT!LD463","v":""},{"$f":"INPUT!LE463","v":""},{"$f":"INPUT!LF463","v":""},{"$f":"INPUT!LG463","v":""},{"$f":"INPUT!LH463","v":""},null,{"$f":"INPUT!MB463","v":""},{"$f":"INPUT!MC463","v":""},{"$f":"INPUT!MD463","v":""},{"$f":"INPUT!ME463","v":""},{"$f":"INPUT!MF463","v":""},{"$f":"INPUT!MG463","v":""},{"$f":"INPUT!MH463","v":""},{"$f":"INPUT!MI463","v":""}]
[null,{"$f":"INPUT!EA464","v":""},{"$f":"INPUT!EB464","v":""},{"$f":"INPUT!EC464","v":""},{"$f":"INPUT!ED464","v":""},{"$f":"INPUT!EE464","v":""},{"$f":"INPUT!EF464","v":""},{"$f":"INPUT!EG464","v":""},"",null,{"$f":"INPUT!EY464","v":""},{"$f":"INPUT!EZ464","v":""},{"$f":"INPUT!FA464","v":""},{"$f":"INPUT!FB464","v":""},{"$f":"INPUT!FC464","v":""},{"$f":"INPUT!FD464","v":""},{"$f":"INPUT!FE464","v":""},"",null,{"$f":"INPUT!FW464","v":""},{"$f":"INPUT!FX464","v":""},{"$f":"INPUT!FY464","v":""},{"$f":"INPUT!FZ464","v":""},{"$f":"INPUT!GA464","v":""},{"$f":"INPUT!GB464","v":""},{"$f":"INPUT!GC464","v":""},null,{"$f":"INPUT!GY464","v":""},{"$f":"INPUT!GZ464","v":""},{"$f":"INPUT!HA464","v":""},{"$f":"INPUT!HB464","v":""},{"$f":"INPUT!HC464","v":""},{"$f":"INPUT!HD464","v":""},{"$f":"INPUT!HE464","v":""},{"$f":"INPUT!HF464","v":""},{"$f":"INPUT!HG464","v":""},null,{"$f":"INPUT!IA464","v":""},{"$f":"INPUT!IB464","v":""},{"$f":"INPUT!IC464","v":""},{"$f":"INPUT!ID464","v":""},{"$f":"INPUT!IE464","v":""},{"$f":"INPUT!IF464","v":""},{"$f":"INPUT!IG464","v":""},{"$f":"INPUT!IH464","v":""},null,{"$f":"INPUT!IZ464","v":""},{"$f":"INPUT!JA464","v":""},{"$f":"INPUT!JB464","v":""},{"$f":"INPUT!JC464","v":""},{"$f":"INPUT!JD464","v":""},{"$f":"INPUT!JE464","v":""},{"$f":"INPUT!JF464","v":""},"",null,{"$f":"INPUT!JX464","v":""},{"$f":"INPUT!JY464","v":""},{"$f":"INPUT!JZ464","v":""},{"$f":"INPUT!KA464","v":""},{"$f":"INPUT!KB464","v":""},{"$f":"INPUT!KC464","v":""},{"$f":"INPUT!KD464","v":""},"",null,{"$f":"INPUT!KZ464","v":""},{"$f":"INPUT!LA464","v":""},{"$f":"INPUT!LB464","v":""},{"$f":"INPUT!LC464","v":""},{"$f":"INPUT!LD464","v":""},{"$f":"INPUT!LE464","v":""},{"$f":"INPUT!LF464","v":""},{"$f":"INPUT!LG464","v":""},{"$f":"INPUT!LH464","v":""},null,{"$f":"INPUT!MB464","v":""},{"$f":"INPUT!MC464","v":""},{"$f":"INPUT!MD464","v":""},{"$f":"INPUT!ME464","v":""},{"$f":"INPUT!MF464","v":""},{"$f":"INPUT!MG464","v":""},{"$f":"INPUT!MH464","v":""},{"$f":"INPUT!MI464","v":""}]
[null,{"$f":"INPUT!EA465","v":""},{"$f":"INPUT!EB465","v":""},{"$f":"INPUT!EC465","v":""},{"$f":"INPUT!ED465","v":""},{"$f":"INPUT!EE465","v":""},{"$f":"INPUT!EF465","v":""},{"$f":"INPUT!EG465","v":""},"",null,{"$f":"INPUT!EY465","v":""},{"$f":"INPUT!EZ465","v":""},{"$f":"INPUT!FA465","v":""},{"$f":"INPUT!FB465","v":""},{"$f":"INPUT!FC465","v":""},{"$f":"INPUT!FD465","v":""},{"$f":"INPUT!FE465","v":""},"",null,{"$f":"INPUT!FW465","v":""},{"$f":"INPUT!FX465","v":""},{"$f":"INPUT!FY465","v":""},{"$f":"INPUT!FZ465","v":""},{"$f":"INPUT!GA465","v":""},{"$f":"INPUT!GB465","v":""},{"$f":"INPUT!GC465","v":""},null,{"$f":"INPUT!GY465","v":""},{"$f":"INPUT!GZ465","v":""},{"$f":"INPUT!HA465","v":""},{"$f":"INPUT!HB465","v":""},{"$f":"INPUT!HC465","v":""},{"$f":"INPUT!HD465","v":""},{"$f":"INPUT!HE465","v":""},{"$f":"INPUT!HF465","v":""},{"$f":"INPUT!HG465","v":""},null,{"$f":"INPUT!IA465","v":""},{"$f":"INPUT!IB465","v":""},{"$f":"INPUT!IC465","v":""},{"$f":"INPUT!ID465","v":""},{"$f":"INPUT!IE465","v":""},{"$f":"INPUT!IF465","v":""},{"$f":"INPUT!IG465","v":""},{"$f":"INPUT!IH465","v":""},null,{"$f":"INPUT!IZ465","v":""},{"$f":"INPUT!JA465","v":""},{"$f":"INPUT!JB465","v":""},{"$f":"INPUT!JC465","v":""},{"$f":"INPUT!JD465","v":""},{"$f":"INPUT!JE465","v":""},{"$f":"INPUT!JF465","v":""},"",null,{"$f":"INPUT!JX465","v":""},{"$f":"INPUT!JY465","v":""},{"$f":"INPUT!JZ465","v":""},{"$f":"INPUT!KA465","v":""},{"$f":"INPUT!KB465","v":""},{"$f":"INPUT!KC465","v":""},{"$f":"INPUT!KD465","v":""},"",null,{"$f":"INPUT!KZ465","v":""},{"$f":"INPUT!LA465","v":""},{"$f":"INPUT!LB465","v":""},{"$f":"INPUT!LC465","v":""},{"$f":"INPUT!LD465","v":""},{"$f":"INPUT!LE465","v":""},{"$f":"INPUT!LF465","v":""},{"$f":"INPUT!LG465","v":""},{"$f":"INPUT!LH465","v":""},null,{"$f":"INPUT!MB465","v":""},{"$f":"INPUT!MC465","v":""},{"$f":"INPUT!MD465","v":""},{"$f":"INPUT!ME465","v":""},{"$f":"INPUT!MF465","v":""},{"$f":"INPUT!MG465","v":""},{"$f":"INPUT!MH465","v":""},{"$f":"INPUT!MI465","v":""}]
[null,{"$f":"INPUT!EA466","v":""},{"$f":"INPUT!EB466","v":""},{"$f":"INPUT!EC466","v":""},{"$f":"INPUT!ED466","v":""},{"$f":"INPUT!EE466","v":""},{"$f":"INPUT!EF466","v":""},{"$f":"INPUT!EG466","v":""},"",null,{"$f":"INPUT!EY466","v":""},{"$f":"INPUT!EZ466","v":""},{"$f":"INPUT!FA466","v":""},{"$f":"INPUT!FB466","v":""},{"$f":"INPUT!FC466","v":""},{"$f":"INPUT!FD466","v":""},{"$f":"INPUT!FE466","v":""},"",null,{"$f":"INPUT!FW466","v":""},{"$f":"INPUT!FX466","v":""},{"$f":"INPUT!FY466","v":""},{"$f":"INPUT!FZ466","v":""},{"$f":"INPUT!GA466","v":""},{"$f":"INPUT!GB466","v":""},{"$f":"INPUT!GC466","v":""},null,{"$f":"INPUT!GY466","v":""},{"$f":"INPUT!GZ466","v":""},{"$f":"INPUT!HA466","v":""},{"$f":"INPUT!HB466","v":""},{"$f":"INPUT!HC466","v":""},{"$f":"INPUT!HD466","v":""},{"$f":"INPUT!HE466","v":""},{"$f":"INPUT!HF466","v":""},{"$f":"INPUT!HG466","v":""},null,{"$f":"INPUT!IA466","v":""},{"$f":"INPUT!IB466","v":""},{"$f":"INPUT!IC466","v":""},{"$f":"INPUT!ID466","v":""},{"$f":"INPUT!IE466","v":""},{"$f":"INPUT!IF466","v":""},{"$f":"INPUT!IG466","v":""},{"$f":"INPUT!IH466","v":""},null,{"$f":"INPUT!IZ466","v":""},{"$f":"INPUT!JA466","v":""},{"$f":"INPUT!JB466","v":""},{"$f":"INPUT!JC466","v":""},{"$f":"INPUT!JD466","v":""},{"$f":"INPUT!JE466","v":""},{"$f":"INPUT!JF466","v":""},"",null,{"$f":"INPUT!JX466","v":""},{"$f":"INPUT!JY466","v":""},{"$f":"INPUT!JZ466","v":""},{"$f":"INPUT!KA466","v":""},{"$f":"INPUT!KB466","v":""},{"$f":"INPUT!KC466","v":""},{"$f":"INPUT!KD466","v":""},"",null,{"$f":"INPUT!KZ466","v":""},{"$f":"INPUT!LA466","v":""},{"$f":"INPUT!LB466","v":""},{"$f":"INPUT!LC466","v":""},{"$f":"INPUT!LD466","v":""},{"$f":"INPUT!LE466","v":""},{"$f":"INPUT!LF466","v":""},{"$f":"INPUT!LG466","v":""},{"$f":"INPUT!LH466","v":""},null,{"$f":"INPUT!MB466","v":""},{"$f":"INPUT!MC466","v":""},{"$f":"INPUT!MD466","v":""},{"$f":"INPUT!ME466","v":""},{"$f":"INPUT!MF466","v":""},{"$f":"INPUT!MG466","v":""},{"$f":"INPUT!MH466","v":""},{"$f":"INPUT!MI466","v":""}]
[null,{"$f":"INPUT!EA467","v":""},{"$f":"INPUT!EB467","v":""},{"$f":"INPUT!EC467","v":""},{"$f":"INPUT!ED467","v":""},{"$f":"INPUT!EE467","v":""},{"$f":"INPUT!EF467","v":""},{"$f":"INPUT!EG467","v":""},"",null,{"$f":"INPUT!EY467","v":""},{"$f":"INPUT!EZ467","v":""},{"$f":"INPUT!FA467","v":""},{"$f":"INPUT!FB467","v":""},{"$f":"INPUT!FC467","v":""},{"$f":"INPUT!FD467","v":""},{"$f":"INPUT!FE467","v":""},"",null,{"$f":"INPUT!FW467","v":""},{"$f":"INPUT!FX467","v":""},{"$f":"INPUT!FY467","v":""},{"$f":"INPUT!FZ467","v":""},{"$f":"INPUT!GA467","v":""},{"$f":"INPUT!GB467","v":""},{"$f":"INPUT!GC467","v":""},null,{"$f":"INPUT!GY467","v":""},{"$f":"INPUT!GZ467","v":""},{"$f":"INPUT!HA467","v":""},{"$f":"INPUT!HB467","v":""},{"$f":"INPUT!HC467","v":""},{"$f":"INPUT!HD467","v":""},{"$f":"INPUT!HE467","v":""},{"$f":"INPUT!HF467","v":""},{"$f":"INPUT!HG467","v":""},null,{"$f":"INPUT!IA467","v":""},{"$f":"INPUT!IB467","v":""},{"$f":"INPUT!IC467","v":""},{"$f":"INPUT!ID467","v":""},{"$f":"INPUT!IE467","v":""},{"$f":"INPUT!IF467","v":""},{"$f":"INPUT!IG467","v":""},{"$f":"INPUT!IH467","v":""},null,{"$f":"INPUT!IZ467","v":""},{"$f":"INPUT!JA467","v":""},{"$f":"INPUT!JB467","v":""},{"$f":"INPUT!JC467","v":""},{"$f":"INPUT!JD467","v":""},{"$f":"INPUT!JE467","v":""},{"$f":"INPUT!JF467","v":""},"",null,{"$f":"INPUT!JX467","v":""},{"$f":"INPUT!JY467","v":""},{"$f":"INPUT!JZ467","v":""},{"$f":"INPUT!KA467","v":""},{"$f":"INPUT!KB467","v":""},{"$f":"INPUT!KC467","v":""},{"$f":"INPUT!KD467","v":""},"",null,{"$f":"INPUT!KZ467","v":""},{"$f":"INPUT!LA467","v":""},{"$f":"INPUT!LB467","v":""},{"$f":"INPUT!LC467","v":""},{"$f":"INPUT!LD467","v":""},{"$f":"INPUT!LE467","v":""},{"$f":"INPUT!LF467","v":""},{"$f":"INPUT!LG467","v":""},{"$f":"INPUT!LH467","v":""},null,{"$f":"INPUT!MB467","v":""},{"$f":"INPUT!MC467","v":""},{"$f":"INPUT!MD467","v":""},{"$f":"INPUT!ME467","v":""},{"$f":"INPUT!MF467","v":""},{"$f":"INPUT!MG467","v":""},{"$f":"INPUT!MH467","v":""},{"$f":"INPUT!MI467","v":""}]
[null,{"$f":"INPUT!EA468","v":""},{"$f":"INPUT!EB468","v":""},{"$f":"INPUT!EC468","v":""},{"$f":"INPUT!ED468","v":""},{"$f":"INPUT!EE468","v":""},{"$f":"INPUT!EF468","v":""},{"$f":"INPUT!EG468","v":""},"",null,{"$f":"INPUT!EY468","v":""},{"$f":"INPUT!EZ468","v":""},{"$f":"INPUT!FA468","v":""},{"$f":"INPUT!FB468","v":""},{"$f":"INPUT!FC468","v":""},{"$f":"INPUT!FD468","v":""},{"$f":"INPUT!FE468","v":""},"",null,{"$f":"INPUT!FW468","v":""},{"$f":"INPUT!FX468","v":""},{"$f":"INPUT!FY468","v":""},{"$f":"INPUT!FZ468","v":""},{"$f":"INPUT!GA468","v":""},{"$f":"INPUT!GB468","v":""},{"$f":"INPUT!GC468","v":""},null,{"$f":"INPUT!GY468","v":""},{"$f":"INPUT!GZ468","v":""},{"$f":"INPUT!HA468","v":""},{"$f":"INPUT!HB468","v":""},{"$f":"INPUT!HC468","v":""},{"$f":"INPUT!HD468","v":""},{"$f":"INPUT!HE468","v":""},{"$f":"INPUT!HF468","v":""},{"$f":"INPUT!HG468","v":""},null,{"$f":"INPUT!IA468","v":""},{"$f":"INPUT!IB468","v":""},{"$f":"INPUT!IC468","v":""},{"$f":"INPUT!ID468","v":""},{"$f":"INPUT!IE468","v":""},{"$f":"INPUT!IF468","v":""},{"$f":"INPUT!IG468","v":""},{"$f":"INPUT!IH468","v":""},null,{"$f":"INPUT!IZ468","v":""},{"$f":"INPUT!JA468","v":""},{"$f":"INPUT!JB468","v":""},{"$f":"INPUT!JC468","v":""},{"$f":"INPUT!JD468","v":""},{"$f":"INPUT!JE468","v":""},{"$f":"INPUT!JF468","v":""},"",null,{"$f":"INPUT!JX468","v":""},{"$f":"INPUT!JY468","v":""},{"$f":"INPUT!JZ468","v":""},{"$f":"INPUT!KA468","v":""},{"$f":"INPUT!KB468","v":""},{"$f":"INPUT!KC468","v":""},{"$f":"INPUT!KD468","v":""},"",null,{"$f":"INPUT!KZ468","v":""},{"$f":"INPUT!LA468","v":""},{"$f":"INPUT!LB468","v":""},{"$f":"INPUT!LC468","v":""},{"$f":"INPUT!LD468","v":""},{"$f":"INPUT!LE468","v":""},{"$f":"INPUT!LF468","v":""},{"$f":"INPUT!LG468","v":""},{"$f":"INPUT!LH468","v":""},null,{"$f":"INPUT!MB468","v":""},{"$f":"INPUT!MC468","v":""},{"$f":"INPUT!MD468","v":""},{"$f":"INPUT!ME468","v":""},{"$f":"INPUT!MF468","v":""},{"$f":"INPUT!MG468","v":""},{"$f":"INPUT!MH468","v":""},{"$f":"INPUT!MI468","v":""}]
[null,{"$f":"INPUT!EA469","v":""},{"$f":"INPUT!EB469","v":""},{"$f":"INPUT!EC469","v":""},{"$f":"INPUT!ED469","v":""},{"$f":"INPUT!EE469","v":""},{"$f":"INPUT!EF469","v":""},{"$f":"INPUT!EG469","v":""},"",null,{"$f":"INPUT!EY469","v":""},{"$f":"INPUT!EZ469","v":""},{"$f":"INPUT!FA469","v":""},{"$f":"INPUT!FB469","v":""},{"$f":"INPUT!FC469","v":""},{"$f":"INPUT!FD469","v":""},{"$f":"INPUT!FE469","v":""},"",null,{"$f":"INPUT!FW469","v":""},{"$f":"INPUT!FX469","v":""},{"$f":"INPUT!FY469","v":""},{"$f":"INPUT!FZ469","v":""},{"$f":"INPUT!GA469","v":""},{"$f":"INPUT!GB469","v":""},{"$f":"INPUT!GC469","v":""},null,{"$f":"INPUT!GY469","v":""},{"$f":"INPUT!GZ469","v":""},{"$f":"INPUT!HA469","v":""},{"$f":"INPUT!HB469","v":""},{"$f":"INPUT!HC469","v":""},{"$f":"INPUT!HD469","v":""},{"$f":"INPUT!HE469","v":""},{"$f":"INPUT!HF469","v":""},{"$f":"INPUT!HG469","v":""},null,{"$f":"INPUT!IA469","v":""},{"$f":"INPUT!IB469","v":""},{"$f":"INPUT!IC469","v":""},{"$f":"INPUT!ID469","v":""},{"$f":"INPUT!IE469","v":""},{"$f":"INPUT!IF469","v":""},{"$f":"INPUT!IG469","v":""},{"$f":"INPUT!IH469","v":""},null,{"$f":"INPUT!IZ469","v":""},{"$f":"INPUT!JA469","v":""},{"$f":"INPUT!JB469","v":""},{"$f":"INPUT!JC469","v":""},{"$f":"INPUT!JD469","v":""},{"$f":"INPUT!JE469","v":""},{"$f":"INPUT!JF469","v":""},"",null,{"$f":"INPUT!JX469","v":""},{"$f":"INPUT!JY469","v":""},{"$f":"INPUT!JZ469","v":""},{"$f":"INPUT!KA469","v":""},{"$f":"INPUT!KB469","v":""},{"$f":"INPUT!KC469","v":""},{"$f":"INPUT!KD469","v":""},"",null,{"$f":"INPUT!KZ469","v":""},{"$f":"INPUT!LA469","v":""},{"$f":"INPUT!LB469","v":""},{"$f":"INPUT!LC469","v":""},{"$f":"INPUT!LD469","v":""},{"$f":"INPUT!LE469","v":""},{"$f":"INPUT!LF469","v":""},{"$f":"INPUT!LG469","v":""},{"$f":"INPUT!LH469","v":""},null,{"$f":"INPUT!MB469","v":""},{"$f":"INPUT!MC469","v":""},{"$f":"INPUT!MD469","v":""},{"$f":"INPUT!ME469","v":""},{"$f":"INPUT!MF469","v":""},{"$f":"INPUT!MG469","v":""},{"$f":"INPUT!MH469","v":""},{"$f":"INPUT!MI469","v":""}]
[null,{"$f":"INPUT!EA470","v":""},{"$f":"INPUT!EB470","v":""},{"$f":"INPUT!EC470","v":""},{"$f":"INPUT!ED470","v":""},{"$f":"INPUT!EE470","v":""},{"$f":"INPUT!EF470","v":""},{"$f":"INPUT!EG470","v":""},"",null,{"$f":"INPUT!EY470","v":""},{"$f":"INPUT!EZ470","v":""},{"$f":"INPUT!FA470","v":""},{"$f":"INPUT!FB470","v":""},{"$f":"INPUT!FC470","v":""},{"$f":"INPUT!FD470","v":""},{"$f":"INPUT!FE470","v":""},"",null,{"$f":"INPUT!FW470","v":""},{"$f":"INPUT!FX470","v":""},{"$f":"INPUT!FY470","v":""},{"$f":"INPUT!FZ470","v":""},{"$f":"INPUT!GA470","v":""},{"$f":"INPUT!GB470","v":""},{"$f":"INPUT!GC470","v":""},null,{"$f":"INPUT!GY470","v":""},{"$f":"INPUT!GZ470","v":""},{"$f":"INPUT!HA470","v":""},{"$f":"INPUT!HB470","v":""},{"$f":"INPUT!HC470","v":""},{"$f":"INPUT!HD470","v":""},{"$f":"INPUT!HE470","v":""},{"$f":"INPUT!HF470","v":""},{"$f":"INPUT!HG470","v":""},null,{"$f":"INPUT!IA470","v":""},{"$f":"INPUT!IB470","v":""},{"$f":"INPUT!IC470","v":""},{"$f":"INPUT!ID470","v":""},{"$f":"INPUT!IE470","v":""},{"$f":"INPUT!IF470","v":""},{"$f":"INPUT!IG470","v":""},{"$f":"INPUT!IH470","v":""},null,{"$f":"INPUT!IZ470","v":""},{"$f":"INPUT!JA470","v":""},{"$f":"INPUT!JB470","v":""},{"$f":"INPUT!JC470","v":""},{"$f":"INPUT!JD470","v":""},{"$f":"INPUT!JE470","v":""},{"$f":"INPUT!JF470","v":""},"",null,{"$f":"INPUT!JX470","v":""},{"$f":"INPUT!JY470","v":""},{"$f":"INPUT!JZ470","v":""},{"$f":"INPUT!KA470","v":""},{"$f":"INPUT!KB470","v":""},{"$f":"INPUT!KC470","v":""},{"$f":"INPUT!KD470","v":""},"",null,{"$f":"INPUT!KZ470","v":""},{"$f":"INPUT!LA470","v":""},{"$f":"INPUT!LB470","v":""},{"$f":"INPUT!LC470","v":""},{"$f":"INPUT!LD470","v":""},{"$f":"INPUT!LE470","v":""},{"$f":"INPUT!LF470","v":""},{"$f":"INPUT!LG470","v":""},{"$f":"INPUT!LH470","v":""},null,{"$f":"INPUT!MB470","v":""},{"$f":"INPUT!MC470","v":""},{"$f":"INPUT!MD470","v":""},{"$f":"INPUT!ME470","v":""},{"$f":"INPUT!MF470","v":""},{"$f":"INPUT!MG470","v":""},{"$f":"INPUT!MH470","v":""},{"$f":"INPUT!MI470","v":""}]
[null,{"$f":"INPUT!EA471","v":""},{"$f":"INPUT!EB471","v":""},{"$f":"INPUT!EC471","v":""},{"$f":"INPUT!ED471","v":""},{"$f":"INPUT!EE471","v":""},{"$f":"INPUT!EF471","v":""},{"$f":"INPUT!EG471","v":""},"",null,{"$f":"INPUT!EY471","v":""},{"$f":"INPUT!EZ471","v":""},{"$f":"INPUT!FA471","v":""},{"$f":"INPUT!FB471","v":""},{"$f":"INPUT!FC471","v":""},{"$f":"INPUT!FD471","v":""},{"$f":"INPUT!FE471","v":""},"",null,{"$f":"INPUT!FW471","v":""},{"$f":"INPUT!FX471","v":""},{"$f":"INPUT!FY471","v":""},{"$f":"INPUT!FZ471","v":""},{"$f":"INPUT!GA471","v":""},{"$f":"INPUT!GB471","v":""},{"$f":"INPUT!GC471","v":""},null,{"$f":"INPUT!GY471","v":""},{"$f":"INPUT!GZ471","v":""},{"$f":"INPUT!HA471","v":""},{"$f":"INPUT!HB471","v":""},{"$f":"INPUT!HC471","v":""},{"$f":"INPUT!HD471","v":""},{"$f":"INPUT!HE471","v":""},{"$f":"INPUT!HF471","v":""},{"$f":"INPUT!HG471","v":""},null,{"$f":"INPUT!IA471","v":""},{"$f":"INPUT!IB471","v":""},{"$f":"INPUT!IC471","v":""},{"$f":"INPUT!ID471","v":""},{"$f":"INPUT!IE471","v":""},{"$f":"INPUT!IF471","v":""},{"$f":"INPUT!IG471","v":""},{"$f":"INPUT!IH471","v":""},null,{"$f":"INPUT!IZ471","v":""},{"$f":"INPUT!JA471","v":""},{"$f":"INPUT!JB471","v":""},{"$f":"INPUT!JC471","v":""},{"$f":"INPUT!JD471","v":""},{"$f":"INPUT!JE471","v":""},{"$f":"INPUT!JF471","v":""},"",null,{"$f":"INPUT!JX471","v":""},{"$f":"INPUT!JY471","v":""},{"$f":"INPUT!JZ471","v":""},{"$f":"INPUT!KA471","v":""},{"$f":"INPUT!KB471","v":""},{"$f":"INPUT!KC471","v":""},{"$f":"INPUT!KD471","v":""},"",null,{"$f":"INPUT!KZ471","v":""},{"$f":"INPUT!LA471","v":""},{"$f":"INPUT!LB471","v":""},{"$f":"INPUT!LC471","v":""},{"$f":"INPUT!LD471","v":""},{"$f":"INPUT!LE471","v":""},{"$f":"INPUT!LF471","v":""},{"$f":"INPUT!LG471","v":""},{"$f":"INPUT!LH471","v":""},null,{"$f":"INPUT!MB471","v":""},{"$f":"INPUT!MC471","v":""},{"$f":"INPUT!MD471","v":""},{"$f":"INPUT!ME471","v":""},{"$f":"INPUT!MF471","v":""},{"$f":"INPUT!MG471","v":""},{"$f":"INPUT!MH471","v":""},{"$f":"INPUT!MI471","v":""}]
[null,{"$f":"INPUT!EA472","v":""},{"$f":"INPUT!EB472","v":""},{"$f":"INPUT!EC472","v":""},{"$f":"INPUT!ED472","v":""},{"$f":"INPUT!EE472","v":""},{"$f":"INPUT!EF472","v":""},{"$f":"INPUT!EG472","v":""},"",null,{"$f":"INPUT!EY472","v":""},{"$f":"INPUT!EZ472","v":""},{"$f":"INPUT!FA472","v":""},{"$f":"INPUT!FB472","v":""},{"$f":"INPUT!FC472","v":""},{"$f":"INPUT!FD472","v":""},{"$f":"INPUT!FE472","v":""},"",null,{"$f":"INPUT!FW472","v":""},{"$f":"INPUT!FX472","v":""},{"$f":"INPUT!FY472","v":""},{"$f":"INPUT!FZ472","v":""},{"$f":"INPUT!GA472","v":""},{"$f":"INPUT!GB472","v":""},{"$f":"INPUT!GC472","v":""},null,{"$f":"INPUT!GY472","v":""},{"$f":"INPUT!GZ472","v":""},{"$f":"INPUT!HA472","v":""},{"$f":"INPUT!HB472","v":""},{"$f":"INPUT!HC472","v":""},{"$f":"INPUT!HD472","v":""},{"$f":"INPUT!HE472","v":""},{"$f":"INPUT!HF472","v":""},{"$f":"INPUT!HG472","v":""},null,{"$f":"INPUT!IA472","v":""},{"$f":"INPUT!IB472","v":""},{"$f":"INPUT!IC472","v":""},{"$f":"INPUT!ID472","v":""},{"$f":"INPUT!IE472","v":""},{"$f":"INPUT!IF472","v":""},{"$f":"INPUT!IG472","v":""},{"$f":"INPUT!IH472","v":""},null,{"$f":"INPUT!IZ472","v":""},{"$f":"INPUT!JA472","v":""},{"$f":"INPUT!JB472","v":""},{"$f":"INPUT!JC472","v":""},{"$f":"INPUT!JD472","v":""},{"$f":"INPUT!JE472","v":""},{"$f":"INPUT!JF472","v":""},"",null,{"$f":"INPUT!JX472","v":""},{"$f":"INPUT!JY472","v":""},{"$f":"INPUT!JZ472","v":""},{"$f":"INPUT!KA472","v":""},{"$f":"INPUT!KB472","v":""},{"$f":"INPUT!KC472","v":""},{"$f":"INPUT!KD472","v":""},"",null,{"$f":"INPUT!KZ472","v":""},{"$f":"INPUT!LA472","v":""},{"$f":"INPUT!LB472","v":""},{"$f":"INPUT!LC472","v":""},{"$f":"INPUT!LD472","v":""},{"$f":"INPUT!LE472","v":""},{"$f":"INPUT!LF472","v":""},{"$f":"INPUT!LG472","v":""},{"$f":"INPUT!LH472","v":""},null,{"$f":"INPUT!MB472","v":""},{"$f":"INPUT!MC472","v":""},{"$f":"INPUT!MD472","v":""},{"$f":"INPUT!ME472","v":""},{"$f":"INPUT!MF472","v":""},{"$f":"INPUT!MG472","v":""},{"$f":"INPUT!MH472","v":""},{"$f":"INPUT!MI472","v":""}]
[null,{"$f":"INPUT!EA473","v":""},{"$f":"INPUT!EB473","v":""},{"$f":"INPUT!EC473","v":""},{"$f":"INPUT!ED473","v":""},{"$f":"INPUT!EE473","v":""},{"$f":"INPUT!EF473","v":""},{"$f":"INPUT!EG473","v":""},"",null,{"$f":"INPUT!EY473","v":""},{"$f":"INPUT!EZ473","v":""},{"$f":"INPUT!FA473","v":""},{"$f":"INPUT!FB473","v":""},{"$f":"INPUT!FC473","v":""},{"$f":"INPUT!FD473","v":""},{"$f":"INPUT!FE473","v":""},"",null,{"$f":"INPUT!FW473","v":""},{"$f":"INPUT!FX473","v":""},{"$f":"INPUT!FY473","v":""},{"$f":"INPUT!FZ473","v":""},{"$f":"INPUT!GA473","v":""},{"$f":"INPUT!GB473","v":""},{"$f":"INPUT!GC473","v":""},null,{"$f":"INPUT!GY473","v":""},{"$f":"INPUT!GZ473","v":""},{"$f":"INPUT!HA473","v":""},{"$f":"INPUT!HB473","v":""},{"$f":"INPUT!HC473","v":""},{"$f":"INPUT!HD473","v":""},{"$f":"INPUT!HE473","v":""},{"$f":"INPUT!HF473","v":""},{"$f":"INPUT!HG473","v":""},null,{"$f":"INPUT!IA473","v":""},{"$f":"INPUT!IB473","v":""},{"$f":"INPUT!IC473","v":""},{"$f":"INPUT!ID473","v":""},{"$f":"INPUT!IE473","v":""},{"$f":"INPUT!IF473","v":""},{"$f":"INPUT!IG473","v":""},{"$f":"INPUT!IH473","v":""},null,{"$f":"INPUT!IZ473","v":""},{"$f":"INPUT!JA473","v":""},{"$f":"INPUT!JB473","v":""},{"$f":"INPUT!JC473","v":""},{"$f":"INPUT!JD473","v":""},{"$f":"INPUT!JE473","v":""},{"$f":"INPUT!JF473","v":""},"",null,{"$f":"INPUT!JX473","v":""},{"$f":"INPUT!JY473","v":""},{"$f":"INPUT!JZ473","v":""},{"$f":"INPUT!KA473","v":""},{"$f":"INPUT!KB473","v":""},{"$f":"INPUT!KC473","v":""},{"$f":"INPUT!KD473","v":""},"",null,{"$f":"INPUT!KZ473","v":""},{"$f":"INPUT!LA473","v":""},{"$f":"INPUT!LB473","v":""},{"$f":"INPUT!LC473","v":""},{"$f":"INPUT!LD473","v":""},{"$f":"INPUT!LE473","v":""},{"$f":"INPUT!LF473","v":""},{"$f":"INPUT!LG473","v":""},{"$f":"INPUT!LH473","v":""},null,{"$f":"INPUT!MB473","v":""},{"$f":"INPUT!MC473","v":""},{"$f":"INPUT!MD473","v":""},{"$f":"INPUT!ME473","v":""},{"$f":"INPUT!MF473","v":""},{"$f":"INPUT!MG473","v":""},{"$f":"INPUT!MH473","v":""},{"$f":"INPUT!MI473","v":""}]
[null,{"$f":"INPUT!EA474","v":""},{"$f":"INPUT!EB474","v":""},{"$f":"INPUT!EC474","v":""},{"$f":"INPUT!ED474","v":""},{"$f":"INPUT!EE474","v":""},{"$f":"INPUT!EF474","v":""},{"$f":"INPUT!EG474","v":""},"",null,{"$f":"INPUT!EY474","v":""},{"$f":"INPUT!EZ474","v":""},{"$f":"INPUT!FA474","v":""},{"$f":"INPUT!FB474","v":""},{"$f":"INPUT!FC474","v":""},{"$f":"INPUT!FD474","v":""},{"$f":"INPUT!FE474","v":""},"",null,{"$f":"INPUT!FW474","v":""},{"$f":"INPUT!FX474","v":""},{"$f":"INPUT!FY474","v":""},{"$f":"INPUT!FZ474","v":""},{"$f":"INPUT!GA474","v":""},{"$f":"INPUT!GB474","v":""},{"$f":"INPUT!GC474","v":""},null,{"$f":"INPUT!GY474","v":""},{"$f":"INPUT!GZ474","v":""},{"$f":"INPUT!HA474","v":""},{"$f":"INPUT!HB474","v":""},{"$f":"INPUT!HC474","v":""},{"$f":"INPUT!HD474","v":""},{"$f":"INPUT!HE474","v":""},{"$f":"INPUT!HF474","v":""},{"$f":"INPUT!HG474","v":""},null,{"$f":"INPUT!IA474","v":""},{"$f":"INPUT!IB474","v":""},{"$f":"INPUT!IC474","v":""},{"$f":"INPUT!ID474","v":""},{"$f":"INPUT!IE474","v":""},{"$f":"INPUT!IF474","v":""},{"$f":"INPUT!IG474","v":""},{"$f":"INPUT!IH474","v":""},null,{"$f":"INPUT!IZ474","v":""},{"$f":"INPUT!JA474","v":""},{"$f":"INPUT!JB474","v":""},{"$f":"INPUT!JC474","v":""},{"$f":"INPUT!JD474","v":""},{"$f":"INPUT!JE474","v":""},{"$f":"INPUT!JF474","v":""},"",null,{"$f":"INPUT!JX474","v":""},{"$f":"INPUT!JY474","v":""},{"$f":"INPUT!JZ474","v":""},{"$f":"INPUT!KA474","v":""},{"$f":"INPUT!KB474","v":""},{"$f":"INPUT!KC474","v":""},{"$f":"INPUT!KD474","v":""},"",null,{"$f":"INPUT!KZ474","v":""},{"$f":"INPUT!LA474","v":""},{"$f":"INPUT!LB474","v":""},{"$f":"INPUT!LC474","v":""},{"$f":"INPUT!LD474","v":""},{"$f":"INPUT!LE474","v":""},{"$f":"INPUT!LF474","v":""},{"$f":"INPUT!LG474","v":""},{"$f":"INPUT!LH474","v":""},null,{"$f":"INPUT!MB474","v":""},{"$f":"INPUT!MC474","v":""},{"$f":"INPUT!MD474","v":""},{"$f":"INPUT!ME474","v":""},{"$f":"INPUT!MF474","v":""},{"$f":"INPUT!MG474","v":""},{"$f":"INPUT!MH474","v":""},{"$f":"INPUT!MI474","v":""}]
[null,{"$f":"INPUT!EA475","v":""},{"$f":"INPUT!EB475","v":""},{"$f":"INPUT!EC475","v":""},{"$f":"INPUT!ED475","v":""},{"$f":"INPUT!EE475","v":""},{"$f":"INPUT!EF475","v":""},{"$f":"INPUT!EG475","v":""},"",null,{"$f":"INPUT!EY475","v":""},{"$f":"INPUT!EZ475","v":""},{"$f":"INPUT!FA475","v":""},{"$f":"INPUT!FB475","v":""},{"$f":"INPUT!FC475","v":""},{"$f":"INPUT!FD475","v":""},{"$f":"INPUT!FE475","v":""},"",null,{"$f":"INPUT!FW475","v":""},{"$f":"INPUT!FX475","v":""},{"$f":"INPUT!FY475","v":""},{"$f":"INPUT!FZ475","v":""},{"$f":"INPUT!GA475","v":""},{"$f":"INPUT!GB475","v":""},{"$f":"INPUT!GC475","v":""},null,{"$f":"INPUT!GY475","v":""},{"$f":"INPUT!GZ475","v":""},{"$f":"INPUT!HA475","v":""},{"$f":"INPUT!HB475","v":""},{"$f":"INPUT!HC475","v":""},{"$f":"INPUT!HD475","v":""},{"$f":"INPUT!HE475","v":""},{"$f":"INPUT!HF475","v":""},{"$f":"INPUT!HG475","v":""},null,{"$f":"INPUT!IA475","v":""},{"$f":"INPUT!IB475","v":""},{"$f":"INPUT!IC475","v":""},{"$f":"INPUT!ID475","v":""},{"$f":"INPUT!IE475","v":""},{"$f":"INPUT!IF475","v":""},{"$f":"INPUT!IG475","v":""},{"$f":"INPUT!IH475","v":""},null,{"$f":"INPUT!IZ475","v":""},{"$f":"INPUT!JA475","v":""},{"$f":"INPUT!JB475","v":""},{"$f":"INPUT!JC475","v":""},{"$f":"INPUT!JD475","v":""},{"$f":"INPUT!JE475","v":""},{"$f":"INPUT!JF475","v":""},"",null,{"$f":"INPUT!JX475","v":""},{"$f":"INPUT!JY475","v":""},{"$f":"INPUT!JZ475","v":""},{"$f":"INPUT!KA475","v":""},{"$f":"INPUT!KB475","v":""},{"$f":"INPUT!KC475","v":""},{"$f":"INPUT!KD475","v":""},"",null,{"$f":"INPUT!KZ475","v":""},{"$f":"INPUT!LA475","v":""},{"$f":"INPUT!LB475","v":""},{"$f":"INPUT!LC475","v":""},{"$f":"INPUT!LD475","v":""},{"$f":"INPUT!LE475","v":""},{"$f":"INPUT!LF475","v":""},{"$f":"INPUT!LG475","v":""},{"$f":"INPUT!LH475","v":""},null,{"$f":"INPUT!MB475","v":""},{"$f":"INPUT!MC475","v":""},{"$f":"INPUT!MD475","v":""},{"$f":"INPUT!ME475","v":""},{"$f":"INPUT!MF475","v":""},{"$f":"INPUT!MG475","v":""},{"$f":"INPUT!MH475","v":""},{"$f":"INPUT!MI475","v":""}]
[null,{"$f":"INPUT!EA476","v":""},{"$f":"INPUT!EB476","v":""},{"$f":"INPUT!EC476","v":""},{"$f":"INPUT!ED476","v":""},{"$f":"INPUT!EE476","v":""},{"$f":"INPUT!EF476","v":""},{"$f":"INPUT!EG476","v":""},"",null,{"$f":"INPUT!EY476","v":""},{"$f":"INPUT!EZ476","v":""},{"$f":"INPUT!FA476","v":""},{"$f":"INPUT!FB476","v":""},{"$f":"INPUT!FC476","v":""},{"$f":"INPUT!FD476","v":""},{"$f":"INPUT!FE476","v":""},"",null,{"$f":"INPUT!FW476","v":""},{"$f":"INPUT!FX476","v":""},{"$f":"INPUT!FY476","v":""},{"$f":"INPUT!FZ476","v":""},{"$f":"INPUT!GA476","v":""},{"$f":"INPUT!GB476","v":""},{"$f":"INPUT!GC476","v":""},null,{"$f":"INPUT!GY476","v":""},{"$f":"INPUT!GZ476","v":""},{"$f":"INPUT!HA476","v":""},{"$f":"INPUT!HB476","v":""},{"$f":"INPUT!HC476","v":""},{"$f":"INPUT!HD476","v":""},{"$f":"INPUT!HE476","v":""},{"$f":"INPUT!HF476","v":""},{"$f":"INPUT!HG476","v":""},null,{"$f":"INPUT!IA476","v":""},{"$f":"INPUT!IB476","v":""},{"$f":"INPUT!IC476","v":""},{"$f":"INPUT!ID476","v":""},{"$f":"INPUT!IE476","v":""},{"$f":"INPUT!IF476","v":""},{"$f":"INPUT!IG476","v":""},{"$f":"INPUT!IH476","v":""},null,{"$f":"INPUT!IZ476","v":""},{"$f":"INPUT!JA476","v":""},{"$f":"INPUT!JB476","v":""},{"$f":"INPUT!JC476","v":""},{"$f":"INPUT!JD476","v":""},{"$f":"INPUT!JE476","v":""},{"$f":"INPUT!JF476","v":""},"",null,{"$f":"INPUT!JX476","v":""},{"$f":"INPUT!JY476","v":""},{"$f":"INPUT!JZ476","v":""},{"$f":"INPUT!KA476","v":""},{"$f":"INPUT!KB476","v":""},{"$f":"INPUT!KC476","v":""},{"$f":"INPUT!KD476","v":""},"",null,{"$f":"INPUT!KZ476","v":""},{"$f":"INPUT!LA476","v":""},{"$f":"INPUT!LB476","v":""},{"$f":"INPUT!LC476","v":""},{"$f":"INPUT!LD476","v":""},{"$f":"INPUT!LE476","v":""},{"$f":"INPUT!LF476","v":""},{"$f":"INPUT!LG476","v":""},{"$f":"INPUT!LH476","v":""},null,{"$f":"INPUT!MB476","v":""},{"$f":"INPUT!MC476","v":""},{"$f":"INPUT!MD476","v":""},{"$f":"INPUT!ME476","v":""},{"$f":"INPUT!MF476","v":""},{"$f":"INPUT!MG476","v":""},{"$f":"INPUT!MH476","v":""},{"$f":"INPUT!MI476","v":""}]
[null,{"$f":"INPUT!EA477","v":""},{"$f":"INPUT!EB477","v":""},{"$f":"INPUT!EC477","v":""},{"$f":"INPUT!ED477","v":""},{"$f":"INPUT!EE477","v":""},{"$f":"INPUT!EF477","v":""},{"$f":"INPUT!EG477","v":""},"",null,{"$f":"INPUT!EY477","v":""},{"$f":"INPUT!EZ477","v":""},{"$f":"INPUT!FA477","v":""},{"$f":"INPUT!FB477","v":""},{"$f":"INPUT!FC477","v":""},{"$f":"INPUT!FD477","v":""},{"$f":"INPUT!FE477","v":""},"",null,{"$f":"INPUT!FW477","v":""},{"$f":"INPUT!FX477","v":""},{"$f":"INPUT!FY477","v":""},{"$f":"INPUT!FZ477","v":""},{"$f":"INPUT!GA477","v":""},{"$f":"INPUT!GB477","v":""},{"$f":"INPUT!GC477","v":""},null,{"$f":"INPUT!GY477","v":""},{"$f":"INPUT!GZ477","v":""},{"$f":"INPUT!HA477","v":""},{"$f":"INPUT!HB477","v":""},{"$f":"INPUT!HC477","v":""},{"$f":"INPUT!HD477","v":""},{"$f":"INPUT!HE477","v":""},{"$f":"INPUT!HF477","v":""},{"$f":"INPUT!HG477","v":""},null,{"$f":"INPUT!IA477","v":""},{"$f":"INPUT!IB477","v":""},{"$f":"INPUT!IC477","v":""},{"$f":"INPUT!ID477","v":""},{"$f":"INPUT!IE477","v":""},{"$f":"INPUT!IF477","v":""},{"$f":"INPUT!IG477","v":""},{"$f":"INPUT!IH477","v":""},null,{"$f":"INPUT!IZ477","v":""},{"$f":"INPUT!JA477","v":""},{"$f":"INPUT!JB477","v":""},{"$f":"INPUT!JC477","v":""},{"$f":"INPUT!JD477","v":""},{"$f":"INPUT!JE477","v":""},{"$f":"INPUT!JF477","v":""},"",null,{"$f":"INPUT!JX477","v":""},{"$f":"INPUT!JY477","v":""},{"$f":"INPUT!JZ477","v":""},{"$f":"INPUT!KA477","v":""},{"$f":"INPUT!KB477","v":""},{"$f":"INPUT!KC477","v":""},{"$f":"INPUT!KD477","v":""},"",null,{"$f":"INPUT!KZ477","v":""},{"$f":"INPUT!LA477","v":""},{"$f":"INPUT!LB477","v":""},{"$f":"INPUT!LC477","v":""},{"$f":"INPUT!LD477","v":""},{"$f":"INPUT!LE477","v":""},{"$f":"INPUT!LF477","v":""},{"$f":"INPUT!LG477","v":""},{"$f":"INPUT!LH477","v":""},null,{"$f":"INPUT!MB477","v":""},{"$f":"INPUT!MC477","v":""},{"$f":"INPUT!MD477","v":""},{"$f":"INPUT!ME477","v":""},{"$f":"INPUT!MF477","v":""},{"$f":"INPUT!MG477","v":""},{"$f":"INPUT!MH477","v":""},{"$f":"INPUT!MI477","v":""}]
[null,{"$f":"INPUT!EA478","v":""},{"$f":"INPUT!EB478","v":""},{"$f":"INPUT!EC478","v":""},{"$f":"INPUT!ED478","v":""},{"$f":"INPUT!EE478","v":""},{"$f":"INPUT!EF478","v":""},{"$f":"INPUT!EG478","v":""},"",null,{"$f":"INPUT!EY478","v":""},{"$f":"INPUT!EZ478","v":""},{"$f":"INPUT!FA478","v":""},{"$f":"INPUT!FB478","v":""},{"$f":"INPUT!FC478","v":""},{"$f":"INPUT!FD478","v":""},{"$f":"INPUT!FE478","v":""},"",null,{"$f":"INPUT!FW478","v":""},{"$f":"INPUT!FX478","v":""},{"$f":"INPUT!FY478","v":""},{"$f":"INPUT!FZ478","v":""},{"$f":"INPUT!GA478","v":""},{"$f":"INPUT!GB478","v":""},{"$f":"INPUT!GC478","v":""},null,{"$f":"INPUT!GY478","v":""},{"$f":"INPUT!GZ478","v":""},{"$f":"INPUT!HA478","v":""},{"$f":"INPUT!HB478","v":""},{"$f":"INPUT!HC478","v":""},{"$f":"INPUT!HD478","v":""},{"$f":"INPUT!HE478","v":""},{"$f":"INPUT!HF478","v":""},{"$f":"INPUT!HG478","v":""},null,{"$f":"INPUT!IA478","v":""},{"$f":"INPUT!IB478","v":""},{"$f":"INPUT!IC478","v":""},{"$f":"INPUT!ID478","v":""},{"$f":"INPUT!IE478","v":""},{"$f":"INPUT!IF478","v":""},{"$f":"INPUT!IG478","v":""},{"$f":"INPUT!IH478","v":""},null,{"$f":"INPUT!IZ478","v":""},{"$f":"INPUT!JA478","v":""},{"$f":"INPUT!JB478","v":""},{"$f":"INPUT!JC478","v":""},{"$f":"INPUT!JD478","v":""},{"$f":"INPUT!JE478","v":""},{"$f":"INPUT!JF478","v":""},"",null,{"$f":"INPUT!JX478","v":""},{"$f":"INPUT!JY478","v":""},{"$f":"INPUT!JZ478","v":""},{"$f":"INPUT!KA478","v":""},{"$f":"INPUT!KB478","v":""},{"$f":"INPUT!KC478","v":""},{"$f":"INPUT!KD478","v":""},"",null,{"$f":"INPUT!KZ478","v":""},{"$f":"INPUT!LA478","v":""},{"$f":"INPUT!LB478","v":""},{"$f":"INPUT!LC478","v":""},{"$f":"INPUT!LD478","v":""},{"$f":"INPUT!LE478","v":""},{"$f":"INPUT!LF478","v":""},{"$f":"INPUT!LG478","v":""},{"$f":"INPUT!LH478","v":""},null,{"$f":"INPUT!MB478","v":""},{"$f":"INPUT!MC478","v":""},{"$f":"INPUT!MD478","v":""},{"$f":"INPUT!ME478","v":""},{"$f":"INPUT!MF478","v":""},{"$f":"INPUT!MG478","v":""},{"$f":"INPUT!MH478","v":""},{"$f":"INPUT!MI478","v":""}]
[null,{"$f":"INPUT!EA479","v":""},{"$f":"INPUT!EB479","v":""},{"$f":"INPUT!EC479","v":""},{"$f":"INPUT!ED479","v":""},{"$f":"INPUT!EE479","v":""},{"$f":"INPUT!EF479","v":""},{"$f":"INPUT!EG479","v":""},"",null,{"$f":"INPUT!EY479","v":""},{"$f":"INPUT!EZ479","v":""},{"$f":"INPUT!FA479","v":""},{"$f":"INPUT!FB479","v":""},{"$f":"INPUT!FC479","v":""},{"$f":"INPUT!FD479","v":""},{"$f":"INPUT!FE479","v":""},"",null,{"$f":"INPUT!FW479","v":""},{"$f":"INPUT!FX479","v":""},{"$f":"INPUT!FY479","v":""},{"$f":"INPUT!FZ479","v":""},{"$f":"INPUT!GA479","v":""},{"$f":"INPUT!GB479","v":""},{"$f":"INPUT!GC479","v":""},null,{"$f":"INPUT!GY479","v":""},{"$f":"INPUT!GZ479","v":""},{"$f":"INPUT!HA479","v":""},{"$f":"INPUT!HB479","v":""},{"$f":"INPUT!HC479","v":""},{"$f":"INPUT!HD479","v":""},{"$f":"INPUT!HE479","v":""},{"$f":"INPUT!HF479","v":""},{"$f":"INPUT!HG479","v":""},null,{"$f":"INPUT!IA479","v":""},{"$f":"INPUT!IB479","v":""},{"$f":"INPUT!IC479","v":""},{"$f":"INPUT!ID479","v":""},{"$f":"INPUT!IE479","v":""},{"$f":"INPUT!IF479","v":""},{"$f":"INPUT!IG479","v":""},{"$f":"INPUT!IH479","v":""},null,{"$f":"INPUT!IZ479","v":""},{"$f":"INPUT!JA479","v":""},{"$f":"INPUT!JB479","v":""},{"$f":"INPUT!JC479","v":""},{"$f":"INPUT!JD479","v":""},{"$f":"INPUT!JE479","v":""},{"$f":"INPUT!JF479","v":""},"",null,{"$f":"INPUT!JX479","v":""},{"$f":"INPUT!JY479","v":""},{"$f":"INPUT!JZ479","v":""},{"$f":"INPUT!KA479","v":""},{"$f":"INPUT!KB479","v":""},{"$f":"INPUT!KC479","v":""},{"$f":"INPUT!KD479","v":""},"",null,{"$f":"INPUT!KZ479","v":""},{"$f":"INPUT!LA479","v":""},{"$f":"INPUT!LB479","v":""},{"$f":"INPUT!LC479","v":""},{"$f":"INPUT!LD479","v":""},{"$f":"INPUT!LE479","v":""},{"$f":"INPUT!LF479","v":""},{"$f":"INPUT!LG479","v":""},{"$f":"INPUT!LH479","v":""},null,{"$f":"INPUT!MB479","v":""},{"$f":"INPUT!MC479","v":""},{"$f":"INPUT!MD479","v":""},{"$f":"INPUT!ME479","v":""},{"$f":"INPUT!MF479","v":""},{"$f":"INPUT!MG479","v":""},{"$f":"INPUT!MH479","v":""},{"$f":"INPUT!MI479","v":""}]
[null,{"$f":"INPUT!EA480","v":""},{"$f":"INPUT!EB480","v":""},{"$f":"INPUT!EC480","v":""},{"$f":"INPUT!ED480","v":""},{"$f":"INPUT!EE480","v":""},{"$f":"INPUT!EF480","v":""},{"$f":"INPUT!EG480","v":""},"",null,{"$f":"INPUT!EY480","v":""},{"$f":"INPUT!EZ480","v":""},{"$f":"INPUT!FA480","v":""},{"$f":"INPUT!FB480","v":""},{"$f":"INPUT!FC480","v":""},{"$f":"INPUT!FD480","v":""},{"$f":"INPUT!FE480","v":""},"",null,{"$f":"INPUT!FW480","v":""},{"$f":"INPUT!FX480","v":""},{"$f":"INPUT!FY480","v":""},{"$f":"INPUT!FZ480","v":""},{"$f":"INPUT!GA480","v":""},{"$f":"INPUT!GB480","v":""},{"$f":"INPUT!GC480","v":""},null,{"$f":"INPUT!GY480","v":""},{"$f":"INPUT!GZ480","v":""},{"$f":"INPUT!HA480","v":""},{"$f":"INPUT!HB480","v":""},{"$f":"INPUT!HC480","v":""},{"$f":"INPUT!HD480","v":""},{"$f":"INPUT!HE480","v":""},{"$f":"INPUT!HF480","v":""},{"$f":"INPUT!HG480","v":""},null,{"$f":"INPUT!IA480","v":""},{"$f":"INPUT!IB480","v":""},{"$f":"INPUT!IC480","v":""},{"$f":"INPUT!ID480","v":""},{"$f":"INPUT!IE480","v":""},{"$f":"INPUT!IF480","v":""},{"$f":"INPUT!IG480","v":""},{"$f":"INPUT!IH480","v":""},null,{"$f":"INPUT!IZ480","v":""},{"$f":"INPUT!JA480","v":""},{"$f":"INPUT!JB480","v":""},{"$f":"INPUT!JC480","v":""},{"$f":"INPUT!JD480","v":""},{"$f":"INPUT!JE480","v":""},{"$f":"INPUT!JF480","v":""},"",null,{"$f":"INPUT!JX480","v":""},{"$f":"INPUT!JY480","v":""},{"$f":"INPUT!JZ480","v":""},{"$f":"INPUT!KA480","v":""},{"$f":"INPUT!KB480","v":""},{"$f":"INPUT!KC480","v":""},{"$f":"INPUT!KD480","v":""},"",null,{"$f":"INPUT!KZ480","v":""},{"$f":"INPUT!LA480","v":""},{"$f":"INPUT!LB480","v":""},{"$f":"INPUT!LC480","v":""},{"$f":"INPUT!LD480","v":""},{"$f":"INPUT!LE480","v":""},{"$f":"INPUT!LF480","v":""},{"$f":"INPUT!LG480","v":""},{"$f":"INPUT!LH480","v":""},null,{"$f":"INPUT!MB480","v":""},{"$f":"INPUT!MC480","v":""},{"$f":"INPUT!MD480","v":""},{"$f":"INPUT!ME480","v":""},{"$f":"INPUT!MF480","v":""},{"$f":"INPUT!MG480","v":""},{"$f":"INPUT!MH480","v":""},{"$f":"INPUT!MI480","v":""}]
[null,{"$f":"INPUT!EA481","v":""},{"$f":"INPUT!EB481","v":""},{"$f":"INPUT!EC481","v":""},{"$f":"INPUT!ED481","v":""},{"$f":"INPUT!EE481","v":""},{"$f":"INPUT!EF481","v":""},{"$f":"INPUT!EG481","v":""},"",null,{"$f":"INPUT!EY481","v":""},{"$f":"INPUT!EZ481","v":""},{"$f":"INPUT!FA481","v":""},{"$f":"INPUT!FB481","v":""},{"$f":"INPUT!FC481","v":""},{"$f":"INPUT!FD481","v":""},{"$f":"INPUT!FE481","v":""},"",null,{"$f":"INPUT!FW481","v":""},{"$f":"INPUT!FX481","v":""},{"$f":"INPUT!FY481","v":""},{"$f":"INPUT!FZ481","v":""},{"$f":"INPUT!GA481","v":""},{"$f":"INPUT!GB481","v":""},{"$f":"INPUT!GC481","v":""},null,{"$f":"INPUT!GY481","v":""},{"$f":"INPUT!GZ481","v":""},{"$f":"INPUT!HA481","v":""},{"$f":"INPUT!HB481","v":""},{"$f":"INPUT!HC481","v":""},{"$f":"INPUT!HD481","v":""},{"$f":"INPUT!HE481","v":""},{"$f":"INPUT!HF481","v":""},{"$f":"INPUT!HG481","v":""},null,{"$f":"INPUT!IA481","v":""},{"$f":"INPUT!IB481","v":""},{"$f":"INPUT!IC481","v":""},{"$f":"INPUT!ID481","v":""},{"$f":"INPUT!IE481","v":""},{"$f":"INPUT!IF481","v":""},{"$f":"INPUT!IG481","v":""},{"$f":"INPUT!IH481","v":""},null,{"$f":"INPUT!IZ481","v":""},{"$f":"INPUT!JA481","v":""},{"$f":"INPUT!JB481","v":""},{"$f":"INPUT!JC481","v":""},{"$f":"INPUT!JD481","v":""},{"$f":"INPUT!JE481","v":""},{"$f":"INPUT!JF481","v":""},"",null,{"$f":"INPUT!JX481","v":""},{"$f":"INPUT!JY481","v":""},{"$f":"INPUT!JZ481","v":""},{"$f":"INPUT!KA481","v":""},{"$f":"INPUT!KB481","v":""},{"$f":"INPUT!KC481","v":""},{"$f":"INPUT!KD481","v":""},"",null,{"$f":"INPUT!KZ481","v":""},{"$f":"INPUT!LA481","v":""},{"$f":"INPUT!LB481","v":""},{"$f":"INPUT!LC481","v":""},{"$f":"INPUT!LD481","v":""},{"$f":"INPUT!LE481","v":""},{"$f":"INPUT!LF481","v":""},{"$f":"INPUT!LG481","v":""},{"$f":"INPUT!LH481","v":""},null,{"$f":"INPUT!MB481","v":""},{"$f":"INPUT!MC481","v":""},{"$f":"INPUT!MD481","v":""},{"$f":"INPUT!ME481","v":""},{"$f":"INPUT!MF481","v":""},{"$f":"INPUT!MG481","v":""},{"$f":"INPUT!MH481","v":""},{"$f":"INPUT!MI481","v":""}]
[null,{"$f":"INPUT!EA482","v":""},{"$f":"INPUT!EB482","v":""},{"$f":"INPUT!EC482","v":""},{"$f":"INPUT!ED482","v":""},{"$f":"INPUT!EE482","v":""},{"$f":"INPUT!EF482","v":""},{"$f":"INPUT!EG482","v":""},"",null,{"$f":"INPUT!EY482","v":""},{"$f":"INPUT!EZ482","v":""},{"$f":"INPUT!FA482","v":""},{"$f":"INPUT!FB482","v":""},{"$f":"INPUT!FC482","v":""},{"$f":"INPUT!FD482","v":""},{"$f":"INPUT!FE482","v":""},"",null,{"$f":"INPUT!FW482","v":""},{"$f":"INPUT!FX482","v":""},{"$f":"INPUT!FY482","v":""},{"$f":"INPUT!FZ482","v":""},{"$f":"INPUT!GA482","v":""},{"$f":"INPUT!GB482","v":""},{"$f":"INPUT!GC482","v":""},null,{"$f":"INPUT!GY482","v":""},{"$f":"INPUT!GZ482","v":""},{"$f":"INPUT!HA482","v":""},{"$f":"INPUT!HB482","v":""},{"$f":"INPUT!HC482","v":""},{"$f":"INPUT!HD482","v":""},{"$f":"INPUT!HE482","v":""},{"$f":"INPUT!HF482","v":""},{"$f":"INPUT!HG482","v":""},null,{"$f":"INPUT!IA482","v":""},{"$f":"INPUT!IB482","v":""},{"$f":"INPUT!IC482","v":""},{"$f":"INPUT!ID482","v":""},{"$f":"INPUT!IE482","v":""},{"$f":"INPUT!IF482","v":""},{"$f":"INPUT!IG482","v":""},{"$f":"INPUT!IH482","v":""},null,{"$f":"INPUT!IZ482","v":""},{"$f":"INPUT!JA482","v":""},{"$f":"INPUT!JB482","v":""},{"$f":"INPUT!JC482","v":""},{"$f":"INPUT!JD482","v":""},{"$f":"INPUT!JE482","v":""},{"$f":"INPUT!JF482","v":""},"",null,{"$f":"INPUT!JX482","v":""},{"$f":"INPUT!JY482","v":""},{"$f":"INPUT!JZ482","v":""},{"$f":"INPUT!KA482","v":""},{"$f":"INPUT!KB482","v":""},{"$f":"INPUT!KC482","v":""},{"$f":"INPUT!KD482","v":""},"",null,{"$f":"INPUT!KZ482","v":""},{"$f":"INPUT!LA482","v":""},{"$f":"INPUT!LB482","v":""},{"$f":"INPUT!LC482","v":""},{"$f":"INPUT!LD482","v":""},{"$f":"INPUT!LE482","v":""},{"$f":"INPUT!LF482","v":""},{"$f":"INPUT!LG482","v":""},{"$f":"INPUT!LH482","v":""},null,{"$f":"INPUT!MB482","v":""},{"$f":"INPUT!MC482","v":""},{"$f":"INPUT!MD482","v":""},{"$f":"INPUT!ME482","v":""},{"$f":"INPUT!MF482","v":""},{"$f":"INPUT!MG482","v":""},{"$f":"INPUT!MH482","v":""},{"$f":"INPUT!MI482","v":""}]
[null,{"$f":"INPUT!EA483","v":""},{"$f":"INPUT!EB483","v":""},{"$f":"INPUT!EC483","v":""},{"$f":"INPUT!ED483","v":""},{"$f":"INPUT!EE483","v":""},{"$f":"INPUT!EF483","v":""},{"$f":"INPUT!EG483","v":""},"",null,{"$f":"INPUT!EY483","v":""},{"$f":"INPUT!EZ483","v":""},{"$f":"INPUT!FA483","v":""},{"$f":"INPUT!FB483","v":""},{"$f":"INPUT!FC483","v":""},{"$f":"INPUT!FD483","v":""},{"$f":"INPUT!FE483","v":""},"",null,{"$f":"INPUT!FW483","v":""},{"$f":"INPUT!FX483","v":""},{"$f":"INPUT!FY483","v":""},{"$f":"INPUT!FZ483","v":""},{"$f":"INPUT!GA483","v":""},{"$f":"INPUT!GB483","v":""},{"$f":"INPUT!GC483","v":""},null,{"$f":"INPUT!GY483","v":""},{"$f":"INPUT!GZ483","v":""},{"$f":"INPUT!HA483","v":""},{"$f":"INPUT!HB483","v":""},{"$f":"INPUT!HC483","v":""},{"$f":"INPUT!HD483","v":""},{"$f":"INPUT!HE483","v":""},{"$f":"INPUT!HF483","v":""},{"$f":"INPUT!HG483","v":""},null,{"$f":"INPUT!IA483","v":""},{"$f":"INPUT!IB483","v":""},{"$f":"INPUT!IC483","v":""},{"$f":"INPUT!ID483","v":""},{"$f":"INPUT!IE483","v":""},{"$f":"INPUT!IF483","v":""},{"$f":"INPUT!IG483","v":""},{"$f":"INPUT!IH483","v":""},null,{"$f":"INPUT!IZ483","v":""},{"$f":"INPUT!JA483","v":""},{"$f":"INPUT!JB483","v":""},{"$f":"INPUT!JC483","v":""},{"$f":"INPUT!JD483","v":""},{"$f":"INPUT!JE483","v":""},{"$f":"INPUT!JF483","v":""},"",null,{"$f":"INPUT!JX483","v":""},{"$f":"INPUT!JY483","v":""},{"$f":"INPUT!JZ483","v":""},{"$f":"INPUT!KA483","v":""},{"$f":"INPUT!KB483","v":""},{"$f":"INPUT!KC483","v":""},{"$f":"INPUT!KD483","v":""},"",null,{"$f":"INPUT!KZ483","v":""},{"$f":"INPUT!LA483","v":""},{"$f":"INPUT!LB483","v":""},{"$f":"INPUT!LC483","v":""},{"$f":"INPUT!LD483","v":""},{"$f":"INPUT!LE483","v":""},{"$f":"INPUT!LF483","v":""},{"$f":"INPUT!LG483","v":""},{"$f":"INPUT!LH483","v":""},null,{"$f":"INPUT!MB483","v":""},{"$f":"INPUT!MC483","v":""},{"$f":"INPUT!MD483","v":""},{"$f":"INPUT!ME483","v":""},{"$f":"INPUT!MF483","v":""},{"$f":"INPUT!MG483","v":""},{"$f":"INPUT!MH483","v":""},{"$f":"INPUT!MI483","v":""}]
[null,{"$f":"INPUT!EA484","v":""},{"$f":"INPUT!EB484","v":""},{"$f":"INPUT!EC484","v":""},{"$f":"INPUT!ED484","v":""},{"$f":"INPUT!EE484","v":""},{"$f":"INPUT!EF484","v":""},{"$f":"INPUT!EG484","v":""},"",null,{"$f":"INPUT!EY484","v":""},{"$f":"INPUT!EZ484","v":""},{"$f":"INPUT!FA484","v":""},{"$f":"INPUT!FB484","v":""},{"$f":"INPUT!FC484","v":""},{"$f":"INPUT!FD484","v":""},{"$f":"INPUT!FE484","v":""},"",null,{"$f":"INPUT!FW484","v":""},{"$f":"INPUT!FX484","v":""},{"$f":"INPUT!FY484","v":""},{"$f":"INPUT!FZ484","v":""},{"$f":"INPUT!GA484","v":""},{"$f":"INPUT!GB484","v":""},{"$f":"INPUT!GC484","v":""},null,{"$f":"INPUT!GY484","v":""},{"$f":"INPUT!GZ484","v":""},{"$f":"INPUT!HA484","v":""},{"$f":"INPUT!HB484","v":""},{"$f":"INPUT!HC484","v":""},{"$f":"INPUT!HD484","v":""},{"$f":"INPUT!HE484","v":""},{"$f":"INPUT!HF484","v":""},{"$f":"INPUT!HG484","v":""},null,{"$f":"INPUT!IA484","v":""},{"$f":"INPUT!IB484","v":""},{"$f":"INPUT!IC484","v":""},{"$f":"INPUT!ID484","v":""},{"$f":"INPUT!IE484","v":""},{"$f":"INPUT!IF484","v":""},{"$f":"INPUT!IG484","v":""},{"$f":"INPUT!IH484","v":""},null,{"$f":"INPUT!IZ484","v":""},{"$f":"INPUT!JA484","v":""},{"$f":"INPUT!JB484","v":""},{"$f":"INPUT!JC484","v":""},{"$f":"INPUT!JD484","v":""},{"$f":"INPUT!JE484","v":""},{"$f":"INPUT!JF484","v":""},"",null,{"$f":"INPUT!JX484","v":""},{"$f":"INPUT!JY484","v":""},{"$f":"INPUT!JZ484","v":""},{"$f":"INPUT!KA484","v":""},{"$f":"INPUT!KB484","v":""},{"$f":"INPUT!KC484","v":""},{"$f":"INPUT!KD484","v":""},"",null,{"$f":"INPUT!KZ484","v":""},{"$f":"INPUT!LA484","v":""},{"$f":"INPUT!LB484","v":""},{"$f":"INPUT!LC484","v":""},{"$f":"INPUT!LD484","v":""},{"$f":"INPUT!LE484","v":""},{"$f":"INPUT!LF484","v":""},{"$f":"INPUT!LG484","v":""},{"$f":"INPUT!LH484","v":""},null,{"$f":"INPUT!MB484","v":""},{"$f":"INPUT!MC484","v":""},{"$f":"INPUT!MD484","v":""},{"$f":"INPUT!ME484","v":""},{"$f":"INPUT!MF484","v":""},{"$f":"INPUT!MG484","v":""},{"$f":"INPUT!MH484","v":""},{"$f":"INPUT!MI484","v":""}]
[null,{"$f":"INPUT!EA485","v":""},{"$f":"INPUT!EB485","v":""},{"$f":"INPUT!EC485","v":""},{"$f":"INPUT!ED485","v":""},{"$f":"INPUT!EE485","v":""},{"$f":"INPUT!EF485","v":""},{"$f":"INPUT!EG485","v":""},"",null,{"$f":"INPUT!EY485","v":""},{"$f":"INPUT!EZ485","v":""},{"$f":"INPUT!FA485","v":""},{"$f":"INPUT!FB485","v":""},{"$f":"INPUT!FC485","v":""},{"$f":"INPUT!FD485","v":""},{"$f":"INPUT!FE485","v":""},"",null,{"$f":"INPUT!FW485","v":""},{"$f":"INPUT!FX485","v":""},{"$f":"INPUT!FY485","v":""},{"$f":"INPUT!FZ485","v":""},{"$f":"INPUT!GA485","v":""},{"$f":"INPUT!GB485","v":""},{"$f":"INPUT!GC485","v":""},null,{"$f":"INPUT!GY485","v":""},{"$f":"INPUT!GZ485","v":""},{"$f":"INPUT!HA485","v":""},{"$f":"INPUT!HB485","v":""},{"$f":"INPUT!HC485","v":""},{"$f":"INPUT!HD485","v":""},{"$f":"INPUT!HE485","v":""},{"$f":"INPUT!HF485","v":""},{"$f":"INPUT!HG485","v":""},null,{"$f":"INPUT!IA485","v":""},{"$f":"INPUT!IB485","v":""},{"$f":"INPUT!IC485","v":""},{"$f":"INPUT!ID485","v":""},{"$f":"INPUT!IE485","v":""},{"$f":"INPUT!IF485","v":""},{"$f":"INPUT!IG485","v":""},{"$f":"INPUT!IH485","v":""},null,{"$f":"INPUT!IZ485","v":""},{"$f":"INPUT!JA485","v":""},{"$f":"INPUT!JB485","v":""},{"$f":"INPUT!JC485","v":""},{"$f":"INPUT!JD485","v":""},{"$f":"INPUT!JE485","v":""},{"$f":"INPUT!JF485","v":""},"",null,{"$f":"INPUT!JX485","v":""},{"$f":"INPUT!JY485","v":""},{"$f":"INPUT!JZ485","v":""},{"$f":"INPUT!KA485","v":""},{"$f":"INPUT!KB485","v":""},{"$f":"INPUT!KC485","v":""},{"$f":"INPUT!KD485","v":""},"",null,{"$f":"INPUT!KZ485","v":""},{"$f":"INPUT!LA485","v":""},{"$f":"INPUT!LB485","v":""},{"$f":"INPUT!LC485","v":""},{"$f":"INPUT!LD485","v":""},{"$f":"INPUT!LE485","v":""},{"$f":"INPUT!LF485","v":""},{"$f":"INPUT!LG485","v":""},{"$f":"INPUT!LH485","v":""},null,{"$f":"INPUT!MB485","v":""},{"$f":"INPUT!MC485","v":""},{"$f":"INPUT!MD485","v":""},{"$f":"INPUT!ME485","v":""},{"$f":"INPUT!MF485","v":""},{"$f":"INPUT!MG485","v":""},{"$f":"INPUT!MH485","v":""},{"$f":"INPUT!MI485","v":""}]
[null,{"$f":"INPUT!EA486","v":""},{"$f":"INPUT!EB486","v":""},{"$f":"INPUT!EC486","v":""},{"$f":"INPUT!ED486","v":""},{"$f":"INPUT!EE486","v":""},{"$f":"INPUT!EF486","v":""},{"$f":"INPUT!EG486","v":""},"",null,{"$f":"INPUT!EY486","v":""},{"$f":"INPUT!EZ486","v":""},{"$f":"INPUT!FA486","v":""},{"$f":"INPUT!FB486","v":""},{"$f":"INPUT!FC486","v":""},{"$f":"INPUT!FD486","v":""},{"$f":"INPUT!FE486","v":""},"",null,{"$f":"INPUT!FW486","v":""},{"$f":"INPUT!FX486","v":""},{"$f":"INPUT!FY486","v":""},{"$f":"INPUT!FZ486","v":""},{"$f":"INPUT!GA486","v":""},{"$f":"INPUT!GB486","v":""},{"$f":"INPUT!GC486","v":""},null,{"$f":"INPUT!GY486","v":""},{"$f":"INPUT!GZ486","v":""},{"$f":"INPUT!HA486","v":""},{"$f":"INPUT!HB486","v":""},{"$f":"INPUT!HC486","v":""},{"$f":"INPUT!HD486","v":""},{"$f":"INPUT!HE486","v":""},{"$f":"INPUT!HF486","v":""},{"$f":"INPUT!HG486","v":""},null,{"$f":"INPUT!IA486","v":""},{"$f":"INPUT!IB486","v":""},{"$f":"INPUT!IC486","v":""},{"$f":"INPUT!ID486","v":""},{"$f":"INPUT!IE486","v":""},{"$f":"INPUT!IF486","v":""},{"$f":"INPUT!IG486","v":""},{"$f":"INPUT!IH486","v":""},null,{"$f":"INPUT!IZ486","v":""},{"$f":"INPUT!JA486","v":""},{"$f":"INPUT!JB486","v":""},{"$f":"INPUT!JC486","v":""},{"$f":"INPUT!JD486","v":""},{"$f":"INPUT!JE486","v":""},{"$f":"INPUT!JF486","v":""},"",null,{"$f":"INPUT!JX486","v":""},{"$f":"INPUT!JY486","v":""},{"$f":"INPUT!JZ486","v":""},{"$f":"INPUT!KA486","v":""},{"$f":"INPUT!KB486","v":""},{"$f":"INPUT!KC486","v":""},{"$f":"INPUT!KD486","v":""},"",null,{"$f":"INPUT!KZ486","v":""},{"$f":"INPUT!LA486","v":""},{"$f":"INPUT!LB486","v":""},{"$f":"INPUT!LC486","v":""},{"$f":"INPUT!LD486","v":""},{"$f":"INPUT!LE486","v":""},{"$f":"INPUT!LF486","v":""},{"$f":"INPUT!LG486","v":""},{"$f":"INPUT!LH486","v":""},null,{"$f":"INPUT!MB486","v":""},{"$f":"INPUT!MC486","v":""},{"$f":"INPUT!MD486","v":""},{"$f":"INPUT!ME486","v":""},{"$f":"INPUT!MF486","v":""},{"$f":"INPUT!MG486","v":""},{"$f":"INPUT!MH486","v":""},{"$f":"INPUT!MI486","v":""}]
[null,{"$f":"INPUT!EA487","v":""},{"$f":"INPUT!EB487","v":""},{"$f":"INPUT!EC487","v":""},{"$f":"INPUT!ED487","v":""},{"$f":"INPUT!EE487","v":""},{"$f":"INPUT!EF487","v":""},{"$f":"INPUT!EG487","v":""},"",null,{"$f":"INPUT!EY487","v":""},{"$f":"INPUT!EZ487","v":""},{"$f":"INPUT!FA487","v":""},{"$f":"INPUT!FB487","v":""},{"$f":"INPUT!FC487","v":""},{"$f":"INPUT!FD487","v":""},{"$f":"INPUT!FE487","v":""},"",null,{"$f":"INPUT!FW487","v":""},{"$f":"INPUT!FX487","v":""},{"$f":"INPUT!FY487","v":""},{"$f":"INPUT!FZ487","v":""},{"$f":"INPUT!GA487","v":""},{"$f":"INPUT!GB487","v":""},{"$f":"INPUT!GC487","v":""},null,{"$f":"INPUT!GY487","v":""},{"$f":"INPUT!GZ487","v":""},{"$f":"INPUT!HA487","v":""},{"$f":"INPUT!HB487","v":""},{"$f":"INPUT!HC487","v":""},{"$f":"INPUT!HD487","v":""},{"$f":"INPUT!HE487","v":""},{"$f":"INPUT!HF487","v":""},{"$f":"INPUT!HG487","v":""},null,{"$f":"INPUT!IA487","v":""},{"$f":"INPUT!IB487","v":""},{"$f":"INPUT!IC487","v":""},{"$f":"INPUT!ID487","v":""},{"$f":"INPUT!IE487","v":""},{"$f":"INPUT!IF487","v":""},{"$f":"INPUT!IG487","v":""},{"$f":"INPUT!IH487","v":""},null,{"$f":"INPUT!IZ487","v":""},{"$f":"INPUT!JA487","v":""},{"$f":"INPUT!JB487","v":""},{"$f":"INPUT!JC487","v":""},{"$f":"INPUT!JD487","v":""},{"$f":"INPUT!JE487","v":""},{"$f":"INPUT!JF487","v":""},"",null,{"$f":"INPUT!JX487","v":""},{"$f":"INPUT!JY487","v":""},{"$f":"INPUT!JZ487","v":""},{"$f":"INPUT!KA487","v":""},{"$f":"INPUT!KB487","v":""},{"$f":"INPUT!KC487","v":""},{"$f":"INPUT!KD487","v":""},"",null,{"$f":"INPUT!KZ487","v":""},{"$f":"INPUT!LA487","v":""},{"$f":"INPUT!LB487","v":""},{"$f":"INPUT!LC487","v":""},{"$f":"INPUT!LD487","v":""},{"$f":"INPUT!LE487","v":""},{"$f":"INPUT!LF487","v":""},{"$f":"INPUT!LG487","v":""},{"$f":"INPUT!LH487","v":""},null,{"$f":"INPUT!MB487","v":""},{"$f":"INPUT!MC487","v":""},{"$f":"INPUT!MD487","v":""},{"$f":"INPUT!ME487","v":""},{"$f":"INPUT!MF487","v":""},{"$f":"INPUT!MG487","v":""},{"$f":"INPUT!MH487","v":""},{"$f":"INPUT!MI487","v":""}]
[null,{"$f":"INPUT!EA488","v":""},{"$f":"INPUT!EB488","v":""},{"$f":"INPUT!EC488","v":""},{"$f":"INPUT!ED488","v":""},{"$f":"INPUT!EE488","v":""},{"$f":"INPUT!EF488","v":""},{"$f":"INPUT!EG488","v":""},"",null,{"$f":"INPUT!EY488","v":""},{"$f":"INPUT!EZ488","v":""},{"$f":"INPUT!FA488","v":""},{"$f":"INPUT!FB488","v":""},{"$f":"INPUT!FC488","v":""},{"$f":"INPUT!FD488","v":""},{"$f":"INPUT!FE488","v":""},"",null,{"$f":"INPUT!FW488","v":""},{"$f":"INPUT!FX488","v":""},{"$f":"INPUT!FY488","v":""},{"$f":"INPUT!FZ488","v":""},{"$f":"INPUT!GA488","v":""},{"$f":"INPUT!GB488","v":""},{"$f":"INPUT!GC488","v":""},null,{"$f":"INPUT!GY488","v":""},{"$f":"INPUT!GZ488","v":""},{"$f":"INPUT!HA488","v":""},{"$f":"INPUT!HB488","v":""},{"$f":"INPUT!HC488","v":""},{"$f":"INPUT!HD488","v":""},{"$f":"INPUT!HE488","v":""},{"$f":"INPUT!HF488","v":""},{"$f":"INPUT!HG488","v":""},null,{"$f":"INPUT!IA488","v":""},{"$f":"INPUT!IB488","v":""},{"$f":"INPUT!IC488","v":""},{"$f":"INPUT!ID488","v":""},{"$f":"INPUT!IE488","v":""},{"$f":"INPUT!IF488","v":""},{"$f":"INPUT!IG488","v":""},{"$f":"INPUT!IH488","v":""},null,{"$f":"INPUT!IZ488","v":""},{"$f":"INPUT!JA488","v":""},{"$f":"INPUT!JB488","v":""},{"$f":"INPUT!JC488","v":""},{"$f":"INPUT!JD488","v":""},{"$f":"INPUT!JE488","v":""},{"$f":"INPUT!JF488","v":""},"",null,{"$f":"INPUT!JX488","v":""},{"$f":"INPUT!JY488","v":""},{"$f":"INPUT!JZ488","v":""},{"$f":"INPUT!KA488","v":""},{"$f":"INPUT!KB488","v":""},{"$f":"INPUT!KC488","v":""},{"$f":"INPUT!KD488","v":""},"",null,{"$f":"INPUT!KZ488","v":""},{"$f":"INPUT!LA488","v":""},{"$f":"INPUT!LB488","v":""},{"$f":"INPUT!LC488","v":""},{"$f":"INPUT!LD488","v":""},{"$f":"INPUT!LE488","v":""},{"$f":"INPUT!LF488","v":""},{"$f":"INPUT!LG488","v":""},{"$f":"INPUT!LH488","v":""},null,{"$f":"INPUT!MB488","v":""},{"$f":"INPUT!MC488","v":""},{"$f":"INPUT!MD488","v":""},{"$f":"INPUT!ME488","v":""},{"$f":"INPUT!MF488","v":""},{"$f":"INPUT!MG488","v":""},{"$f":"INPUT!MH488","v":""},{"$f":"INPUT!MI488","v":""}]
[null,{"$f":"INPUT!EA489","v":""},{"$f":"INPUT!EB489","v":""},{"$f":"INPUT!EC489","v":""},{"$f":"INPUT!ED489","v":""},{"$f":"INPUT!EE489","v":""},{"$f":"INPUT!EF489","v":""},{"$f":"INPUT!EG489","v":""},"",null,{"$f":"INPUT!EY489","v":""},{"$f":"INPUT!EZ489","v":""},{"$f":"INPUT!FA489","v":""},{"$f":"INPUT!FB489","v":""},{"$f":"INPUT!FC489","v":""},{"$f":"INPUT!FD489","v":""},{"$f":"INPUT!FE489","v":""},"",null,{"$f":"INPUT!FW489","v":""},{"$f":"INPUT!FX489","v":""},{"$f":"INPUT!FY489","v":""},{"$f":"INPUT!FZ489","v":""},{"$f":"INPUT!GA489","v":""},{"$f":"INPUT!GB489","v":""},{"$f":"INPUT!GC489","v":""},null,{"$f":"INPUT!GY489","v":""},{"$f":"INPUT!GZ489","v":""},{"$f":"INPUT!HA489","v":""},{"$f":"INPUT!HB489","v":""},{"$f":"INPUT!HC489","v":""},{"$f":"INPUT!HD489","v":""},{"$f":"INPUT!HE489","v":""},{"$f":"INPUT!HF489","v":""},{"$f":"INPUT!HG489","v":""},null,{"$f":"INPUT!IA489","v":""},{"$f":"INPUT!IB489","v":""},{"$f":"INPUT!IC489","v":""},{"$f":"INPUT!ID489","v":""},{"$f":"INPUT!IE489","v":""},{"$f":"INPUT!IF489","v":""},{"$f":"INPUT!IG489","v":""},{"$f":"INPUT!IH489","v":""},null,{"$f":"INPUT!IZ489","v":""},{"$f":"INPUT!JA489","v":""},{"$f":"INPUT!JB489","v":""},{"$f":"INPUT!JC489","v":""},{"$f":"INPUT!JD489","v":""},{"$f":"INPUT!JE489","v":""},{"$f":"INPUT!JF489","v":""},"",null,{"$f":"INPUT!JX489","v":""},{"$f":"INPUT!JY489","v":""},{"$f":"INPUT!JZ489","v":""},{"$f":"INPUT!KA489","v":""},{"$f":"INPUT!KB489","v":""},{"$f":"INPUT!KC489","v":""},{"$f":"INPUT!KD489","v":""},"",null,{"$f":"INPUT!KZ489","v":""},{"$f":"INPUT!LA489","v":""},{"$f":"INPUT!LB489","v":""},{"$f":"INPUT!LC489","v":""},{"$f":"INPUT!LD489","v":""},{"$f":"INPUT!LE489","v":""},{"$f":"INPUT!LF489","v":""},{"$f":"INPUT!LG489","v":""},{"$f":"INPUT!LH489","v":""},null,{"$f":"INPUT!MB489","v":""},{"$f":"INPUT!MC489","v":""},{"$f":"INPUT!MD489","v":""},{"$f":"INPUT!ME489","v":""},{"$f":"INPUT!MF489","v":""},{"$f":"INPUT!MG489","v":""},{"$f":"INPUT!MH489","v":""},{"$f":"INPUT!MI489","v":""}]
[null,{"$f":"INPUT!EA490","v":""},{"$f":"INPUT!EB490","v":""},{"$f":"INPUT!EC490","v":""},{"$f":"INPUT!ED490","v":""},{"$f":"INPUT!EE490","v":""},{"$f":"INPUT!EF490","v":""},{"$f":"INPUT!EG490","v":""},"",null,{"$f":"INPUT!EY490","v":""},{"$f":"INPUT!EZ490","v":""},{"$f":"INPUT!FA490","v":""},{"$f":"INPUT!FB490","v":""},{"$f":"INPUT!FC490","v":""},{"$f":"INPUT!FD490","v":""},{"$f":"INPUT!FE490","v":""},"",null,{"$f":"INPUT!FW490","v":""},{"$f":"INPUT!FX490","v":""},{"$f":"INPUT!FY490","v":""},{"$f":"INPUT!FZ490","v":""},{"$f":"INPUT!GA490","v":""},{"$f":"INPUT!GB490","v":""},{"$f":"INPUT!GC490","v":""},null,{"$f":"INPUT!GY490","v":""},{"$f":"INPUT!GZ490","v":""},{"$f":"INPUT!HA490","v":""},{"$f":"INPUT!HB490","v":""},{"$f":"INPUT!HC490","v":""},{"$f":"INPUT!HD490","v":""},{"$f":"INPUT!HE490","v":""},{"$f":"INPUT!HF490","v":""},{"$f":"INPUT!HG490","v":""},null,{"$f":"INPUT!IA490","v":""},{"$f":"INPUT!IB490","v":""},{"$f":"INPUT!IC490","v":""},{"$f":"INPUT!ID490","v":""},{"$f":"INPUT!IE490","v":""},{"$f":"INPUT!IF490","v":""},{"$f":"INPUT!IG490","v":""},{"$f":"INPUT!IH490","v":""},null,{"$f":"INPUT!IZ490","v":""},{"$f":"INPUT!JA490","v":""},{"$f":"INPUT!JB490","v":""},{"$f":"INPUT!JC490","v":""},{"$f":"INPUT!JD490","v":""},{"$f":"INPUT!JE490","v":""},{"$f":"INPUT!JF490","v":""},"",null,{"$f":"INPUT!JX490","v":""},{"$f":"INPUT!JY490","v":""},{"$f":"INPUT!JZ490","v":""},{"$f":"INPUT!KA490","v":""},{"$f":"INPUT!KB490","v":""},{"$f":"INPUT!KC490","v":""},{"$f":"INPUT!KD490","v":""},"",null,{"$f":"INPUT!KZ490","v":""},{"$f":"INPUT!LA490","v":""},{"$f":"INPUT!LB490","v":""},{"$f":"INPUT!LC490","v":""},{"$f":"INPUT!LD490","v":""},{"$f":"INPUT!LE490","v":""},{"$f":"INPUT!LF490","v":""},{"$f":"INPUT!LG490","v":""},{"$f":"INPUT!LH490","v":""},null,{"$f":"INPUT!MB490","v":""},{"$f":"INPUT!MC490","v":""},{"$f":"INPUT!MD490","v":""},{"$f":"INPUT!ME490","v":""},{"$f":"INPUT!MF490","v":""},{"$f":"INPUT!MG490","v":""},{"$f":"INPUT!MH490","v":""},{"$f":"INPUT!MI490","v":""}]
[null,{"$f":"INPUT!EA491","v":""},{"$f":"INPUT!EB491","v":""},{"$f":"INPUT!EC491","v":""},{"$f":"INPUT!ED491","v":""},{"$f":"INPUT!EE491","v":""},{"$f":"INPUT!EF491","v":""},{"$f":"INPUT!EG491","v":""},"",null,{"$f":"INPUT!EY491","v":""},{"$f":"INPUT!EZ491","v":""},{"$f":"INPUT!FA491","v":""},{"$f":"INPUT!FB491","v":""},{"$f":"INPUT!FC491","v":""},{"$f":"INPUT!FD491","v":""},{"$f":"INPUT!FE491","v":""},"",null,{"$f":"INPUT!FW491","v":""},{"$f":"INPUT!FX491","v":""},{"$f":"INPUT!FY491","v":""},{"$f":"INPUT!FZ491","v":""},{"$f":"INPUT!GA491","v":""},{"$f":"INPUT!GB491","v":""},{"$f":"INPUT!GC491","v":""},null,{"$f":"INPUT!GY491","v":""},{"$f":"INPUT!GZ491","v":""},{"$f":"INPUT!HA491","v":""},{"$f":"INPUT!HB491","v":""},{"$f":"INPUT!HC491","v":""},{"$f":"INPUT!HD491","v":""},{"$f":"INPUT!HE491","v":""},{"$f":"INPUT!HF491","v":""},{"$f":"INPUT!HG491","v":""},null,{"$f":"INPUT!IA491","v":""},{"$f":"INPUT!IB491","v":""},{"$f":"INPUT!IC491","v":""},{"$f":"INPUT!ID491","v":""},{"$f":"INPUT!IE491","v":""},{"$f":"INPUT!IF491","v":""},{"$f":"INPUT!IG491","v":""},{"$f":"INPUT!IH491","v":""},null,{"$f":"INPUT!IZ491","v":""},{"$f":"INPUT!JA491","v":""},{"$f":"INPUT!JB491","v":""},{"$f":"INPUT!JC491","v":""},{"$f":"INPUT!JD491","v":""},{"$f":"INPUT!JE491","v":""},{"$f":"INPUT!JF491","v":""},"",null,{"$f":"INPUT!JX491","v":""},{"$f":"INPUT!JY491","v":""},{"$f":"INPUT!JZ491","v":""},{"$f":"INPUT!KA491","v":""},{"$f":"INPUT!KB491","v":""},{"$f":"INPUT!KC491","v":""},{"$f":"INPUT!KD491","v":""},"",null,{"$f":"INPUT!KZ491","v":""},{"$f":"INPUT!LA491","v":""},{"$f":"INPUT!LB491","v":""},{"$f":"INPUT!LC491","v":""},{"$f":"INPUT!LD491","v":""},{"$f":"INPUT!LE491","v":""},{"$f":"INPUT!LF491","v":""},{"$f":"INPUT!LG491","v":""},{"$f":"INPUT!LH491","v":""},null,{"$f":"INPUT!MB491","v":""},{"$f":"INPUT!MC491","v":""},{"$f":"INPUT!MD491","v":""},{"$f":"INPUT!ME491","v":""},{"$f":"INPUT!MF491","v":""},{"$f":"INPUT!MG491","v":""},{"$f":"INPUT!MH491","v":""},{"$f":"INPUT!MI491","v":""}]
[null,{"$f":"INPUT!EA492","v":""},{"$f":"INPUT!EB492","v":""},{"$f":"INPUT!EC492","v":""},{"$f":"INPUT!ED492","v":""},{"$f":"INPUT!EE492","v":""},{"$f":"INPUT!EF492","v":""},{"$f":"INPUT!EG492","v":""},"",null,{"$f":"INPUT!EY492","v":""},{"$f":"INPUT!EZ492","v":""},{"$f":"INPUT!FA492","v":""},{"$f":"INPUT!FB492","v":""},{"$f":"INPUT!FC492","v":""},{"$f":"INPUT!FD492","v":""},{"$f":"INPUT!FE492","v":""},"",null,{"$f":"INPUT!FW492","v":""},{"$f":"INPUT!FX492","v":""},{"$f":"INPUT!FY492","v":""},{"$f":"INPUT!FZ492","v":""},{"$f":"INPUT!GA492","v":""},{"$f":"INPUT!GB492","v":""},{"$f":"INPUT!GC492","v":""},null,{"$f":"INPUT!GY492","v":""},{"$f":"INPUT!GZ492","v":""},{"$f":"INPUT!HA492","v":""},{"$f":"INPUT!HB492","v":""},{"$f":"INPUT!HC492","v":""},{"$f":"INPUT!HD492","v":""},{"$f":"INPUT!HE492","v":""},{"$f":"INPUT!HF492","v":""},{"$f":"INPUT!HG492","v":""},null,{"$f":"INPUT!IA492","v":""},{"$f":"INPUT!IB492","v":""},{"$f":"INPUT!IC492","v":""},{"$f":"INPUT!ID492","v":""},{"$f":"INPUT!IE492","v":""},{"$f":"INPUT!IF492","v":""},{"$f":"INPUT!IG492","v":""},{"$f":"INPUT!IH492","v":""},null,{"$f":"INPUT!IZ492","v":""},{"$f":"INPUT!JA492","v":""},{"$f":"INPUT!JB492","v":""},{"$f":"INPUT!JC492","v":""},{"$f":"INPUT!JD492","v":""},{"$f":"INPUT!JE492","v":""},{"$f":"INPUT!JF492","v":""},"",null,{"$f":"INPUT!JX492","v":""},{"$f":"INPUT!JY492","v":""},{"$f":"INPUT!JZ492","v":""},{"$f":"INPUT!KA492","v":""},{"$f":"INPUT!KB492","v":""},{"$f":"INPUT!KC492","v":""},{"$f":"INPUT!KD492","v":""},"",null,{"$f":"INPUT!KZ492","v":""},{"$f":"INPUT!LA492","v":""},{"$f":"INPUT!LB492","v":""},{"$f":"INPUT!LC492","v":""},{"$f":"INPUT!LD492","v":""},{"$f":"INPUT!LE492","v":""},{"$f":"INPUT!LF492","v":""},{"$f":"INPUT!LG492","v":""},{"$f":"INPUT!LH492","v":""},null,{"$f":"INPUT!MB492","v":""},{"$f":"INPUT!MC492","v":""},{"$f":"INPUT!MD492","v":""},{"$f":"INPUT!ME492","v":""},{"$f":"INPUT!MF492","v":""},{"$f":"INPUT!MG492","v":""},{"$f":"INPUT!MH492","v":""},{"$f":"INPUT!MI492","v":""}]
[null,{"$f":"INPUT!EA493","v":""},{"$f":"INPUT!EB493","v":""},{"$f":"INPUT!EC493","v":""},{"$f":"INPUT!ED493","v":""},{"$f":"INPUT!EE493","v":""},{"$f":"INPUT!EF493","v":""},{"$f":"INPUT!EG493","v":""},"",null,{"$f":"INPUT!EY493","v":""},{"$f":"INPUT!EZ493","v":""},{"$f":"INPUT!FA493","v":""},{"$f":"INPUT!FB493","v":""},{"$f":"INPUT!FC493","v":""},{"$f":"INPUT!FD493","v":""},{"$f":"INPUT!FE493","v":""},"",null,{"$f":"INPUT!FW493","v":""},{"$f":"INPUT!FX493","v":""},{"$f":"INPUT!FY493","v":""},{"$f":"INPUT!FZ493","v":""},{"$f":"INPUT!GA493","v":""},{"$f":"INPUT!GB493","v":""},{"$f":"INPUT!GC493","v":""},null,{"$f":"INPUT!GY493","v":""},{"$f":"INPUT!GZ493","v":""},{"$f":"INPUT!HA493","v":""},{"$f":"INPUT!HB493","v":""},{"$f":"INPUT!HC493","v":""},{"$f":"INPUT!HD493","v":""},{"$f":"INPUT!HE493","v":""},{"$f":"INPUT!HF493","v":""},{"$f":"INPUT!HG493","v":""},null,{"$f":"INPUT!IA493","v":""},{"$f":"INPUT!IB493","v":""},{"$f":"INPUT!IC493","v":""},{"$f":"INPUT!ID493","v":""},{"$f":"INPUT!IE493","v":""},{"$f":"INPUT!IF493","v":""},{"$f":"INPUT!IG493","v":""},{"$f":"INPUT!IH493","v":""},null,{"$f":"INPUT!IZ493","v":""},{"$f":"INPUT!JA493","v":""},{"$f":"INPUT!JB493","v":""},{"$f":"INPUT!JC493","v":""},{"$f":"INPUT!JD493","v":""},{"$f":"INPUT!JE493","v":""},{"$f":"INPUT!JF493","v":""},"",null,{"$f":"INPUT!JX493","v":""},{"$f":"INPUT!JY493","v":""},{"$f":"INPUT!JZ493","v":""},{"$f":"INPUT!KA493","v":""},{"$f":"INPUT!KB493","v":""},{"$f":"INPUT!KC493","v":""},{"$f":"INPUT!KD493","v":""},"",null,{"$f":"INPUT!KZ493","v":""},{"$f":"INPUT!LA493","v":""},{"$f":"INPUT!LB493","v":""},{"$f":"INPUT!LC493","v":""},{"$f":"INPUT!LD493","v":""},{"$f":"INPUT!LE493","v":""},{"$f":"INPUT!LF493","v":""},{"$f":"INPUT!LG493","v":""},{"$f":"INPUT!LH493","v":""},null,{"$f":"INPUT!MB493","v":""},{"$f":"INPUT!MC493","v":""},{"$f":"INPUT!MD493","v":""},{"$f":"INPUT!ME493","v":""},{"$f":"INPUT!MF493","v":""},{"$f":"INPUT!MG493","v":""},{"$f":"INPUT!MH493","v":""},{"$f":"INPUT!MI493","v":""}]
[null,{"$f":"INPUT!EA494","v":""},{"$f":"INPUT!EB494","v":""},{"$f":"INPUT!EC494","v":""},{"$f":"INPUT!ED494","v":""},{"$f":"INPUT!EE494","v":""},{"$f":"INPUT!EF494","v":""},{"$f":"INPUT!EG494","v":""},"",null,{"$f":"INPUT!EY494","v":""},{"$f":"INPUT!EZ494","v":""},{"$f":"INPUT!FA494","v":""},{"$f":"INPUT!FB494","v":""},{"$f":"INPUT!FC494","v":""},{"$f":"INPUT!FD494","v":""},{"$f":"INPUT!FE494","v":""},"",null,{"$f":"INPUT!FW494","v":""},{"$f":"INPUT!FX494","v":""},{"$f":"INPUT!FY494","v":""},{"$f":"INPUT!FZ494","v":""},{"$f":"INPUT!GA494","v":""},{"$f":"INPUT!GB494","v":""},{"$f":"INPUT!GC494","v":""},null,{"$f":"INPUT!GY494","v":""},{"$f":"INPUT!GZ494","v":""},{"$f":"INPUT!HA494","v":""},{"$f":"INPUT!HB494","v":""},{"$f":"INPUT!HC494","v":""},{"$f":"INPUT!HD494","v":""},{"$f":"INPUT!HE494","v":""},{"$f":"INPUT!HF494","v":""},{"$f":"INPUT!HG494","v":""},null,{"$f":"INPUT!IA494","v":""},{"$f":"INPUT!IB494","v":""},{"$f":"INPUT!IC494","v":""},{"$f":"INPUT!ID494","v":""},{"$f":"INPUT!IE494","v":""},{"$f":"INPUT!IF494","v":""},{"$f":"INPUT!IG494","v":""},{"$f":"INPUT!IH494","v":""},null,{"$f":"INPUT!IZ494","v":""},{"$f":"INPUT!JA494","v":""},{"$f":"INPUT!JB494","v":""},{"$f":"INPUT!JC494","v":""},{"$f":"INPUT!JD494","v":""},{"$f":"INPUT!JE494","v":""},{"$f":"INPUT!JF494","v":""},"",null,{"$f":"INPUT!JX494","v":""},{"$f":"INPUT!JY494","v":""},{"$f":"INPUT!JZ494","v":""},{"$f":"INPUT!KA494","v":""},{"$f":"INPUT!KB494","v":""},{"$f":"INPUT!KC494","v":""},{"$f":"INPUT!KD494","v":""},"",null,{"$f":"INPUT!KZ494","v":""},{"$f":"INPUT!LA494","v":""},{"$f":"INPUT!LB494","v":""},{"$f":"INPUT!LC494","v":""},{"$f":"INPUT!LD494","v":""},{"$f":"INPUT!LE494","v":""},{"$f":"INPUT!LF494","v":""},{"$f":"INPUT!LG494","v":""},{"$f":"INPUT!LH494","v":""},null,{"$f":"INPUT!MB494","v":""},{"$f":"INPUT!MC494","v":""},{"$f":"INPUT!MD494","v":""},{"$f":"INPUT!ME494","v":""},{"$f":"INPUT!MF494","v":""},{"$f":"INPUT!MG494","v":""},{"$f":"INPUT!MH494","v":""},{"$f":"INPUT!MI494","v":""}]
[null,{"$f":"INPUT!EA495","v":""},{"$f":"INPUT!EB495","v":""},{"$f":"INPUT!EC495","v":""},{"$f":"INPUT!ED495","v":""},{"$f":"INPUT!EE495","v":""},{"$f":"INPUT!EF495","v":""},{"$f":"INPUT!EG495","v":""},"",null,{"$f":"INPUT!EY495","v":""},{"$f":"INPUT!EZ495","v":""},{"$f":"INPUT!FA495","v":""},{"$f":"INPUT!FB495","v":""},{"$f":"INPUT!FC495","v":""},{"$f":"INPUT!FD495","v":""},{"$f":"INPUT!FE495","v":""},"",null,{"$f":"INPUT!FW495","v":""},{"$f":"INPUT!FX495","v":""},{"$f":"INPUT!FY495","v":""},{"$f":"INPUT!FZ495","v":""},{"$f":"INPUT!GA495","v":""},{"$f":"INPUT!GB495","v":""},{"$f":"INPUT!GC495","v":""},null,{"$f":"INPUT!GY495","v":""},{"$f":"INPUT!GZ495","v":""},{"$f":"INPUT!HA495","v":""},{"$f":"INPUT!HB495","v":""},{"$f":"INPUT!HC495","v":""},{"$f":"INPUT!HD495","v":""},{"$f":"INPUT!HE495","v":""},{"$f":"INPUT!HF495","v":""},{"$f":"INPUT!HG495","v":""},null,{"$f":"INPUT!IA495","v":""},{"$f":"INPUT!IB495","v":""},{"$f":"INPUT!IC495","v":""},{"$f":"INPUT!ID495","v":""},{"$f":"INPUT!IE495","v":""},{"$f":"INPUT!IF495","v":""},{"$f":"INPUT!IG495","v":""},{"$f":"INPUT!IH495","v":""},null,{"$f":"INPUT!IZ495","v":""},{"$f":"INPUT!JA495","v":""},{"$f":"INPUT!JB495","v":""},{"$f":"INPUT!JC495","v":""},{"$f":"INPUT!JD495","v":""},{"$f":"INPUT!JE495","v":""},{"$f":"INPUT!JF495","v":""},"",null,{"$f":"INPUT!JX495","v":""},{"$f":"INPUT!JY495","v":""},{"$f":"INPUT!JZ495","v":""},{"$f":"INPUT!KA495","v":""},{"$f":"INPUT!KB495","v":""},{"$f":"INPUT!KC495","v":""},{"$f":"INPUT!KD495","v":""},"",null,{"$f":"INPUT!KZ495","v":""},{"$f":"INPUT!LA495","v":""},{"$f":"INPUT!LB495","v":""},{"$f":"INPUT!LC495","v":""},{"$f":"INPUT!LD495","v":""},{"$f":"INPUT!LE495","v":""},{"$f":"INPUT!LF495","v":""},{"$f":"INPUT!LG495","v":""},{"$f":"INPUT!LH495","v":""},null,{"$f":"INPUT!MB495","v":""},{"$f":"INPUT!MC495","v":""},{"$f":"INPUT!MD495","v":""},{"$f":"INPUT!ME495","v":""},{"$f":"INPUT!MF495","v":""},{"$f":"INPUT!MG495","v":""},{"$f":"INPUT!MH495","v":""},{"$f":"INPUT!MI495","v":""}]
[null,{"$f":"INPUT!EA496","v":""},{"$f":"INPUT!EB496","v":""},{"$f":"INPUT!EC496","v":""},{"$f":"INPUT!ED496","v":""},{"$f":"INPUT!EE496","v":""},{"$f":"INPUT!EF496","v":""},{"$f":"INPUT!EG496","v":""},"",null,{"$f":"INPUT!EY496","v":""},{"$f":"INPUT!EZ496","v":""},{"$f":"INPUT!FA496","v":""},{"$f":"INPUT!FB496","v":""},{"$f":"INPUT!FC496","v":""},{"$f":"INPUT!FD496","v":""},{"$f":"INPUT!FE496","v":""},"",null,{"$f":"INPUT!FW496","v":""},{"$f":"INPUT!FX496","v":""},{"$f":"INPUT!FY496","v":""},{"$f":"INPUT!FZ496","v":""},{"$f":"INPUT!GA496","v":""},{"$f":"INPUT!GB496","v":""},{"$f":"INPUT!GC496","v":""},null,{"$f":"INPUT!GY496","v":""},{"$f":"INPUT!GZ496","v":""},{"$f":"INPUT!HA496","v":""},{"$f":"INPUT!HB496","v":""},{"$f":"INPUT!HC496","v":""},{"$f":"INPUT!HD496","v":""},{"$f":"INPUT!HE496","v":""},{"$f":"INPUT!HF496","v":""},{"$f":"INPUT!HG496","v":""},null,{"$f":"INPUT!IA496","v":""},{"$f":"INPUT!IB496","v":""},{"$f":"INPUT!IC496","v":""},{"$f":"INPUT!ID496","v":""},{"$f":"INPUT!IE496","v":""},{"$f":"INPUT!IF496","v":""},{"$f":"INPUT!IG496","v":""},{"$f":"INPUT!IH496","v":""},null,{"$f":"INPUT!IZ496","v":""},{"$f":"INPUT!JA496","v":""},{"$f":"INPUT!JB496","v":""},{"$f":"INPUT!JC496","v":""},{"$f":"INPUT!JD496","v":""},{"$f":"INPUT!JE496","v":""},{"$f":"INPUT!JF496","v":""},"",null,{"$f":"INPUT!JX496","v":""},{"$f":"INPUT!JY496","v":""},{"$f":"INPUT!JZ496","v":""},{"$f":"INPUT!KA496","v":""},{"$f":"INPUT!KB496","v":""},{"$f":"INPUT!KC496","v":""},{"$f":"INPUT!KD496","v":""},"",null,{"$f":"INPUT!KZ496","v":""},{"$f":"INPUT!LA496","v":""},{"$f":"INPUT!LB496","v":""},{"$f":"INPUT!LC496","v":""},{"$f":"INPUT!LD496","v":""},{"$f":"INPUT!LE496","v":""},{"$f":"INPUT!LF496","v":""},{"$f":"INPUT!LG496","v":""},{"$f":"INPUT!LH496","v":""},null,{"$f":"INPUT!MB496","v":""},{"$f":"INPUT!MC496","v":""},{"$f":"INPUT!MD496","v":""},{"$f":"INPUT!ME496","v":""},{"$f":"INPUT!MF496","v":""},{"$f":"INPUT!MG496","v":""},{"$f":"INPUT!MH496","v":""},{"$f":"INPUT!MI496","v":""}]
[null,{"$f":"INPUT!EA497","v":""},{"$f":"INPUT!EB497","v":""},{"$f":"INPUT!EC497","v":""},{"$f":"INPUT!ED497","v":""},{"$f":"INPUT!EE497","v":""},{"$f":"INPUT!EF497","v":""},{"$f":"INPUT!EG497","v":""},"",null,{"$f":"INPUT!EY497","v":""},{"$f":"INPUT!EZ497","v":""},{"$f":"INPUT!FA497","v":""},{"$f":"INPUT!FB497","v":""},{"$f":"INPUT!FC497","v":""},{"$f":"INPUT!FD497","v":""},{"$f":"INPUT!FE497","v":""},"",null,{"$f":"INPUT!FW497","v":""},{"$f":"INPUT!FX497","v":""},{"$f":"INPUT!FY497","v":""},{"$f":"INPUT!FZ497","v":""},{"$f":"INPUT!GA497","v":""},{"$f":"INPUT!GB497","v":""},{"$f":"INPUT!GC497","v":""},null,{"$f":"INPUT!GY497","v":""},{"$f":"INPUT!GZ497","v":""},{"$f":"INPUT!HA497","v":""},{"$f":"INPUT!HB497","v":""},{"$f":"INPUT!HC497","v":""},{"$f":"INPUT!HD497","v":""},{"$f":"INPUT!HE497","v":""},{"$f":"INPUT!HF497","v":""},{"$f":"INPUT!HG497","v":""},null,{"$f":"INPUT!IA497","v":""},{"$f":"INPUT!IB497","v":""},{"$f":"INPUT!IC497","v":""},{"$f":"INPUT!ID497","v":""},{"$f":"INPUT!IE497","v":""},{"$f":"INPUT!IF497","v":""},{"$f":"INPUT!IG497","v":""},{"$f":"INPUT!IH497","v":""},null,{"$f":"INPUT!IZ497","v":""},{"$f":"INPUT!JA497","v":""},{"$f":"INPUT!JB497","v":""},{"$f":"INPUT!JC497","v":""},{"$f":"INPUT!JD497","v":""},{"$f":"INPUT!JE497","v":""},{"$f":"INPUT!JF497","v":""},"",null,{"$f":"INPUT!JX497","v":""},{"$f":"INPUT!JY497","v":""},{"$f":"INPUT!JZ497","v":""},{"$f":"INPUT!KA497","v":""},{"$f":"INPUT!KB497","v":""},{"$f":"INPUT!KC497","v":""},{"$f":"INPUT!KD497","v":""},"",null,{"$f":"INPUT!KZ497","v":""},{"$f":"INPUT!LA497","v":""},{"$f":"INPUT!LB497","v":""},{"$f":"INPUT!LC497","v":""},{"$f":"INPUT!LD497","v":""},{"$f":"INPUT!LE497","v":""},{"$f":"INPUT!LF497","v":""},{"$f":"INPUT!LG497","v":""},{"$f":"INPUT!LH497","v":""},null,{"$f":"INPUT!MB497","v":""},{"$f":"INPUT!MC497","v":""},{"$f":"INPUT!MD497","v":""},{"$f":"INPUT!ME497","v":""},{"$f":"INPUT!MF497","v":""},{"$f":"INPUT!MG497","v":""},{"$f":"INPUT!MH497","v":""},{"$f":"INPUT!MI497","v":""}]
[null,{"$f":"INPUT!EA498","v":""},{"$f":"INPUT!EB498","v":""},{"$f":"INPUT!EC498","v":""},{"$f":"INPUT!ED498","v":""},{"$f":"INPUT!EE498","v":""},{"$f":"INPUT!EF498","v":""},{"$f":"INPUT!EG498","v":""},"",null,{"$f":"INPUT!EY498","v":""},{"$f":"INPUT!EZ498","v":""},{"$f":"INPUT!FA498","v":""},{"$f":"INPUT!FB498","v":""},{"$f":"INPUT!FC498","v":""},{"$f":"INPUT!FD498","v":""},{"$f":"INPUT!FE498","v":""},"",null,{"$f":"INPUT!FW498","v":""},{"$f":"INPUT!FX498","v":""},{"$f":"INPUT!FY498","v":""},{"$f":"INPUT!FZ498","v":""},{"$f":"INPUT!GA498","v":""},{"$f":"INPUT!GB498","v":""},{"$f":"INPUT!GC498","v":""},null,{"$f":"INPUT!GY498","v":""},{"$f":"INPUT!GZ498","v":""},{"$f":"INPUT!HA498","v":""},{"$f":"INPUT!HB498","v":""},{"$f":"INPUT!HC498","v":""},{"$f":"INPUT!HD498","v":""},{"$f":"INPUT!HE498","v":""},{"$f":"INPUT!HF498","v":""},{"$f":"INPUT!HG498","v":""},null,{"$f":"INPUT!IA498","v":""},{"$f":"INPUT!IB498","v":""},{"$f":"INPUT!IC498","v":""},{"$f":"INPUT!ID498","v":""},{"$f":"INPUT!IE498","v":""},{"$f":"INPUT!IF498","v":""},{"$f":"INPUT!IG498","v":""},{"$f":"INPUT!IH498","v":""},null,{"$f":"INPUT!IZ498","v":""},{"$f":"INPUT!JA498","v":""},{"$f":"INPUT!JB498","v":""},{"$f":"INPUT!JC498","v":""},{"$f":"INPUT!JD498","v":""},{"$f":"INPUT!JE498","v":""},{"$f":"INPUT!JF498","v":""},"",null,{"$f":"INPUT!JX498","v":""},{"$f":"INPUT!JY498","v":""},{"$f":"INPUT!JZ498","v":""},{"$f":"INPUT!KA498","v":""},{"$f":"INPUT!KB498","v":""},{"$f":"INPUT!KC498","v":""},{"$f":"INPUT!KD498","v":""},"",null,{"$f":"INPUT!KZ498","v":""},{"$f":"INPUT!LA498","v":""},{"$f":"INPUT!LB498","v":""},{"$f":"INPUT!LC498","v":""},{"$f":"INPUT!LD498","v":""},{"$f":"INPUT!LE498","v":""},{"$f":"INPUT!LF498","v":""},{"$f":"INPUT!LG498","v":""},{"$f":"INPUT!LH498","v":""},null,{"$f":"INPUT!MB498","v":""},{"$f":"INPUT!MC498","v":""},{"$f":"INPUT!MD498","v":""},{"$f":"INPUT!ME498","v":""},{"$f":"INPUT!MF498","v":""},{"$f":"INPUT!MG498","v":""},{"$f":"INPUT!MH498","v":""},{"$f":"INPUT!MI498","v":""}]
[null,{"$f":"INPUT!EA499","v":""},{"$f":"INPUT!EB499","v":""},{"$f":"INPUT!EC499","v":""},{"$f":"INPUT!ED499","v":""},{"$f":"INPUT!EE499","v":""},{"$f":"INPUT!EF499","v":""},{"$f":"INPUT!EG499","v":""},"",null,{"$f":"INPUT!EY499","v":""},{"$f":"INPUT!EZ499","v":""},{"$f":"INPUT!FA499","v":""},{"$f":"INPUT!FB499","v":""},{"$f":"INPUT!FC499","v":""},{"$f":"INPUT!FD499","v":""},{"$f":"INPUT!FE499","v":""},"",null,{"$f":"INPUT!FW499","v":""},{"$f":"INPUT!FX499","v":""},{"$f":"INPUT!FY499","v":""},{"$f":"INPUT!FZ499","v":""},{"$f":"INPUT!GA499","v":""},{"$f":"INPUT!GB499","v":""},{"$f":"INPUT!GC499","v":""},null,{"$f":"INPUT!GY499","v":""},{"$f":"INPUT!GZ499","v":""},{"$f":"INPUT!HA499","v":""},{"$f":"INPUT!HB499","v":""},{"$f":"INPUT!HC499","v":""},{"$f":"INPUT!HD499","v":""},{"$f":"INPUT!HE499","v":""},{"$f":"INPUT!HF499","v":""},{"$f":"INPUT!HG499","v":""},null,{"$f":"INPUT!IA499","v":""},{"$f":"INPUT!IB499","v":""},{"$f":"INPUT!IC499","v":""},{"$f":"INPUT!ID499","v":""},{"$f":"INPUT!IE499","v":""},{"$f":"INPUT!IF499","v":""},{"$f":"INPUT!IG499","v":""},{"$f":"INPUT!IH499","v":""},null,{"$f":"INPUT!IZ499","v":""},{"$f":"INPUT!JA499","v":""},{"$f":"INPUT!JB499","v":""},{"$f":"INPUT!JC499","v":""},{"$f":"INPUT!JD499","v":""},{"$f":"INPUT!JE499","v":""},{"$f":"INPUT!JF499","v":""},"",null,{"$f":"INPUT!JX499","v":""},{"$f":"INPUT!JY499","v":""},{"$f":"INPUT!JZ499","v":""},{"$f":"INPUT!KA499","v":""},{"$f":"INPUT!KB499","v":""},{"$f":"INPUT!KC499","v":""},{"$f":"INPUT!KD499","v":""},"",null,{"$f":"INPUT!KZ499","v":""},{"$f":"INPUT!LA499","v":""},{"$f":"INPUT!LB499","v":""},{"$f":"INPUT!LC499","v":""},{"$f":"INPUT!LD499","v":""},{"$f":"INPUT!LE499","v":""},{"$f":"INPUT!LF499","v":""},{"$f":"INPUT!LG499","v":""},{"$f":"INPUT!LH499","v":""},null,{"$f":"INPUT!MB499","v":""},{"$f":"INPUT!MC499","v":""},{"$f":"INPUT!MD499","v":""},{"$f":"INPUT!ME499","v":""},{"$f":"INPUT!MF499","v":""},{"$f":"INPUT!MG499","v":""},{"$f":"INPUT!MH499","v":""},{"$f":"INPUT!MI499","v":""}]
[null,{"$f":"INPUT!EA500","v":""},{"$f":"INPUT!EB500","v":""},{"$f":"INPUT!EC500","v":""},{"$f":"INPUT!ED500","v":""},{"$f":"INPUT!EE500","v":""},{"$f":"INPUT!EF500","v":""},{"$f":"INPUT!EG500","v":""},"",null,{"$f":"INPUT!EY500","v":""},{"$f":"INPUT!EZ500","v":""},{"$f":"INPUT!FA500","v":""},{"$f":"INPUT!FB500","v":""},{"$f":"INPUT!FC500","v":""},{"$f":"INPUT!FD500","v":""},{"$f":"INPUT!FE500","v":""},"",null,{"$f":"INPUT!FW500","v":""},{"$f":"INPUT!FX500","v":""},{"$f":"INPUT!FY500","v":""},{"$f":"INPUT!FZ500","v":""},{"$f":"INPUT!GA500","v":""},{"$f":"INPUT!GB500","v":""},{"$f":"INPUT!GC500","v":""},null,{"$f":"INPUT!GY500","v":""},{"$f":"INPUT!GZ500","v":""},{"$f":"INPUT!HA500","v":""},{"$f":"INPUT!HB500","v":""},{"$f":"INPUT!HC500","v":""},{"$f":"INPUT!HD500","v":""},{"$f":"INPUT!HE500","v":""},{"$f":"INPUT!HF500","v":""},{"$f":"INPUT!HG500","v":""},null,{"$f":"INPUT!IA500","v":""},{"$f":"INPUT!IB500","v":""},{"$f":"INPUT!IC500","v":""},{"$f":"INPUT!ID500","v":""},{"$f":"INPUT!IE500","v":""},{"$f":"INPUT!IF500","v":""},{"$f":"INPUT!IG500","v":""},{"$f":"INPUT!IH500","v":""},null,{"$f":"INPUT!IZ500","v":""},{"$f":"INPUT!JA500","v":""},{"$f":"INPUT!JB500","v":""},{"$f":"INPUT!JC500","v":""},{"$f":"INPUT!JD500","v":""},{"$f":"INPUT!JE500","v":""},{"$f":"INPUT!JF500","v":""},"",null,{"$f":"INPUT!JX500","v":""},{"$f":"INPUT!JY500","v":""},{"$f":"INPUT!JZ500","v":""},{"$f":"INPUT!KA500","v":""},{"$f":"INPUT!KB500","v":""},{"$f":"INPUT!KC500","v":""},{"$f":"INPUT!KD500","v":""},"",null,{"$f":"INPUT!KZ500","v":""},{"$f":"INPUT!LA500","v":""},{"$f":"INPUT!LB500","v":""},{"$f":"INPUT!LC500","v":""},{"$f":"INPUT!LD500","v":""},{"$f":"INPUT!LE500","v":""},{"$f":"INPUT!LF500","v":""},{"$f":"INPUT!LG500","v":""},{"$f":"INPUT!LH500","v":""},null,{"$f":"INPUT!MB500","v":""},{"$f":"INPUT!MC500","v":""},{"$f":"INPUT!MD500","v":""},{"$f":"INPUT!ME500","v":""},{"$f":"INPUT!MF500","v":""},{"$f":"INPUT!MG500","v":""},{"$f":"INPUT!MH500","v":""},{"$f":"INPUT!MI500","v":""}]
[null,{"$f":"INPUT!EA501","v":""},{"$f":"INPUT!EB501","v":""},{"$f":"INPUT!EC501","v":""},{"$f":"INPUT!ED501","v":""},{"$f":"INPUT!EE501","v":""},{"$f":"INPUT!EF501","v":""},{"$f":"INPUT!EG501","v":""},"",null,{"$f":"INPUT!EY501","v":""},{"$f":"INPUT!EZ501","v":""},{"$f":"INPUT!FA501","v":""},{"$f":"INPUT!FB501","v":""},{"$f":"INPUT!FC501","v":""},{"$f":"INPUT!FD501","v":""},{"$f":"INPUT!FE501","v":""},"",null,{"$f":"INPUT!FW501","v":""},{"$f":"INPUT!FX501","v":""},{"$f":"INPUT!FY501","v":""},{"$f":"INPUT!FZ501","v":""},{"$f":"INPUT!GA501","v":""},{"$f":"INPUT!GB501","v":""},{"$f":"INPUT!GC501","v":""},null,{"$f":"INPUT!GY501","v":""},{"$f":"INPUT!GZ501","v":""},{"$f":"INPUT!HA501","v":""},{"$f":"INPUT!HB501","v":""},{"$f":"INPUT!HC501","v":""},{"$f":"INPUT!HD501","v":""},{"$f":"INPUT!HE501","v":""},{"$f":"INPUT!HF501","v":""},{"$f":"INPUT!HG501","v":""},null,{"$f":"INPUT!IA501","v":""},{"$f":"INPUT!IB501","v":""},{"$f":"INPUT!IC501","v":""},{"$f":"INPUT!ID501","v":""},{"$f":"INPUT!IE501","v":""},{"$f":"INPUT!IF501","v":""},{"$f":"INPUT!IG501","v":""},{"$f":"INPUT!IH501","v":""},null,{"$f":"INPUT!IZ501","v":""},{"$f":"INPUT!JA501","v":""},{"$f":"INPUT!JB501","v":""},{"$f":"INPUT!JC501","v":""},{"$f":"INPUT!JD501","v":""},{"$f":"INPUT!JE501","v":""},{"$f":"INPUT!JF501","v":""},"",null,{"$f":"INPUT!JX501","v":""},{"$f":"INPUT!JY501","v":""},{"$f":"INPUT!JZ501","v":""},{"$f":"INPUT!KA501","v":""},{"$f":"INPUT!KB501","v":""},{"$f":"INPUT!KC501","v":""},{"$f":"INPUT!KD501","v":""},"",null,{"$f":"INPUT!KZ501","v":""},{"$f":"INPUT!LA501","v":""},{"$f":"INPUT!LB501","v":""},{"$f":"INPUT!LC501","v":""},{"$f":"INPUT!LD501","v":""},{"$f":"INPUT!LE501","v":""},{"$f":"INPUT!LF501","v":""},{"$f":"INPUT!LG501","v":""},{"$f":"INPUT!LH501","v":""},null,{"$f":"INPUT!MB501","v":""},{"$f":"INPUT!MC501","v":""},{"$f":"INPUT!MD501","v":""},{"$f":"INPUT!ME501","v":""},{"$f":"INPUT!MF501","v":""},{"$f":"INPUT!MG501","v":""},{"$f":"INPUT!MH501","v":""},{"$f":"INPUT!MI501","v":""}]
[null,{"$f":"INPUT!EA502","v":""},{"$f":"INPUT!EB502","v":""},{"$f":"INPUT!EC502","v":""},{"$f":"INPUT!ED502","v":""},{"$f":"INPUT!EE502","v":""},{"$f":"INPUT!EF502","v":""},{"$f":"INPUT!EG502","v":""},"",null,{"$f":"INPUT!EY502","v":""},{"$f":"INPUT!EZ502","v":""},{"$f":"INPUT!FA502","v":""},{"$f":"INPUT!FB502","v":""},{"$f":"INPUT!FC502","v":""},{"$f":"INPUT!FD502","v":""},{"$f":"INPUT!FE502","v":""},"",null,{"$f":"INPUT!FW502","v":""},{"$f":"INPUT!FX502","v":""},{"$f":"INPUT!FY502","v":""},{"$f":"INPUT!FZ502","v":""},{"$f":"INPUT!GA502","v":""},{"$f":"INPUT!GB502","v":""},{"$f":"INPUT!GC502","v":""},null,{"$f":"INPUT!GY502","v":""},{"$f":"INPUT!GZ502","v":""},{"$f":"INPUT!HA502","v":""},{"$f":"INPUT!HB502","v":""},{"$f":"INPUT!HC502","v":""},{"$f":"INPUT!HD502","v":""},{"$f":"INPUT!HE502","v":""},{"$f":"INPUT!HF502","v":""},{"$f":"INPUT!HG502","v":""},null,{"$f":"INPUT!IA502","v":""},{"$f":"INPUT!IB502","v":""},{"$f":"INPUT!IC502","v":""},{"$f":"INPUT!ID502","v":""},{"$f":"INPUT!IE502","v":""},{"$f":"INPUT!IF502","v":""},{"$f":"INPUT!IG502","v":""},{"$f":"INPUT!IH502","v":""},null,{"$f":"INPUT!IZ502","v":""},{"$f":"INPUT!JA502","v":""},{"$f":"INPUT!JB502","v":""},{"$f":"INPUT!JC502","v":""},{"$f":"INPUT!JD502","v":""},{"$f":"INPUT!JE502","v":""},{"$f":"INPUT!JF502","v":""},"",null,{"$f":"INPUT!JX502","v":""},{"$f":"INPUT!JY502","v":""},{"$f":"INPUT!JZ502","v":""},{"$f":"INPUT!KA502","v":""},{"$f":"INPUT!KB502","v":""},{"$f":"INPUT!KC502","v":""},{"$f":"INPUT!KD502","v":""},"",null,{"$f":"INPUT!KZ502","v":""},{"$f":"INPUT!LA502","v":""},{"$f":"INPUT!LB502","v":""},{"$f":"INPUT!LC502","v":""},{"$f":"INPUT!LD502","v":""},{"$f":"INPUT!LE502","v":""},{"$f":"INPUT!LF502","v":""},{"$f":"INPUT!LG502","v":""},{"$f":"INPUT!LH502","v":""},null,{"$f":"INPUT!MB502","v":""},{"$f":"INPUT!MC502","v":""},{"$f":"INPUT!MD502","v":""},{"$f":"INPUT!ME502","v":""},{"$f":"INPUT!MF502","v":""},{"$f":"INPUT!MG502","v":""},{"$f":"INPUT!MH502","v":""},{"$f":"INPUT!MI502","v":""}]
[null,{"$f":"INPUT!EA503","v":""},{"$f":"INPUT!EB503","v":""},{"$f":"INPUT!EC503","v":""},{"$f":"INPUT!ED503","v":""},{"$f":"INPUT!EE503","v":""},{"$f":"INPUT!EF503","v":""},{"$f":"INPUT!EG503","v":""},"",null,{"$f":"INPUT!EY503","v":""},{"$f":"INPUT!EZ503","v":""},{"$f":"INPUT!FA503","v":""},{"$f":"INPUT!FB503","v":""},{"$f":"INPUT!FC503","v":""},{"$f":"INPUT!FD503","v":""},{"$f":"INPUT!FE503","v":""},"",null,{"$f":"INPUT!FW503","v":""},{"$f":"INPUT!FX503","v":""},{"$f":"INPUT!FY503","v":""},{"$f":"INPUT!FZ503","v":""},{"$f":"INPUT!GA503","v":""},{"$f":"INPUT!GB503","v":""},{"$f":"INPUT!GC503","v":""},null,{"$f":"INPUT!GY503","v":""},{"$f":"INPUT!GZ503","v":""},{"$f":"INPUT!HA503","v":""},{"$f":"INPUT!HB503","v":""},{"$f":"INPUT!HC503","v":""},{"$f":"INPUT!HD503","v":""},{"$f":"INPUT!HE503","v":""},{"$f":"INPUT!HF503","v":""},{"$f":"INPUT!HG503","v":""},null,{"$f":"INPUT!IA503","v":""},{"$f":"INPUT!IB503","v":""},{"$f":"INPUT!IC503","v":""},{"$f":"INPUT!ID503","v":""},{"$f":"INPUT!IE503","v":""},{"$f":"INPUT!IF503","v":""},{"$f":"INPUT!IG503","v":""},{"$f":"INPUT!IH503","v":""},null,{"$f":"INPUT!IZ503","v":""},{"$f":"INPUT!JA503","v":""},{"$f":"INPUT!JB503","v":""},{"$f":"INPUT!JC503","v":""},{"$f":"INPUT!JD503","v":""},{"$f":"INPUT!JE503","v":""},{"$f":"INPUT!JF503","v":""},"",null,{"$f":"INPUT!JX503","v":""},{"$f":"INPUT!JY503","v":""},{"$f":"INPUT!JZ503","v":""},{"$f":"INPUT!KA503","v":""},{"$f":"INPUT!KB503","v":""},{"$f":"INPUT!KC503","v":""},{"$f":"INPUT!KD503","v":""},"",null,{"$f":"INPUT!KZ503","v":""},{"$f":"INPUT!LA503","v":""},{"$f":"INPUT!LB503","v":""},{"$f":"INPUT!LC503","v":""},{"$f":"INPUT!LD503","v":""},{"$f":"INPUT!LE503","v":""},{"$f":"INPUT!LF503","v":""},{"$f":"INPUT!LG503","v":""},{"$f":"INPUT!LH503","v":""},null,{"$f":"INPUT!MB503","v":""},{"$f":"INPUT!MC503","v":""},{"$f":"INPUT!MD503","v":""},{"$f":"INPUT!ME503","v":""},{"$f":"INPUT!MF503","v":""},{"$f":"INPUT!MG503","v":""},{"$f":"INPUT!MH503","v":""},{"$f":"INPUT!MI503","v":""}]
[null,{"$f":"INPUT!EA504","v":""},{"$f":"INPUT!EB504","v":""},{"$f":"INPUT!EC504","v":""},{"$f":"INPUT!ED504","v":""},{"$f":"INPUT!EE504","v":""},{"$f":"INPUT!EF504","v":""},{"$f":"INPUT!EG504","v":""},"",null,{"$f":"INPUT!EY504","v":""},{"$f":"INPUT!EZ504","v":""},{"$f":"INPUT!FA504","v":""},{"$f":"INPUT!FB504","v":""},{"$f":"INPUT!FC504","v":""},{"$f":"INPUT!FD504","v":""},{"$f":"INPUT!FE504","v":""},"",null,{"$f":"INPUT!FW504","v":""},{"$f":"INPUT!FX504","v":""},{"$f":"INPUT!FY504","v":""},{"$f":"INPUT!FZ504","v":""},{"$f":"INPUT!GA504","v":""},{"$f":"INPUT!GB504","v":""},{"$f":"INPUT!GC504","v":""},null,{"$f":"INPUT!GY504","v":""},{"$f":"INPUT!GZ504","v":""},{"$f":"INPUT!HA504","v":""},{"$f":"INPUT!HB504","v":""},{"$f":"INPUT!HC504","v":""},{"$f":"INPUT!HD504","v":""},{"$f":"INPUT!HE504","v":""},{"$f":"INPUT!HF504","v":""},{"$f":"INPUT!HG504","v":""},null,{"$f":"INPUT!IA504","v":""},{"$f":"INPUT!IB504","v":""},{"$f":"INPUT!IC504","v":""},{"$f":"INPUT!ID504","v":""},{"$f":"INPUT!IE504","v":""},{"$f":"INPUT!IF504","v":""},{"$f":"INPUT!IG504","v":""},{"$f":"INPUT!IH504","v":""},null,{"$f":"INPUT!IZ504","v":""},{"$f":"INPUT!JA504","v":""},{"$f":"INPUT!JB504","v":""},{"$f":"INPUT!JC504","v":""},{"$f":"INPUT!JD504","v":""},{"$f":"INPUT!JE504","v":""},{"$f":"INPUT!JF504","v":""},"",null,{"$f":"INPUT!JX504","v":""},{"$f":"INPUT!JY504","v":""},{"$f":"INPUT!JZ504","v":""},{"$f":"INPUT!KA504","v":""},{"$f":"INPUT!KB504","v":""},{"$f":"INPUT!KC504","v":""},{"$f":"INPUT!KD504","v":""},"",null,{"$f":"INPUT!KZ504","v":""},{"$f":"INPUT!LA504","v":""},{"$f":"INPUT!LB504","v":""},{"$f":"INPUT!LC504","v":""},{"$f":"INPUT!LD504","v":""},{"$f":"INPUT!LE504","v":""},{"$f":"INPUT!LF504","v":""},{"$f":"INPUT!LG504","v":""},{"$f":"INPUT!LH504","v":""},null,{"$f":"INPUT!MB504","v":""},{"$f":"INPUT!MC504","v":""},{"$f":"INPUT!MD504","v":""},{"$f":"INPUT!ME504","v":""},{"$f":"INPUT!MF504","v":""},{"$f":"INPUT!MG504","v":""},{"$f":"INPUT!MH504","v":""},{"$f":"INPUT!MI504","v":""}]

{"sheet":"3D BUMP","index":3,"n_rows":14,"n_cols":43,"rows_kept":14,"merged":[[2,8,3,16],[2,34,3,42],[3,21,7,29],[4,8,5,15],[4,16,5,16],[4,34,5,41],[4,42,5,42],[6,8,7,8],[6,16,7,16],[6,34,7,34],[6,42,7,42],[8,8,9,8],[8,16,9,16],[8,21,10,29],[8,34,9,34],[8,42,9,42],[11,9,11,10],[11,16,12,16],[11,35,11,36],[11,42,12,42],[12,9,12,10],[12,21,15,29],[12,35,12,36],[13,9,13,10],[13,35,13,36]]}
[]
[]
[{"$nulls":8},"INCREMENTAL GEOMETRY VALUES",{"$nulls":25},"INCREMENTAL SUSPENSION PARAMETER"]
[]
[{"$nulls":8},"INTERVALLO VISUALIZZAZIONE",{"$nulls":7},"CHECK",{"$nulls":17},"INTERVALLO VISUALIZZAZIONE",{"$nulls":7},"CHECK"]
[]
[{"$nulls":8},"INIZIO",{"$nulls":7},37,{"$nulls":17},"INIZIO",{"$nulls":7},35]
[]
[{"$nulls":8},"FINE",{"$nulls":7},47,{"$nulls":4},"by Lorenzo Carboni",{"$nulls":12},"FINE",{"$nulls":7},59]
[]
[]
[{"$nulls":9},"Numero Punti",null,{"$f":"INPUT!$V$10","v":48},{"$nulls":4},true,{"$nulls":18},"Numero Punti",null,{"$f":"INPUT!$V$20","v":48},{"$nulls":4},true]
[{"$nulls":9},"Inizio Grafico",null,{"$f":"IF(OR($Q$12=TRUE,$Q$7>$Q$9),0,IF($Q$7<$L$12,$Q$7-1,0))","v":0},{"$nulls":9},"3D BUMP SIMULATIONS",{"$nulls":13},"Inizio Grafico",null,{"$f":"IF(OR($AQ$12=TRUE,$AQ$7>$AQ$9),0,IF($AQ$7<$AL$12,$AQ$7-1,0))","v":0}]
[{"$nulls":9},"Fine Grafico",null,{"$f":"IF(OR($Q$12=TRUE,$Q$7>$Q$9,$Q$9>$L$12),$L$12,IF($Q$7<$L$12,$Q$9,$L$12))","v":48},{"$nulls":23},"Fine Grafico",null,{"$f":"IF(OR($AQ$12=TRUE,$AQ$7>$AQ$9,$AQ$9>$AL$12),$AL$12,IF($AQ$7<$AL$12,$AQ$9,$AL$12))","v":48}]

{"sheet":"3D ROLL","index":4,"n_rows":14,"n_cols":43,"rows_kept":14,"merged":[[2,8,3,16],[2,34,3,42],[3,21,7,29],[4,8,5,15],[4,16,5,16],[4,34,5,41],[4,42,5,42],[6,8,7,8],[6,16,7,16],[6,34,7,34],[6,42,7,42],[8,8,9,8],[8,16,9,16],[8,21,10,29],[8,34,9,34],[8,42,9,42],[11,9,11,10],[11,16,12,16],[11,35,11,36],[11,42,12,42],[12,9,12,10],[12,21,15,29],[12,35,12,36],[13,9,13,10],[13,35,13,36]]}
[]
[]
[{"$nulls":8},"INCREMENTAL GEOMETRY VALUES",{"$nulls":25},"INCREMENTAL SUSPENSION PARAMETER"]
[]
[{"$nulls":8},"INTERVALLO VISUALIZZAZIONE",{"$nulls":7},"CHECK",{"$nulls":17},"INTERVALLO VISUALIZZAZIONE",{"$nulls":7},"CHECK"]
[]
[{"$nulls":8},"INIZIO",{"$nulls":7},1,{"$nulls":17},"INIZIO",{"$nulls":7},1]
[]
[{"$nulls":8},"FINE",{"$nulls":7},5,{"$nulls":4},"by Lorenzo Carboni",{"$nulls":12},"FINE",{"$nulls":7},7]
[]
[]
[{"$nulls":9},"Numero Punti",null,{"$f":"INPUT!$V$12","v":31},{"$nulls":4},true,{"$nulls":18},"Numero Punti",null,{"$f":"INPUT!$V$22","v":31},{"$nulls":4},true]
[{"$nulls":9},"Inizio Grafico",null,{"$f":"IF(OR($Q$12=TRUE,$Q$7>$Q$9),0,IF($Q$7<$L$12,$Q$7-1,0))","v":0},{"$nulls":9},"3D ROLL SIMULATIONS",{"$nulls":13},"Inizio Grafico",null,{"$f":"IF(OR($AQ$12=TRUE,$AQ$7>$AQ$9),0,IF($AQ$7<$AL$12,$AQ$7-1,0))","v":0}]
[{"$nulls":9},"Fine Grafico",null,{"$f":"IF(OR($Q$12=TRUE,$Q$7>$Q$9,$Q$9>$L$12),$L$12,IF($Q$7<$L$12,$Q$9,$L$12))","v":31},{"$nulls":23},"Fine Grafico",null,{"$f":"IF(OR($AQ$12=TRUE,$AQ$7>$AQ$9,$AQ$9>$AL$12),$AL$12,IF($AQ$7<$AL$12,$AQ$9,$AL$12))","v":31}]

{"sheet":"3D STEER","index":5,"n_rows":32,"n_cols":17,"rows_kept":32,"merged":[[3,8,7,16],[8,8,10,16],[12,8,15,16],[20,8,21,16],[22,8,23,15],[22,16,23,16],[24,8,25,8],[24,16,25,16],[26,8,27,8],[26,16,27,16],[29,9,29,10],[29,16,30,16],[30,9,30,10],[31,9,31,10]]}
{"$rows_empty":8}
[{"$nulls":8},"by Lorenzo Carboni"]
[]
[]
[]
[{"$nulls":8},"3D STEER SIMULATIONS"]
{"$rows_empty":7}
[{"$nulls":8},"INCREMENTAL GEOMETRY VALUES"]
[]
[{"$nulls":8},"INTERVALLO VISUALIZZAZIONE",{"$nulls":7},"CHECK"]
[]
[{"$nulls":8},"INIZIO",{"$nulls":7},4]
[]
[{"$nulls":8},"FINE",{"$nulls":7},5]
[]
[]
[{"$nulls":9},"Numero Punti",null,{"$f":"INPUT!$V$14","v":53},{"$nulls":4},true]
[{"$nulls":9},"Inizio Grafico",null,{"$f":"IF(OR($Q$30=TRUE,$Q$25>$Q$27),0,IF($Q$25<$L$30,$Q$25-1,0))","v":0}]
[{"$nulls":9},"Fine Grafico",null,{"$f":"IF(OR($Q$30=TRUE,$Q$25>$Q$27,$Q$27>$L$30),$L$30,IF($Q$25<$L$30,$Q$27,$L$30))","v":53}]